{"text_format":"1","workbook":"xlsx","n_sheets":35,"sheets":["Home","Points","Results","ResultsF","Hammer","Discus","Javelin","Shot","LJ","TJ","HJ","PV","Womens Hammer","Womens Discus","Womens Javelin","Womens Shot","Womens LJ","Womens TJ","Womens HJ","Womens PV","Scores","Rounds","Declarations","Declarations (F)","Match Day","Handbook","Track Lists","Track Lists (F)","Relay Lists","1500m","3kSC","5000m","Relay Lists (F)","Sheet1","Sheet2"],"not_rendered":{"charts":0,"images":1,"macros":1,"external_links":1,"defined_names":117,"comments":0,"pivot_tables":0},"unopened":[],"bounds":{"document_bytes":16777216,"sheet_cells":100000,"rows_first":2000,"rows_last":500,"rows_between":2000,"halvings":0,"cell_chars":16384,"cell_head_chars":4096},"cells_cut":0,"cells_raw":0,"read":"whole","date_system":"1900"}

{"sheet":"Home","index":0,"n_rows":36,"n_cols":37,"rows_kept":36,"cut":false,"hidden":false,"merged":[[22,10,22,13],[9,1,9,8],[7,39,7,40],[6,18,6,20],[23,10,23,13],[6,32,6,36],[7,22,7,23],[7,14,7,16],[7,18,7,20],[11,10,11,13],[8,10,8,13],[9,10,9,13],[23,32,23,36],[22,32,22,36],[7,33,7,35],[20,10,20,13],[21,10,21,13],[14,10,14,13],[12,10,12,13],[15,10,15,13],[17,10,17,13],[18,10,18,13],[12,1,12,8],[30,1,30,8],[31,1,31,8],[28,1,28,8],[27,1,27,8],[29,1,29,8],[21,1,21,8],[22,1,22,8],[26,1,26,8],[23,1,23,8],[24,1,24,8],[25,1,25,8],[18,1,18,8],[20,1,20,8],[19,1,19,8],[13,1,13,8],[11,1,11,8],[14,1,14,8],[24,32,24,36],[24,10,24,13],[0,10,0,30],[1,10,1,30],[0,1,0,8],[1,1,1,8],[11,33,11,35],[5,29,7,30],[7,10,7,13],[6,14,6,16],[10,10,10,13],[5,32,5,36],[15,1,15,8],[13,10,13,13],[0,32,0,36],[1,32,1,36],[3,32,3,36],[4,32,4,36],[2,32,2,36],[2,1,2,8],[3,1,3,8],[4,1,4,8],[5,22,5,23],[2,10,2,30],[5,10,6,13],[5,1,5,8],[6,1,6,8],[3,10,3,30],[4,10,4,30],[6,22,6,23],[5,14,5,16],[5,18,5,20],[5,25,7,28],[36,23,36,28],[35,23,35,28],[26,10,26,13],[25,10,25,13],[34,10,34,13],[35,10,35,13],[30,10,30,13],[31,10,31,13],[32,10,32,13],[33,10,33,13],[8,1,8,8],[20,32,20,36],[8,33,8,35],[9,33,9,35],[21,32,21,36],[17,33,17,35],[19,32,19,36],[16,33,16,35],[19,10,19,13],[16,10,16,13],[16,1,16,8],[10,1,10,8],[13,33,13,35],[10,33,10,35],[14,33,14,35],[12,33,12,35]]}
[null,{"$f":"'Match Day'!I4","v":"UK Womens League"},null,null,null,null,null,null,null,null,{"$f":"CONCATENATE('Match Day'!I8,\" \",'Match Day'!I10,\" - \",'Match Day'!I12)","v":"Division 1 Match 3 - Winchester"},null,null,null,null,null,null,null,null,null,null,null,null,null,null,null,null,null,null,null,null,null,{"$f":"'Match Day'!I6","v":"Saturday, 6th August"}]
[null,"DECLARATIONS",null,null,null,null,null,null,null,null,"START LISTS, FIELD CARDS AND RESULTS",null,null,null,null,null,null,null,null,null,null,null,null,null,null,null,null,null,null,null,null,null,"POINTS AT A GLANCE"]
[null,"Select from the list below",null,null,null,null,null,null,null,null,"To PRINT out START LISTS or FIELD CARDS click on a YELLOW or ORANGE coloured box",null,null,null,null,null,null,null,null,null,null,null,null,null,null,null,null,null,null,null,null,null,"Click coloured box"]
[null,"the club whose athletes",null,null,null,null,null,null,null,null,"To VIEW START LISTS, FIELD CARDS or RESULTS click on the appropriate BLUE box",null,null,null,null,null,null,null,null,null,null,null,null,null,null,null,null,null,null,null,null,null," below to"]
[null,"you wish to DECLARE",null,null,null,null,null,null,null,null,"To process RESULTS click on X to access the Results Area or Field Card",null,null,null,null,null,null,null,null,null,null,null,null,null,null,null,null,null,null,null,null,null,"sort Clubs in"]
[null,"or AMEND",null,null,null,null,null,null,null,null,"EVENT",null,null,null,"Start Lists",null,null,null,"View",null,null,null,"Process",null,null,"Prints",null,null,null,"View",null,null," descending order"]
[null,"Teams ",null,null,null,null,null,null,null,null,null,null,null,null,"Field Cards",null,null,null,"Start Lists",null,null,null,"Results",null,null,null,null,null,null,null,null,null,"of points"]
[null,null,null,null,null,null,null,null,null,null,null,null,null,null,"Women's Match",null,null,null,null,null,null,null,"Women",null,null,null,null,null,null,null,null,null,1,{"$f":"Scores!B6","v":"Blackheath & Bromley H"},null,null,{"$f":"Scores!C6","v":204}]
[null,"FEMALE TEAMS",null,null,null,null,null,null,null,null,"100m",null,null,null,null,null,null,null,null,null,null,null,"X",{"$f":"IF(OR(Results!G4<>\"\",Results!D4<>\"\"),\"þ\",\"\")","v":"þ"},null,null,null,null,null,null,null,null,2,{"$f":"Scores!B7","v":"Swansea H"},null,null,{"$f":"Scores!C7","v":185}]
[null,null,null,null,null,null,null,null,null,null,"200m",null,null,null,null,null,null,null,null,null,null,null,"X",{"$f":"IF(OR(Results!G14<>\"\",Results!D14<>\"\"),\"þ\",\"\")","v":"þ"},null,null,null,null,null,null,null,null,3,{"$f":"Scores!B8","v":"Thames Valley H"},null,null,{"$f":"Scores!C8","v":168}]
[null,{"$f":"'Match Day'!C4","v":"Bedford & County AC"},null,null,null,null,null,null,null,null,"400m",null,null,null,null,null,null,null,null,null,null,null,"X",{"$f":"IF(OR(Results!G24<>\"\",Results!D24<>\"\"),\"þ\",\"\")","v":"þ"},null,null,null,null,null,null,null,null,4,{"$f":"Scores!B9","v":"Southampton AC"},null,null,{"$f":"Scores!C9","v":162}]
[null,null,null,null,null,null,null,null,null,null,"800m",null,null,null,null,null,null,null,null,null,null,null,"X",{"$f":"IF(OR(Results!G34<>\"\",Results!D34<>\"\"),\"þ\",\"\")","v":"þ"},null,null,null,null,null,null,null,null,5,{"$f":"Scores!B10","v":"Shaftesbury Barnet H"},null,null,{"$f":"Scores!C10","v":149}]
[null,{"$f":"'Match Day'!C6","v":"Blackheath & Bromley H"},null,null,null,null,null,null,null,null,"1500m",null,null,null,null,null,null,null,null,null,null,null,"X",{"$f":"IF(OR(Results!G44<>\"\",Results!D44<>\"\"),\"þ\",\"\")","v":"þ"},null,null,null,null,null,null,null,null,6,{"$f":"Scores!B11","v":"Marshall Milton Keynes AC"},null,null,{"$f":"Scores!C11","v":148}]
[null,null,null,null,null,null,null,null,null,null,"2000m S/Chase",null,null,null,null,null,null,null,null,null,null,null,"X",{"$f":"IF(OR(Results!G54<>\"\",Results!D54<>\"\"),\"þ\",\"\")","v":"þ"},null,null,null,null,null,null,null,null,7,{"$f":"Scores!B12","v":"Bedford & County AC"},null,null,{"$f":"Scores!C12","v":106}]
[null,{"$f":"'Match Day'!C8","v":"Marshall Milton Keynes AC"},null,null,null,null,null,null,null,null,"3000m",null,null,null,null,null,null,null,null,null,null,null,"X",{"$f":"IF(OR(Results!G64<>\"\",Results!D64<>\"\"),\"þ\",\"\")","v":"þ"},null,null,null,null,null,null,null,null,8,{"$f":"Scores!B13","v":"Newham & Essex Beagles AC"},null,null,{"$f":"Scores!C13","v":110}]
[null,null,null,null,null,null,null,null,null,null,"400m Hurdles",null,null,null,null,null,null,null,null,null,null,null,"X",{"$f":"IF(OR(Results!G74<>\"\",Results!D74<>\"\"),\"þ\",\"\")","v":"þ"},null,null,null,null,null,null,null,null,null,"Unused Team",null,null,{"$f":"Points!$S$49","v":174}]
[null,{"$f":"'Match Day'!C10","v":"Newham & Essex Beagles AC"},null,null,null,null,null,null,null,null,"100m Hurdles",null,null,null,null,null,null,null,null,null,null,null,"X",{"$f":"IF(OR(Results!G84<>\"\",Results!D84<>\"\"),\"þ\",\"\")","v":"þ"},null,null,null,null,null,null,null,null,null,"Officials Points",null,null,{"$f":"Points!$S$50","v":0}]
[null,null,null,null,null,null,null,null,null,null,"Hammer",null,null,null,null,null,null,null,null,null,null,null,"X",{"$f":"IF(OR(Results!G94<>\"\",Results!D94<>\"\"),\"þ\",\"\")","v":"þ"},null,null,null,null,null,null,null,null,null,"TOTAL",null,null,{"$f":"Points!$U$51","v":1556}]
[null,{"$f":"'Match Day'!C12","v":"Shaftesbury Barnet H"},null,null,null,null,null,null,null,null,"Discus",null,null,null,null,null,null,null,null,null,null,null,"X",{"$f":"IF(OR(Results!G104<>\"\",Results!D104<>\"\"),\"þ\",\"\")","v":"þ"}]
[null,null,null,null,null,null,null,null,null,null,"Javelin",null,null,null,null,null,null,null,null,null,null,null,"X",{"$f":"IF(OR(Results!G114<>\"\",Results!D114<>\"\"),\"þ\",\"\")","v":"þ"}]
[null,{"$f":"'Match Day'!C14","v":"Southampton AC"},null,null,null,null,null,null,null,null,"Shot",null,null,null,null,null,null,null,null,null,null,null,"X",{"$f":"IF(OR(Results!G124<>\"\",Results!D124<>\"\"),\"þ\",\"\")","v":"þ"},null,null,null,null,null,null,null,null,"EVENTS"]
[null,null,null,null,null,null,null,null,null,null,"Long Jump",null,null,null,null,null,null,null,null,null,null,null,"X",{"$f":"IF(OR(Results!G134<>\"\",Results!D134<>\"\"),\"þ\",\"\")","v":"þ"},null,null,null,null,null,null,null,null,"Scored"]
[null,{"$f":"'Match Day'!C16","v":"Swansea H"},null,null,null,null,null,null,null,null,"Triple Jump",null,null,null,null,null,null,null,null,null,null,null,"X",{"$f":"IF(OR(Results!G144<>\"\",Results!D144<>\"\"),\"þ\",\"\")","v":"þ"},null,null,null,null,null,null,null,null,{"$f":"Points!$X$24","v":19}]
[null,null,null,null,null,null,null,null,null,null,"High Jump",null,null,null,null,null,null,null,null,null,null,null,"X",{"$f":"IF(OR(Results!G154<>\"\",Results!D154<>\"\"),\"þ\",\"\")","v":"þ"},null,null,null,null,null,null,null,null,"Events Left"]
[null,{"$f":"'Match Day'!C18","v":"Thames Valley H"},null,null,null,null,null,null,null,null,"Pole Vault",null,null,null,null,null,null,null,null,null,null,null,"X",{"$f":"IF(OR(Results!G164<>\"\",Results!D164<>\"\"),\"þ\",\"\")","v":"þ"},null,null,null,null,null,null,null,null,{"$f":"19-AG23","v":0}]
[null,null,null,null,null,null,null,null,null,null,"4x 100m Relay",null,null,null,null,null,null,null,null,null,null,null,"X",{"$f":"IF(OR(Results!G174<>\"\",Results!D174<>\"\"),\"þ\",\"\")","v":"þ"},null,null,null,null,null,null,null,null,9]
[null,null,null,null,null,null,null,null,null,null,"4x 400m Relay",null,null,null,null,null,null,null,null,null,null,null,"X",{"$f":"IF(OR(Results!G184<>\"\",Results!D184<>\"\"),\"þ\",\"\")","v":"þ"}]
[null,null,null,null,null,null,null,null,null,null,"ALL"]
[null,"IN CASE OF EMERGENCY"]
[null," call 07973 827735",null,null,null,null,null,null,null,null,"Completed Results Pages (Composite Sheets for Result Packs)"]
[null,"Click box below to enter ",null,null,null,null,null,null,null,null,"Results Page 1W",null,null,null,{"$f":"IF(OR(Results!F4=\"\",Results!F14=\"\",Results!F24=\"\",Results!F34=\"\",Results!F44=\"\",Results!F54=\"\"),\"\",\"þ\")","v":"þ"}]
[null,null,null,null,null,null,null,null,null,null,"Results Page 2W",null,null,null,{"$f":"IF(OR(Results!F64=\"\",Results!F74=\"\",Results!F84=\"\",Results!F94=\"\",Results!F104=\"\",Results!F114=\"\"),\"\",\"þ\")","v":"þ"}]
[null,null,null,null,null,null,null,null,null,null,"Results Page 3W",null,null,null,{"$f":"IF(OR(Results!F124=\"\",Results!F134=\"\",Results!F144=\"\",Results!F154=\"\",Results!F164=\"\",Results!F174=\"\"),\"\",\"þ\")","v":"þ"}]
[null,null,null,null,null,null,null,null,null,null,"Results Page 4W",null,null,null,{"$f":"IF(OR(Results!F184=\"\"),\"\",\"þ\")","v":"þ"}]
[null,null,null,null,null,null,null,null,null,null,"Results Women's"]
[null,null,null,null,null,null,null,null,null,null,"Scorecard"]

{"sheet":"Points","index":1,"n_rows":81,"n_cols":34,"rows_kept":81,"cut":false,"hidden":false,"merged":[[50,6,50,7],[48,10,48,11],[48,12,48,13],[49,12,49,13],[49,10,49,11],[47,12,47,13],[51,6,51,7],[48,8,48,9],[47,10,47,11],[3,16,3,17],[3,20,3,21],[3,22,3,23],[3,12,3,13],[3,14,3,15],[3,18,3,19],[49,4,49,5],[49,6,49,7],[46,16,46,17],[46,14,46,15],[48,14,48,15],[49,8,49,9],[46,6,46,7],[46,8,46,9],[47,14,47,15],[47,16,47,17],[46,4,46,5],[48,16,48,17],[46,10,46,11],[46,12,46,13],[47,6,47,7],[48,6,48,7],[47,8,47,9],[47,4,47,5],[53,6,53,7],[53,8,53,9],[53,10,53,11],[53,12,53,13],[3,2,3,3],[3,4,3,5],[3,6,3,7],[3,8,3,9],[3,10,3,11],[47,2,47,3],[48,2,48,3],[49,2,49,3],[46,2,46,3],[50,2,50,3],[51,2,51,3],[50,8,50,9],[50,12,50,13],[51,12,51,13],[50,10,50,11],[51,10,51,11],[51,8,51,9],[48,4,48,5],[50,4,50,5],[51,4,51,5],[55,2,55,3],[55,4,55,5],[55,6,55,7],[55,8,55,9],[54,10,54,11],[54,12,54,13],[54,2,54,3],[54,4,54,5],[54,6,54,7],[54,8,54,9],[0,18,0,21],[55,18,55,19],[55,20,55,21],[52,18,52,19],[52,20,52,21],[46,18,46,19],[46,20,46,21],[51,20,51,21],[49,18,49,19],[50,18,50,19],[47,18,47,19],[48,18,48,19],[51,18,51,19],[49,20,49,21],[50,20,50,21],[47,20,47,21],[48,20,48,21],[56,16,56,17],[57,14,57,15],[56,14,56,15],[53,20,53,21],[53,16,53,17],[56,18,56,19],[56,20,56,21],[57,16,57,17],[57,18,57,19],[57,20,57,21],[55,16,55,17],[54,18,54,19],[54,20,54,21],[53,14,53,15],[60,16,60,17],[60,2,60,3],[60,4,60,5],[60,6,60,7],[60,8,60,9],[60,14,60,15],[60,12,60,13],[58,18,58,19],[58,20,58,21],[58,10,58,11],[58,12,58,13],[58,14,58,15],[58,16,58,17],[58,8,58,9],[60,10,60,11],[58,2,58,3],[58,4,58,5],[58,6,58,7],[62,16,62,17],[62,2,62,3],[62,4,62,5],[62,6,62,7],[62,8,62,9],[62,14,62,15],[61,16,61,17],[61,2,61,3],[61,4,61,5],[61,6,61,7],[61,8,61,9],[61,14,61,15],[62,10,62,11],[62,12,62,13],[61,10,61,11],[61,12,61,13],[56,10,56,11],[56,12,56,13],[57,2,57,3],[57,4,57,5],[57,6,57,7],[57,8,57,9],[57,10,57,11],[57,12,57,13],[56,2,56,3],[56,4,56,5],[56,6,56,7],[56,8,56,9],[51,14,51,15],[51,16,51,17],[49,16,49,17],[53,18,53,19],[55,14,55,15],[54,16,54,17],[54,14,54,15],[50,16,50,17],[1,1,1,8],[2,1,2,7],[53,2,53,3],[53,4,53,5],[52,10,52,11],[52,12,52,13],[52,14,52,15],[52,16,52,17],[49,14,49,15],[50,14,50,15],[52,2,52,3],[52,4,52,5],[52,6,52,7],[52,8,52,9],[55,10,55,11],[55,12,55,13]]}
[null,"Home",null,null,null,null,null,null,null,null,null,null,null,null,null,null,null,null,"Home"]
[null,{"$f":"CONCATENATE('Match Day'!I8,\" \",'Match Day'!I10,\" - \",'Match Day'!I12)","v":"Division 1 Match 3 - Winchester"}]
[null,{"$f":"'Match Day'!I6","v":"Saturday, 6th August"},null,null,null,null,null,null,null,null,null,null,null,null,null,null,null,null,null,null,null,null,null,null,null,null,null,null,null,null,"Row"]
[null,"Events",{"$f":"'Match Day'!F4","v":"BFD"},null,{"$f":"'Match Day'!F6","v":"B&B"},null,{"$f":"'Match Day'!F8","v":"MKN"},null,{"$f":"'Match Day'!F10","v":"NEB"},null,{"$f":"'Match Day'!F12","v":"SBH"},null,{"$f":"'Match Day'!F14","v":"STN"},null,{"$f":"'Match Day'!F16","v":"SWA"},null,{"$f":"'Match Day'!F18","v":"TVH"},null,"UNUSED",null,"TOTAL",null,null,null,null,null,null,null,null,null,"$ab XX:$ac XX","$ad XX:$ae XX"]
[{"$f":"Results!A$4","v":3},{"$f":"VLOOKUP(A5,Handbook!$A$4:$C$24,3,FALSE)","v":"Women's 100m"},{"$f":"IF(ISERROR(VLOOKUP('Match Day'!$B$4,Results!$AH$4:$AI$11,2,FALSE))=TRUE,0,VLOOKUP('Match Day'!$B$4,Results!$AH$4:$AI$11,2,FALSE))","v":5},{"$f":"IF(ISERROR(VLOOKUP('Match Day'!$B$4,Results!$AJ$4:$AK$11,2,FALSE))=TRUE,0,VLOOKUP('Match Day'!$B$4,Results!$AJ$4:$AK$11,2,FALSE))","v":0},{"$f":"IF(ISERROR(VLOOKUP('Match Day'!$B$6,Results!$AH$4:$AI$11,2,FALSE))=TRUE,0,VLOOKUP('Match Day'!$B$6,Results!$AH$4:$AI$11,2,FALSE))","v":6},{"$f":"IF(ISERROR(VLOOKUP('Match Day'!$B$6,Results!$AJ$4:$AK$11,2,FALSE))=TRUE,0,VLOOKUP('Match Day'!$B$6,Results!$AJ$4:$AK$11,2,FALSE))","v":4},{"$f":"IF(ISERROR(VLOOKUP('Match Day'!$B$8,Results!$AH$4:$AI$11,2,FALSE))=TRUE,0,VLOOKUP('Match Day'!$B$8,Results!$AH$4:$AI$11,2,FALSE))","v":7},{"$f":"IF(ISERROR(VLOOKUP('Match Day'!$B$8,Results!$AJ$4:$AK$11,2,FALSE))=TRUE,0,VLOOKUP('Match Day'!$B$8,Results!$AJ$4:$AK$11,2,FALSE))","v":9},{"$f":"IF(ISERROR(VLOOKUP('Match Day'!$B$10,Results!$AH$4:$AI$11,2,FALSE))=TRUE,0,VLOOKUP('Match Day'!$B$10,Results!$AH$4:$AI$11,2,FALSE))","v":9},{"$f":"IF(ISERROR(VLOOKUP('Match Day'!$B$10,Results!$AJ$4:$AK$11,2,FALSE))=TRUE,0,VLOOKUP('Match Day'!$B$10,Results!$AJ$4:$AK$11,2,FALSE))","v":6},{"$f":"IF(ISERROR(VLOOKUP('Match Day'!$B$12,Results!$AH$4:$AI$11,2,FALSE))=TRUE,0,VLOOKUP('Match Day'!$B$12,Results!$AH$4:$AI$11,2,FALSE))","v":1},{"$f":"IF(ISERROR(VLOOKUP('Match Day'!$B$12,Results!$AJ$4:$AK$11,2,FALSE))=TRUE,0,VLOOKUP('Match Day'!$B$12,Results!$AJ$4:$AK$11,2,FALSE))","v":2},{"$f":"IF(ISERROR(VLOOKUP('Match Day'!$B$14,Results!$AH$4:$AI$11,2,FALSE))=TRUE,0,VLOOKUP('Match Day'!$B$14,Results!$AH$4:$AI$11,2,FALSE))","v":3},{"$f":"IF(ISERROR(VLOOKUP('Match Day'!$B$14,Results!$AJ$4:$AK$11,2,FALSE))=TRUE,0,VLOOKUP('Match Day'!$B$14,Results!$AJ$4:$AK$11,2,FALSE))","v":5},{"$f":"IF(ISERROR(VLOOKUP('Match Day'!$B$16,Results!$AH$4:$AI$11,2,FALSE))=TRUE,0,VLOOKUP('Match Day'!$B$16,Results!$AH$4:$AI$11,2,FALSE))","v":2},{"$f":"IF(ISERROR(VLOOKUP('Match Day'!$B$16,Results!$AJ$4:$AK$11,2,FALSE))=TRUE,0,VLOOKUP('Match Day'!$B$16,Results!$AJ$4:$AK$11,2,FALSE))","v":3},{"$f":"IF(ISERROR(VLOOKUP('Match Day'!$B$18,Results!$AH$4:$AI$11,2,FALSE))=TRUE,0,VLOOKUP('Match Day'!$B$18,Results!$AH$4:$AI$11,2,FALSE))","v":4},{"$f":"IF(ISERROR(VLOOKUP('Match Day'!$B$18,Results!$AJ$4:$AK$11,2,FALSE))=TRUE,0,VLOOKUP('Match Day'!$B$18,Results!$AJ$4:$AK$11,2,FALSE))","v":7},{"$f":"IF(Home!X9=\"\",0,Results!$AW$12-AG5)","v":0},{"$f":"IF(Home!X9=\"\",0,Results!$AX$12-AH5)","v":1},{"$f":"C5+E5+G5+I5+K5+M5+O5+Q5+S5","v":37},{"$f":"D5+F5+H5+J5+L5+N5+P5+R5+T5","v":37},null,{"$f":"IF(U5>0,1,0)","v":1},null,null,null,null,null,null,{"$f":"IF(A5=\"\",\"\",VLOOKUP(A5,Results!$A$4:$AL$191,36,FALSE))","v":3},{"$f":"AE5+7","v":10},{"$f":"C5+E5+G5+I5+K5+M5+O5+Q5","v":37},{"$f":"D5+F5+H5+J5+L5+N5+P5+R5","v":36}]
[{"$f":"Results!A$14","v":7},{"$f":"VLOOKUP(A6,Handbook!$A$4:$C$24,3,FALSE)","v":"Women's 200m"},{"$f":"IF(ISERROR(VLOOKUP('Match Day'!$B$4,Results!$AH$14:$AI$21,2,FALSE))=TRUE,0,VLOOKUP('Match Day'!$B$4,Results!$AH$14:$AI$21,2,FALSE))","v":3},{"$f":"IF(ISERROR(VLOOKUP('Match Day'!$B$4,Results!$AJ$14:$AK$21,2,FALSE))=TRUE,0,VLOOKUP('Match Day'!$B$4,Results!$AJ$14:$AK$21,2,FALSE))","v":0},{"$f":"IF(ISERROR(VLOOKUP('Match Day'!$B$6,Results!$AH$14:$AI$21,2,FALSE))=TRUE,0,VLOOKUP('Match Day'!$B$6,Results!$AH$14:$AI$21,2,FALSE))","v":1},{"$f":"IF(ISERROR(VLOOKUP('Match Day'!$B$6,Results!$AJ$14:$AK$21,2,FALSE))=TRUE,0,VLOOKUP('Match Day'!$B$6,Results!$AJ$14:$AK$21,2,FALSE))","v":5},{"$f":"IF(ISERROR(VLOOKUP('Match Day'!$B$8,Results!$AH$14:$AI$21,2,FALSE))=TRUE,0,VLOOKUP('Match Day'!$B$8,Results!$AH$14:$AI$21,2,FALSE))","v":9},{"$f":"IF(ISERROR(VLOOKUP('Match Day'!$B$8,Results!$AJ$14:$AK$21,2,FALSE))=TRUE,0,VLOOKUP('Match Day'!$B$8,Results!$AJ$14:$AK$21,2,FALSE))","v":9},{"$f":"IF(ISERROR(VLOOKUP('Match Day'!$B$10,Results!$AH$14:$AI$21,2,FALSE))=TRUE,0,VLOOKUP('Match Day'!$B$10,Results!$AH$14:$AI$21,2,FALSE))","v":7},{"$f":"IF(ISERROR(VLOOKUP('Match Day'!$B$10,Results!$AJ$14:$AK$21,2,FALSE))=TRUE,0,VLOOKUP('Match Day'!$B$10,Results!$AJ$14:$AK$21,2,FALSE))","v":6},{"$f":"IF(ISERROR(VLOOKUP('Match Day'!$B$12,Results!$AH$14:$AI$21,2,FALSE))=TRUE,0,VLOOKUP('Match Day'!$B$12,Results!$AH$14:$AI$21,2,FALSE))","v":5},{"$f":"IF(ISERROR(VLOOKUP('Match Day'!$B$12,Results!$AJ$14:$AK$21,2,FALSE))=TRUE,0,VLOOKUP('Match Day'!$B$12,Results!$AJ$14:$AK$21,2,FALSE))","v":3},{"$f":"IF(ISERROR(VLOOKUP('Match Day'!$B$14,Results!$AH$14:$AI$21,2,FALSE))=TRUE,0,VLOOKUP('Match Day'!$B$14,Results!$AH$14:$AI$21,2,FALSE))","v":2},{"$f":"IF(ISERROR(VLOOKUP('Match Day'!$B$14,Results!$AJ$14:$AK$21,2,FALSE))=TRUE,0,VLOOKUP('Match Day'!$B$14,Results!$AJ$14:$AK$21,2,FALSE))","v":7},{"$f":"IF(ISERROR(VLOOKUP('Match Day'!$B$16,Results!$AH$14:$AI$21,2,FALSE))=TRUE,0,VLOOKUP('Match Day'!$B$16,Results!$AH$14:$AI$21,2,FALSE))","v":4},{"$f":"IF(ISERROR(VLOOKUP('Match Day'!$B$16,Results!$AJ$14:$AK$21,2,FALSE))=TRUE,0,VLOOKUP('Match Day'!$B$16,Results!$AJ$14:$AK$21,2,FALSE))","v":4},{"$f":"IF(ISERROR(VLOOKUP('Match Day'!$B$18,Results!$AH$14:$AI$21,2,FALSE))=TRUE,0,VLOOKUP('Match Day'!$B$18,Results!$AH$14:$AI$21,2,FALSE))","v":6},{"$f":"IF(ISERROR(VLOOKUP('Match Day'!$B$18,Results!$AJ$14:$AK$21,2,FALSE))=TRUE,0,VLOOKUP('Match Day'!$B$18,Results!$AJ$14:$AK$21,2,FALSE))","v":0},{"$f":"IF(Home!X10=\"\",0,Results!$AW$12-AG6)","v":0},{"$f":"IF(Home!X10=\"\",0,Results!$AX$12-AH6)","v":3},37,37,null,{"$f":"IF(U6>0,1,0)","v":1},null,null,null,null,null,null,{"$f":"IF(A6=\"\",\"\",VLOOKUP(A6,Results!$A$4:$AL$191,36,FALSE))","v":3},{"$f":"AE6+7","v":10},37,34]
[{"$f":"Results!A$24","v":4},{"$f":"VLOOKUP(A7,Handbook!$A$4:$C$24,3,FALSE)","v":"Women's 400m"},{"$f":"IF(ISERROR(VLOOKUP('Match Day'!$B$4,Results!$AH$24:$AI$31,2,FALSE))=TRUE,0,VLOOKUP('Match Day'!$B$4,Results!$AH$24:$AI$31,2,FALSE))","v":0},{"$f":"IF(ISERROR(VLOOKUP('Match Day'!$B$4,Results!$AJ$24:$AK$31,2,FALSE))=TRUE,0,VLOOKUP('Match Day'!$B$4,Results!$AJ$24:$AK$31,2,FALSE))","v":0},{"$f":"IF(ISERROR(VLOOKUP('Match Day'!$B$6,Results!$AH$24:$AI$31,2,FALSE))=TRUE,0,VLOOKUP('Match Day'!$B$6,Results!$AH$24:$AI$31,2,FALSE))","v":7},{"$f":"IF(ISERROR(VLOOKUP('Match Day'!$B$6,Results!$AJ$24:$AK$31,2,FALSE))=TRUE,0,VLOOKUP('Match Day'!$B$6,Results!$AJ$24:$AK$31,2,FALSE))","v":7},{"$f":"IF(ISERROR(VLOOKUP('Match Day'!$B$8,Results!$AH$24:$AI$31,2,FALSE))=TRUE,0,VLOOKUP('Match Day'!$B$8,Results!$AH$24:$AI$31,2,FALSE))","v":2},{"$f":"IF(ISERROR(VLOOKUP('Match Day'!$B$8,Results!$AJ$24:$AK$31,2,FALSE))=TRUE,0,VLOOKUP('Match Day'!$B$8,Results!$AJ$24:$AK$31,2,FALSE))","v":0},{"$f":"IF(ISERROR(VLOOKUP('Match Day'!$B$10,Results!$AH$24:$AI$31,2,FALSE))=TRUE,0,VLOOKUP('Match Day'!$B$10,Results!$AH$24:$AI$31,2,FALSE))","v":4},{"$f":"IF(ISERROR(VLOOKUP('Match Day'!$B$10,Results!$AJ$24:$AK$31,2,FALSE))=TRUE,0,VLOOKUP('Match Day'!$B$10,Results!$AJ$24:$AK$31,2,FALSE))","v":6},{"$f":"IF(ISERROR(VLOOKUP('Match Day'!$B$12,Results!$AH$24:$AI$31,2,FALSE))=TRUE,0,VLOOKUP('Match Day'!$B$12,Results!$AH$24:$AI$31,2,FALSE))","v":3},{"$f":"IF(ISERROR(VLOOKUP('Match Day'!$B$12,Results!$AJ$24:$AK$31,2,FALSE))=TRUE,0,VLOOKUP('Match Day'!$B$12,Results!$AJ$24:$AK$31,2,FALSE))","v":0},{"$f":"IF(ISERROR(VLOOKUP('Match Day'!$B$14,Results!$AH$24:$AI$31,2,FALSE))=TRUE,0,VLOOKUP('Match Day'!$B$14,Results!$AH$24:$AI$31,2,FALSE))","v":6},{"$f":"IF(ISERROR(VLOOKUP('Match Day'!$B$14,Results!$AJ$24:$AK$31,2,FALSE))=TRUE,0,VLOOKUP('Match Day'!$B$14,Results!$AJ$24:$AK$31,2,FALSE))","v":9},{"$f":"IF(ISERROR(VLOOKUP('Match Day'!$B$16,Results!$AH$24:$AI$31,2,FALSE))=TRUE,0,VLOOKUP('Match Day'!$B$16,Results!$AH$24:$AI$31,2,FALSE))","v":5},{"$f":"IF(ISERROR(VLOOKUP('Match Day'!$B$16,Results!$AJ$24:$AK$31,2,FALSE))=TRUE,0,VLOOKUP('Match Day'!$B$16,Results!$AJ$24:$AK$31,2,FALSE))","v":4},{"$f":"IF(ISERROR(VLOOKUP('Match Day'!$B$18,Results!$AH$24:$AI$31,2,FALSE))=TRUE,0,VLOOKUP('Match Day'!$B$18,Results!$AH$24:$AI$31,2,FALSE))","v":9},{"$f":"IF(ISERROR(VLOOKUP('Match Day'!$B$18,Results!$AJ$24:$AK$31,2,FALSE))=TRUE,0,VLOOKUP('Match Day'!$B$18,Results!$AJ$24:$AK$31,2,FALSE))","v":5},{"$f":"IF(Home!X11=\"\",0,Results!$AW$12-AG7)","v":1},{"$f":"IF(Home!X11=\"\",0,Results!$AX$12-AH7)","v":6},37,37,null,1,null,null,null,null,null,null,{"$f":"IF(A7=\"\",\"\",VLOOKUP(A7,Results!$A$4:$AL$191,36,FALSE))","v":6},13,36,31]
[{"$f":"Results!A$34","v":2},{"$f":"VLOOKUP(A8,Handbook!$A$4:$C$24,3,FALSE)","v":"Women's 800m"},{"$f":"IF(ISERROR(VLOOKUP('Match Day'!$B$4,Results!$AH$34:$AI$41,2,FALSE))=TRUE,0,VLOOKUP('Match Day'!$B$4,Results!$AH$34:$AI$41,2,FALSE))","v":3},{"$f":"IF(ISERROR(VLOOKUP('Match Day'!$B$4,Results!$AJ$34:$AK$41,2,FALSE))=TRUE,0,VLOOKUP('Match Day'!$B$4,Results!$AJ$34:$AK$41,2,FALSE))","v":3},{"$f":"IF(ISERROR(VLOOKUP('Match Day'!$B$6,Results!$AH$34:$AI$41,2,FALSE))=TRUE,0,VLOOKUP('Match Day'!$B$6,Results!$AH$34:$AI$41,2,FALSE))","v":4},{"$f":"IF(ISERROR(VLOOKUP('Match Day'!$B$6,Results!$AJ$34:$AK$41,2,FALSE))=TRUE,0,VLOOKUP('Match Day'!$B$6,Results!$AJ$34:$AK$41,2,FALSE))","v":5},{"$f":"IF(ISERROR(VLOOKUP('Match Day'!$B$8,Results!$AH$34:$AI$41,2,FALSE))=TRUE,0,VLOOKUP('Match Day'!$B$8,Results!$AH$34:$AI$41,2,FALSE))","v":2},{"$f":"IF(ISERROR(VLOOKUP('Match Day'!$B$8,Results!$AJ$34:$AK$41,2,FALSE))=TRUE,0,VLOOKUP('Match Day'!$B$8,Results!$AJ$34:$AK$41,2,FALSE))","v":0},{"$f":"IF(ISERROR(VLOOKUP('Match Day'!$B$10,Results!$AH$34:$AI$41,2,FALSE))=TRUE,0,VLOOKUP('Match Day'!$B$10,Results!$AH$34:$AI$41,2,FALSE))","v":0},{"$f":"IF(ISERROR(VLOOKUP('Match Day'!$B$10,Results!$AJ$34:$AK$41,2,FALSE))=TRUE,0,VLOOKUP('Match Day'!$B$10,Results!$AJ$34:$AK$41,2,FALSE))","v":0},{"$f":"IF(ISERROR(VLOOKUP('Match Day'!$B$12,Results!$AH$34:$AI$41,2,FALSE))=TRUE,0,VLOOKUP('Match Day'!$B$12,Results!$AH$34:$AI$41,2,FALSE))","v":9},{"$f":"IF(ISERROR(VLOOKUP('Match Day'!$B$12,Results!$AJ$34:$AK$41,2,FALSE))=TRUE,0,VLOOKUP('Match Day'!$B$12,Results!$AJ$34:$AK$41,2,FALSE))","v":6},{"$f":"IF(ISERROR(VLOOKUP('Match Day'!$B$14,Results!$AH$34:$AI$41,2,FALSE))=TRUE,0,VLOOKUP('Match Day'!$B$14,Results!$AH$34:$AI$41,2,FALSE))","v":7},{"$f":"IF(ISERROR(VLOOKUP('Match Day'!$B$14,Results!$AJ$34:$AK$41,2,FALSE))=TRUE,0,VLOOKUP('Match Day'!$B$14,Results!$AJ$34:$AK$41,2,FALSE))","v":7},{"$f":"IF(ISERROR(VLOOKUP('Match Day'!$B$16,Results!$AH$34:$AI$41,2,FALSE))=TRUE,0,VLOOKUP('Match Day'!$B$16,Results!$AH$34:$AI$41,2,FALSE))","v":6},{"$f":"IF(ISERROR(VLOOKUP('Match Day'!$B$16,Results!$AJ$34:$AK$41,2,FALSE))=TRUE,0,VLOOKUP('Match Day'!$B$16,Results!$AJ$34:$AK$41,2,FALSE))","v":4},{"$f":"IF(ISERROR(VLOOKUP('Match Day'!$B$18,Results!$AH$34:$AI$41,2,FALSE))=TRUE,0,VLOOKUP('Match Day'!$B$18,Results!$AH$34:$AI$41,2,FALSE))","v":5},{"$f":"IF(ISERROR(VLOOKUP('Match Day'!$B$18,Results!$AJ$34:$AK$41,2,FALSE))=TRUE,0,VLOOKUP('Match Day'!$B$18,Results!$AJ$34:$AK$41,2,FALSE))","v":9},{"$f":"IF(Home!X12=\"\",0,Results!$AW$12-AG8)","v":1},{"$f":"IF(Home!X12=\"\",0,Results!$AX$12-AH8)","v":3},37,37,null,1,null,null,null,null,null,null,{"$f":"IF(A8=\"\",\"\",VLOOKUP(A8,Results!$A$4:$AL$191,36,FALSE))","v":8},15,36,34]
[{"$f":"Results!A$44","v":8},{"$f":"VLOOKUP(A9,Handbook!$A$4:$C$24,3,FALSE)","v":"Women's 1500m"},{"$f":"IF(ISERROR(VLOOKUP('Match Day'!$B$4,Results!$AH$44:$AI$51,2,FALSE))=TRUE,0,VLOOKUP('Match Day'!$B$4,Results!$AH$44:$AI$51,2,FALSE))","v":6},{"$f":"IF(ISERROR(VLOOKUP('Match Day'!$B$4,Results!$AJ$44:$AK$51,2,FALSE))=TRUE,0,VLOOKUP('Match Day'!$B$4,Results!$AJ$44:$AK$51,2,FALSE))","v":6},{"$f":"IF(ISERROR(VLOOKUP('Match Day'!$B$6,Results!$AH$44:$AI$51,2,FALSE))=TRUE,0,VLOOKUP('Match Day'!$B$6,Results!$AH$44:$AI$51,2,FALSE))","v":3},{"$f":"IF(ISERROR(VLOOKUP('Match Day'!$B$6,Results!$AJ$44:$AK$51,2,FALSE))=TRUE,0,VLOOKUP('Match Day'!$B$6,Results!$AJ$44:$AK$51,2,FALSE))","v":3},{"$f":"IF(ISERROR(VLOOKUP('Match Day'!$B$8,Results!$AH$44:$AI$51,2,FALSE))=TRUE,0,VLOOKUP('Match Day'!$B$8,Results!$AH$44:$AI$51,2,FALSE))","v":1},{"$f":"IF(ISERROR(VLOOKUP('Match Day'!$B$8,Results!$AJ$44:$AK$51,2,FALSE))=TRUE,0,VLOOKUP('Match Day'!$B$8,Results!$AJ$44:$AK$51,2,FALSE))","v":2},{"$f":"IF(ISERROR(VLOOKUP('Match Day'!$B$10,Results!$AH$44:$AI$51,2,FALSE))=TRUE,0,VLOOKUP('Match Day'!$B$10,Results!$AH$44:$AI$51,2,FALSE))","v":2},{"$f":"IF(ISERROR(VLOOKUP('Match Day'!$B$10,Results!$AJ$44:$AK$51,2,FALSE))=TRUE,0,VLOOKUP('Match Day'!$B$10,Results!$AJ$44:$AK$51,2,FALSE))","v":1},{"$f":"IF(ISERROR(VLOOKUP('Match Day'!$B$12,Results!$AH$44:$AI$51,2,FALSE))=TRUE,0,VLOOKUP('Match Day'!$B$12,Results!$AH$44:$AI$51,2,FALSE))","v":9},{"$f":"IF(ISERROR(VLOOKUP('Match Day'!$B$12,Results!$AJ$44:$AK$51,2,FALSE))=TRUE,0,VLOOKUP('Match Day'!$B$12,Results!$AJ$44:$AK$51,2,FALSE))","v":5},{"$f":"IF(ISERROR(VLOOKUP('Match Day'!$B$14,Results!$AH$44:$AI$51,2,FALSE))=TRUE,0,VLOOKUP('Match Day'!$B$14,Results!$AH$44:$AI$51,2,FALSE))","v":4},{"$f":"IF(ISERROR(VLOOKUP('Match Day'!$B$14,Results!$AJ$44:$AK$51,2,FALSE))=TRUE,0,VLOOKUP('Match Day'!$B$14,Results!$AJ$44:$AK$51,2,FALSE))","v":4},{"$f":"IF(ISERROR(VLOOKUP('Match Day'!$B$16,Results!$AH$44:$AI$51,2,FALSE))=TRUE,0,VLOOKUP('Match Day'!$B$16,Results!$AH$44:$AI$51,2,FALSE))","v":7},{"$f":"IF(ISERROR(VLOOKUP('Match Day'!$B$16,Results!$AJ$44:$AK$51,2,FALSE))=TRUE,0,VLOOKUP('Match Day'!$B$16,Results!$AJ$44:$AK$51,2,FALSE))","v":9},{"$f":"IF(ISERROR(VLOOKUP('Match Day'!$B$18,Results!$AH$44:$AI$51,2,FALSE))=TRUE,0,VLOOKUP('Match Day'!$B$18,Results!$AH$44:$AI$51,2,FALSE))","v":5},{"$f":"IF(ISERROR(VLOOKUP('Match Day'!$B$18,Results!$AJ$44:$AK$51,2,FALSE))=TRUE,0,VLOOKUP('Match Day'!$B$18,Results!$AJ$44:$AK$51,2,FALSE))","v":7},{"$f":"IF(Home!X13=\"\",0,Results!$AW$12-AG9)","v":0},{"$f":"IF(Home!X13=\"\",0,Results!$AX$12-AH9)","v":0},37,37,null,1,null,null,null,null,null,null,{"$f":"IF(A9=\"\",\"\",VLOOKUP(A9,Results!$A$4:$AL$191,36,FALSE))","v":7},14,37,37]
[{"$f":"Results!A$54","v":5},{"$f":"VLOOKUP(A10,Handbook!$A$4:$C$24,3,FALSE)","v":"Women's 2000 S/Chase"},{"$f":"IF(ISERROR(VLOOKUP('Match Day'!$B$4,Results!$AH$54:$AI$61,2,FALSE))=TRUE,0,VLOOKUP('Match Day'!$B$4,Results!$AH$54:$AI$61,2,FALSE))","v":4},{"$f":"IF(ISERROR(VLOOKUP('Match Day'!$B$4,Results!$AJ$54:$AK$61,2,FALSE))=TRUE,0,VLOOKUP('Match Day'!$B$4,Results!$AJ$54:$AK$61,2,FALSE))","v":0},{"$f":"IF(ISERROR(VLOOKUP('Match Day'!$B$6,Results!$AH$54:$AI$61,2,FALSE))=TRUE,0,VLOOKUP('Match Day'!$B$6,Results!$AH$54:$AI$61,2,FALSE))","v":3},{"$f":"IF(ISERROR(VLOOKUP('Match Day'!$B$6,Results!$AJ$54:$AK$61,2,FALSE))=TRUE,0,VLOOKUP('Match Day'!$B$6,Results!$AJ$54:$AK$61,2,FALSE))","v":0},{"$f":"IF(ISERROR(VLOOKUP('Match Day'!$B$8,Results!$AH$54:$AI$61,2,FALSE))=TRUE,0,VLOOKUP('Match Day'!$B$8,Results!$AH$54:$AI$61,2,FALSE))","v":2},{"$f":"IF(ISERROR(VLOOKUP('Match Day'!$B$8,Results!$AJ$54:$AK$61,2,FALSE))=TRUE,0,VLOOKUP('Match Day'!$B$8,Results!$AJ$54:$AK$61,2,FALSE))","v":0},{"$f":"IF(ISERROR(VLOOKUP('Match Day'!$B$10,Results!$AH$54:$AI$61,2,FALSE))=TRUE,0,VLOOKUP('Match Day'!$B$10,Results!$AH$54:$AI$61,2,FALSE))","v":0},{"$f":"IF(ISERROR(VLOOKUP('Match Day'!$B$10,Results!$AJ$54:$AK$61,2,FALSE))=TRUE,0,VLOOKUP('Match Day'!$B$10,Results!$AJ$54:$AK$61,2,FALSE))","v":0},{"$f":"IF(ISERROR(VLOOKUP('Match Day'!$B$12,Results!$AH$54:$AI$61,2,FALSE))=TRUE,0,VLOOKUP('Match Day'!$B$12,Results!$AH$54:$AI$61,2,FALSE))","v":9},{"$f":"IF(ISERROR(VLOOKUP('Match Day'!$B$12,Results!$AJ$54:$AK$61,2,FALSE))=TRUE,0,VLOOKUP('Match Day'!$B$12,Results!$AJ$54:$AK$61,2,FALSE))","v":0},{"$f":"IF(ISERROR(VLOOKUP('Match Day'!$B$14,Results!$AH$54:$AI$61,2,FALSE))=TRUE,0,VLOOKUP('Match Day'!$B$14,Results!$AH$54:$AI$61,2,FALSE))","v":5},{"$f":"IF(ISERROR(VLOOKUP('Match Day'!$B$14,Results!$AJ$54:$AK$61,2,FALSE))=TRUE,0,VLOOKUP('Match Day'!$B$14,Results!$AJ$54:$AK$61,2,FALSE))","v":0},{"$f":"IF(ISERROR(VLOOKUP('Match Day'!$B$16,Results!$AH$54:$AI$61,2,FALSE))=TRUE,0,VLOOKUP('Match Day'!$B$16,Results!$AH$54:$AI$61,2,FALSE))","v":7},{"$f":"IF(ISERROR(VLOOKUP('Match Day'!$B$16,Results!$AJ$54:$AK$61,2,FALSE))=TRUE,0,VLOOKUP('Match Day'!$B$16,Results!$AJ$54:$AK$61,2,FALSE))","v":0},{"$f":"IF(ISERROR(VLOOKUP('Match Day'!$B$18,Results!$AH$54:$AI$61,2,FALSE))=TRUE,0,VLOOKUP('Match Day'!$B$18,Results!$AH$54:$AI$61,2,FALSE))","v":6},{"$f":"IF(ISERROR(VLOOKUP('Match Day'!$B$18,Results!$AJ$54:$AK$61,2,FALSE))=TRUE,0,VLOOKUP('Match Day'!$B$18,Results!$AJ$54:$AK$61,2,FALSE))","v":0},{"$f":"IF(Home!X14=\"\",0,Results!$AW$12-AG10)","v":1},{"$f":"IF(Home!X14=\"\",0,Results!$AX$12-AH10)","v":37},37,37,null,1,null,null,null,null,null,null,{"$f":"IF(A10=\"\",\"\",VLOOKUP(A10,Results!$A$4:$AL$191,36,FALSE))","v":""},{"$error":"#VALUE!"},36,0]
[{"$f":"Results!A$64","v":21},{"$f":"VLOOKUP(A11,Handbook!$A$4:$C$24,3,FALSE)","v":"Women's 3000m"},{"$f":"IF(ISERROR(VLOOKUP('Match Day'!$B$4,Results!$AH$64:$AI$71,2,FALSE))=TRUE,0,VLOOKUP('Match Day'!$B$4,Results!$AH$64:$AI$71,2,FALSE))","v":6},{"$f":"IF(ISERROR(VLOOKUP('Match Day'!$B$4,Results!$AJ$64:$AK$71,2,FALSE))=TRUE,0,VLOOKUP('Match Day'!$B$4,Results!$AJ$64:$AK$71,2,FALSE))","v":6},{"$f":"IF(ISERROR(VLOOKUP('Match Day'!$B$6,Results!$AH$64:$AI$71,2,FALSE))=TRUE,0,VLOOKUP('Match Day'!$B$6,Results!$AH$64:$AI$71,2,FALSE))","v":2},{"$f":"IF(ISERROR(VLOOKUP('Match Day'!$B$6,Results!$AJ$64:$AK$71,2,FALSE))=TRUE,0,VLOOKUP('Match Day'!$B$6,Results!$AJ$64:$AK$71,2,FALSE))","v":5},{"$f":"IF(ISERROR(VLOOKUP('Match Day'!$B$8,Results!$AH$64:$AI$71,2,FALSE))=TRUE,0,VLOOKUP('Match Day'!$B$8,Results!$AH$64:$AI$71,2,FALSE))","v":5},{"$f":"IF(ISERROR(VLOOKUP('Match Day'!$B$8,Results!$AJ$64:$AK$71,2,FALSE))=TRUE,0,VLOOKUP('Match Day'!$B$8,Results!$AJ$64:$AK$71,2,FALSE))","v":0},{"$f":"IF(ISERROR(VLOOKUP('Match Day'!$B$10,Results!$AH$64:$AI$71,2,FALSE))=TRUE,0,VLOOKUP('Match Day'!$B$10,Results!$AH$64:$AI$71,2,FALSE))","v":1},{"$f":"IF(ISERROR(VLOOKUP('Match Day'!$B$10,Results!$AJ$64:$AK$71,2,FALSE))=TRUE,0,VLOOKUP('Match Day'!$B$10,Results!$AJ$64:$AK$71,2,FALSE))","v":0},{"$f":"IF(ISERROR(VLOOKUP('Match Day'!$B$12,Results!$AH$64:$AI$71,2,FALSE))=TRUE,0,VLOOKUP('Match Day'!$B$12,Results!$AH$64:$AI$71,2,FALSE))","v":3},{"$f":"IF(ISERROR(VLOOKUP('Match Day'!$B$12,Results!$AJ$64:$AK$71,2,FALSE))=TRUE,0,VLOOKUP('Match Day'!$B$12,Results!$AJ$64:$AK$71,2,FALSE))","v":0},{"$f":"IF(ISERROR(VLOOKUP('Match Day'!$B$14,Results!$AH$64:$AI$71,2,FALSE))=TRUE,0,VLOOKUP('Match Day'!$B$14,Results!$AH$64:$AI$71,2,FALSE))","v":4},{"$f":"IF(ISERROR(VLOOKUP('Match Day'!$B$14,Results!$AJ$64:$AK$71,2,FALSE))=TRUE,0,VLOOKUP('Match Day'!$B$14,Results!$AJ$64:$AK$71,2,FALSE))","v":0},{"$f":"IF(ISERROR(VLOOKUP('Match Day'!$B$16,Results!$AH$64:$AI$71,2,FALSE))=TRUE,0,VLOOKUP('Match Day'!$B$16,Results!$AH$64:$AI$71,2,FALSE))","v":9},{"$f":"IF(ISERROR(VLOOKUP('Match Day'!$B$16,Results!$AJ$64:$AK$71,2,FALSE))=TRUE,0,VLOOKUP('Match Day'!$B$16,Results!$AJ$64:$AK$71,2,FALSE))","v":9},{"$f":"IF(ISERROR(VLOOKUP('Match Day'!$B$18,Results!$AH$64:$AI$71,2,FALSE))=TRUE,0,VLOOKUP('Match Day'!$B$18,Results!$AH$64:$AI$71,2,FALSE))","v":7},{"$f":"IF(ISERROR(VLOOKUP('Match Day'!$B$18,Results!$AJ$64:$AK$71,2,FALSE))=TRUE,0,VLOOKUP('Match Day'!$B$18,Results!$AJ$64:$AK$71,2,FALSE))","v":7},{"$f":"IF(Home!X15=\"\",0,Results!$AW$12-AG11)","v":0},{"$f":"IF(Home!X15=\"\",0,Results!$AX$12-AH11)","v":10},37,37,null,1,null,null,null,null,null,null,{"$f":"IF(A11=\"\",\"\",VLOOKUP(A11,Results!$A$4:$AL$191,36,FALSE))","v":7},14,37,27]
[1,{"$f":"VLOOKUP(A12,Handbook!$A$4:$C$24,3,FALSE)","v":"Women's 400 Hurdles"},{"$f":"IF(ISERROR(VLOOKUP('Match Day'!$B$4,Results!$AH$74:$AI$81,2,FALSE))=TRUE,0,VLOOKUP('Match Day'!$B$4,Results!$AH$74:$AI$81,2,FALSE))","v":3},{"$f":"IF(ISERROR(VLOOKUP('Match Day'!$B$4,Results!$AJ$74:$AK$81,2,FALSE))=TRUE,0,VLOOKUP('Match Day'!$B$4,Results!$AJ$74:$AK$81,2,FALSE))","v":0},{"$f":"IF(ISERROR(VLOOKUP('Match Day'!$B$6,Results!$AH$74:$AI$81,2,FALSE))=TRUE,0,VLOOKUP('Match Day'!$B$6,Results!$AH$74:$AI$81,2,FALSE))","v":6},{"$f":"IF(ISERROR(VLOOKUP('Match Day'!$B$6,Results!$AJ$74:$AK$81,2,FALSE))=TRUE,0,VLOOKUP('Match Day'!$B$6,Results!$AJ$74:$AK$81,2,FALSE))","v":6},{"$f":"IF(ISERROR(VLOOKUP('Match Day'!$B$8,Results!$AH$74:$AI$81,2,FALSE))=TRUE,0,VLOOKUP('Match Day'!$B$8,Results!$AH$74:$AI$81,2,FALSE))","v":2},{"$f":"IF(ISERROR(VLOOKUP('Match Day'!$B$8,Results!$AJ$74:$AK$81,2,FALSE))=TRUE,0,VLOOKUP('Match Day'!$B$8,Results!$AJ$74:$AK$81,2,FALSE))","v":0},{"$f":"IF(ISERROR(VLOOKUP('Match Day'!$B$10,Results!$AH$74:$AI$81,2,FALSE))=TRUE,0,VLOOKUP('Match Day'!$B$10,Results!$AH$74:$AI$81,2,FALSE))","v":5},{"$f":"IF(ISERROR(VLOOKUP('Match Day'!$B$10,Results!$AJ$74:$AK$81,2,FALSE))=TRUE,0,VLOOKUP('Match Day'!$B$10,Results!$AJ$74:$AK$81,2,FALSE))","v":0},{"$f":"IF(ISERROR(VLOOKUP('Match Day'!$B$12,Results!$AH$74:$AI$81,2,FALSE))=TRUE,0,VLOOKUP('Match Day'!$B$12,Results!$AH$74:$AI$81,2,FALSE))","v":1},{"$f":"IF(ISERROR(VLOOKUP('Match Day'!$B$12,Results!$AJ$74:$AK$81,2,FALSE))=TRUE,0,VLOOKUP('Match Day'!$B$12,Results!$AJ$74:$AK$81,2,FALSE))","v":0},{"$f":"IF(ISERROR(VLOOKUP('Match Day'!$B$14,Results!$AH$74:$AI$81,2,FALSE))=TRUE,0,VLOOKUP('Match Day'!$B$14,Results!$AH$74:$AI$81,2,FALSE))","v":7},{"$f":"IF(ISERROR(VLOOKUP('Match Day'!$B$14,Results!$AJ$74:$AK$81,2,FALSE))=TRUE,0,VLOOKUP('Match Day'!$B$14,Results!$AJ$74:$AK$81,2,FALSE))","v":7},{"$f":"IF(ISERROR(VLOOKUP('Match Day'!$B$16,Results!$AH$74:$AI$81,2,FALSE))=TRUE,0,VLOOKUP('Match Day'!$B$16,Results!$AH$74:$AI$81,2,FALSE))","v":9},{"$f":"IF(ISERROR(VLOOKUP('Match Day'!$B$16,Results!$AJ$74:$AK$81,2,FALSE))=TRUE,0,VLOOKUP('Match Day'!$B$16,Results!$AJ$74:$AK$81,2,FALSE))","v":9},{"$f":"IF(ISERROR(VLOOKUP('Match Day'!$B$18,Results!$AH$74:$AI$81,2,FALSE))=TRUE,0,VLOOKUP('Match Day'!$B$18,Results!$AH$74:$AI$81,2,FALSE))","v":4},{"$f":"IF(ISERROR(VLOOKUP('Match Day'!$B$18,Results!$AJ$74:$AK$81,2,FALSE))=TRUE,0,VLOOKUP('Match Day'!$B$18,Results!$AJ$74:$AK$81,2,FALSE))","v":5},{"$f":"IF(Home!X16=\"\",0,Results!$AW$12-AG12)","v":0},{"$f":"IF(Home!X16=\"\",0,Results!$AX$12-AH12)","v":10},37,37,null,1,null,null,null,null,null,null,{"$f":"IF(A12=\"\",\"\",VLOOKUP(A12,Results!$A$4:$AL$191,36,FALSE))","v":7},14,37,27]
[6,{"$f":"VLOOKUP(A13,Handbook!$A$4:$C$24,3,FALSE)","v":"Women's 100 Hurdles"},{"$f":"IF(ISERROR(VLOOKUP('Match Day'!$B$4,Results!$AH$84:$AI$91,2,FALSE))=TRUE,0,VLOOKUP('Match Day'!$B$4,Results!$AH$84:$AI$91,2,FALSE))","v":0},{"$f":"IF(ISERROR(VLOOKUP('Match Day'!$B$4,Results!$AJ$84:$AK$91,2,FALSE))=TRUE,0,VLOOKUP('Match Day'!$B$4,Results!$AJ$84:$AK$91,2,FALSE))","v":0},{"$f":"IF(ISERROR(VLOOKUP('Match Day'!$B$6,Results!$AH$84:$AI$91,2,FALSE))=TRUE,0,VLOOKUP('Match Day'!$B$6,Results!$AH$84:$AI$91,2,FALSE))","v":7},{"$f":"IF(ISERROR(VLOOKUP('Match Day'!$B$6,Results!$AJ$84:$AK$91,2,FALSE))=TRUE,0,VLOOKUP('Match Day'!$B$6,Results!$AJ$84:$AK$91,2,FALSE))","v":9},{"$f":"IF(ISERROR(VLOOKUP('Match Day'!$B$8,Results!$AH$84:$AI$91,2,FALSE))=TRUE,0,VLOOKUP('Match Day'!$B$8,Results!$AH$84:$AI$91,2,FALSE))","v":4},{"$f":"IF(ISERROR(VLOOKUP('Match Day'!$B$8,Results!$AJ$84:$AK$91,2,FALSE))=TRUE,0,VLOOKUP('Match Day'!$B$8,Results!$AJ$84:$AK$91,2,FALSE))","v":0},{"$f":"IF(ISERROR(VLOOKUP('Match Day'!$B$10,Results!$AH$84:$AI$91,2,FALSE))=TRUE,0,VLOOKUP('Match Day'!$B$10,Results!$AH$84:$AI$91,2,FALSE))","v":6},{"$f":"IF(ISERROR(VLOOKUP('Match Day'!$B$10,Results!$AJ$84:$AK$91,2,FALSE))=TRUE,0,VLOOKUP('Match Day'!$B$10,Results!$AJ$84:$AK$91,2,FALSE))","v":5},{"$f":"IF(ISERROR(VLOOKUP('Match Day'!$B$12,Results!$AH$84:$AI$91,2,FALSE))=TRUE,0,VLOOKUP('Match Day'!$B$12,Results!$AH$84:$AI$91,2,FALSE))","v":0},{"$f":"IF(ISERROR(VLOOKUP('Match Day'!$B$12,Results!$AJ$84:$AK$91,2,FALSE))=TRUE,0,VLOOKUP('Match Day'!$B$12,Results!$AJ$84:$AK$91,2,FALSE))","v":0},{"$f":"IF(ISERROR(VLOOKUP('Match Day'!$B$14,Results!$AH$84:$AI$91,2,FALSE))=TRUE,0,VLOOKUP('Match Day'!$B$14,Results!$AH$84:$AI$91,2,FALSE))","v":9},{"$f":"IF(ISERROR(VLOOKUP('Match Day'!$B$14,Results!$AJ$84:$AK$91,2,FALSE))=TRUE,0,VLOOKUP('Match Day'!$B$14,Results!$AJ$84:$AK$91,2,FALSE))","v":6},{"$f":"IF(ISERROR(VLOOKUP('Match Day'!$B$16,Results!$AH$84:$AI$91,2,FALSE))=TRUE,0,VLOOKUP('Match Day'!$B$16,Results!$AH$84:$AI$91,2,FALSE))","v":5},{"$f":"IF(ISERROR(VLOOKUP('Match Day'!$B$16,Results!$AJ$84:$AK$91,2,FALSE))=TRUE,0,VLOOKUP('Match Day'!$B$16,Results!$AJ$84:$AK$91,2,FALSE))","v":7},{"$f":"IF(ISERROR(VLOOKUP('Match Day'!$B$18,Results!$AH$84:$AI$91,2,FALSE))=TRUE,0,VLOOKUP('Match Day'!$B$18,Results!$AH$84:$AI$91,2,FALSE))","v":3},{"$f":"IF(ISERROR(VLOOKUP('Match Day'!$B$18,Results!$AJ$84:$AK$91,2,FALSE))=TRUE,0,VLOOKUP('Match Day'!$B$18,Results!$AJ$84:$AK$91,2,FALSE))","v":4},{"$f":"IF(Home!X17=\"\",0,Results!$AW$12-AG13)","v":3},{"$f":"IF(Home!X17=\"\",0,Results!$AX$12-AH13)","v":6},37,37,null,1,null,null,null,null,null,null,{"$f":"IF(A13=\"\",\"\",VLOOKUP(A13,Results!$A$4:$AL$191,36,FALSE))","v":2},9,34,31]
[{"$f":"Results!A$94","v":11},{"$f":"VLOOKUP(A14,Handbook!$A$4:$C$24,3,FALSE)","v":"Women's Hammer"},{"$f":"IF(ISERROR(VLOOKUP('Match Day'!$B$4,Results!$AH$94:$AI$101,2,FALSE))=TRUE,0,VLOOKUP('Match Day'!$B$4,Results!$AH$94:$AI$101,2,FALSE))","v":5},{"$f":"IF(ISERROR(VLOOKUP('Match Day'!$B$4,Results!$AJ$94:$AK$101,2,FALSE))=TRUE,0,VLOOKUP('Match Day'!$B$4,Results!$AJ$94:$AK$101,2,FALSE))","v":5},{"$f":"IF(ISERROR(VLOOKUP('Match Day'!$B$6,Results!$AH$94:$AI$101,2,FALSE))=TRUE,0,VLOOKUP('Match Day'!$B$6,Results!$AH$94:$AI$101,2,FALSE))","v":7},{"$f":"IF(ISERROR(VLOOKUP('Match Day'!$B$6,Results!$AJ$94:$AK$101,2,FALSE))=TRUE,0,VLOOKUP('Match Day'!$B$6,Results!$AJ$94:$AK$101,2,FALSE))","v":7},{"$f":"IF(ISERROR(VLOOKUP('Match Day'!$B$8,Results!$AH$94:$AI$101,2,FALSE))=TRUE,0,VLOOKUP('Match Day'!$B$8,Results!$AH$94:$AI$101,2,FALSE))","v":6},{"$f":"IF(ISERROR(VLOOKUP('Match Day'!$B$8,Results!$AJ$94:$AK$101,2,FALSE))=TRUE,0,VLOOKUP('Match Day'!$B$8,Results!$AJ$94:$AK$101,2,FALSE))","v":9},{"$f":"IF(ISERROR(VLOOKUP('Match Day'!$B$10,Results!$AH$94:$AI$101,2,FALSE))=TRUE,0,VLOOKUP('Match Day'!$B$10,Results!$AH$94:$AI$101,2,FALSE))","v":2},{"$f":"IF(ISERROR(VLOOKUP('Match Day'!$B$10,Results!$AJ$94:$AK$101,2,FALSE))=TRUE,0,VLOOKUP('Match Day'!$B$10,Results!$AJ$94:$AK$101,2,FALSE))","v":2},{"$f":"IF(ISERROR(VLOOKUP('Match Day'!$B$12,Results!$AH$94:$AI$101,2,FALSE))=TRUE,0,VLOOKUP('Match Day'!$B$12,Results!$AH$94:$AI$101,2,FALSE))","v":4},{"$f":"IF(ISERROR(VLOOKUP('Match Day'!$B$12,Results!$AJ$94:$AK$101,2,FALSE))=TRUE,0,VLOOKUP('Match Day'!$B$12,Results!$AJ$94:$AK$101,2,FALSE))","v":4},{"$f":"IF(ISERROR(VLOOKUP('Match Day'!$B$14,Results!$AH$94:$AI$101,2,FALSE))=TRUE,0,VLOOKUP('Match Day'!$B$14,Results!$AH$94:$AI$101,2,FALSE))","v":1},{"$f":"IF(ISERROR(VLOOKUP('Match Day'!$B$14,Results!$AJ$94:$AK$101,2,FALSE))=TRUE,0,VLOOKUP('Match Day'!$B$14,Results!$AJ$94:$AK$101,2,FALSE))","v":1},{"$f":"IF(ISERROR(VLOOKUP('Match Day'!$B$16,Results!$AH$94:$AI$101,2,FALSE))=TRUE,0,VLOOKUP('Match Day'!$B$16,Results!$AH$94:$AI$101,2,FALSE))","v":9},{"$f":"IF(ISERROR(VLOOKUP('Match Day'!$B$16,Results!$AJ$94:$AK$101,2,FALSE))=TRUE,0,VLOOKUP('Match Day'!$B$16,Results!$AJ$94:$AK$101,2,FALSE))","v":3},{"$f":"IF(ISERROR(VLOOKUP('Match Day'!$B$18,Results!$AH$94:$AI$101,2,FALSE))=TRUE,0,VLOOKUP('Match Day'!$B$18,Results!$AH$94:$AI$101,2,FALSE))","v":3},{"$f":"IF(ISERROR(VLOOKUP('Match Day'!$B$18,Results!$AJ$94:$AK$101,2,FALSE))=TRUE,0,VLOOKUP('Match Day'!$B$18,Results!$AJ$94:$AK$101,2,FALSE))","v":6},{"$f":"IF(Home!X18=\"\",0,Results!$AW$12-AG14)","v":0},{"$f":"IF(Home!X18=\"\",0,Results!$AX$12-AH14)","v":0},37,37,null,1,null,null,null,null,null,null,{"$f":"IF(A14=\"\",\"\",VLOOKUP(A14,Results!$A$4:$AL$191,36,FALSE))","v":3},10,37,37]
[{"$f":"Results!A$104","v":15},{"$f":"VLOOKUP(A15,Handbook!$A$4:$C$24,3,FALSE)","v":"Women's Discus"},{"$f":"IF(ISERROR(VLOOKUP('Match Day'!$B$4,Results!$AH$104:$AI$111,2,FALSE))=TRUE,0,VLOOKUP('Match Day'!$B$4,Results!$AH$104:$AI$111,2,FALSE))","v":4},{"$f":"IF(ISERROR(VLOOKUP('Match Day'!$B$4,Results!$AJ$104:$AK$111,2,FALSE))=TRUE,0,VLOOKUP('Match Day'!$B$4,Results!$AJ$104:$AK$111,2,FALSE))","v":5},{"$f":"IF(ISERROR(VLOOKUP('Match Day'!$B$6,Results!$AH$104:$AI$111,2,FALSE))=TRUE,0,VLOOKUP('Match Day'!$B$6,Results!$AH$104:$AI$111,2,FALSE))","v":9},{"$f":"IF(ISERROR(VLOOKUP('Match Day'!$B$6,Results!$AJ$104:$AK$111,2,FALSE))=TRUE,0,VLOOKUP('Match Day'!$B$6,Results!$AJ$104:$AK$111,2,FALSE))","v":9},{"$f":"IF(ISERROR(VLOOKUP('Match Day'!$B$8,Results!$AH$104:$AI$111,2,FALSE))=TRUE,0,VLOOKUP('Match Day'!$B$8,Results!$AH$104:$AI$111,2,FALSE))","v":7},{"$f":"IF(ISERROR(VLOOKUP('Match Day'!$B$8,Results!$AJ$104:$AK$111,2,FALSE))=TRUE,0,VLOOKUP('Match Day'!$B$8,Results!$AJ$104:$AK$111,2,FALSE))","v":7},{"$f":"IF(ISERROR(VLOOKUP('Match Day'!$B$10,Results!$AH$104:$AI$111,2,FALSE))=TRUE,0,VLOOKUP('Match Day'!$B$10,Results!$AH$104:$AI$111,2,FALSE))","v":3},{"$f":"IF(ISERROR(VLOOKUP('Match Day'!$B$10,Results!$AJ$104:$AK$111,2,FALSE))=TRUE,0,VLOOKUP('Match Day'!$B$10,Results!$AJ$104:$AK$111,2,FALSE))","v":1},{"$f":"IF(ISERROR(VLOOKUP('Match Day'!$B$12,Results!$AH$104:$AI$111,2,FALSE))=TRUE,0,VLOOKUP('Match Day'!$B$12,Results!$AH$104:$AI$111,2,FALSE))","v":2},{"$f":"IF(ISERROR(VLOOKUP('Match Day'!$B$12,Results!$AJ$104:$AK$111,2,FALSE))=TRUE,0,VLOOKUP('Match Day'!$B$12,Results!$AJ$104:$AK$111,2,FALSE))","v":2},{"$f":"IF(ISERROR(VLOOKUP('Match Day'!$B$14,Results!$AH$104:$AI$111,2,FALSE))=TRUE,0,VLOOKUP('Match Day'!$B$14,Results!$AH$104:$AI$111,2,FALSE))","v":5},{"$f":"IF(ISERROR(VLOOKUP('Match Day'!$B$14,Results!$AJ$104:$AK$111,2,FALSE))=TRUE,0,VLOOKUP('Match Day'!$B$14,Results!$AJ$104:$AK$111,2,FALSE))","v":3},{"$f":"IF(ISERROR(VLOOKUP('Match Day'!$B$16,Results!$AH$104:$AI$111,2,FALSE))=TRUE,0,VLOOKUP('Match Day'!$B$16,Results!$AH$104:$AI$111,2,FALSE))","v":1},{"$f":"IF(ISERROR(VLOOKUP('Match Day'!$B$16,Results!$AJ$104:$AK$111,2,FALSE))=TRUE,0,VLOOKUP('Match Day'!$B$16,Results!$AJ$104:$AK$111,2,FALSE))","v":4},{"$f":"IF(ISERROR(VLOOKUP('Match Day'!$B$18,Results!$AH$104:$AI$111,2,FALSE))=TRUE,0,VLOOKUP('Match Day'!$B$18,Results!$AH$104:$AI$111,2,FALSE))","v":6},{"$f":"IF(ISERROR(VLOOKUP('Match Day'!$B$18,Results!$AJ$104:$AK$111,2,FALSE))=TRUE,0,VLOOKUP('Match Day'!$B$18,Results!$AJ$104:$AK$111,2,FALSE))","v":6},{"$f":"IF(Home!X19=\"\",0,Results!$AW$12-AG15)","v":0},{"$f":"IF(Home!X19=\"\",0,Results!$AX$12-AH15)","v":0},37,37,null,1,null,null,null,null,null,null,{"$f":"IF(A15=\"\",\"\",VLOOKUP(A15,Results!$A$4:$AL$191,36,FALSE))","v":2},9,37,37]
[{"$f":"Results!A$114","v":18},{"$f":"VLOOKUP(A16,Handbook!$A$4:$C$24,3,FALSE)","v":"Women's Javelin"},{"$f":"IF(ISERROR(VLOOKUP('Match Day'!$B$4,Results!$AH$114:$AI$121,2,FALSE))=TRUE,0,VLOOKUP('Match Day'!$B$4,Results!$AH$114:$AI$121,2,FALSE))","v":3},{"$f":"IF(ISERROR(VLOOKUP('Match Day'!$B$4,Results!$AJ$114:$AK$121,2,FALSE))=TRUE,0,VLOOKUP('Match Day'!$B$4,Results!$AJ$114:$AK$121,2,FALSE))","v":6},{"$f":"IF(ISERROR(VLOOKUP('Match Day'!$B$6,Results!$AH$114:$AI$121,2,FALSE))=TRUE,0,VLOOKUP('Match Day'!$B$6,Results!$AH$114:$AI$121,2,FALSE))","v":2},{"$f":"IF(ISERROR(VLOOKUP('Match Day'!$B$6,Results!$AJ$114:$AK$121,2,FALSE))=TRUE,0,VLOOKUP('Match Day'!$B$6,Results!$AJ$114:$AK$121,2,FALSE))","v":2},{"$f":"IF(ISERROR(VLOOKUP('Match Day'!$B$8,Results!$AH$114:$AI$121,2,FALSE))=TRUE,0,VLOOKUP('Match Day'!$B$8,Results!$AH$114:$AI$121,2,FALSE))","v":7},{"$f":"IF(ISERROR(VLOOKUP('Match Day'!$B$8,Results!$AJ$114:$AK$121,2,FALSE))=TRUE,0,VLOOKUP('Match Day'!$B$8,Results!$AJ$114:$AK$121,2,FALSE))","v":4},{"$f":"IF(ISERROR(VLOOKUP('Match Day'!$B$10,Results!$AH$114:$AI$121,2,FALSE))=TRUE,0,VLOOKUP('Match Day'!$B$10,Results!$AH$114:$AI$121,2,FALSE))","v":1},{"$f":"IF(ISERROR(VLOOKUP('Match Day'!$B$10,Results!$AJ$114:$AK$121,2,FALSE))=TRUE,0,VLOOKUP('Match Day'!$B$10,Results!$AJ$114:$AK$121,2,FALSE))","v":0},{"$f":"IF(ISERROR(VLOOKUP('Match Day'!$B$12,Results!$AH$114:$AI$121,2,FALSE))=TRUE,0,VLOOKUP('Match Day'!$B$12,Results!$AH$114:$AI$121,2,FALSE))","v":5},{"$f":"IF(ISERROR(VLOOKUP('Match Day'!$B$12,Results!$AJ$114:$AK$121,2,FALSE))=TRUE,0,VLOOKUP('Match Day'!$B$12,Results!$AJ$114:$AK$121,2,FALSE))","v":7},{"$f":"IF(ISERROR(VLOOKUP('Match Day'!$B$14,Results!$AH$114:$AI$121,2,FALSE))=TRUE,0,VLOOKUP('Match Day'!$B$14,Results!$AH$114:$AI$121,2,FALSE))","v":9},{"$f":"IF(ISERROR(VLOOKUP('Match Day'!$B$14,Results!$AJ$114:$AK$121,2,FALSE))=TRUE,0,VLOOKUP('Match Day'!$B$14,Results!$AJ$114:$AK$121,2,FALSE))","v":9},{"$f":"IF(ISERROR(VLOOKUP('Match Day'!$B$16,Results!$AH$114:$AI$121,2,FALSE))=TRUE,0,VLOOKUP('Match Day'!$B$16,Results!$AH$114:$AI$121,2,FALSE))","v":6},{"$f":"IF(ISERROR(VLOOKUP('Match Day'!$B$16,Results!$AJ$114:$AK$121,2,FALSE))=TRUE,0,VLOOKUP('Match Day'!$B$16,Results!$AJ$114:$AK$121,2,FALSE))","v":5},{"$f":"IF(ISERROR(VLOOKUP('Match Day'!$B$18,Results!$AH$114:$AI$121,2,FALSE))=TRUE,0,VLOOKUP('Match Day'!$B$18,Results!$AH$114:$AI$121,2,FALSE))","v":4},{"$f":"IF(ISERROR(VLOOKUP('Match Day'!$B$18,Results!$AJ$114:$AK$121,2,FALSE))=TRUE,0,VLOOKUP('Match Day'!$B$18,Results!$AJ$114:$AK$121,2,FALSE))","v":3},{"$f":"IF(Home!X20=\"\",0,Results!$AW$12-AG16)","v":0},{"$f":"IF(Home!X20=\"\",0,Results!$AX$12-AH16)","v":1},37,37,null,1,null,null,null,null,null,null,{"$f":"IF(A16=\"\",\"\",VLOOKUP(A16,Results!$A$4:$AL$191,36,FALSE))","v":6},13,37,36]
[{"$f":"Results!A$124","v":17},{"$f":"VLOOKUP(A17,Handbook!$A$4:$C$24,3,FALSE)","v":"Women's Shot Putt"},{"$f":"IF(ISERROR(VLOOKUP('Match Day'!$B$4,Results!$AH$124:$AI$131,2,FALSE))=TRUE,0,VLOOKUP('Match Day'!$B$4,Results!$AH$124:$AI$131,2,FALSE))","v":4},{"$f":"IF(ISERROR(VLOOKUP('Match Day'!$B$4,Results!$AJ$124:$AK$131,2,FALSE))=TRUE,0,VLOOKUP('Match Day'!$B$4,Results!$AJ$124:$AK$131,2,FALSE))","v":6},{"$f":"IF(ISERROR(VLOOKUP('Match Day'!$B$6,Results!$AH$124:$AI$131,2,FALSE))=TRUE,0,VLOOKUP('Match Day'!$B$6,Results!$AH$124:$AI$131,2,FALSE))","v":9},{"$f":"IF(ISERROR(VLOOKUP('Match Day'!$B$6,Results!$AJ$124:$AK$131,2,FALSE))=TRUE,0,VLOOKUP('Match Day'!$B$6,Results!$AJ$124:$AK$131,2,FALSE))","v":9},{"$f":"IF(ISERROR(VLOOKUP('Match Day'!$B$8,Results!$AH$124:$AI$131,2,FALSE))=TRUE,0,VLOOKUP('Match Day'!$B$8,Results!$AH$124:$AI$131,2,FALSE))","v":3},{"$f":"IF(ISERROR(VLOOKUP('Match Day'!$B$8,Results!$AJ$124:$AK$131,2,FALSE))=TRUE,0,VLOOKUP('Match Day'!$B$8,Results!$AJ$124:$AK$131,2,FALSE))","v":4},{"$f":"IF(ISERROR(VLOOKUP('Match Day'!$B$10,Results!$AH$124:$AI$131,2,FALSE))=TRUE,0,VLOOKUP('Match Day'!$B$10,Results!$AH$124:$AI$131,2,FALSE))","v":1},{"$f":"IF(ISERROR(VLOOKUP('Match Day'!$B$10,Results!$AJ$124:$AK$131,2,FALSE))=TRUE,0,VLOOKUP('Match Day'!$B$10,Results!$AJ$124:$AK$131,2,FALSE))","v":1},{"$f":"IF(ISERROR(VLOOKUP('Match Day'!$B$12,Results!$AH$124:$AI$131,2,FALSE))=TRUE,0,VLOOKUP('Match Day'!$B$12,Results!$AH$124:$AI$131,2,FALSE))","v":5},{"$f":"IF(ISERROR(VLOOKUP('Match Day'!$B$12,Results!$AJ$124:$AK$131,2,FALSE))=TRUE,0,VLOOKUP('Match Day'!$B$12,Results!$AJ$124:$AK$131,2,FALSE))","v":3},{"$f":"IF(ISERROR(VLOOKUP('Match Day'!$B$14,Results!$AH$124:$AI$131,2,FALSE))=TRUE,0,VLOOKUP('Match Day'!$B$14,Results!$AH$124:$AI$131,2,FALSE))","v":6},{"$f":"IF(ISERROR(VLOOKUP('Match Day'!$B$14,Results!$AJ$124:$AK$131,2,FALSE))=TRUE,0,VLOOKUP('Match Day'!$B$14,Results!$AJ$124:$AK$131,2,FALSE))","v":5},{"$f":"IF(ISERROR(VLOOKUP('Match Day'!$B$16,Results!$AH$124:$AI$131,2,FALSE))=TRUE,0,VLOOKUP('Match Day'!$B$16,Results!$AH$124:$AI$131,2,FALSE))","v":2},{"$f":"IF(ISERROR(VLOOKUP('Match Day'!$B$16,Results!$AJ$124:$AK$131,2,FALSE))=TRUE,0,VLOOKUP('Match Day'!$B$16,Results!$AJ$124:$AK$131,2,FALSE))","v":2},{"$f":"IF(ISERROR(VLOOKUP('Match Day'!$B$18,Results!$AH$124:$AI$131,2,FALSE))=TRUE,0,VLOOKUP('Match Day'!$B$18,Results!$AH$124:$AI$131,2,FALSE))","v":7},{"$f":"IF(ISERROR(VLOOKUP('Match Day'!$B$18,Results!$AJ$124:$AK$131,2,FALSE))=TRUE,0,VLOOKUP('Match Day'!$B$18,Results!$AJ$124:$AK$131,2,FALSE))","v":7},{"$f":"IF(Home!X21=\"\",0,Results!$AW$12-AG17)","v":0},{"$f":"IF(Home!X21=\"\",0,Results!$AX$12-AH17)","v":0},37,37,null,1,null,null,null,null,null,null,{"$f":"IF(A17=\"\",\"\",VLOOKUP(A17,Results!$A$4:$AL$191,36,FALSE))","v":2},9,37,37]
[{"$f":"Results!A$134","v":13},{"$f":"VLOOKUP(A18,Handbook!$A$4:$C$24,3,FALSE)","v":"Women's Long Jump"},{"$f":"IF(ISERROR(VLOOKUP('Match Day'!$B$4,Results!$AH$134:$AI$141,2,FALSE))=TRUE,0,VLOOKUP('Match Day'!$B$4,Results!$AH$134:$AI$141,2,FALSE))","v":1},{"$f":"IF(ISERROR(VLOOKUP('Match Day'!$B$4,Results!$AJ$134:$AK$141,2,FALSE))=TRUE,0,VLOOKUP('Match Day'!$B$4,Results!$AJ$134:$AK$141,2,FALSE))","v":0},{"$f":"IF(ISERROR(VLOOKUP('Match Day'!$B$6,Results!$AH$134:$AI$141,2,FALSE))=TRUE,0,VLOOKUP('Match Day'!$B$6,Results!$AH$134:$AI$141,2,FALSE))","v":4},{"$f":"IF(ISERROR(VLOOKUP('Match Day'!$B$6,Results!$AJ$134:$AK$141,2,FALSE))=TRUE,0,VLOOKUP('Match Day'!$B$6,Results!$AJ$134:$AK$141,2,FALSE))","v":7},{"$f":"IF(ISERROR(VLOOKUP('Match Day'!$B$8,Results!$AH$134:$AI$141,2,FALSE))=TRUE,0,VLOOKUP('Match Day'!$B$8,Results!$AH$134:$AI$141,2,FALSE))","v":6},{"$f":"IF(ISERROR(VLOOKUP('Match Day'!$B$8,Results!$AJ$134:$AK$141,2,FALSE))=TRUE,0,VLOOKUP('Match Day'!$B$8,Results!$AJ$134:$AK$141,2,FALSE))","v":3},{"$f":"IF(ISERROR(VLOOKUP('Match Day'!$B$10,Results!$AH$134:$AI$141,2,FALSE))=TRUE,0,VLOOKUP('Match Day'!$B$10,Results!$AH$134:$AI$141,2,FALSE))","v":3},{"$f":"IF(ISERROR(VLOOKUP('Match Day'!$B$10,Results!$AJ$134:$AK$141,2,FALSE))=TRUE,0,VLOOKUP('Match Day'!$B$10,Results!$AJ$134:$AK$141,2,FALSE))","v":6},{"$f":"IF(ISERROR(VLOOKUP('Match Day'!$B$12,Results!$AH$134:$AI$141,2,FALSE))=TRUE,0,VLOOKUP('Match Day'!$B$12,Results!$AH$134:$AI$141,2,FALSE))","v":7},{"$f":"IF(ISERROR(VLOOKUP('Match Day'!$B$12,Results!$AJ$134:$AK$141,2,FALSE))=TRUE,0,VLOOKUP('Match Day'!$B$12,Results!$AJ$134:$AK$141,2,FALSE))","v":9},{"$f":"IF(ISERROR(VLOOKUP('Match Day'!$B$14,Results!$AH$134:$AI$141,2,FALSE))=TRUE,0,VLOOKUP('Match Day'!$B$14,Results!$AH$134:$AI$141,2,FALSE))","v":5},{"$f":"IF(ISERROR(VLOOKUP('Match Day'!$B$14,Results!$AJ$134:$AK$141,2,FALSE))=TRUE,0,VLOOKUP('Match Day'!$B$14,Results!$AJ$134:$AK$141,2,FALSE))","v":2},{"$f":"IF(ISERROR(VLOOKUP('Match Day'!$B$16,Results!$AH$134:$AI$141,2,FALSE))=TRUE,0,VLOOKUP('Match Day'!$B$16,Results!$AH$134:$AI$141,2,FALSE))","v":2},{"$f":"IF(ISERROR(VLOOKUP('Match Day'!$B$16,Results!$AJ$134:$AK$141,2,FALSE))=TRUE,0,VLOOKUP('Match Day'!$B$16,Results!$AJ$134:$AK$141,2,FALSE))","v":5},{"$f":"IF(ISERROR(VLOOKUP('Match Day'!$B$18,Results!$AH$134:$AI$141,2,FALSE))=TRUE,0,VLOOKUP('Match Day'!$B$18,Results!$AH$134:$AI$141,2,FALSE))","v":9},{"$f":"IF(ISERROR(VLOOKUP('Match Day'!$B$18,Results!$AJ$134:$AK$141,2,FALSE))=TRUE,0,VLOOKUP('Match Day'!$B$18,Results!$AJ$134:$AK$141,2,FALSE))","v":4},{"$f":"IF(Home!X22=\"\",0,Results!$AW$12-AG18)","v":0},{"$f":"IF(Home!X22=\"\",0,Results!$AX$12-AH18)","v":1},37,37,null,1,null,null,null,null,null,null,{"$f":"IF(A18=\"\",\"\",VLOOKUP(A18,Results!$A$4:$AL$191,36,FALSE))","v":5},12,37,36]
[{"$f":"Results!A$144","v":16},{"$f":"VLOOKUP(A19,Handbook!$A$4:$C$24,3,FALSE)","v":"Women's Triple Jump"},{"$f":"IF(ISERROR(VLOOKUP('Match Day'!$B$4,Results!$AH$144:$AI$151,2,FALSE))=TRUE,0,VLOOKUP('Match Day'!$B$4,Results!$AH$144:$AI$151,2,FALSE))","v":1},{"$f":"IF(ISERROR(VLOOKUP('Match Day'!$B$4,Results!$AJ$144:$AK$151,2,FALSE))=TRUE,0,VLOOKUP('Match Day'!$B$4,Results!$AJ$144:$AK$151,2,FALSE))","v":0},{"$f":"IF(ISERROR(VLOOKUP('Match Day'!$B$6,Results!$AH$144:$AI$151,2,FALSE))=TRUE,0,VLOOKUP('Match Day'!$B$6,Results!$AH$144:$AI$151,2,FALSE))","v":6},{"$f":"IF(ISERROR(VLOOKUP('Match Day'!$B$6,Results!$AJ$144:$AK$151,2,FALSE))=TRUE,0,VLOOKUP('Match Day'!$B$6,Results!$AJ$144:$AK$151,2,FALSE))","v":7},{"$f":"IF(ISERROR(VLOOKUP('Match Day'!$B$8,Results!$AH$144:$AI$151,2,FALSE))=TRUE,0,VLOOKUP('Match Day'!$B$8,Results!$AH$144:$AI$151,2,FALSE))","v":4},{"$f":"IF(ISERROR(VLOOKUP('Match Day'!$B$8,Results!$AJ$144:$AK$151,2,FALSE))=TRUE,0,VLOOKUP('Match Day'!$B$8,Results!$AJ$144:$AK$151,2,FALSE))","v":5},{"$f":"IF(ISERROR(VLOOKUP('Match Day'!$B$10,Results!$AH$144:$AI$151,2,FALSE))=TRUE,0,VLOOKUP('Match Day'!$B$10,Results!$AH$144:$AI$151,2,FALSE))","v":7},{"$f":"IF(ISERROR(VLOOKUP('Match Day'!$B$10,Results!$AJ$144:$AK$151,2,FALSE))=TRUE,0,VLOOKUP('Match Day'!$B$10,Results!$AJ$144:$AK$151,2,FALSE))","v":0},{"$f":"IF(ISERROR(VLOOKUP('Match Day'!$B$12,Results!$AH$144:$AI$151,2,FALSE))=TRUE,0,VLOOKUP('Match Day'!$B$12,Results!$AH$144:$AI$151,2,FALSE))","v":9},{"$f":"IF(ISERROR(VLOOKUP('Match Day'!$B$12,Results!$AJ$144:$AK$151,2,FALSE))=TRUE,0,VLOOKUP('Match Day'!$B$12,Results!$AJ$144:$AK$151,2,FALSE))","v":9},{"$f":"IF(ISERROR(VLOOKUP('Match Day'!$B$14,Results!$AH$144:$AI$151,2,FALSE))=TRUE,0,VLOOKUP('Match Day'!$B$14,Results!$AH$144:$AI$151,2,FALSE))","v":2},{"$f":"IF(ISERROR(VLOOKUP('Match Day'!$B$14,Results!$AJ$144:$AK$151,2,FALSE))=TRUE,0,VLOOKUP('Match Day'!$B$14,Results!$AJ$144:$AK$151,2,FALSE))","v":3},{"$f":"IF(ISERROR(VLOOKUP('Match Day'!$B$16,Results!$AH$144:$AI$151,2,FALSE))=TRUE,0,VLOOKUP('Match Day'!$B$16,Results!$AH$144:$AI$151,2,FALSE))","v":5},{"$f":"IF(ISERROR(VLOOKUP('Match Day'!$B$16,Results!$AJ$144:$AK$151,2,FALSE))=TRUE,0,VLOOKUP('Match Day'!$B$16,Results!$AJ$144:$AK$151,2,FALSE))","v":6},{"$f":"IF(ISERROR(VLOOKUP('Match Day'!$B$18,Results!$AH$144:$AI$151,2,FALSE))=TRUE,0,VLOOKUP('Match Day'!$B$18,Results!$AH$144:$AI$151,2,FALSE))","v":3},{"$f":"IF(ISERROR(VLOOKUP('Match Day'!$B$18,Results!$AJ$144:$AK$151,2,FALSE))=TRUE,0,VLOOKUP('Match Day'!$B$18,Results!$AJ$144:$AK$151,2,FALSE))","v":4},{"$f":"IF(Home!X23=\"\",0,Results!$AW$12-AG19)","v":0},{"$f":"IF(Home!X23=\"\",0,Results!$AX$12-AH19)","v":3},37,37,null,1,null,null,null,null,null,null,{"$f":"IF(A19=\"\",\"\",VLOOKUP(A19,Results!$A$4:$AL$191,36,FALSE))","v":5},12,37,34]
[{"$f":"Results!A$154","v":14},{"$f":"VLOOKUP(A20,Handbook!$A$4:$C$24,3,FALSE)","v":"Women's High Jump"},{"$f":"IF(ISERROR(VLOOKUP('Match Day'!$B$4,Results!$AH$154:$AI$161,2,FALSE))=TRUE,0,VLOOKUP('Match Day'!$B$4,Results!$AH$154:$AI$161,2,FALSE))","v":4},{"$f":"IF(ISERROR(VLOOKUP('Match Day'!$B$4,Results!$AJ$154:$AK$161,2,FALSE))=TRUE,0,VLOOKUP('Match Day'!$B$4,Results!$AJ$154:$AK$161,2,FALSE))","v":5},{"$f":"IF(ISERROR(VLOOKUP('Match Day'!$B$6,Results!$AH$154:$AI$161,2,FALSE))=TRUE,0,VLOOKUP('Match Day'!$B$6,Results!$AH$154:$AI$161,2,FALSE))","v":9},{"$f":"IF(ISERROR(VLOOKUP('Match Day'!$B$6,Results!$AJ$154:$AK$161,2,FALSE))=TRUE,0,VLOOKUP('Match Day'!$B$6,Results!$AJ$154:$AK$161,2,FALSE))","v":6},{"$f":"IF(ISERROR(VLOOKUP('Match Day'!$B$8,Results!$AH$154:$AI$161,2,FALSE))=TRUE,0,VLOOKUP('Match Day'!$B$8,Results!$AH$154:$AI$161,2,FALSE))","v":3},{"$f":"IF(ISERROR(VLOOKUP('Match Day'!$B$8,Results!$AJ$154:$AK$161,2,FALSE))=TRUE,0,VLOOKUP('Match Day'!$B$8,Results!$AJ$154:$AK$161,2,FALSE))","v":8},{"$f":"IF(ISERROR(VLOOKUP('Match Day'!$B$10,Results!$AH$154:$AI$161,2,FALSE))=TRUE,0,VLOOKUP('Match Day'!$B$10,Results!$AH$154:$AI$161,2,FALSE))","v":2},{"$f":"IF(ISERROR(VLOOKUP('Match Day'!$B$10,Results!$AJ$154:$AK$161,2,FALSE))=TRUE,0,VLOOKUP('Match Day'!$B$10,Results!$AJ$154:$AK$161,2,FALSE))","v":0},{"$f":"IF(ISERROR(VLOOKUP('Match Day'!$B$12,Results!$AH$154:$AI$161,2,FALSE))=TRUE,0,VLOOKUP('Match Day'!$B$12,Results!$AH$154:$AI$161,2,FALSE))","v":7},{"$f":"IF(ISERROR(VLOOKUP('Match Day'!$B$12,Results!$AJ$154:$AK$161,2,FALSE))=TRUE,0,VLOOKUP('Match Day'!$B$12,Results!$AJ$154:$AK$161,2,FALSE))","v":8},{"$f":"IF(ISERROR(VLOOKUP('Match Day'!$B$14,Results!$AH$154:$AI$161,2,FALSE))=TRUE,0,VLOOKUP('Match Day'!$B$14,Results!$AH$154:$AI$161,2,FALSE))","v":6},{"$f":"IF(ISERROR(VLOOKUP('Match Day'!$B$14,Results!$AJ$154:$AK$161,2,FALSE))=TRUE,0,VLOOKUP('Match Day'!$B$14,Results!$AJ$154:$AK$161,2,FALSE))","v":3},{"$f":"IF(ISERROR(VLOOKUP('Match Day'!$B$16,Results!$AH$154:$AI$161,2,FALSE))=TRUE,0,VLOOKUP('Match Day'!$B$16,Results!$AH$154:$AI$161,2,FALSE))","v":5},{"$f":"IF(ISERROR(VLOOKUP('Match Day'!$B$16,Results!$AJ$154:$AK$161,2,FALSE))=TRUE,0,VLOOKUP('Match Day'!$B$16,Results!$AJ$154:$AK$161,2,FALSE))","v":4},{"$f":"IF(ISERROR(VLOOKUP('Match Day'!$B$18,Results!$AH$154:$AI$161,2,FALSE))=TRUE,0,VLOOKUP('Match Day'!$B$18,Results!$AH$154:$AI$161,2,FALSE))","v":1},{"$f":"IF(ISERROR(VLOOKUP('Match Day'!$B$18,Results!$AJ$154:$AK$161,2,FALSE))=TRUE,0,VLOOKUP('Match Day'!$B$18,Results!$AJ$154:$AK$161,2,FALSE))","v":2},{"$f":"IF(Home!X24=\"\",0,Results!$AW$12-AG20)","v":0},{"$f":"IF(Home!X24=\"\",0,Results!$AX$12-AH20)","v":1},37,37,null,1,null,null,null,null,null,null,{"$f":"IF(A20=\"\",\"\",VLOOKUP(A20,Results!$A$4:$AL$191,36,FALSE))","v":3},10,37,36]
[{"$f":"Results!A$164","v":12},{"$f":"VLOOKUP(A21,Handbook!$A$4:$C$24,3,FALSE)","v":"Women's Pole Vault"},{"$f":"IF(ISERROR(VLOOKUP('Match Day'!$B$4,Results!$AH$164:$AI$171,2,FALSE))=TRUE,0,VLOOKUP('Match Day'!$B$4,Results!$AH$164:$AI$171,2,FALSE))","v":4},{"$f":"IF(ISERROR(VLOOKUP('Match Day'!$B$4,Results!$AJ$164:$AK$171,2,FALSE))=TRUE,0,VLOOKUP('Match Day'!$B$4,Results!$AJ$164:$AK$171,2,FALSE))","v":6},{"$f":"IF(ISERROR(VLOOKUP('Match Day'!$B$6,Results!$AH$164:$AI$171,2,FALSE))=TRUE,0,VLOOKUP('Match Day'!$B$6,Results!$AH$164:$AI$171,2,FALSE))","v":7},{"$f":"IF(ISERROR(VLOOKUP('Match Day'!$B$6,Results!$AJ$164:$AK$171,2,FALSE))=TRUE,0,VLOOKUP('Match Day'!$B$6,Results!$AJ$164:$AK$171,2,FALSE))","v":9},{"$f":"IF(ISERROR(VLOOKUP('Match Day'!$B$8,Results!$AH$164:$AI$171,2,FALSE))=TRUE,0,VLOOKUP('Match Day'!$B$8,Results!$AH$164:$AI$171,2,FALSE))","v":6},{"$f":"IF(ISERROR(VLOOKUP('Match Day'!$B$8,Results!$AJ$164:$AK$171,2,FALSE))=TRUE,0,VLOOKUP('Match Day'!$B$8,Results!$AJ$164:$AK$171,2,FALSE))","v":0},{"$f":"IF(ISERROR(VLOOKUP('Match Day'!$B$10,Results!$AH$164:$AI$171,2,FALSE))=TRUE,0,VLOOKUP('Match Day'!$B$10,Results!$AH$164:$AI$171,2,FALSE))","v":3},{"$f":"IF(ISERROR(VLOOKUP('Match Day'!$B$10,Results!$AJ$164:$AK$171,2,FALSE))=TRUE,0,VLOOKUP('Match Day'!$B$10,Results!$AJ$164:$AK$171,2,FALSE))","v":7},{"$f":"IF(ISERROR(VLOOKUP('Match Day'!$B$12,Results!$AH$164:$AI$171,2,FALSE))=TRUE,0,VLOOKUP('Match Day'!$B$12,Results!$AH$164:$AI$171,2,FALSE))","v":9},{"$f":"IF(ISERROR(VLOOKUP('Match Day'!$B$12,Results!$AJ$164:$AK$171,2,FALSE))=TRUE,0,VLOOKUP('Match Day'!$B$12,Results!$AJ$164:$AK$171,2,FALSE))","v":0},{"$f":"IF(ISERROR(VLOOKUP('Match Day'!$B$14,Results!$AH$164:$AI$171,2,FALSE))=TRUE,0,VLOOKUP('Match Day'!$B$14,Results!$AH$164:$AI$171,2,FALSE))","v":0},{"$f":"IF(ISERROR(VLOOKUP('Match Day'!$B$14,Results!$AJ$164:$AK$171,2,FALSE))=TRUE,0,VLOOKUP('Match Day'!$B$14,Results!$AJ$164:$AK$171,2,FALSE))","v":0},{"$f":"IF(ISERROR(VLOOKUP('Match Day'!$B$16,Results!$AH$164:$AI$171,2,FALSE))=TRUE,0,VLOOKUP('Match Day'!$B$16,Results!$AH$164:$AI$171,2,FALSE))","v":5},{"$f":"IF(ISERROR(VLOOKUP('Match Day'!$B$16,Results!$AJ$164:$AK$171,2,FALSE))=TRUE,0,VLOOKUP('Match Day'!$B$16,Results!$AJ$164:$AK$171,2,FALSE))","v":5},{"$f":"IF(ISERROR(VLOOKUP('Match Day'!$B$18,Results!$AH$164:$AI$171,2,FALSE))=TRUE,0,VLOOKUP('Match Day'!$B$18,Results!$AH$164:$AI$171,2,FALSE))","v":2},{"$f":"IF(ISERROR(VLOOKUP('Match Day'!$B$18,Results!$AJ$164:$AK$171,2,FALSE))=TRUE,0,VLOOKUP('Match Day'!$B$18,Results!$AJ$164:$AK$171,2,FALSE))","v":0},{"$f":"IF(Home!X25=\"\",0,Results!$AW$12-AG21)","v":1},{"$f":"IF(Home!X25=\"\",0,Results!$AX$12-AH21)","v":10},37,37,null,1,null,null,null,null,null,null,{"$f":"IF(A21=\"\",\"\",VLOOKUP(A21,Results!$A$4:$AL$191,36,FALSE))","v":2},9,36,27]
[{"$f":"Results!A$174","v":9},{"$f":"VLOOKUP(A22,Handbook!$A$4:$C$24,3,FALSE)","v":"Women's 4x100m Relay"},{"$f":"IF(ISERROR(VLOOKUP('Match Day'!$B$4,Results!$AH$174:$AI$181,2,FALSE))=TRUE,0,VLOOKUP('Match Day'!$B$4,Results!$AH$174:$AI$181,2,FALSE))","v":2},{"$f":"IF(ISERROR(VLOOKUP('Match Day'!$B$4,Results!$AJ$174:$AK$181,2,FALSE))=TRUE,0,VLOOKUP('Match Day'!$B$4,Results!$AJ$174:$AK$181,2,FALSE))","v":0},{"$f":"IF(ISERROR(VLOOKUP('Match Day'!$B$6,Results!$AH$174:$AI$181,2,FALSE))=TRUE,0,VLOOKUP('Match Day'!$B$6,Results!$AH$174:$AI$181,2,FALSE))","v":6},{"$f":"IF(ISERROR(VLOOKUP('Match Day'!$B$6,Results!$AJ$174:$AK$181,2,FALSE))=TRUE,0,VLOOKUP('Match Day'!$B$6,Results!$AJ$174:$AK$181,2,FALSE))","v":0},{"$f":"IF(ISERROR(VLOOKUP('Match Day'!$B$8,Results!$AH$174:$AI$181,2,FALSE))=TRUE,0,VLOOKUP('Match Day'!$B$8,Results!$AH$174:$AI$181,2,FALSE))","v":7},{"$f":"IF(ISERROR(VLOOKUP('Match Day'!$B$8,Results!$AJ$174:$AK$181,2,FALSE))=TRUE,0,VLOOKUP('Match Day'!$B$8,Results!$AJ$174:$AK$181,2,FALSE))","v":0},{"$f":"IF(ISERROR(VLOOKUP('Match Day'!$B$10,Results!$AH$174:$AI$181,2,FALSE))=TRUE,0,VLOOKUP('Match Day'!$B$10,Results!$AH$174:$AI$181,2,FALSE))","v":9},{"$f":"IF(ISERROR(VLOOKUP('Match Day'!$B$10,Results!$AJ$174:$AK$181,2,FALSE))=TRUE,0,VLOOKUP('Match Day'!$B$10,Results!$AJ$174:$AK$181,2,FALSE))","v":0},{"$f":"IF(ISERROR(VLOOKUP('Match Day'!$B$12,Results!$AH$174:$AI$181,2,FALSE))=TRUE,0,VLOOKUP('Match Day'!$B$12,Results!$AH$174:$AI$181,2,FALSE))","v":1},{"$f":"IF(ISERROR(VLOOKUP('Match Day'!$B$12,Results!$AJ$174:$AK$181,2,FALSE))=TRUE,0,VLOOKUP('Match Day'!$B$12,Results!$AJ$174:$AK$181,2,FALSE))","v":0},{"$f":"IF(ISERROR(VLOOKUP('Match Day'!$B$14,Results!$AH$174:$AI$181,2,FALSE))=TRUE,0,VLOOKUP('Match Day'!$B$14,Results!$AH$174:$AI$181,2,FALSE))","v":3},{"$f":"IF(ISERROR(VLOOKUP('Match Day'!$B$14,Results!$AJ$174:$AK$181,2,FALSE))=TRUE,0,VLOOKUP('Match Day'!$B$14,Results!$AJ$174:$AK$181,2,FALSE))","v":0},{"$f":"IF(ISERROR(VLOOKUP('Match Day'!$B$16,Results!$AH$174:$AI$181,2,FALSE))=TRUE,0,VLOOKUP('Match Day'!$B$16,Results!$AH$174:$AI$181,2,FALSE))","v":4},{"$f":"IF(ISERROR(VLOOKUP('Match Day'!$B$16,Results!$AJ$174:$AK$181,2,FALSE))=TRUE,0,VLOOKUP('Match Day'!$B$16,Results!$AJ$174:$AK$181,2,FALSE))","v":0},{"$f":"IF(ISERROR(VLOOKUP('Match Day'!$B$18,Results!$AH$174:$AI$181,2,FALSE))=TRUE,0,VLOOKUP('Match Day'!$B$18,Results!$AH$174:$AI$181,2,FALSE))","v":5},{"$f":"IF(ISERROR(VLOOKUP('Match Day'!$B$18,Results!$AJ$174:$AK$181,2,FALSE))=TRUE,0,VLOOKUP('Match Day'!$B$18,Results!$AJ$174:$AK$181,2,FALSE))","v":0},{"$f":"IF(Home!X26=\"\",0,Results!$AW$12-AG22)","v":0},{"$f":"IF(Home!X26=\"\",0,Results!$AX$12-AH22)","v":37},37,37,null,1,null,null,null,null,null,null,{"$f":"IF(A22=\"\",\"\",VLOOKUP(A22,Results!$A$4:$AL$191,36,FALSE))","v":""},{"$error":"#VALUE!"},37,0]
[{"$f":"Results!A$184","v":10},{"$f":"VLOOKUP(A23,Handbook!$A$4:$C$24,3,FALSE)","v":"Women's 4x400m Relay"},{"$f":"IF(ISERROR(VLOOKUP('Match Day'!$B$4,Results!$AH$184:$AI$191,2,FALSE))=TRUE,0,VLOOKUP('Match Day'!$B$4,Results!$AH$184:$AI$191,2,FALSE))","v":0},{"$f":"IF(ISERROR(VLOOKUP('Match Day'!$B$4,Results!$AJ$184:$AK$191,2,FALSE))=TRUE,0,VLOOKUP('Match Day'!$B$4,Results!$AJ$184:$AK$191,2,FALSE))","v":0},{"$f":"IF(ISERROR(VLOOKUP('Match Day'!$B$6,Results!$AH$184:$AI$191,2,FALSE))=TRUE,0,VLOOKUP('Match Day'!$B$6,Results!$AH$184:$AI$191,2,FALSE))","v":6},{"$f":"IF(ISERROR(VLOOKUP('Match Day'!$B$6,Results!$AJ$184:$AK$191,2,FALSE))=TRUE,0,VLOOKUP('Match Day'!$B$6,Results!$AJ$184:$AK$191,2,FALSE))","v":0},{"$f":"IF(ISERROR(VLOOKUP('Match Day'!$B$8,Results!$AH$184:$AI$191,2,FALSE))=TRUE,0,VLOOKUP('Match Day'!$B$8,Results!$AH$184:$AI$191,2,FALSE))","v":5},{"$f":"IF(ISERROR(VLOOKUP('Match Day'!$B$8,Results!$AJ$184:$AK$191,2,FALSE))=TRUE,0,VLOOKUP('Match Day'!$B$8,Results!$AJ$184:$AK$191,2,FALSE))","v":0},{"$f":"IF(ISERROR(VLOOKUP('Match Day'!$B$10,Results!$AH$184:$AI$191,2,FALSE))=TRUE,0,VLOOKUP('Match Day'!$B$10,Results!$AH$184:$AI$191,2,FALSE))","v":4},{"$f":"IF(ISERROR(VLOOKUP('Match Day'!$B$10,Results!$AJ$184:$AK$191,2,FALSE))=TRUE,0,VLOOKUP('Match Day'!$B$10,Results!$AJ$184:$AK$191,2,FALSE))","v":0},{"$f":"IF(ISERROR(VLOOKUP('Match Day'!$B$12,Results!$AH$184:$AI$191,2,FALSE))=TRUE,0,VLOOKUP('Match Day'!$B$12,Results!$AH$184:$AI$191,2,FALSE))","v":2},{"$f":"IF(ISERROR(VLOOKUP('Match Day'!$B$12,Results!$AJ$184:$AK$191,2,FALSE))=TRUE,0,VLOOKUP('Match Day'!$B$12,Results!$AJ$184:$AK$191,2,FALSE))","v":0},{"$f":"IF(ISERROR(VLOOKUP('Match Day'!$B$14,Results!$AH$184:$AI$191,2,FALSE))=TRUE,0,VLOOKUP('Match Day'!$B$14,Results!$AH$184:$AI$191,2,FALSE))","v":7},{"$f":"IF(ISERROR(VLOOKUP('Match Day'!$B$14,Results!$AJ$184:$AK$191,2,FALSE))=TRUE,0,VLOOKUP('Match Day'!$B$14,Results!$AJ$184:$AK$191,2,FALSE))","v":0},{"$f":"IF(ISERROR(VLOOKUP('Match Day'!$B$16,Results!$AH$184:$AI$191,2,FALSE))=TRUE,0,VLOOKUP('Match Day'!$B$16,Results!$AH$184:$AI$191,2,FALSE))","v":9},{"$f":"IF(ISERROR(VLOOKUP('Match Day'!$B$16,Results!$AJ$184:$AK$191,2,FALSE))=TRUE,0,VLOOKUP('Match Day'!$B$16,Results!$AJ$184:$AK$191,2,FALSE))","v":0},{"$f":"IF(ISERROR(VLOOKUP('Match Day'!$B$18,Results!$AH$184:$AI$191,2,FALSE))=TRUE,0,VLOOKUP('Match Day'!$B$18,Results!$AH$184:$AI$191,2,FALSE))","v":3},{"$f":"IF(ISERROR(VLOOKUP('Match Day'!$B$18,Results!$AJ$184:$AK$191,2,FALSE))=TRUE,0,VLOOKUP('Match Day'!$B$18,Results!$AJ$184:$AK$191,2,FALSE))","v":0},{"$f":"IF(Home!X27=\"\",0,Results!$AW$12-AG23)","v":1},{"$f":"IF(Home!X27=\"\",0,Results!$AX$12-AH23)","v":37},37,37,null,1,null,null,null,null,null,null,{"$f":"IF(A23=\"\",\"\",VLOOKUP(A23,Results!$A$4:$AL$191,36,FALSE))","v":0},7,36,0]
[null,{"$f":"IF($A24=\"\",\"\",CONCATENATE(VLOOKUP($A24,#REF!,4,FALSE),\" \",VLOOKUP($A24,#REF!,5,FALSE)))","v":""},{"$f":"SUM(C5:C23)","v":58},{"$f":"SUM(D5:D23)","v":48},104,100,88,60,69,41,{"$f":"SUM(K5:K23)","v":91},58,91,71,102,83,92,76,8,166,703,703,null,{"$f":"SUM(X5:X23)","v":19},null,null,null,null,null,null,{"$f":"IF(A24=\"\",\"\",VLOOKUP(A24,Results!$A$93:$AL$182,32,FALSE))","v":""}]
[]
[{"$f":"ResultsF!A$4","v":3},{"$f":"VLOOKUP(A26,Handbook!$A$26:$AK$46,3,FALSE)","v":"Women's 100m"},{"$f":"IF(ISERROR(VLOOKUP('Match Day'!$B$4,ResultsF!$AF$4:$AG$11,2,FALSE))=TRUE,0,VLOOKUP('Match Day'!$B$4,ResultsF!$AF$4:$AG$11,2,FALSE))","v":0},{"$f":"IF(ISERROR(VLOOKUP('Match Day'!$B$4,ResultsF!$AH$4:$AI$11,2,FALSE))=TRUE,0,VLOOKUP('Match Day'!$B$4,ResultsF!$AH$4:$AI$11,2,FALSE))","v":0},{"$f":"IF(ISERROR(VLOOKUP('Match Day'!$B$6,ResultsF!$AF$4:$AG$11,2,FALSE))=TRUE,0,VLOOKUP('Match Day'!$B$6,ResultsF!$AF$4:$AG$11,2,FALSE))","v":0},{"$f":"IF(ISERROR(VLOOKUP('Match Day'!$B$6,ResultsF!$AH$4:$AI$11,2,FALSE))=TRUE,0,VLOOKUP('Match Day'!$B$6,ResultsF!$AH$4:$AI$11,2,FALSE))","v":0},{"$f":"IF(ISERROR(VLOOKUP('Match Day'!$B$8,ResultsF!$AF$4:$AG$11,2,FALSE))=TRUE,0,VLOOKUP('Match Day'!$B$8,ResultsF!$AF$4:$AG$11,2,FALSE))","v":0},{"$f":"IF(ISERROR(VLOOKUP('Match Day'!$B$8,ResultsF!$AH$4:$AI$11,2,FALSE))=TRUE,0,VLOOKUP('Match Day'!$B$8,ResultsF!$AH$4:$AI$11,2,FALSE))","v":0},{"$f":"IF(ISERROR(VLOOKUP('Match Day'!$B$10,ResultsF!$AF$4:$AG$11,2,FALSE))=TRUE,0,VLOOKUP('Match Day'!$B$10,ResultsF!$AF$4:$AG$11,2,FALSE))","v":0},{"$f":"IF(ISERROR(VLOOKUP('Match Day'!$B$10,ResultsF!$AH$4:$AI$11,2,FALSE))=TRUE,0,VLOOKUP('Match Day'!$B$10,ResultsF!$AH$4:$AI$11,2,FALSE))","v":0},{"$f":"IF(ISERROR(VLOOKUP('Match Day'!$B$12,ResultsF!$AF$4:$AG$11,2,FALSE))=TRUE,0,VLOOKUP('Match Day'!$B$12,ResultsF!$AF$4:$AG$11,2,FALSE))","v":0},{"$f":"IF(ISERROR(VLOOKUP('Match Day'!$B$12,ResultsF!$AH$4:$AI$11,2,FALSE))=TRUE,0,VLOOKUP('Match Day'!$B$12,ResultsF!$AH$4:$AI$11,2,FALSE))","v":0},{"$f":"IF(ISERROR(VLOOKUP('Match Day'!$B$14,ResultsF!$AF$4:$AG$11,2,FALSE))=TRUE,0,VLOOKUP('Match Day'!$B$14,ResultsF!$AF$4:$AG$11,2,FALSE))","v":0},{"$f":"IF(ISERROR(VLOOKUP('Match Day'!$B$14,ResultsF!$AH$4:$AI$11,2,FALSE))=TRUE,0,VLOOKUP('Match Day'!$B$14,ResultsF!$AH$4:$AI$11,2,FALSE))","v":0},{"$f":"IF(ISERROR(VLOOKUP('Match Day'!$B$16,ResultsF!$AF$4:$AG$11,2,FALSE))=TRUE,0,VLOOKUP('Match Day'!$B$16,ResultsF!$AF$4:$AG$11,2,FALSE))","v":0},{"$f":"IF(ISERROR(VLOOKUP('Match Day'!$B$16,ResultsF!$AH$4:$AI$11,2,FALSE))=TRUE,0,VLOOKUP('Match Day'!$B$16,ResultsF!$AH$4:$AI$11,2,FALSE))","v":0},{"$f":"IF(ISERROR(VLOOKUP('Match Day'!$B$18,ResultsF!$AF$4:$AG$11,2,FALSE))=TRUE,0,VLOOKUP('Match Day'!$B$18,ResultsF!$AF$4:$AG$11,2,FALSE))","v":0},{"$f":"IF(ISERROR(VLOOKUP('Match Day'!$B$18,ResultsF!$AH$4:$AI$11,2,FALSE))=TRUE,0,VLOOKUP('Match Day'!$B$18,ResultsF!$AH$4:$AI$11,2,FALSE))","v":0},{"$f":"IF(Home!#REF!=\"\",0,ResultsF!$AT$12-AG26)","v":{"$error":"#REF!"}},{"$f":"IF(Home!#REF!=\"\",0,ResultsF!$AU$12-AH26)","v":{"$error":"#REF!"}},{"$f":"C26+E26+G26+I26+K26+M26+O26+Q26+S26","v":{"$error":"#REF!"}},{"$f":"D26+F26+H26+J26+L26+N26+P26+R26+T26","v":{"$error":"#REF!"}},null,{"$f":"IF(U26>0,1,0)","v":{"$error":"#REF!"}},null,null,null,null,null,null,{"$f":"IF(A26=\"\",\"\",VLOOKUP(A26,ResultsF!$A$4:$AJ$191,36,FALSE))","v":4},{"$f":"AE26+7","v":11},{"$f":"C26+E26+G26+I26+K26+M26+O26+Q26","v":0},{"$f":"D26+F26+H26+J26+L26+N26+P26+R26","v":0}]
[{"$f":"ResultsF!A$14","v":7},{"$f":"VLOOKUP(A27,Handbook!$A$26:$AK$46,3,FALSE)","v":"Women's 200m"},{"$f":"IF(ISERROR(VLOOKUP('Match Day'!$B$4,ResultsF!$AF$14:$AG$21,2,FALSE))=TRUE,0,VLOOKUP('Match Day'!$B$4,ResultsF!$AF$14:$AG$21,2,FALSE))","v":0},{"$f":"IF(ISERROR(VLOOKUP('Match Day'!$B$4,ResultsF!$AH$14:$AI$21,2,FALSE))=TRUE,0,VLOOKUP('Match Day'!$B$4,ResultsF!$AH$14:$AI$21,2,FALSE))","v":0},{"$f":"IF(ISERROR(VLOOKUP('Match Day'!$B$6,ResultsF!$AF$14:$AG$21,2,FALSE))=TRUE,0,VLOOKUP('Match Day'!$B$6,ResultsF!$AF$14:$AG$21,2,FALSE))","v":0},{"$f":"IF(ISERROR(VLOOKUP('Match Day'!$B$6,ResultsF!$AH$14:$AI$21,2,FALSE))=TRUE,0,VLOOKUP('Match Day'!$B$6,ResultsF!$AH$14:$AI$21,2,FALSE))","v":0},{"$f":"IF(ISERROR(VLOOKUP('Match Day'!$B$8,ResultsF!$AF$14:$AG$21,2,FALSE))=TRUE,0,VLOOKUP('Match Day'!$B$8,ResultsF!$AF$14:$AG$21,2,FALSE))","v":0},{"$f":"IF(ISERROR(VLOOKUP('Match Day'!$B$8,ResultsF!$AH$14:$AI$21,2,FALSE))=TRUE,0,VLOOKUP('Match Day'!$B$8,ResultsF!$AH$14:$AI$21,2,FALSE))","v":0},{"$f":"IF(ISERROR(VLOOKUP('Match Day'!$B$10,ResultsF!$AF$14:$AG$21,2,FALSE))=TRUE,0,VLOOKUP('Match Day'!$B$10,ResultsF!$AF$14:$AG$21,2,FALSE))","v":0},{"$f":"IF(ISERROR(VLOOKUP('Match Day'!$B$10,ResultsF!$AH$14:$AI$21,2,FALSE))=TRUE,0,VLOOKUP('Match Day'!$B$10,ResultsF!$AH$14:$AI$21,2,FALSE))","v":0},{"$f":"IF(ISERROR(VLOOKUP('Match Day'!$B$12,ResultsF!$AF$14:$AG$21,2,FALSE))=TRUE,0,VLOOKUP('Match Day'!$B$12,ResultsF!$AF$14:$AG$21,2,FALSE))","v":0},{"$f":"IF(ISERROR(VLOOKUP('Match Day'!$B$12,ResultsF!$AH$14:$AI$21,2,FALSE))=TRUE,0,VLOOKUP('Match Day'!$B$12,ResultsF!$AH$14:$AI$21,2,FALSE))","v":0},{"$f":"IF(ISERROR(VLOOKUP('Match Day'!$B$14,ResultsF!$AF$14:$AG$21,2,FALSE))=TRUE,0,VLOOKUP('Match Day'!$B$14,ResultsF!$AF$14:$AG$21,2,FALSE))","v":0},{"$f":"IF(ISERROR(VLOOKUP('Match Day'!$B$14,ResultsF!$AH$14:$AI$21,2,FALSE))=TRUE,0,VLOOKUP('Match Day'!$B$14,ResultsF!$AH$14:$AI$21,2,FALSE))","v":0},{"$f":"IF(ISERROR(VLOOKUP('Match Day'!$B$16,ResultsF!$AF$14:$AG$21,2,FALSE))=TRUE,0,VLOOKUP('Match Day'!$B$16,ResultsF!$AF$14:$AG$21,2,FALSE))","v":0},{"$f":"IF(ISERROR(VLOOKUP('Match Day'!$B$16,ResultsF!$AH$14:$AI$21,2,FALSE))=TRUE,0,VLOOKUP('Match Day'!$B$16,ResultsF!$AH$14:$AI$21,2,FALSE))","v":0},{"$f":"IF(ISERROR(VLOOKUP('Match Day'!$B$18,ResultsF!$AF$14:$AG$21,2,FALSE))=TRUE,0,VLOOKUP('Match Day'!$B$18,ResultsF!$AF$14:$AG$21,2,FALSE))","v":0},{"$f":"IF(ISERROR(VLOOKUP('Match Day'!$B$18,ResultsF!$AH$14:$AI$21,2,FALSE))=TRUE,0,VLOOKUP('Match Day'!$B$18,ResultsF!$AH$14:$AI$21,2,FALSE))","v":0},{"$f":"IF(Home!#REF!=\"\",0,ResultsF!$AT$12-AG27)","v":{"$error":"#REF!"}},{"$f":"IF(Home!#REF!=\"\",0,ResultsF!$AU$12-AH27)","v":{"$error":"#REF!"}},{"$error":"#REF!"},{"$error":"#REF!"},null,{"$f":"IF(U27>0,1,0)","v":{"$error":"#REF!"}},null,null,null,null,null,null,{"$f":"IF(A27=\"\",\"\",VLOOKUP(A27,ResultsF!$A$4:$AJ$191,36,FALSE))","v":14},{"$f":"AE27+7","v":21},0,0]
[{"$f":"ResultsF!A$24","v":4},{"$f":"VLOOKUP(A28,Handbook!$A$26:$AK$46,3,FALSE)","v":"Women's 400m"},{"$f":"IF(ISERROR(VLOOKUP('Match Day'!$B$4,ResultsF!$AF$24:$AG$31,2,FALSE))=TRUE,0,VLOOKUP('Match Day'!$B$4,ResultsF!$AF$24:$AG$31,2,FALSE))","v":0},{"$f":"IF(ISERROR(VLOOKUP('Match Day'!$B$4,ResultsF!$AH$24:$AI$31,2,FALSE))=TRUE,0,VLOOKUP('Match Day'!$B$4,ResultsF!$AH$24:$AI$31,2,FALSE))","v":0},{"$f":"IF(ISERROR(VLOOKUP('Match Day'!$B$6,ResultsF!$AF$24:$AG$31,2,FALSE))=TRUE,0,VLOOKUP('Match Day'!$B$6,ResultsF!$AF$24:$AG$31,2,FALSE))","v":0},{"$f":"IF(ISERROR(VLOOKUP('Match Day'!$B$6,ResultsF!$AH$24:$AI$31,2,FALSE))=TRUE,0,VLOOKUP('Match Day'!$B$6,ResultsF!$AH$24:$AI$31,2,FALSE))","v":0},{"$f":"IF(ISERROR(VLOOKUP('Match Day'!$B$8,ResultsF!$AF$24:$AG$31,2,FALSE))=TRUE,0,VLOOKUP('Match Day'!$B$8,ResultsF!$AF$24:$AG$31,2,FALSE))","v":0},{"$f":"IF(ISERROR(VLOOKUP('Match Day'!$B$8,ResultsF!$AH$24:$AI$31,2,FALSE))=TRUE,0,VLOOKUP('Match Day'!$B$8,ResultsF!$AH$24:$AI$31,2,FALSE))","v":0},{"$f":"IF(ISERROR(VLOOKUP('Match Day'!$B$10,ResultsF!$AF$24:$AG$31,2,FALSE))=TRUE,0,VLOOKUP('Match Day'!$B$10,ResultsF!$AF$24:$AG$31,2,FALSE))","v":0},{"$f":"IF(ISERROR(VLOOKUP('Match Day'!$B$10,ResultsF!$AH$24:$AI$31,2,FALSE))=TRUE,0,VLOOKUP('Match Day'!$B$10,ResultsF!$AH$24:$AI$31,2,FALSE))","v":0},{"$f":"IF(ISERROR(VLOOKUP('Match Day'!$B$12,ResultsF!$AF$24:$AG$31,2,FALSE))=TRUE,0,VLOOKUP('Match Day'!$B$12,ResultsF!$AF$24:$AG$31,2,FALSE))","v":0},{"$f":"IF(ISERROR(VLOOKUP('Match Day'!$B$12,ResultsF!$AH$24:$AI$31,2,FALSE))=TRUE,0,VLOOKUP('Match Day'!$B$12,ResultsF!$AH$24:$AI$31,2,FALSE))","v":0},{"$f":"IF(ISERROR(VLOOKUP('Match Day'!$B$14,ResultsF!$AF$24:$AG$31,2,FALSE))=TRUE,0,VLOOKUP('Match Day'!$B$14,ResultsF!$AF$24:$AG$31,2,FALSE))","v":0},{"$f":"IF(ISERROR(VLOOKUP('Match Day'!$B$14,ResultsF!$AH$24:$AI$31,2,FALSE))=TRUE,0,VLOOKUP('Match Day'!$B$14,ResultsF!$AH$24:$AI$31,2,FALSE))","v":0},{"$f":"IF(ISERROR(VLOOKUP('Match Day'!$B$16,ResultsF!$AF$24:$AG$31,2,FALSE))=TRUE,0,VLOOKUP('Match Day'!$B$16,ResultsF!$AF$24:$AG$31,2,FALSE))","v":0},{"$f":"IF(ISERROR(VLOOKUP('Match Day'!$B$16,ResultsF!$AH$24:$AI$31,2,FALSE))=TRUE,0,VLOOKUP('Match Day'!$B$16,ResultsF!$AH$24:$AI$31,2,FALSE))","v":0},{"$f":"IF(ISERROR(VLOOKUP('Match Day'!$B$18,ResultsF!$AF$24:$AG$31,2,FALSE))=TRUE,0,VLOOKUP('Match Day'!$B$18,ResultsF!$AF$24:$AG$31,2,FALSE))","v":0},{"$f":"IF(ISERROR(VLOOKUP('Match Day'!$B$18,ResultsF!$AH$24:$AI$31,2,FALSE))=TRUE,0,VLOOKUP('Match Day'!$B$18,ResultsF!$AH$24:$AI$31,2,FALSE))","v":0},{"$f":"IF(Home!#REF!=\"\",0,ResultsF!$AT$12-AG28)","v":{"$error":"#REF!"}},{"$f":"IF(Home!#REF!=\"\",0,ResultsF!$AU$12-AH28)","v":{"$error":"#REF!"}},{"$error":"#REF!"},{"$error":"#REF!"},null,{"$error":"#REF!"},null,null,null,null,null,null,{"$f":"IF(A28=\"\",\"\",VLOOKUP(A28,ResultsF!$A$4:$AJ$191,36,FALSE))","v":24},31,0,0]
[{"$f":"ResultsF!A$34","v":2},{"$f":"VLOOKUP(A29,Handbook!$A$26:$AK$46,3,FALSE)","v":"Women's 800m"},{"$f":"IF(ISERROR(VLOOKUP('Match Day'!$B$4,ResultsF!$AF$34:$AG$41,2,FALSE))=TRUE,0,VLOOKUP('Match Day'!$B$4,ResultsF!$AF$34:$AG$41,2,FALSE))","v":0},{"$f":"IF(ISERROR(VLOOKUP('Match Day'!$B$4,ResultsF!$AH$34:$AI$41,2,FALSE))=TRUE,0,VLOOKUP('Match Day'!$B$4,ResultsF!$AH$34:$AI$41,2,FALSE))","v":0},{"$f":"IF(ISERROR(VLOOKUP('Match Day'!$B$6,ResultsF!$AF$34:$AG$41,2,FALSE))=TRUE,0,VLOOKUP('Match Day'!$B$6,ResultsF!$AF$34:$AG$41,2,FALSE))","v":0},{"$f":"IF(ISERROR(VLOOKUP('Match Day'!$B$6,ResultsF!$AH$34:$AI$41,2,FALSE))=TRUE,0,VLOOKUP('Match Day'!$B$6,ResultsF!$AH$34:$AI$41,2,FALSE))","v":0},{"$f":"IF(ISERROR(VLOOKUP('Match Day'!$B$8,ResultsF!$AF$34:$AG$41,2,FALSE))=TRUE,0,VLOOKUP('Match Day'!$B$8,ResultsF!$AF$34:$AG$41,2,FALSE))","v":0},{"$f":"IF(ISERROR(VLOOKUP('Match Day'!$B$8,ResultsF!$AH$34:$AI$41,2,FALSE))=TRUE,0,VLOOKUP('Match Day'!$B$8,ResultsF!$AH$34:$AI$41,2,FALSE))","v":0},{"$f":"IF(ISERROR(VLOOKUP('Match Day'!$B$10,ResultsF!$AF$34:$AG$41,2,FALSE))=TRUE,0,VLOOKUP('Match Day'!$B$10,ResultsF!$AF$34:$AG$41,2,FALSE))","v":0},{"$f":"IF(ISERROR(VLOOKUP('Match Day'!$B$10,ResultsF!$AH$34:$AI$41,2,FALSE))=TRUE,0,VLOOKUP('Match Day'!$B$10,ResultsF!$AH$34:$AI$41,2,FALSE))","v":0},{"$f":"IF(ISERROR(VLOOKUP('Match Day'!$B$12,ResultsF!$AF$34:$AG$41,2,FALSE))=TRUE,0,VLOOKUP('Match Day'!$B$12,ResultsF!$AF$34:$AG$41,2,FALSE))","v":0},{"$f":"IF(ISERROR(VLOOKUP('Match Day'!$B$12,ResultsF!$AH$34:$AI$41,2,FALSE))=TRUE,0,VLOOKUP('Match Day'!$B$12,ResultsF!$AH$34:$AI$41,2,FALSE))","v":0},{"$f":"IF(ISERROR(VLOOKUP('Match Day'!$B$14,ResultsF!$AF$34:$AG$41,2,FALSE))=TRUE,0,VLOOKUP('Match Day'!$B$14,ResultsF!$AF$34:$AG$41,2,FALSE))","v":0},{"$f":"IF(ISERROR(VLOOKUP('Match Day'!$B$14,ResultsF!$AH$34:$AI$41,2,FALSE))=TRUE,0,VLOOKUP('Match Day'!$B$14,ResultsF!$AH$34:$AI$41,2,FALSE))","v":0},{"$f":"IF(ISERROR(VLOOKUP('Match Day'!$B$16,ResultsF!$AF$34:$AG$41,2,FALSE))=TRUE,0,VLOOKUP('Match Day'!$B$16,ResultsF!$AF$34:$AG$41,2,FALSE))","v":0},{"$f":"IF(ISERROR(VLOOKUP('Match Day'!$B$16,ResultsF!$AH$34:$AI$41,2,FALSE))=TRUE,0,VLOOKUP('Match Day'!$B$16,ResultsF!$AH$34:$AI$41,2,FALSE))","v":0},{"$f":"IF(ISERROR(VLOOKUP('Match Day'!$B$18,ResultsF!$AF$34:$AG$41,2,FALSE))=TRUE,0,VLOOKUP('Match Day'!$B$18,ResultsF!$AF$34:$AG$41,2,FALSE))","v":0},{"$f":"IF(ISERROR(VLOOKUP('Match Day'!$B$18,ResultsF!$AH$34:$AI$41,2,FALSE))=TRUE,0,VLOOKUP('Match Day'!$B$18,ResultsF!$AH$34:$AI$41,2,FALSE))","v":0},{"$f":"IF(Home!#REF!=\"\",0,ResultsF!$AT$12-AG29)","v":{"$error":"#REF!"}},{"$f":"IF(Home!#REF!=\"\",0,ResultsF!$AU$12-AH29)","v":{"$error":"#REF!"}},{"$error":"#REF!"},{"$error":"#REF!"},null,{"$error":"#REF!"},null,null,null,null,null,null,{"$f":"IF(A29=\"\",\"\",VLOOKUP(A29,ResultsF!$A$4:$AJ$191,36,FALSE))","v":34},41,0,0]
[{"$f":"ResultsF!A$44","v":8},{"$f":"VLOOKUP(A30,Handbook!$A$26:$AK$46,3,FALSE)","v":"Women's 1500m"},{"$f":"IF(ISERROR(VLOOKUP('Match Day'!$B$4,ResultsF!$AF$44:$AG$51,2,FALSE))=TRUE,0,VLOOKUP('Match Day'!$B$4,ResultsF!$AF$44:$AG$51,2,FALSE))","v":0},{"$f":"IF(ISERROR(VLOOKUP('Match Day'!$B$4,ResultsF!$AH$44:$AI$51,2,FALSE))=TRUE,0,VLOOKUP('Match Day'!$B$4,ResultsF!$AH$44:$AI$51,2,FALSE))","v":0},{"$f":"IF(ISERROR(VLOOKUP('Match Day'!$B$6,ResultsF!$AF$44:$AG$51,2,FALSE))=TRUE,0,VLOOKUP('Match Day'!$B$6,ResultsF!$AF$44:$AG$51,2,FALSE))","v":0},{"$f":"IF(ISERROR(VLOOKUP('Match Day'!$B$6,ResultsF!$AH$44:$AI$51,2,FALSE))=TRUE,0,VLOOKUP('Match Day'!$B$6,ResultsF!$AH$44:$AI$51,2,FALSE))","v":0},{"$f":"IF(ISERROR(VLOOKUP('Match Day'!$B$8,ResultsF!$AF$44:$AG$51,2,FALSE))=TRUE,0,VLOOKUP('Match Day'!$B$8,ResultsF!$AF$44:$AG$51,2,FALSE))","v":0},{"$f":"IF(ISERROR(VLOOKUP('Match Day'!$B$8,ResultsF!$AH$44:$AI$51,2,FALSE))=TRUE,0,VLOOKUP('Match Day'!$B$8,ResultsF!$AH$44:$AI$51,2,FALSE))","v":0},{"$f":"IF(ISERROR(VLOOKUP('Match Day'!$B$10,ResultsF!$AF$44:$AG$51,2,FALSE))=TRUE,0,VLOOKUP('Match Day'!$B$10,ResultsF!$AF$44:$AG$51,2,FALSE))","v":0},{"$f":"IF(ISERROR(VLOOKUP('Match Day'!$B$10,ResultsF!$AH$44:$AI$51,2,FALSE))=TRUE,0,VLOOKUP('Match Day'!$B$10,ResultsF!$AH$44:$AI$51,2,FALSE))","v":0},{"$f":"IF(ISERROR(VLOOKUP('Match Day'!$B$12,ResultsF!$AF$44:$AG$51,2,FALSE))=TRUE,0,VLOOKUP('Match Day'!$B$12,ResultsF!$AF$44:$AG$51,2,FALSE))","v":0},{"$f":"IF(ISERROR(VLOOKUP('Match Day'!$B$12,ResultsF!$AH$44:$AI$51,2,FALSE))=TRUE,0,VLOOKUP('Match Day'!$B$12,ResultsF!$AH$44:$AI$51,2,FALSE))","v":0},{"$f":"IF(ISERROR(VLOOKUP('Match Day'!$B$14,ResultsF!$AF$44:$AG$51,2,FALSE))=TRUE,0,VLOOKUP('Match Day'!$B$14,ResultsF!$AF$44:$AG$51,2,FALSE))","v":0},{"$f":"IF(ISERROR(VLOOKUP('Match Day'!$B$14,ResultsF!$AH$44:$AI$51,2,FALSE))=TRUE,0,VLOOKUP('Match Day'!$B$14,ResultsF!$AH$44:$AI$51,2,FALSE))","v":0},{"$f":"IF(ISERROR(VLOOKUP('Match Day'!$B$16,ResultsF!$AF$44:$AG$51,2,FALSE))=TRUE,0,VLOOKUP('Match Day'!$B$16,ResultsF!$AF$44:$AG$51,2,FALSE))","v":0},{"$f":"IF(ISERROR(VLOOKUP('Match Day'!$B$16,ResultsF!$AH$44:$AI$51,2,FALSE))=TRUE,0,VLOOKUP('Match Day'!$B$16,ResultsF!$AH$44:$AI$51,2,FALSE))","v":0},{"$f":"IF(ISERROR(VLOOKUP('Match Day'!$B$18,ResultsF!$AF$44:$AG$51,2,FALSE))=TRUE,0,VLOOKUP('Match Day'!$B$18,ResultsF!$AF$44:$AG$51,2,FALSE))","v":0},{"$f":"IF(ISERROR(VLOOKUP('Match Day'!$B$18,ResultsF!$AH$44:$AI$51,2,FALSE))=TRUE,0,VLOOKUP('Match Day'!$B$18,ResultsF!$AH$44:$AI$51,2,FALSE))","v":0},{"$f":"IF(Home!#REF!=\"\",0,ResultsF!$AT$12-AG30)","v":{"$error":"#REF!"}},{"$f":"IF(Home!#REF!=\"\",0,ResultsF!$AU$12-AH30)","v":{"$error":"#REF!"}},{"$error":"#REF!"},{"$error":"#REF!"},null,{"$error":"#REF!"},null,null,null,null,null,null,{"$f":"IF(A30=\"\",\"\",VLOOKUP(A30,ResultsF!$A$4:$AJ$191,36,FALSE))","v":44},51,0,0]
[{"$f":"ResultsF!A$54","v":5},{"$f":"VLOOKUP(A31,Handbook!$A$26:$AK$46,3,FALSE)","v":"Women's 3000m S/Chase"},{"$f":"IF(ISERROR(VLOOKUP('Match Day'!$B$4,ResultsF!$AF$54:$AG$61,2,FALSE))=TRUE,0,VLOOKUP('Match Day'!$B$4,ResultsF!$AF$54:$AG$61,2,FALSE))","v":0},{"$f":"IF(ISERROR(VLOOKUP('Match Day'!$B$4,ResultsF!$AH$54:$AI$61,2,FALSE))=TRUE,0,VLOOKUP('Match Day'!$B$4,ResultsF!$AH$54:$AI$61,2,FALSE))","v":0},{"$f":"IF(ISERROR(VLOOKUP('Match Day'!$B$6,ResultsF!$AF$54:$AG$61,2,FALSE))=TRUE,0,VLOOKUP('Match Day'!$B$6,ResultsF!$AF$54:$AG$61,2,FALSE))","v":0},{"$f":"IF(ISERROR(VLOOKUP('Match Day'!$B$6,ResultsF!$AH$54:$AI$61,2,FALSE))=TRUE,0,VLOOKUP('Match Day'!$B$6,ResultsF!$AH$54:$AI$61,2,FALSE))","v":0},{"$f":"IF(ISERROR(VLOOKUP('Match Day'!$B$8,ResultsF!$AF$54:$AG$61,2,FALSE))=TRUE,0,VLOOKUP('Match Day'!$B$8,ResultsF!$AF$54:$AG$61,2,FALSE))","v":0},{"$f":"IF(ISERROR(VLOOKUP('Match Day'!$B$8,ResultsF!$AH$54:$AI$61,2,FALSE))=TRUE,0,VLOOKUP('Match Day'!$B$8,ResultsF!$AH$54:$AI$61,2,FALSE))","v":0},{"$f":"IF(ISERROR(VLOOKUP('Match Day'!$B$10,ResultsF!$AF$54:$AG$61,2,FALSE))=TRUE,0,VLOOKUP('Match Day'!$B$10,ResultsF!$AF$54:$AG$61,2,FALSE))","v":0},{"$f":"IF(ISERROR(VLOOKUP('Match Day'!$B$10,ResultsF!$AH$54:$AI$61,2,FALSE))=TRUE,0,VLOOKUP('Match Day'!$B$10,ResultsF!$AH$54:$AI$61,2,FALSE))","v":0},{"$f":"IF(ISERROR(VLOOKUP('Match Day'!$B$12,ResultsF!$AF$54:$AG$61,2,FALSE))=TRUE,0,VLOOKUP('Match Day'!$B$12,ResultsF!$AF$54:$AG$61,2,FALSE))","v":0},{"$f":"IF(ISERROR(VLOOKUP('Match Day'!$B$12,ResultsF!$AH$54:$AI$61,2,FALSE))=TRUE,0,VLOOKUP('Match Day'!$B$12,ResultsF!$AH$54:$AI$61,2,FALSE))","v":0},{"$f":"IF(ISERROR(VLOOKUP('Match Day'!$B$14,ResultsF!$AF$54:$AG$61,2,FALSE))=TRUE,0,VLOOKUP('Match Day'!$B$14,ResultsF!$AF$54:$AG$61,2,FALSE))","v":0},{"$f":"IF(ISERROR(VLOOKUP('Match Day'!$B$14,ResultsF!$AH$54:$AI$61,2,FALSE))=TRUE,0,VLOOKUP('Match Day'!$B$14,ResultsF!$AH$54:$AI$61,2,FALSE))","v":0},{"$f":"IF(ISERROR(VLOOKUP('Match Day'!$B$16,ResultsF!$AF$54:$AG$61,2,FALSE))=TRUE,0,VLOOKUP('Match Day'!$B$16,ResultsF!$AF$54:$AG$61,2,FALSE))","v":0},{"$f":"IF(ISERROR(VLOOKUP('Match Day'!$B$16,ResultsF!$AH$54:$AI$61,2,FALSE))=TRUE,0,VLOOKUP('Match Day'!$B$16,ResultsF!$AH$54:$AI$61,2,FALSE))","v":0},{"$f":"IF(ISERROR(VLOOKUP('Match Day'!$B$18,ResultsF!$AF$54:$AG$61,2,FALSE))=TRUE,0,VLOOKUP('Match Day'!$B$18,ResultsF!$AF$54:$AG$61,2,FALSE))","v":0},{"$f":"IF(ISERROR(VLOOKUP('Match Day'!$B$18,ResultsF!$AH$54:$AI$61,2,FALSE))=TRUE,0,VLOOKUP('Match Day'!$B$18,ResultsF!$AH$54:$AI$61,2,FALSE))","v":0},{"$f":"IF(Home!AD36=\"\",0,ResultsF!$AT$12-AG31)","v":0},{"$f":"IF(Home!AD36=\"\",0,ResultsF!$AU$12-AH31)","v":0},0,0,null,0,null,null,null,null,null,null,{"$f":"IF(A31=\"\",\"\",VLOOKUP(A31,ResultsF!$A$4:$AJ$191,36,FALSE))","v":54},61,0,0]
[{"$f":"ResultsF!A$64","v":21},{"$f":"VLOOKUP(A32,Handbook!$A$26:$AK$46,3,FALSE)","v":"Women's 3000m"},{"$f":"IF(ISERROR(VLOOKUP('Match Day'!$B$4,ResultsF!$AF$64:$AG$71,2,FALSE))=TRUE,0,VLOOKUP('Match Day'!$B$4,ResultsF!$AF$64:$AG$71,2,FALSE))","v":0},{"$f":"IF(ISERROR(VLOOKUP('Match Day'!$B$4,ResultsF!$AH$64:$AI$71,2,FALSE))=TRUE,0,VLOOKUP('Match Day'!$B$4,ResultsF!$AH$64:$AI$71,2,FALSE))","v":0},{"$f":"IF(ISERROR(VLOOKUP('Match Day'!$B$6,ResultsF!$AF$64:$AG$71,2,FALSE))=TRUE,0,VLOOKUP('Match Day'!$B$6,ResultsF!$AF$64:$AG$71,2,FALSE))","v":0},{"$f":"IF(ISERROR(VLOOKUP('Match Day'!$B$6,ResultsF!$AH$64:$AI$71,2,FALSE))=TRUE,0,VLOOKUP('Match Day'!$B$6,ResultsF!$AH$64:$AI$71,2,FALSE))","v":0},{"$f":"IF(ISERROR(VLOOKUP('Match Day'!$B$8,ResultsF!$AF$64:$AG$71,2,FALSE))=TRUE,0,VLOOKUP('Match Day'!$B$8,ResultsF!$AF$64:$AG$71,2,FALSE))","v":0},{"$f":"IF(ISERROR(VLOOKUP('Match Day'!$B$8,ResultsF!$AH$64:$AI$71,2,FALSE))=TRUE,0,VLOOKUP('Match Day'!$B$8,ResultsF!$AH$64:$AI$71,2,FALSE))","v":0},{"$f":"IF(ISERROR(VLOOKUP('Match Day'!$B$10,ResultsF!$AF$64:$AG$71,2,FALSE))=TRUE,0,VLOOKUP('Match Day'!$B$10,ResultsF!$AF$64:$AG$71,2,FALSE))","v":0},{"$f":"IF(ISERROR(VLOOKUP('Match Day'!$B$10,ResultsF!$AH$64:$AI$71,2,FALSE))=TRUE,0,VLOOKUP('Match Day'!$B$10,ResultsF!$AH$64:$AI$71,2,FALSE))","v":0},{"$f":"IF(ISERROR(VLOOKUP('Match Day'!$B$12,ResultsF!$AF$64:$AG$71,2,FALSE))=TRUE,0,VLOOKUP('Match Day'!$B$12,ResultsF!$AF$64:$AG$71,2,FALSE))","v":0},{"$f":"IF(ISERROR(VLOOKUP('Match Day'!$B$12,ResultsF!$AH$64:$AI$71,2,FALSE))=TRUE,0,VLOOKUP('Match Day'!$B$12,ResultsF!$AH$64:$AI$71,2,FALSE))","v":0},{"$f":"IF(ISERROR(VLOOKUP('Match Day'!$B$14,ResultsF!$AF$64:$AG$71,2,FALSE))=TRUE,0,VLOOKUP('Match Day'!$B$14,ResultsF!$AF$64:$AG$71,2,FALSE))","v":0},{"$f":"IF(ISERROR(VLOOKUP('Match Day'!$B$14,ResultsF!$AH$64:$AI$71,2,FALSE))=TRUE,0,VLOOKUP('Match Day'!$B$14,ResultsF!$AH$64:$AI$71,2,FALSE))","v":0},{"$f":"IF(ISERROR(VLOOKUP('Match Day'!$B$16,ResultsF!$AF$64:$AG$71,2,FALSE))=TRUE,0,VLOOKUP('Match Day'!$B$16,ResultsF!$AF$64:$AG$71,2,FALSE))","v":0},{"$f":"IF(ISERROR(VLOOKUP('Match Day'!$B$16,ResultsF!$AH$64:$AI$71,2,FALSE))=TRUE,0,VLOOKUP('Match Day'!$B$16,ResultsF!$AH$64:$AI$71,2,FALSE))","v":0},{"$f":"IF(ISERROR(VLOOKUP('Match Day'!$B$18,ResultsF!$AF$64:$AG$71,2,FALSE))=TRUE,0,VLOOKUP('Match Day'!$B$18,ResultsF!$AF$64:$AG$71,2,FALSE))","v":0},{"$f":"IF(ISERROR(VLOOKUP('Match Day'!$B$18,ResultsF!$AH$64:$AI$71,2,FALSE))=TRUE,0,VLOOKUP('Match Day'!$B$18,ResultsF!$AH$64:$AI$71,2,FALSE))","v":0},{"$f":"IF(Home!#REF!=\"\",0,ResultsF!$AT$12-AG32)","v":{"$error":"#REF!"}},{"$f":"IF(Home!#REF!=\"\",0,ResultsF!$AU$12-AH32)","v":{"$error":"#REF!"}},{"$error":"#REF!"},{"$error":"#REF!"},null,{"$error":"#REF!"},null,null,null,null,null,null,{"$f":"IF(A32=\"\",\"\",VLOOKUP(A32,ResultsF!$A$4:$AJ$191,36,FALSE))","v":64},71,0,0]
[1,{"$f":"VLOOKUP(A33,Handbook!$A$26:$AK$46,3,FALSE)","v":"Women's 400m Hurdles"},{"$f":"IF(ISERROR(VLOOKUP('Match Day'!$B$4,ResultsF!$AF$74:$AG$81,2,FALSE))=TRUE,0,VLOOKUP('Match Day'!$B$4,ResultsF!$AF$74:$AG$81,2,FALSE))","v":0},{"$f":"IF(ISERROR(VLOOKUP('Match Day'!$B$4,ResultsF!$AH$74:$AI$81,2,FALSE))=TRUE,0,VLOOKUP('Match Day'!$B$4,ResultsF!$AH$74:$AI$81,2,FALSE))","v":0},{"$f":"IF(ISERROR(VLOOKUP('Match Day'!$B$6,ResultsF!$AF$74:$AG$81,2,FALSE))=TRUE,0,VLOOKUP('Match Day'!$B$6,ResultsF!$AF$74:$AG$81,2,FALSE))","v":0},{"$f":"IF(ISERROR(VLOOKUP('Match Day'!$B$6,ResultsF!$AH$74:$AI$81,2,FALSE))=TRUE,0,VLOOKUP('Match Day'!$B$6,ResultsF!$AH$74:$AI$81,2,FALSE))","v":0},{"$f":"IF(ISERROR(VLOOKUP('Match Day'!$B$8,ResultsF!$AF$74:$AG$81,2,FALSE))=TRUE,0,VLOOKUP('Match Day'!$B$8,ResultsF!$AF$74:$AG$81,2,FALSE))","v":0},{"$f":"IF(ISERROR(VLOOKUP('Match Day'!$B$8,ResultsF!$AH$74:$AI$81,2,FALSE))=TRUE,0,VLOOKUP('Match Day'!$B$8,ResultsF!$AH$74:$AI$81,2,FALSE))","v":0},{"$f":"IF(ISERROR(VLOOKUP('Match Day'!$B$10,ResultsF!$AF$74:$AG$81,2,FALSE))=TRUE,0,VLOOKUP('Match Day'!$B$10,ResultsF!$AF$74:$AG$81,2,FALSE))","v":0},{"$f":"IF(ISERROR(VLOOKUP('Match Day'!$B$10,ResultsF!$AH$74:$AI$81,2,FALSE))=TRUE,0,VLOOKUP('Match Day'!$B$10,ResultsF!$AH$74:$AI$81,2,FALSE))","v":0},{"$f":"IF(ISERROR(VLOOKUP('Match Day'!$B$12,ResultsF!$AF$74:$AG$81,2,FALSE))=TRUE,0,VLOOKUP('Match Day'!$B$12,ResultsF!$AF$74:$AG$81,2,FALSE))","v":0},{"$f":"IF(ISERROR(VLOOKUP('Match Day'!$B$12,ResultsF!$AH$74:$AI$81,2,FALSE))=TRUE,0,VLOOKUP('Match Day'!$B$12,ResultsF!$AH$74:$AI$81,2,FALSE))","v":0},{"$f":"IF(ISERROR(VLOOKUP('Match Day'!$B$14,ResultsF!$AF$74:$AG$81,2,FALSE))=TRUE,0,VLOOKUP('Match Day'!$B$14,ResultsF!$AF$74:$AG$81,2,FALSE))","v":0},{"$f":"IF(ISERROR(VLOOKUP('Match Day'!$B$14,ResultsF!$AH$74:$AI$81,2,FALSE))=TRUE,0,VLOOKUP('Match Day'!$B$14,ResultsF!$AH$74:$AI$81,2,FALSE))","v":0},{"$f":"IF(ISERROR(VLOOKUP('Match Day'!$B$16,ResultsF!$AF$74:$AG$81,2,FALSE))=TRUE,0,VLOOKUP('Match Day'!$B$16,ResultsF!$AF$74:$AG$81,2,FALSE))","v":0},{"$f":"IF(ISERROR(VLOOKUP('Match Day'!$B$16,ResultsF!$AH$74:$AI$81,2,FALSE))=TRUE,0,VLOOKUP('Match Day'!$B$16,ResultsF!$AH$74:$AI$81,2,FALSE))","v":0},{"$f":"IF(ISERROR(VLOOKUP('Match Day'!$B$18,ResultsF!$AF$74:$AG$81,2,FALSE))=TRUE,0,VLOOKUP('Match Day'!$B$18,ResultsF!$AF$74:$AG$81,2,FALSE))","v":0},{"$f":"IF(ISERROR(VLOOKUP('Match Day'!$B$18,ResultsF!$AH$74:$AI$81,2,FALSE))=TRUE,0,VLOOKUP('Match Day'!$B$18,ResultsF!$AH$74:$AI$81,2,FALSE))","v":0},{"$f":"IF(Home!#REF!=\"\",0,ResultsF!$AT$12-AG33)","v":{"$error":"#REF!"}},{"$f":"IF(Home!#REF!=\"\",0,ResultsF!$AU$12-AH33)","v":{"$error":"#REF!"}},{"$error":"#REF!"},{"$error":"#REF!"},null,{"$error":"#REF!"},null,null,null,null,null,null,{"$f":"IF(A33=\"\",\"\",VLOOKUP(A33,ResultsF!$A$4:$AJ$191,36,FALSE))","v":74},81,0,0]
[6,{"$f":"VLOOKUP(A34,Handbook!$A$26:$AK$46,3,FALSE)","v":"Women's 100m Hurdles"},{"$f":"IF(ISERROR(VLOOKUP('Match Day'!$B$4,ResultsF!$AF$84:$AG$91,2,FALSE))=TRUE,0,VLOOKUP('Match Day'!$B$4,ResultsF!$AF$84:$AG$91,2,FALSE))","v":0},{"$f":"IF(ISERROR(VLOOKUP('Match Day'!$B$4,ResultsF!$AH$84:$AI$91,2,FALSE))=TRUE,0,VLOOKUP('Match Day'!$B$4,ResultsF!$AH$84:$AI$91,2,FALSE))","v":0},{"$f":"IF(ISERROR(VLOOKUP('Match Day'!$B$6,ResultsF!$AF$84:$AG$91,2,FALSE))=TRUE,0,VLOOKUP('Match Day'!$B$6,ResultsF!$AF$84:$AG$91,2,FALSE))","v":0},{"$f":"IF(ISERROR(VLOOKUP('Match Day'!$B$6,ResultsF!$AH$84:$AI$91,2,FALSE))=TRUE,0,VLOOKUP('Match Day'!$B$6,ResultsF!$AH$84:$AI$91,2,FALSE))","v":0},{"$f":"IF(ISERROR(VLOOKUP('Match Day'!$B$8,ResultsF!$AF$84:$AG$91,2,FALSE))=TRUE,0,VLOOKUP('Match Day'!$B$8,ResultsF!$AF$84:$AG$91,2,FALSE))","v":0},{"$f":"IF(ISERROR(VLOOKUP('Match Day'!$B$8,ResultsF!$AH$84:$AI$91,2,FALSE))=TRUE,0,VLOOKUP('Match Day'!$B$8,ResultsF!$AH$84:$AI$91,2,FALSE))","v":0},{"$f":"IF(ISERROR(VLOOKUP('Match Day'!$B$10,ResultsF!$AF$84:$AG$91,2,FALSE))=TRUE,0,VLOOKUP('Match Day'!$B$10,ResultsF!$AF$84:$AG$91,2,FALSE))","v":0},{"$f":"IF(ISERROR(VLOOKUP('Match Day'!$B$10,ResultsF!$AH$84:$AI$91,2,FALSE))=TRUE,0,VLOOKUP('Match Day'!$B$10,ResultsF!$AH$84:$AI$91,2,FALSE))","v":0},{"$f":"IF(ISERROR(VLOOKUP('Match Day'!$B$12,ResultsF!$AF$84:$AG$91,2,FALSE))=TRUE,0,VLOOKUP('Match Day'!$B$12,ResultsF!$AF$84:$AG$91,2,FALSE))","v":0},{"$f":"IF(ISERROR(VLOOKUP('Match Day'!$B$12,ResultsF!$AH$84:$AI$91,2,FALSE))=TRUE,0,VLOOKUP('Match Day'!$B$12,ResultsF!$AH$84:$AI$91,2,FALSE))","v":0},{"$f":"IF(ISERROR(VLOOKUP('Match Day'!$B$14,ResultsF!$AF$84:$AG$91,2,FALSE))=TRUE,0,VLOOKUP('Match Day'!$B$14,ResultsF!$AF$84:$AG$91,2,FALSE))","v":0},{"$f":"IF(ISERROR(VLOOKUP('Match Day'!$B$14,ResultsF!$AH$84:$AI$91,2,FALSE))=TRUE,0,VLOOKUP('Match Day'!$B$14,ResultsF!$AH$84:$AI$91,2,FALSE))","v":0},{"$f":"IF(ISERROR(VLOOKUP('Match Day'!$B$16,ResultsF!$AF$84:$AG$91,2,FALSE))=TRUE,0,VLOOKUP('Match Day'!$B$16,ResultsF!$AF$84:$AG$91,2,FALSE))","v":0},{"$f":"IF(ISERROR(VLOOKUP('Match Day'!$B$16,ResultsF!$AH$84:$AI$91,2,FALSE))=TRUE,0,VLOOKUP('Match Day'!$B$16,ResultsF!$AH$84:$AI$91,2,FALSE))","v":0},{"$f":"IF(ISERROR(VLOOKUP('Match Day'!$B$18,ResultsF!$AF$84:$AG$91,2,FALSE))=TRUE,0,VLOOKUP('Match Day'!$B$18,ResultsF!$AF$84:$AG$91,2,FALSE))","v":0},{"$f":"IF(ISERROR(VLOOKUP('Match Day'!$B$18,ResultsF!$AH$84:$AI$91,2,FALSE))=TRUE,0,VLOOKUP('Match Day'!$B$18,ResultsF!$AH$84:$AI$91,2,FALSE))","v":0},{"$f":"IF(Home!#REF!=\"\",0,ResultsF!$AT$12-AG34)","v":{"$error":"#REF!"}},{"$f":"IF(Home!#REF!=\"\",0,ResultsF!$AU$12-AH34)","v":{"$error":"#REF!"}},{"$error":"#REF!"},{"$error":"#REF!"},null,{"$error":"#REF!"},null,null,null,null,null,null,{"$f":"IF(A34=\"\",\"\",VLOOKUP(A34,ResultsF!$A$4:$AJ$191,36,FALSE))","v":84},91,0,0]
[{"$f":"ResultsF!A$94","v":11},{"$f":"VLOOKUP(A35,Handbook!$A$26:$AK$46,3,FALSE)","v":"Women's Hammer"},{"$f":"IF(ISERROR(VLOOKUP('Match Day'!$B$4,ResultsF!$AF$94:$AG$101,2,FALSE))=TRUE,0,VLOOKUP('Match Day'!$B$4,ResultsF!$AF$94:$AG$101,2,FALSE))","v":0},{"$f":"IF(ISERROR(VLOOKUP('Match Day'!$B$4,ResultsF!$AH$94:$AI$101,2,FALSE))=TRUE,0,VLOOKUP('Match Day'!$B$4,ResultsF!$AH$94:$AI$101,2,FALSE))","v":0},{"$f":"IF(ISERROR(VLOOKUP('Match Day'!$B$6,ResultsF!$AF$94:$AG$101,2,FALSE))=TRUE,0,VLOOKUP('Match Day'!$B$6,ResultsF!$AF$94:$AG$101,2,FALSE))","v":0},{"$f":"IF(ISERROR(VLOOKUP('Match Day'!$B$6,ResultsF!$AH$94:$AI$101,2,FALSE))=TRUE,0,VLOOKUP('Match Day'!$B$6,ResultsF!$AH$94:$AI$101,2,FALSE))","v":0},{"$f":"IF(ISERROR(VLOOKUP('Match Day'!$B$8,ResultsF!$AF$94:$AG$101,2,FALSE))=TRUE,0,VLOOKUP('Match Day'!$B$8,ResultsF!$AF$94:$AG$101,2,FALSE))","v":0},{"$f":"IF(ISERROR(VLOOKUP('Match Day'!$B$8,ResultsF!$AH$94:$AI$101,2,FALSE))=TRUE,0,VLOOKUP('Match Day'!$B$8,ResultsF!$AH$94:$AI$101,2,FALSE))","v":0},{"$f":"IF(ISERROR(VLOOKUP('Match Day'!$B$10,ResultsF!$AF$94:$AG$101,2,FALSE))=TRUE,0,VLOOKUP('Match Day'!$B$10,ResultsF!$AF$94:$AG$101,2,FALSE))","v":0},{"$f":"IF(ISERROR(VLOOKUP('Match Day'!$B$10,ResultsF!$AH$94:$AI$101,2,FALSE))=TRUE,0,VLOOKUP('Match Day'!$B$10,ResultsF!$AH$94:$AI$101,2,FALSE))","v":0},{"$f":"IF(ISERROR(VLOOKUP('Match Day'!$B$12,ResultsF!$AF$94:$AG$101,2,FALSE))=TRUE,0,VLOOKUP('Match Day'!$B$12,ResultsF!$AF$94:$AG$101,2,FALSE))","v":0},{"$f":"IF(ISERROR(VLOOKUP('Match Day'!$B$12,ResultsF!$AH$94:$AI$101,2,FALSE))=TRUE,0,VLOOKUP('Match Day'!$B$12,ResultsF!$AH$94:$AI$101,2,FALSE))","v":0},{"$f":"IF(ISERROR(VLOOKUP('Match Day'!$B$14,ResultsF!$AF$94:$AG$101,2,FALSE))=TRUE,0,VLOOKUP('Match Day'!$B$14,ResultsF!$AF$94:$AG$101,2,FALSE))","v":0},{"$f":"IF(ISERROR(VLOOKUP('Match Day'!$B$14,ResultsF!$AH$94:$AI$101,2,FALSE))=TRUE,0,VLOOKUP('Match Day'!$B$14,ResultsF!$AH$94:$AI$101,2,FALSE))","v":0},{"$f":"IF(ISERROR(VLOOKUP('Match Day'!$B$16,ResultsF!$AF$94:$AG$101,2,FALSE))=TRUE,0,VLOOKUP('Match Day'!$B$16,ResultsF!$AF$94:$AG$101,2,FALSE))","v":0},{"$f":"IF(ISERROR(VLOOKUP('Match Day'!$B$16,ResultsF!$AH$94:$AI$101,2,FALSE))=TRUE,0,VLOOKUP('Match Day'!$B$16,ResultsF!$AH$94:$AI$101,2,FALSE))","v":0},{"$f":"IF(ISERROR(VLOOKUP('Match Day'!$B$18,ResultsF!$AF$94:$AG$101,2,FALSE))=TRUE,0,VLOOKUP('Match Day'!$B$18,ResultsF!$AF$94:$AG$101,2,FALSE))","v":0},{"$f":"IF(ISERROR(VLOOKUP('Match Day'!$B$18,ResultsF!$AH$94:$AI$101,2,FALSE))=TRUE,0,VLOOKUP('Match Day'!$B$18,ResultsF!$AH$94:$AI$101,2,FALSE))","v":0},{"$f":"IF(Home!#REF!=\"\",0,ResultsF!$AT$12-AG35)","v":{"$error":"#REF!"}},{"$f":"IF(Home!#REF!=\"\",0,ResultsF!$AU$12-AH35)","v":{"$error":"#REF!"}},{"$error":"#REF!"},{"$error":"#REF!"},null,{"$error":"#REF!"},null,null,null,null,null,null,{"$f":"IF(A35=\"\",\"\",VLOOKUP(A35,ResultsF!$A$4:$AJ$191,36,FALSE))","v":94},101,0,0]
[{"$f":"ResultsF!A$104","v":15},{"$f":"VLOOKUP(A36,Handbook!$A$26:$AK$46,3,FALSE)","v":"Women's Discus"},{"$f":"IF(ISERROR(VLOOKUP('Match Day'!$B$4,ResultsF!$AF$104:$AG$111,2,FALSE))=TRUE,0,VLOOKUP('Match Day'!$B$4,ResultsF!$AF$104:$AG$111,2,FALSE))","v":0},{"$f":"IF(ISERROR(VLOOKUP('Match Day'!$B$4,ResultsF!$AH$104:$AI$111,2,FALSE))=TRUE,0,VLOOKUP('Match Day'!$B$4,ResultsF!$AH$104:$AI$111,2,FALSE))","v":0},{"$f":"IF(ISERROR(VLOOKUP('Match Day'!$B$6,ResultsF!$AF$104:$AG$111,2,FALSE))=TRUE,0,VLOOKUP('Match Day'!$B$6,ResultsF!$AF$104:$AG$111,2,FALSE))","v":0},{"$f":"IF(ISERROR(VLOOKUP('Match Day'!$B$6,ResultsF!$AH$104:$AI$111,2,FALSE))=TRUE,0,VLOOKUP('Match Day'!$B$6,ResultsF!$AH$104:$AI$111,2,FALSE))","v":0},{"$f":"IF(ISERROR(VLOOKUP('Match Day'!$B$8,ResultsF!$AF$104:$AG$111,2,FALSE))=TRUE,0,VLOOKUP('Match Day'!$B$8,ResultsF!$AF$104:$AG$111,2,FALSE))","v":0},{"$f":"IF(ISERROR(VLOOKUP('Match Day'!$B$8,ResultsF!$AH$104:$AI$111,2,FALSE))=TRUE,0,VLOOKUP('Match Day'!$B$8,ResultsF!$AH$104:$AI$111,2,FALSE))","v":0},{"$f":"IF(ISERROR(VLOOKUP('Match Day'!$B$10,ResultsF!$AF$104:$AG$111,2,FALSE))=TRUE,0,VLOOKUP('Match Day'!$B$10,ResultsF!$AF$104:$AG$111,2,FALSE))","v":0},{"$f":"IF(ISERROR(VLOOKUP('Match Day'!$B$10,ResultsF!$AH$104:$AI$111,2,FALSE))=TRUE,0,VLOOKUP('Match Day'!$B$10,ResultsF!$AH$104:$AI$111,2,FALSE))","v":0},{"$f":"IF(ISERROR(VLOOKUP('Match Day'!$B$12,ResultsF!$AF$104:$AG$111,2,FALSE))=TRUE,0,VLOOKUP('Match Day'!$B$12,ResultsF!$AF$104:$AG$111,2,FALSE))","v":0},{"$f":"IF(ISERROR(VLOOKUP('Match Day'!$B$12,ResultsF!$AH$104:$AI$111,2,FALSE))=TRUE,0,VLOOKUP('Match Day'!$B$12,ResultsF!$AH$104:$AI$111,2,FALSE))","v":0},{"$f":"IF(ISERROR(VLOOKUP('Match Day'!$B$14,ResultsF!$AF$104:$AG$111,2,FALSE))=TRUE,0,VLOOKUP('Match Day'!$B$14,ResultsF!$AF$104:$AG$111,2,FALSE))","v":0},{"$f":"IF(ISERROR(VLOOKUP('Match Day'!$B$14,ResultsF!$AH$104:$AI$111,2,FALSE))=TRUE,0,VLOOKUP('Match Day'!$B$14,ResultsF!$AH$104:$AI$111,2,FALSE))","v":0},{"$f":"IF(ISERROR(VLOOKUP('Match Day'!$B$16,ResultsF!$AF$104:$AG$111,2,FALSE))=TRUE,0,VLOOKUP('Match Day'!$B$16,ResultsF!$AF$104:$AG$111,2,FALSE))","v":0},{"$f":"IF(ISERROR(VLOOKUP('Match Day'!$B$16,ResultsF!$AH$104:$AI$111,2,FALSE))=TRUE,0,VLOOKUP('Match Day'!$B$16,ResultsF!$AH$104:$AI$111,2,FALSE))","v":0},{"$f":"IF(ISERROR(VLOOKUP('Match Day'!$B$18,ResultsF!$AF$104:$AG$111,2,FALSE))=TRUE,0,VLOOKUP('Match Day'!$B$18,ResultsF!$AF$104:$AG$111,2,FALSE))","v":0},{"$f":"IF(ISERROR(VLOOKUP('Match Day'!$B$18,ResultsF!$AH$104:$AI$111,2,FALSE))=TRUE,0,VLOOKUP('Match Day'!$B$18,ResultsF!$AH$104:$AI$111,2,FALSE))","v":0},{"$f":"IF(Home!#REF!=\"\",0,ResultsF!$AT$12-AG36)","v":{"$error":"#REF!"}},{"$f":"IF(Home!#REF!=\"\",0,ResultsF!$AU$12-AH36)","v":{"$error":"#REF!"}},{"$error":"#REF!"},{"$error":"#REF!"},null,{"$error":"#REF!"},null,null,null,null,null,null,{"$f":"IF(A36=\"\",\"\",VLOOKUP(A36,ResultsF!$A$4:$AJ$191,36,FALSE))","v":104},111,0,0]
[{"$f":"ResultsF!A$114","v":18},{"$f":"VLOOKUP(A37,Handbook!$A$26:$AK$46,3,FALSE)","v":"Women's Javelin"},{"$f":"IF(ISERROR(VLOOKUP('Match Day'!$B$4,ResultsF!$AF$114:$AG$121,2,FALSE))=TRUE,0,VLOOKUP('Match Day'!$B$4,ResultsF!$AF$114:$AG$121,2,FALSE))","v":0},{"$f":"IF(ISERROR(VLOOKUP('Match Day'!$B$4,ResultsF!$AH$114:$AI$121,2,FALSE))=TRUE,0,VLOOKUP('Match Day'!$B$4,ResultsF!$AH$114:$AI$121,2,FALSE))","v":0},{"$f":"IF(ISERROR(VLOOKUP('Match Day'!$B$6,ResultsF!$AF$114:$AG$121,2,FALSE))=TRUE,0,VLOOKUP('Match Day'!$B$6,ResultsF!$AF$114:$AG$121,2,FALSE))","v":0},{"$f":"IF(ISERROR(VLOOKUP('Match Day'!$B$6,ResultsF!$AH$114:$AI$121,2,FALSE))=TRUE,0,VLOOKUP('Match Day'!$B$6,ResultsF!$AH$114:$AI$121,2,FALSE))","v":0},{"$f":"IF(ISERROR(VLOOKUP('Match Day'!$B$8,ResultsF!$AF$114:$AG$121,2,FALSE))=TRUE,0,VLOOKUP('Match Day'!$B$8,ResultsF!$AF$114:$AG$121,2,FALSE))","v":0},{"$f":"IF(ISERROR(VLOOKUP('Match Day'!$B$8,ResultsF!$AH$114:$AI$121,2,FALSE))=TRUE,0,VLOOKUP('Match Day'!$B$8,ResultsF!$AH$114:$AI$121,2,FALSE))","v":0},{"$f":"IF(ISERROR(VLOOKUP('Match Day'!$B$10,ResultsF!$AF$114:$AG$121,2,FALSE))=TRUE,0,VLOOKUP('Match Day'!$B$10,ResultsF!$AF$114:$AG$121,2,FALSE))","v":0},{"$f":"IF(ISERROR(VLOOKUP('Match Day'!$B$10,ResultsF!$AH$114:$AI$121,2,FALSE))=TRUE,0,VLOOKUP('Match Day'!$B$10,ResultsF!$AH$114:$AI$121,2,FALSE))","v":0},{"$f":"IF(ISERROR(VLOOKUP('Match Day'!$B$12,ResultsF!$AF$114:$AG$121,2,FALSE))=TRUE,0,VLOOKUP('Match Day'!$B$12,ResultsF!$AF$114:$AG$121,2,FALSE))","v":0},{"$f":"IF(ISERROR(VLOOKUP('Match Day'!$B$12,ResultsF!$AH$114:$AI$121,2,FALSE))=TRUE,0,VLOOKUP('Match Day'!$B$12,ResultsF!$AH$114:$AI$121,2,FALSE))","v":0},{"$f":"IF(ISERROR(VLOOKUP('Match Day'!$B$14,ResultsF!$AF$114:$AG$121,2,FALSE))=TRUE,0,VLOOKUP('Match Day'!$B$14,ResultsF!$AF$114:$AG$121,2,FALSE))","v":0},{"$f":"IF(ISERROR(VLOOKUP('Match Day'!$B$14,ResultsF!$AH$114:$AI$121,2,FALSE))=TRUE,0,VLOOKUP('Match Day'!$B$14,ResultsF!$AH$114:$AI$121,2,FALSE))","v":0},{"$f":"IF(ISERROR(VLOOKUP('Match Day'!$B$16,ResultsF!$AF$114:$AG$121,2,FALSE))=TRUE,0,VLOOKUP('Match Day'!$B$16,ResultsF!$AF$114:$AG$121,2,FALSE))","v":0},{"$f":"IF(ISERROR(VLOOKUP('Match Day'!$B$16,ResultsF!$AH$114:$AI$121,2,FALSE))=TRUE,0,VLOOKUP('Match Day'!$B$16,ResultsF!$AH$114:$AI$121,2,FALSE))","v":0},{"$f":"IF(ISERROR(VLOOKUP('Match Day'!$B$18,ResultsF!$AF$114:$AG$121,2,FALSE))=TRUE,0,VLOOKUP('Match Day'!$B$18,ResultsF!$AF$114:$AG$121,2,FALSE))","v":0},{"$f":"IF(ISERROR(VLOOKUP('Match Day'!$B$18,ResultsF!$AH$114:$AI$121,2,FALSE))=TRUE,0,VLOOKUP('Match Day'!$B$18,ResultsF!$AH$114:$AI$121,2,FALSE))","v":0},{"$f":"IF(Home!#REF!=\"\",0,ResultsF!$AT$12-AG37)","v":{"$error":"#REF!"}},{"$f":"IF(Home!#REF!=\"\",0,ResultsF!$AU$12-AH37)","v":{"$error":"#REF!"}},{"$error":"#REF!"},{"$error":"#REF!"},null,{"$error":"#REF!"},null,null,null,null,null,null,{"$f":"IF(A37=\"\",\"\",VLOOKUP(A37,ResultsF!$A$4:$AJ$191,36,FALSE))","v":114},121,0,0]
[{"$f":"ResultsF!A$124","v":17},{"$f":"VLOOKUP(A38,Handbook!$A$26:$AK$46,3,FALSE)","v":"Women's Shot Putt"},{"$f":"IF(ISERROR(VLOOKUP('Match Day'!$B$4,ResultsF!$AF$124:$AG$131,2,FALSE))=TRUE,0,VLOOKUP('Match Day'!$B$4,ResultsF!$AF$124:$AG$131,2,FALSE))","v":0},{"$f":"IF(ISERROR(VLOOKUP('Match Day'!$B$4,ResultsF!$AH$124:$AI$131,2,FALSE))=TRUE,0,VLOOKUP('Match Day'!$B$4,ResultsF!$AH$124:$AI$131,2,FALSE))","v":0},{"$f":"IF(ISERROR(VLOOKUP('Match Day'!$B$6,ResultsF!$AF$124:$AG$131,2,FALSE))=TRUE,0,VLOOKUP('Match Day'!$B$6,ResultsF!$AF$124:$AG$131,2,FALSE))","v":0},{"$f":"IF(ISERROR(VLOOKUP('Match Day'!$B$6,ResultsF!$AH$124:$AI$131,2,FALSE))=TRUE,0,VLOOKUP('Match Day'!$B$6,ResultsF!$AH$124:$AI$131,2,FALSE))","v":0},{"$f":"IF(ISERROR(VLOOKUP('Match Day'!$B$8,ResultsF!$AF$124:$AG$131,2,FALSE))=TRUE,0,VLOOKUP('Match Day'!$B$8,ResultsF!$AF$124:$AG$131,2,FALSE))","v":0},{"$f":"IF(ISERROR(VLOOKUP('Match Day'!$B$8,ResultsF!$AH$124:$AI$131,2,FALSE))=TRUE,0,VLOOKUP('Match Day'!$B$8,ResultsF!$AH$124:$AI$131,2,FALSE))","v":0},{"$f":"IF(ISERROR(VLOOKUP('Match Day'!$B$10,ResultsF!$AF$124:$AG$131,2,FALSE))=TRUE,0,VLOOKUP('Match Day'!$B$10,ResultsF!$AF$124:$AG$131,2,FALSE))","v":0},{"$f":"IF(ISERROR(VLOOKUP('Match Day'!$B$10,ResultsF!$AH$124:$AI$131,2,FALSE))=TRUE,0,VLOOKUP('Match Day'!$B$10,ResultsF!$AH$124:$AI$131,2,FALSE))","v":0},{"$f":"IF(ISERROR(VLOOKUP('Match Day'!$B$12,ResultsF!$AF$124:$AG$131,2,FALSE))=TRUE,0,VLOOKUP('Match Day'!$B$12,ResultsF!$AF$124:$AG$131,2,FALSE))","v":0},{"$f":"IF(ISERROR(VLOOKUP('Match Day'!$B$12,ResultsF!$AH$124:$AI$131,2,FALSE))=TRUE,0,VLOOKUP('Match Day'!$B$12,ResultsF!$AH$124:$AI$131,2,FALSE))","v":0},{"$f":"IF(ISERROR(VLOOKUP('Match Day'!$B$14,ResultsF!$AF$124:$AG$131,2,FALSE))=TRUE,0,VLOOKUP('Match Day'!$B$14,ResultsF!$AF$124:$AG$131,2,FALSE))","v":0},{"$f":"IF(ISERROR(VLOOKUP('Match Day'!$B$14,ResultsF!$AH$124:$AI$131,2,FALSE))=TRUE,0,VLOOKUP('Match Day'!$B$14,ResultsF!$AH$124:$AI$131,2,FALSE))","v":0},{"$f":"IF(ISERROR(VLOOKUP('Match Day'!$B$16,ResultsF!$AF$124:$AG$131,2,FALSE))=TRUE,0,VLOOKUP('Match Day'!$B$16,ResultsF!$AF$124:$AG$131,2,FALSE))","v":0},{"$f":"IF(ISERROR(VLOOKUP('Match Day'!$B$16,ResultsF!$AH$124:$AI$131,2,FALSE))=TRUE,0,VLOOKUP('Match Day'!$B$16,ResultsF!$AH$124:$AI$131,2,FALSE))","v":0},{"$f":"IF(ISERROR(VLOOKUP('Match Day'!$B$18,ResultsF!$AF$124:$AG$131,2,FALSE))=TRUE,0,VLOOKUP('Match Day'!$B$18,ResultsF!$AF$124:$AG$131,2,FALSE))","v":0},{"$f":"IF(ISERROR(VLOOKUP('Match Day'!$B$18,ResultsF!$AH$124:$AI$131,2,FALSE))=TRUE,0,VLOOKUP('Match Day'!$B$18,ResultsF!$AH$124:$AI$131,2,FALSE))","v":0},{"$f":"IF(Home!#REF!=\"\",0,ResultsF!$AT$12-AG38)","v":{"$error":"#REF!"}},{"$f":"IF(Home!#REF!=\"\",0,ResultsF!$AU$12-AH38)","v":{"$error":"#REF!"}},{"$error":"#REF!"},{"$error":"#REF!"},null,{"$error":"#REF!"},null,null,null,null,null,null,{"$f":"IF(A38=\"\",\"\",VLOOKUP(A38,ResultsF!$A$4:$AJ$191,36,FALSE))","v":124},131,0,0]
[{"$f":"ResultsF!A$134","v":13},{"$f":"VLOOKUP(A39,Handbook!$A$26:$AK$46,3,FALSE)","v":"Women's Long Jump"},{"$f":"IF(ISERROR(VLOOKUP('Match Day'!$B$4,ResultsF!$AF$134:$AG$141,2,FALSE))=TRUE,0,VLOOKUP('Match Day'!$B$4,ResultsF!$AF$134:$AG$141,2,FALSE))","v":0},{"$f":"IF(ISERROR(VLOOKUP('Match Day'!$B$4,ResultsF!$AH$134:$AI$141,2,FALSE))=TRUE,0,VLOOKUP('Match Day'!$B$4,ResultsF!$AH$134:$AI$141,2,FALSE))","v":0},{"$f":"IF(ISERROR(VLOOKUP('Match Day'!$B$6,ResultsF!$AF$134:$AG$141,2,FALSE))=TRUE,0,VLOOKUP('Match Day'!$B$6,ResultsF!$AF$134:$AG$141,2,FALSE))","v":0},{"$f":"IF(ISERROR(VLOOKUP('Match Day'!$B$6,ResultsF!$AH$134:$AI$141,2,FALSE))=TRUE,0,VLOOKUP('Match Day'!$B$6,ResultsF!$AH$134:$AI$141,2,FALSE))","v":0},{"$f":"IF(ISERROR(VLOOKUP('Match Day'!$B$8,ResultsF!$AF$134:$AG$141,2,FALSE))=TRUE,0,VLOOKUP('Match Day'!$B$8,ResultsF!$AF$134:$AG$141,2,FALSE))","v":0},{"$f":"IF(ISERROR(VLOOKUP('Match Day'!$B$8,ResultsF!$AH$134:$AI$141,2,FALSE))=TRUE,0,VLOOKUP('Match Day'!$B$8,ResultsF!$AH$134:$AI$141,2,FALSE))","v":0},{"$f":"IF(ISERROR(VLOOKUP('Match Day'!$B$10,ResultsF!$AF$134:$AG$141,2,FALSE))=TRUE,0,VLOOKUP('Match Day'!$B$10,ResultsF!$AF$134:$AG$141,2,FALSE))","v":0},{"$f":"IF(ISERROR(VLOOKUP('Match Day'!$B$10,ResultsF!$AH$134:$AI$141,2,FALSE))=TRUE,0,VLOOKUP('Match Day'!$B$10,ResultsF!$AH$134:$AI$141,2,FALSE))","v":0},{"$f":"IF(ISERROR(VLOOKUP('Match Day'!$B$12,ResultsF!$AF$134:$AG$141,2,FALSE))=TRUE,0,VLOOKUP('Match Day'!$B$12,ResultsF!$AF$134:$AG$141,2,FALSE))","v":0},{"$f":"IF(ISERROR(VLOOKUP('Match Day'!$B$12,ResultsF!$AH$134:$AI$141,2,FALSE))=TRUE,0,VLOOKUP('Match Day'!$B$12,ResultsF!$AH$134:$AI$141,2,FALSE))","v":0},{"$f":"IF(ISERROR(VLOOKUP('Match Day'!$B$14,ResultsF!$AF$134:$AG$141,2,FALSE))=TRUE,0,VLOOKUP('Match Day'!$B$14,ResultsF!$AF$134:$AG$141,2,FALSE))","v":0},{"$f":"IF(ISERROR(VLOOKUP('Match Day'!$B$14,ResultsF!$AH$134:$AI$141,2,FALSE))=TRUE,0,VLOOKUP('Match Day'!$B$14,ResultsF!$AH$134:$AI$141,2,FALSE))","v":0},{"$f":"IF(ISERROR(VLOOKUP('Match Day'!$B$16,ResultsF!$AF$134:$AG$141,2,FALSE))=TRUE,0,VLOOKUP('Match Day'!$B$16,ResultsF!$AF$134:$AG$141,2,FALSE))","v":0},{"$f":"IF(ISERROR(VLOOKUP('Match Day'!$B$16,ResultsF!$AH$134:$AI$141,2,FALSE))=TRUE,0,VLOOKUP('Match Day'!$B$16,ResultsF!$AH$134:$AI$141,2,FALSE))","v":0},{"$f":"IF(ISERROR(VLOOKUP('Match Day'!$B$18,ResultsF!$AF$134:$AG$141,2,FALSE))=TRUE,0,VLOOKUP('Match Day'!$B$18,ResultsF!$AF$134:$AG$141,2,FALSE))","v":0},{"$f":"IF(ISERROR(VLOOKUP('Match Day'!$B$18,ResultsF!$AH$134:$AI$141,2,FALSE))=TRUE,0,VLOOKUP('Match Day'!$B$18,ResultsF!$AH$134:$AI$141,2,FALSE))","v":0},{"$f":"IF(Home!#REF!=\"\",0,ResultsF!$AT$12-AG39)","v":{"$error":"#REF!"}},{"$f":"IF(Home!#REF!=\"\",0,ResultsF!$AU$12-AH39)","v":{"$error":"#REF!"}},{"$error":"#REF!"},{"$error":"#REF!"},null,{"$error":"#REF!"},null,null,null,null,null,null,{"$f":"IF(A39=\"\",\"\",VLOOKUP(A39,ResultsF!$A$4:$AJ$191,36,FALSE))","v":134},141,0,0]
[{"$f":"ResultsF!A$144","v":16},{"$f":"VLOOKUP(A40,Handbook!$A$26:$AK$46,3,FALSE)","v":"Women's Triple Jump"},{"$f":"IF(ISERROR(VLOOKUP('Match Day'!$B$4,ResultsF!$AF$144:$AG$151,2,FALSE))=TRUE,0,VLOOKUP('Match Day'!$B$4,ResultsF!$AF$144:$AG$151,2,FALSE))","v":0},{"$f":"IF(ISERROR(VLOOKUP('Match Day'!$B$4,ResultsF!$AH$144:$AI$151,2,FALSE))=TRUE,0,VLOOKUP('Match Day'!$B$4,ResultsF!$AH$144:$AI$151,2,FALSE))","v":0},{"$f":"IF(ISERROR(VLOOKUP('Match Day'!$B$6,ResultsF!$AF$144:$AG$151,2,FALSE))=TRUE,0,VLOOKUP('Match Day'!$B$6,ResultsF!$AF$144:$AG$151,2,FALSE))","v":0},{"$f":"IF(ISERROR(VLOOKUP('Match Day'!$B$6,ResultsF!$AH$144:$AI$151,2,FALSE))=TRUE,0,VLOOKUP('Match Day'!$B$6,ResultsF!$AH$144:$AI$151,2,FALSE))","v":0},{"$f":"IF(ISERROR(VLOOKUP('Match Day'!$B$8,ResultsF!$AF$144:$AG$151,2,FALSE))=TRUE,0,VLOOKUP('Match Day'!$B$8,ResultsF!$AF$144:$AG$151,2,FALSE))","v":0},{"$f":"IF(ISERROR(VLOOKUP('Match Day'!$B$8,ResultsF!$AH$144:$AI$151,2,FALSE))=TRUE,0,VLOOKUP('Match Day'!$B$8,ResultsF!$AH$144:$AI$151,2,FALSE))","v":0},{"$f":"IF(ISERROR(VLOOKUP('Match Day'!$B$10,ResultsF!$AF$144:$AG$151,2,FALSE))=TRUE,0,VLOOKUP('Match Day'!$B$10,ResultsF!$AF$144:$AG$151,2,FALSE))","v":0},{"$f":"IF(ISERROR(VLOOKUP('Match Day'!$B$10,ResultsF!$AH$144:$AI$151,2,FALSE))=TRUE,0,VLOOKUP('Match Day'!$B$10,ResultsF!$AH$144:$AI$151,2,FALSE))","v":0},{"$f":"IF(ISERROR(VLOOKUP('Match Day'!$B$12,ResultsF!$AF$144:$AG$151,2,FALSE))=TRUE,0,VLOOKUP('Match Day'!$B$12,ResultsF!$AF$144:$AG$151,2,FALSE))","v":0},{"$f":"IF(ISERROR(VLOOKUP('Match Day'!$B$12,ResultsF!$AH$144:$AI$151,2,FALSE))=TRUE,0,VLOOKUP('Match Day'!$B$12,ResultsF!$AH$144:$AI$151,2,FALSE))","v":0},{"$f":"IF(ISERROR(VLOOKUP('Match Day'!$B$14,ResultsF!$AF$144:$AG$151,2,FALSE))=TRUE,0,VLOOKUP('Match Day'!$B$14,ResultsF!$AF$144:$AG$151,2,FALSE))","v":0},{"$f":"IF(ISERROR(VLOOKUP('Match Day'!$B$14,ResultsF!$AH$144:$AI$151,2,FALSE))=TRUE,0,VLOOKUP('Match Day'!$B$14,ResultsF!$AH$144:$AI$151,2,FALSE))","v":0},{"$f":"IF(ISERROR(VLOOKUP('Match Day'!$B$16,ResultsF!$AF$144:$AG$151,2,FALSE))=TRUE,0,VLOOKUP('Match Day'!$B$16,ResultsF!$AF$144:$AG$151,2,FALSE))","v":0},{"$f":"IF(ISERROR(VLOOKUP('Match Day'!$B$16,ResultsF!$AH$144:$AI$151,2,FALSE))=TRUE,0,VLOOKUP('Match Day'!$B$16,ResultsF!$AH$144:$AI$151,2,FALSE))","v":0},{"$f":"IF(ISERROR(VLOOKUP('Match Day'!$B$18,ResultsF!$AF$144:$AG$151,2,FALSE))=TRUE,0,VLOOKUP('Match Day'!$B$18,ResultsF!$AF$144:$AG$151,2,FALSE))","v":0},{"$f":"IF(ISERROR(VLOOKUP('Match Day'!$B$18,ResultsF!$AH$144:$AI$151,2,FALSE))=TRUE,0,VLOOKUP('Match Day'!$B$18,ResultsF!$AH$144:$AI$151,2,FALSE))","v":0},{"$f":"IF(Home!#REF!=\"\",0,ResultsF!$AT$12-AG40)","v":{"$error":"#REF!"}},{"$f":"IF(Home!#REF!=\"\",0,ResultsF!$AU$12-AH40)","v":{"$error":"#REF!"}},{"$error":"#REF!"},{"$error":"#REF!"},null,{"$error":"#REF!"},null,null,null,null,null,null,{"$f":"IF(A40=\"\",\"\",VLOOKUP(A40,ResultsF!$A$4:$AJ$191,36,FALSE))","v":144},151,0,0]
[{"$f":"ResultsF!A$154","v":14},{"$f":"VLOOKUP(A41,Handbook!$A$26:$AK$46,3,FALSE)","v":"Women's High Jump"},{"$f":"IF(ISERROR(VLOOKUP('Match Day'!$B$4,ResultsF!$AF$154:$AG$161,2,FALSE))=TRUE,0,VLOOKUP('Match Day'!$B$4,ResultsF!$AF$154:$AG$161,2,FALSE))","v":0},{"$f":"IF(ISERROR(VLOOKUP('Match Day'!$B$4,ResultsF!$AH$154:$AI$161,2,FALSE))=TRUE,0,VLOOKUP('Match Day'!$B$4,ResultsF!$AH$154:$AI$161,2,FALSE))","v":0},{"$f":"IF(ISERROR(VLOOKUP('Match Day'!$B$6,ResultsF!$AF$154:$AG$161,2,FALSE))=TRUE,0,VLOOKUP('Match Day'!$B$6,ResultsF!$AF$154:$AG$161,2,FALSE))","v":0},{"$f":"IF(ISERROR(VLOOKUP('Match Day'!$B$6,ResultsF!$AH$154:$AI$161,2,FALSE))=TRUE,0,VLOOKUP('Match Day'!$B$6,ResultsF!$AH$154:$AI$161,2,FALSE))","v":0},{"$f":"IF(ISERROR(VLOOKUP('Match Day'!$B$8,ResultsF!$AF$154:$AG$161,2,FALSE))=TRUE,0,VLOOKUP('Match Day'!$B$8,ResultsF!$AF$154:$AG$161,2,FALSE))","v":0},{"$f":"IF(ISERROR(VLOOKUP('Match Day'!$B$8,ResultsF!$AH$154:$AI$161,2,FALSE))=TRUE,0,VLOOKUP('Match Day'!$B$8,ResultsF!$AH$154:$AI$161,2,FALSE))","v":0},{"$f":"IF(ISERROR(VLOOKUP('Match Day'!$B$10,ResultsF!$AF$154:$AG$161,2,FALSE))=TRUE,0,VLOOKUP('Match Day'!$B$10,ResultsF!$AF$154:$AG$161,2,FALSE))","v":0},{"$f":"IF(ISERROR(VLOOKUP('Match Day'!$B$10,ResultsF!$AH$154:$AI$161,2,FALSE))=TRUE,0,VLOOKUP('Match Day'!$B$10,ResultsF!$AH$154:$AI$161,2,FALSE))","v":0},{"$f":"IF(ISERROR(VLOOKUP('Match Day'!$B$12,ResultsF!$AF$154:$AG$161,2,FALSE))=TRUE,0,VLOOKUP('Match Day'!$B$12,ResultsF!$AF$154:$AG$161,2,FALSE))","v":0},{"$f":"IF(ISERROR(VLOOKUP('Match Day'!$B$12,ResultsF!$AH$154:$AI$161,2,FALSE))=TRUE,0,VLOOKUP('Match Day'!$B$12,ResultsF!$AH$154:$AI$161,2,FALSE))","v":0},{"$f":"IF(ISERROR(VLOOKUP('Match Day'!$B$14,ResultsF!$AF$154:$AG$161,2,FALSE))=TRUE,0,VLOOKUP('Match Day'!$B$14,ResultsF!$AF$154:$AG$161,2,FALSE))","v":0},{"$f":"IF(ISERROR(VLOOKUP('Match Day'!$B$14,ResultsF!$AH$154:$AI$161,2,FALSE))=TRUE,0,VLOOKUP('Match Day'!$B$14,ResultsF!$AH$154:$AI$161,2,FALSE))","v":0},{"$f":"IF(ISERROR(VLOOKUP('Match Day'!$B$16,ResultsF!$AF$154:$AG$161,2,FALSE))=TRUE,0,VLOOKUP('Match Day'!$B$16,ResultsF!$AF$154:$AG$161,2,FALSE))","v":0},{"$f":"IF(ISERROR(VLOOKUP('Match Day'!$B$16,ResultsF!$AH$154:$AI$161,2,FALSE))=TRUE,0,VLOOKUP('Match Day'!$B$16,ResultsF!$AH$154:$AI$161,2,FALSE))","v":0},{"$f":"IF(ISERROR(VLOOKUP('Match Day'!$B$18,ResultsF!$AF$154:$AG$161,2,FALSE))=TRUE,0,VLOOKUP('Match Day'!$B$18,ResultsF!$AF$154:$AG$161,2,FALSE))","v":0},{"$f":"IF(ISERROR(VLOOKUP('Match Day'!$B$18,ResultsF!$AH$154:$AI$161,2,FALSE))=TRUE,0,VLOOKUP('Match Day'!$B$18,ResultsF!$AH$154:$AI$161,2,FALSE))","v":0},{"$f":"IF(Home!#REF!=\"\",0,ResultsF!$AT$12-AG41)","v":{"$error":"#REF!"}},{"$f":"IF(Home!#REF!=\"\",0,ResultsF!$AU$12-AH41)","v":{"$error":"#REF!"}},{"$error":"#REF!"},{"$error":"#REF!"},null,{"$error":"#REF!"},null,null,null,null,null,null,{"$f":"IF(A41=\"\",\"\",VLOOKUP(A41,ResultsF!$A$4:$AJ$191,36,FALSE))","v":154},161,0,0]
[{"$f":"ResultsF!A$164","v":12},{"$f":"VLOOKUP(A42,Handbook!$A$26:$AK$46,3,FALSE)","v":"Women's Pole Vault"},{"$f":"IF(ISERROR(VLOOKUP('Match Day'!$B$4,ResultsF!$AF$164:$AG$171,2,FALSE))=TRUE,0,VLOOKUP('Match Day'!$B$4,ResultsF!$AF$164:$AG$171,2,FALSE))","v":0},{"$f":"IF(ISERROR(VLOOKUP('Match Day'!$B$4,ResultsF!$AH$164:$AI$171,2,FALSE))=TRUE,0,VLOOKUP('Match Day'!$B$4,ResultsF!$AH$164:$AI$171,2,FALSE))","v":0},{"$f":"IF(ISERROR(VLOOKUP('Match Day'!$B$6,ResultsF!$AF$164:$AG$171,2,FALSE))=TRUE,0,VLOOKUP('Match Day'!$B$6,ResultsF!$AF$164:$AG$171,2,FALSE))","v":0},{"$f":"IF(ISERROR(VLOOKUP('Match Day'!$B$6,ResultsF!$AH$164:$AI$171,2,FALSE))=TRUE,0,VLOOKUP('Match Day'!$B$6,ResultsF!$AH$164:$AI$171,2,FALSE))","v":0},{"$f":"IF(ISERROR(VLOOKUP('Match Day'!$B$8,ResultsF!$AF$164:$AG$171,2,FALSE))=TRUE,0,VLOOKUP('Match Day'!$B$8,ResultsF!$AF$164:$AG$171,2,FALSE))","v":0},{"$f":"IF(ISERROR(VLOOKUP('Match Day'!$B$8,ResultsF!$AH$164:$AI$171,2,FALSE))=TRUE,0,VLOOKUP('Match Day'!$B$8,ResultsF!$AH$164:$AI$171,2,FALSE))","v":0},{"$f":"IF(ISERROR(VLOOKUP('Match Day'!$B$10,ResultsF!$AF$164:$AG$171,2,FALSE))=TRUE,0,VLOOKUP('Match Day'!$B$10,ResultsF!$AF$164:$AG$171,2,FALSE))","v":0},{"$f":"IF(ISERROR(VLOOKUP('Match Day'!$B$10,ResultsF!$AH$164:$AI$171,2,FALSE))=TRUE,0,VLOOKUP('Match Day'!$B$10,ResultsF!$AH$164:$AI$171,2,FALSE))","v":0},{"$f":"IF(ISERROR(VLOOKUP('Match Day'!$B$12,ResultsF!$AF$164:$AG$171,2,FALSE))=TRUE,0,VLOOKUP('Match Day'!$B$12,ResultsF!$AF$164:$AG$171,2,FALSE))","v":0},{"$f":"IF(ISERROR(VLOOKUP('Match Day'!$B$12,ResultsF!$AH$164:$AI$171,2,FALSE))=TRUE,0,VLOOKUP('Match Day'!$B$12,ResultsF!$AH$164:$AI$171,2,FALSE))","v":0},{"$f":"IF(ISERROR(VLOOKUP('Match Day'!$B$14,ResultsF!$AF$164:$AG$171,2,FALSE))=TRUE,0,VLOOKUP('Match Day'!$B$14,ResultsF!$AF$164:$AG$171,2,FALSE))","v":0},{"$f":"IF(ISERROR(VLOOKUP('Match Day'!$B$14,ResultsF!$AH$164:$AI$171,2,FALSE))=TRUE,0,VLOOKUP('Match Day'!$B$14,ResultsF!$AH$164:$AI$171,2,FALSE))","v":0},{"$f":"IF(ISERROR(VLOOKUP('Match Day'!$B$16,ResultsF!$AF$164:$AG$171,2,FALSE))=TRUE,0,VLOOKUP('Match Day'!$B$16,ResultsF!$AF$164:$AG$171,2,FALSE))","v":0},{"$f":"IF(ISERROR(VLOOKUP('Match Day'!$B$16,ResultsF!$AH$164:$AI$171,2,FALSE))=TRUE,0,VLOOKUP('Match Day'!$B$16,ResultsF!$AH$164:$AI$171,2,FALSE))","v":0},{"$f":"IF(ISERROR(VLOOKUP('Match Day'!$B$18,ResultsF!$AF$164:$AG$171,2,FALSE))=TRUE,0,VLOOKUP('Match Day'!$B$18,ResultsF!$AF$164:$AG$171,2,FALSE))","v":0},{"$f":"IF(ISERROR(VLOOKUP('Match Day'!$B$18,ResultsF!$AH$164:$AI$171,2,FALSE))=TRUE,0,VLOOKUP('Match Day'!$B$18,ResultsF!$AH$164:$AI$171,2,FALSE))","v":0},{"$f":"IF(Home!#REF!=\"\",0,ResultsF!$AT$12-AG42)","v":{"$error":"#REF!"}},{"$f":"IF(Home!#REF!=\"\",0,ResultsF!$AU$12-AH42)","v":{"$error":"#REF!"}},{"$error":"#REF!"},{"$error":"#REF!"},null,{"$error":"#REF!"},null,null,null,null,null,null,{"$f":"IF(A42=\"\",\"\",VLOOKUP(A42,ResultsF!$A$4:$AJ$191,36,FALSE))","v":164},171,0,0]
[{"$f":"ResultsF!A$174","v":9},{"$f":"VLOOKUP(A43,Handbook!$A$26:$AK$46,3,FALSE)","v":"Women's 4x100m Relay"},{"$f":"IF(ISERROR(VLOOKUP('Match Day'!$B$4,ResultsF!$AF$174:$AG$181,2,FALSE))=TRUE,0,VLOOKUP('Match Day'!$B$4,ResultsF!$AF$174:$AG$181,2,FALSE))","v":0},{"$f":"IF(ISERROR(VLOOKUP('Match Day'!$B$4,ResultsF!$AH$174:$AI$181,2,FALSE))=TRUE,0,VLOOKUP('Match Day'!$B$4,ResultsF!$AH$174:$AI$181,2,FALSE))","v":0},{"$f":"IF(ISERROR(VLOOKUP('Match Day'!$B$6,ResultsF!$AF$174:$AG$181,2,FALSE))=TRUE,0,VLOOKUP('Match Day'!$B$6,ResultsF!$AF$174:$AG$181,2,FALSE))","v":0},{"$f":"IF(ISERROR(VLOOKUP('Match Day'!$B$6,ResultsF!$AH$174:$AI$181,2,FALSE))=TRUE,0,VLOOKUP('Match Day'!$B$6,ResultsF!$AH$174:$AI$181,2,FALSE))","v":0},{"$f":"IF(ISERROR(VLOOKUP('Match Day'!$B$8,ResultsF!$AF$174:$AG$181,2,FALSE))=TRUE,0,VLOOKUP('Match Day'!$B$8,ResultsF!$AF$174:$AG$181,2,FALSE))","v":0},{"$f":"IF(ISERROR(VLOOKUP('Match Day'!$B$8,ResultsF!$AH$174:$AI$181,2,FALSE))=TRUE,0,VLOOKUP('Match Day'!$B$8,ResultsF!$AH$174:$AI$181,2,FALSE))","v":0},{"$f":"IF(ISERROR(VLOOKUP('Match Day'!$B$10,ResultsF!$AF$174:$AG$181,2,FALSE))=TRUE,0,VLOOKUP('Match Day'!$B$10,ResultsF!$AF$174:$AG$181,2,FALSE))","v":0},{"$f":"IF(ISERROR(VLOOKUP('Match Day'!$B$10,ResultsF!$AH$174:$AI$181,2,FALSE))=TRUE,0,VLOOKUP('Match Day'!$B$10,ResultsF!$AH$174:$AI$181,2,FALSE))","v":0},{"$f":"IF(ISERROR(VLOOKUP('Match Day'!$B$12,ResultsF!$AF$174:$AG$181,2,FALSE))=TRUE,0,VLOOKUP('Match Day'!$B$12,ResultsF!$AF$174:$AG$181,2,FALSE))","v":0},{"$f":"IF(ISERROR(VLOOKUP('Match Day'!$B$12,ResultsF!$AH$174:$AI$181,2,FALSE))=TRUE,0,VLOOKUP('Match Day'!$B$12,ResultsF!$AH$174:$AI$181,2,FALSE))","v":0},{"$f":"IF(ISERROR(VLOOKUP('Match Day'!$B$14,ResultsF!$AF$174:$AG$181,2,FALSE))=TRUE,0,VLOOKUP('Match Day'!$B$14,ResultsF!$AF$174:$AG$181,2,FALSE))","v":0},{"$f":"IF(ISERROR(VLOOKUP('Match Day'!$B$14,ResultsF!$AH$174:$AI$181,2,FALSE))=TRUE,0,VLOOKUP('Match Day'!$B$14,ResultsF!$AH$174:$AI$181,2,FALSE))","v":0},{"$f":"IF(ISERROR(VLOOKUP('Match Day'!$B$16,ResultsF!$AF$174:$AG$181,2,FALSE))=TRUE,0,VLOOKUP('Match Day'!$B$16,ResultsF!$AF$174:$AG$181,2,FALSE))","v":0},{"$f":"IF(ISERROR(VLOOKUP('Match Day'!$B$16,ResultsF!$AH$174:$AI$181,2,FALSE))=TRUE,0,VLOOKUP('Match Day'!$B$16,ResultsF!$AH$174:$AI$181,2,FALSE))","v":0},{"$f":"IF(ISERROR(VLOOKUP('Match Day'!$B$18,ResultsF!$AF$174:$AG$181,2,FALSE))=TRUE,0,VLOOKUP('Match Day'!$B$18,ResultsF!$AF$174:$AG$181,2,FALSE))","v":0},{"$f":"IF(ISERROR(VLOOKUP('Match Day'!$B$18,ResultsF!$AH$174:$AI$181,2,FALSE))=TRUE,0,VLOOKUP('Match Day'!$B$18,ResultsF!$AH$174:$AI$181,2,FALSE))","v":0},{"$f":"IF(Home!#REF!=\"\",0,ResultsF!$AT$12-AG43)","v":{"$error":"#REF!"}},{"$f":"IF(Home!#REF!=\"\",0,ResultsF!$AU$12-AH43)","v":{"$error":"#REF!"}},{"$error":"#REF!"},{"$error":"#REF!"},null,{"$error":"#REF!"},null,null,null,null,null,null,{"$f":"IF(A43=\"\",\"\",VLOOKUP(A43,ResultsF!$A$4:$AJ$191,36,FALSE))","v":174},181,0,0]
[{"$f":"ResultsF!A$184","v":10},{"$f":"VLOOKUP(A44,Handbook!$A$26:$AK$46,3,FALSE)","v":"Women's 4x400m Relay"},{"$f":"IF(ISERROR(VLOOKUP('Match Day'!$B$4,ResultsF!$AF$184:$AG$191,2,FALSE))=TRUE,0,VLOOKUP('Match Day'!$B$4,ResultsF!$AF$184:$AG$191,2,FALSE))","v":0},{"$f":"IF(ISERROR(VLOOKUP('Match Day'!$B$4,ResultsF!$AH$184:$AI$191,2,FALSE))=TRUE,0,VLOOKUP('Match Day'!$B$4,ResultsF!$AH$184:$AI$191,2,FALSE))","v":0},{"$f":"IF(ISERROR(VLOOKUP('Match Day'!$B$6,ResultsF!$AF$184:$AG$191,2,FALSE))=TRUE,0,VLOOKUP('Match Day'!$B$6,ResultsF!$AF$184:$AG$191,2,FALSE))","v":0},{"$f":"IF(ISERROR(VLOOKUP('Match Day'!$B$6,ResultsF!$AH$184:$AI$191,2,FALSE))=TRUE,0,VLOOKUP('Match Day'!$B$6,ResultsF!$AH$184:$AI$191,2,FALSE))","v":0},{"$f":"IF(ISERROR(VLOOKUP('Match Day'!$B$8,ResultsF!$AF$184:$AG$191,2,FALSE))=TRUE,0,VLOOKUP('Match Day'!$B$8,ResultsF!$AF$184:$AG$191,2,FALSE))","v":0},{"$f":"IF(ISERROR(VLOOKUP('Match Day'!$B$8,ResultsF!$AH$184:$AI$191,2,FALSE))=TRUE,0,VLOOKUP('Match Day'!$B$8,ResultsF!$AH$184:$AI$191,2,FALSE))","v":0},{"$f":"IF(ISERROR(VLOOKUP('Match Day'!$B$10,ResultsF!$AF$184:$AG$191,2,FALSE))=TRUE,0,VLOOKUP('Match Day'!$B$10,ResultsF!$AF$184:$AG$191,2,FALSE))","v":0},{"$f":"IF(ISERROR(VLOOKUP('Match Day'!$B$10,ResultsF!$AH$184:$AI$191,2,FALSE))=TRUE,0,VLOOKUP('Match Day'!$B$10,ResultsF!$AH$184:$AI$191,2,FALSE))","v":0},{"$f":"IF(ISERROR(VLOOKUP('Match Day'!$B$12,ResultsF!$AF$184:$AG$191,2,FALSE))=TRUE,0,VLOOKUP('Match Day'!$B$12,ResultsF!$AF$184:$AG$191,2,FALSE))","v":0},{"$f":"IF(ISERROR(VLOOKUP('Match Day'!$B$12,ResultsF!$AH$184:$AI$191,2,FALSE))=TRUE,0,VLOOKUP('Match Day'!$B$12,ResultsF!$AH$184:$AI$191,2,FALSE))","v":0},{"$f":"IF(ISERROR(VLOOKUP('Match Day'!$B$14,ResultsF!$AF$184:$AG$191,2,FALSE))=TRUE,0,VLOOKUP('Match Day'!$B$14,ResultsF!$AF$184:$AG$191,2,FALSE))","v":0},{"$f":"IF(ISERROR(VLOOKUP('Match Day'!$B$14,ResultsF!$AH$184:$AI$191,2,FALSE))=TRUE,0,VLOOKUP('Match Day'!$B$14,ResultsF!$AH$184:$AI$191,2,FALSE))","v":0},{"$f":"IF(ISERROR(VLOOKUP('Match Day'!$B$16,ResultsF!$AF$184:$AG$191,2,FALSE))=TRUE,0,VLOOKUP('Match Day'!$B$16,ResultsF!$AF$184:$AG$191,2,FALSE))","v":0},{"$f":"IF(ISERROR(VLOOKUP('Match Day'!$B$16,ResultsF!$AH$184:$AI$191,2,FALSE))=TRUE,0,VLOOKUP('Match Day'!$B$16,ResultsF!$AH$184:$AI$191,2,FALSE))","v":0},{"$f":"IF(ISERROR(VLOOKUP('Match Day'!$B$18,ResultsF!$AF$184:$AG$191,2,FALSE))=TRUE,0,VLOOKUP('Match Day'!$B$18,ResultsF!$AF$184:$AG$191,2,FALSE))","v":0},{"$f":"IF(ISERROR(VLOOKUP('Match Day'!$B$18,ResultsF!$AH$184:$AI$191,2,FALSE))=TRUE,0,VLOOKUP('Match Day'!$B$18,ResultsF!$AH$184:$AI$191,2,FALSE))","v":0},{"$f":"IF(Home!#REF!=\"\",0,ResultsF!$AT$12-AG44)","v":{"$error":"#REF!"}},{"$f":"IF(Home!#REF!=\"\",0,ResultsF!$AU$12-AH44)","v":{"$error":"#REF!"}},{"$error":"#REF!"},{"$error":"#REF!"},null,{"$error":"#REF!"},null,null,null,null,null,null,{"$f":"IF(A44=\"\",\"\",VLOOKUP(A44,ResultsF!$A$4:$AJ$191,36,FALSE))","v":184},191,0,0]
[null,{"$f":"IF($A45=\"\",\"\",CONCATENATE(VLOOKUP($A45,#REF!,4,FALSE),\" \",VLOOKUP($A45,#REF!,5,FALSE)))","v":""},{"$f":"SUM(C26:C44)","v":0},0,0,0,0,0,0,0,0,0,0,0,0,0,0,0,{"$error":"#REF!"},{"$error":"#REF!"},{"$error":"#REF!"},{"$error":"#REF!"},null,{"$f":"SUM(X26:X44)","v":{"$error":"#REF!"}},null,null,null,null,null,null,{"$f":"IF(A45=\"\",\"\",VLOOKUP(A45,ResultsF!$A$93:$AJ$182,32,FALSE))","v":""}]
[]
[null,null,{"$f":"C52","v":7},null,{"$f":"E52","v":1},null,{"$f":"G52","v":6},null,{"$f":"I52","v":8},null,{"$f":"K52","v":5},null,{"$f":"M52","v":4},null,{"$f":"O52","v":2},null,{"$f":"Q52","v":3},null,{"$f":"S52","v":0},null,{"$f":"U52","v":0}]
[null,"Match Summary",{"$f":"'Match Day'!$F$4","v":"BFD"},null,{"$f":"'Match Day'!$F$6","v":"B&B"},null,{"$f":"'Match Day'!$F$8","v":"MKN"},null,{"$f":"'Match Day'!$F$10","v":"NEB"},null,{"$f":"'Match Day'!$F$12","v":"SBH"},null,{"$f":"'Match Day'!$F$14","v":"STN"},null,{"$f":"'Match Day'!$F$16","v":"SWA"},null,{"$f":"'Match Day'!$F$18","v":"TVH"},null,"UNUSED",null,"TOTAL"]
[null,"Teams",{"$f":"C24+D24+C45+D45","v":106},null,{"$f":"E24+F24+E45+F45","v":204},null,{"$f":"G24+H24+G45+H45","v":148},null,{"$f":"I24+J24+I45+J45","v":110},null,{"$f":"K24+L24+K45+L45","v":149},null,{"$f":"M24+N24+M45+N45","v":162},null,{"$f":"O24+P24+O45+P45","v":185},null,{"$f":"Q24+R24+Q45+R45","v":168},null,{"$f":"S24+T24","v":174},null,{"$f":"SUM(C49:T49)","v":1406}]
[null,"Officials Points",20,null,20,null,20,null,10,null,20,null,20,null,20,null,20,null,null,null,{"$f":"SUM(C50:T50)","v":150}]
[null,"Total",{"$f":"SUM(C49:C50)+C81","v":126.00000000162608},null,{"$f":"SUM(E49:E50)+E81","v":224.00000000384094},null,{"$f":"SUM(G49:G50)+G81","v":168.00000000238703},null,{"$f":"SUM(I49:I50)+I81","v":120.00000000081198},null,{"$f":"SUM(K49:K50)+K81","v":169.00000000012329},null,{"$f":"SUM(M49:M50)+M81","v":182.00000000242741},null,{"$f":"SUM(O49:O50)+O81","v":205.00000000174086},null,{"$f":"SUM(Q49:Q50)+Q81","v":188.00000000242954},null,{"$f":"SUM(S49:S50)","v":174},null,{"$f":"SUM(U49:U50)","v":1556}]
[null,"Match Position",{"$f":"RANK(C51,$C$51:$R$51,0)","v":7},null,{"$f":"RANK(E51,$C$51:$R$51,0)","v":1},null,{"$f":"RANK(G51,$C$51:$R$51,0)","v":6},null,{"$f":"RANK(I51,$C$51:$R$51,0)","v":8},null,{"$f":"RANK(K51,$C$51:$R$51,0)","v":5},null,{"$f":"RANK(M51,$C$51:$R$51,0)","v":4},null,{"$f":"RANK(O51,$C$51:$R$51,0)","v":2},null,{"$f":"RANK(Q51,$C$51:$R$51,0)","v":3}]
[null,"League Points",{"$f":"('Match Day'!$F$23)+1-C52","v":2},null,{"$f":"('Match Day'!$F$23)+1-E52","v":8},null,{"$f":"('Match Day'!$F$23)+1-G52","v":3},null,{"$f":"('Match Day'!$F$23)+1-I52","v":1},null,{"$f":"('Match Day'!$F$23)+1-K52","v":4},null,{"$f":"('Match Day'!$F$23)+1-M52","v":5},null,{"$f":"('Match Day'!$F$23)+1-O52","v":7},null,{"$f":"('Match Day'!$F$23)+1-Q52","v":6}]
[]
[null,null,{"$f":"C59","v":7},null,{"$f":"E59","v":1},null,{"$f":"G59","v":8},null,{"$f":"I59","v":6},null,{"$f":"K59","v":4},null,{"$f":"M59","v":5},null,{"$f":"O59","v":2},null,{"$f":"Q59","v":3}]
[null,"Standings",{"$f":"'Match Day'!$F$4","v":"BFD"},null,{"$f":"'Match Day'!$F$6","v":"B&B"},null,{"$f":"'Match Day'!$F$8","v":"MKN"},null,{"$f":"'Match Day'!$F$10","v":"NEB"},null,{"$f":"'Match Day'!$F$12","v":"SBH"},null,{"$f":"'Match Day'!$F$14","v":"STN"},null,{"$f":"'Match Day'!$F$16","v":"SWA"},null,{"$f":"'Match Day'!$F$18","v":"TVH"}]
[null,"League Points",{"$f":"C53+Rounds!$K$6","v":6},null,{"$f":"E53+Rounds!$K$7","v":22},null,{"$f":"G53+Rounds!$K$8","v":5},null,{"$f":"I53+Rounds!$K$9","v":7},null,{"$f":"K53+Rounds!$K$10","v":15},null,{"$f":"M53+Rounds!$K$11","v":13},null,{"$f":"O53+Rounds!$K$12","v":20},null,{"$f":"Q53+Rounds!$K$13","v":20}]
[null,"Match Points",{"$f":"C51+Rounds!$L$6","v":378.00000000162606},null,{"$f":"E51+Rounds!$L$7","v":631.00000000384091},null,{"$f":"G51+Rounds!$L$8","v":401.50000000238703},null,{"$f":"I51+Rounds!$L$9","v":401.00000000081195},null,{"$f":"K51+Rounds!$L$10","v":551.00000000012324},null,{"$f":"M51+Rounds!$L$11","v":509.50000000242744},null,{"$f":"O51+Rounds!$L$12","v":597.00000000174089},null,{"$f":"Q51+Rounds!$L$13","v":587.00000000242949}]
[null,"League Positions",{"$f":"RANK(C63,$C$63:$R$63,1)","v":7},null,{"$f":"RANK(E63,$C$63:$R$63,1)","v":1},null,{"$f":"RANK(G63,$C$63:$R$63,1)","v":8},null,{"$f":"RANK(I63,$C$63:$R$63,1)","v":6},null,{"$f":"RANK(K63,$C$63:$R$63,1)","v":4},null,{"$f":"RANK(M63,$C$63:$R$63,1)","v":5},null,{"$f":"RANK(O63,$C$63:$R$63,1)","v":2},null,{"$f":"RANK(Q63,$C$63:$R$63,1)","v":3}]
[]
[null,null,{"$f":"RANK(C57,$C$57:$R$57,0)","v":7},null,{"$f":"RANK(E57,$C$57:$R$57,0)","v":1},null,{"$f":"RANK(G57,$C$57:$R$57,0)","v":8},null,{"$f":"RANK(I57,$C$57:$R$57,0)","v":6},null,{"$f":"RANK(K57,$C$57:$R$57,0)","v":4},null,{"$f":"RANK(M57,$C$57:$R$57,0)","v":5},null,{"$f":"RANK(O57,$C$57:$R$57,0)","v":2},null,{"$f":"RANK(Q57,$C$57:$R$57,0)","v":2}]
[null,null,{"$f":"RANK(C58,$C$58:$R$58,0)","v":8},null,{"$f":"RANK(E58,$C$58:$R$58,0)","v":1},null,{"$f":"RANK(G58,$C$58:$R$58,0)","v":6},null,{"$f":"RANK(I58,$C$58:$R$58,0)","v":7},null,{"$f":"RANK(K58,$C$58:$R$58,0)","v":4},null,{"$f":"RANK(M58,$C$58:$R$58,0)","v":5},null,{"$f":"RANK(O58,$C$58:$R$58,0)","v":2},null,{"$f":"RANK(Q58,$C$58:$R$58,0)","v":3}]
[null,null,{"$f":"(C61*10)+C62","v":78},null,{"$f":"(E61*10)+E62","v":11},null,{"$f":"(G61*10)+G62","v":86},null,{"$f":"(I61*10)+I62","v":67},null,{"$f":"(K61*10)+K62","v":44},null,{"$f":"(M61*10)+M62","v":55},null,{"$f":"(O61*10)+O62","v":22},null,{"$f":"(Q61*10)+Q62","v":23}]
[null,"Number of Wins",{"$f":"COUNTIF(C5:C23,16)","v":0},null,0,null,0,null,0,null,0,null,0,null,0,null,0]
[null,"Number of 2nds",{"$f":"COUNTIF(C5:C23,14)","v":0},null,{"$f":"COUNTIF(E5:E23,14)","v":0},null,0,null,0,null,0,null,0,null,0,null,0]
[null,"Number of 3rds",{"$f":"COUNTIF(C5:C23,12)","v":0},null,{"$f":"COUNTIF(E5:E23,12)","v":0},null,0,null,0,null,0,null,0,null,0,null,0]
[null,"Number of 4ths",{"$f":"COUNTIF(C5:C23,10)","v":0},null,{"$f":"COUNTIF(E5:E23,10)","v":0},null,0,null,0,null,0,null,0,null,0,null,0]
[null,"Number of 5ths",{"$f":"COUNTIF(C5:C23,8)","v":0},null,{"$f":"COUNTIF(E5:E23,8)","v":0},null,0,null,0,null,0,null,0,null,0,null,0]
[null,"Number of 6ths",{"$f":"COUNTIF(C5:C23,6)","v":2},null,{"$f":"COUNTIF(E5:E23,6)","v":5},null,3,null,1,null,0,null,3,null,2,null,3]
[null,"Number of 7ths",{"$f":"COUNTIF(C5:C23,5)","v":2},null,{"$f":"COUNTIF(E5:E23,5)","v":0},null,2,null,1,null,3,null,3,null,5,null,3]
[null,"Number of 8ths",{"$f":"COUNTIF(C5:C23,4)","v":5},null,{"$f":"COUNTIF(E5:E23,4)","v":2},null,2,null,2,null,1,null,2,null,2,null,3]
[]
[null,19,{"$f":"(C64*$B73/10000)","v":0},0,0,0,0,0,0,0,0,0,0,0,0,0,0,0]
[null,{"$f":"B73/19","v":1},{"$f":"(C65*$B74/10000)","v":0},null,{"$f":"(E65*$B74/10000)","v":0},null,{"$f":"(G65*$B74/10000)","v":0},null,{"$f":"(I65*$B74/10000)","v":0},null,{"$f":"(K65*$B74/10000)","v":0},null,{"$f":"(M65*$B74/10000)","v":0},null,{"$f":"(O65*$B74/10000)","v":0},null,{"$f":"(Q65*$B74/10000)","v":0}]
[null,{"$f":"B74/19","v":5.2631578947368418E-2},0,null,0,null,0,null,0,null,0,null,0,null,0,null,0]
[null,2.7700831024930748E-3,0,null,0,null,0,null,0,null,0,null,0,null,0,null,0]
[null,1.4579384749963551E-4,0,null,0,null,0,null,0,null,0,null,0,null,0,null,0]
[null,7.673360394717659E-6,1.5346720789435317E-9,null,3.8366801973588294E-9,null,2.3020081184152976E-9,null,7.6733603947176587E-10,null,0,null,2.3020081184152976E-9,null,1.5346720789435317E-9,null,2.3020081184152976E-9]
[null,4.0386107340619258E-7,8.0772214681238521E-11,null,0,null,8.0772214681238521E-11,null,4.038610734061926E-11,null,1.2115832202185778E-10,null,1.2115832202185778E-10,null,2.0193053670309628E-10,null,1.2115832202185778E-10]
[null,2.1255845968746978E-8,1.062792298437349E-11,null,4.2511691937493955E-12,null,4.2511691937493955E-12,null,4.2511691937493955E-12,null,2.1255845968746977E-12,null,4.2511691937493955E-12,null,4.2511691937493955E-12,null,6.3767537906240928E-12]
[null,null,{"$f":"SUM(C73:C80)","v":1.6260722166091438E-9},{"$f":"SUM(D73:D80)","v":0},3.8409313665525788E-9,0,2.3870315022902855E-9,0,8.1197331600613454E-10,0,1.2328390661873247E-10,0,2.4274176096309048E-9,0,1.7408537848403774E-9,0,2.4295431942277795E-9]

{"sheet":"Results","index":2,"n_rows":222,"n_cols":50,"rows_kept":222,"cut":false,"hidden":false,"merged":[[195,5,195,6],[196,5,196,6],[197,5,197,6],[198,5,198,6],[199,5,199,6],[200,5,200,6],[201,5,201,6],[62,14,62,16],[72,14,72,16],[82,14,82,16],[92,14,92,16],[102,14,102,16],[112,14,112,16],[122,14,122,16],[132,14,132,16],[142,14,142,16],[152,14,152,16],[162,14,162,16],[179,8,179,13],[180,14,180,16],[162,4,162,6],[161,8,161,13],[161,14,161,16],[172,4,172,17],[1,45,1,47],[187,8,187,13],[187,14,187,16],[185,8,185,13],[176,14,176,16],[175,8,175,13],[190,8,190,13],[190,14,190,16],[188,8,188,13],[188,14,188,16],[189,8,189,13],[189,14,189,16],[2,14,2,16],[12,14,12,16],[22,14,22,16],[32,14,32,16],[42,14,42,16],[172,18,172,19],[177,8,177,13],[173,8,173,13],[174,8,174,13],[174,14,174,16],[171,8,171,13],[171,14,171,16],[72,4,72,6],[142,4,142,6],[151,8,151,13],[151,14,151,16],[152,4,152,6],[82,4,82,6],[2,4,2,6],[12,4,12,6],[132,4,132,6],[42,4,42,6],[22,4,22,6],[131,14,131,16],[0,4,0,6],[1,15,1,16],[1,4,1,7],[0,7,0,16],[151,17,151,19],[173,14,173,16],[161,17,161,19],[101,8,101,13],[52,14,52,16],[62,4,62,6],[141,17,141,19],[141,14,141,16],[121,17,121,19],[121,14,121,16],[131,17,131,19],[112,4,112,6],[122,4,122,6],[121,8,121,13],[141,8,141,13],[131,8,131,13],[32,4,32,6],[92,4,92,6],[102,4,102,6],[52,4,52,6],[178,14,178,16],[181,17,181,19],[180,8,180,13],[181,8,181,13],[181,14,181,16],[178,8,178,13],[179,14,179,16],[0,41,1,44],[0,33,0,36],[0,29,0,32],[0,17,0,19],[1,35,1,36],[1,29,1,30],[1,31,1,32],[1,33,1,34],[101,17,101,19],[111,14,111,16],[111,17,111,19],[101,14,101,16],[111,8,111,13],[177,14,177,16],[175,14,175,16],[176,8,176,13],[171,17,171,19],[206,15,206,16],[213,4,213,6],[213,15,213,16],[182,18,182,19],[185,14,185,16],[186,8,186,13],[186,14,186,16],[182,4,182,17],[184,8,184,13],[184,14,184,16],[183,8,183,13],[183,14,183,16],[201,15,201,16],[193,15,193,16],[194,15,194,16],[195,15,195,16],[196,15,196,16],[197,15,197,16],[198,15,198,16],[199,15,199,16],[200,15,200,16],[203,4,203,6],[203,15,203,16],[194,5,194,6]]}
[null,null,null,null,"Home",null,null,{"$f":"'Match Day'!I4","v":"UK Womens League"},null,null,null,null,null,null,null,null,null,"Home",null,null,null,null,null,null,null,null,null,null,null,"Grades",null,null,null,"Points",null,null,null,null,null,null,null,"Enter Club Letter, Performance and any Wind Readings in the Yellow Boxes. Times for 800m and above should be entered as mm:ss.0 Otherwise use ss.0"]
[null,null,null,null,{"$f":"CONCATENATE('Match Day'!I8,\" \",'Match Day'!I10,\" - \",'Match Day'!I12)","v":"Division 1 Match 3 - Winchester"},null,null,null,"Perf","Record","Wind","UKA","AW",null,null,{"$f":"'Match Day'!I6","v":"Saturday, 6th August"},null,null,"Perf","Wind","UKA","AW","Prints","Record","Division","Grade 1","Grade 2","Grade 3","T/F","A String",null,"B String",null,"A String",null,"B String",null,"Row",null,"Validation",null,null,null,null,null,"Points"]
[12.43,11.1,0.01,1.5,{"$f":"CONCATENATE(VLOOKUP(A4,mens_handbook,3,FALSE),\" A\")","v":"Women's 100m A"},null,null,{"$f":"IF(A4=\"\",\"\",IF(VLOOKUP(A4,Handbook!$A$4:$AI$24,35,FALSE)=\"Y\",\"Wind=\",\"\"))","v":"Wind="},"-2.1",null,null,null,null,null,{"$f":"CONCATENATE(VLOOKUP(A4,mens_handbook,3,FALSE),\" B\")","v":"Women's 100m B"},null,null,{"$f":"H3","v":"Wind="},"-2.4",null,null,null,null,{"$f":"IF($A4=\"\",\"\",VLOOKUP($A4,Handbook!$A$4:$V$24,21,FALSE))","v":11.1},{"$f":"IF($A4=\"\",\"\",VLOOKUP($A4,Handbook!$A$4:$V$24,22,FALSE))","v":11.1},{"$f":"IF($A4=\"\",\"\",VLOOKUP($A4,Handbook!$A$4:$W$24,23,FALSE))","v":13},{"$f":"IF($A4=\"\",\"\",VLOOKUP($A4,Handbook!$A$4:$X$24,24,FALSE))","v":13},{"$f":"IF($A4=\"\",\"\",VLOOKUP($A4,Handbook!$A$4:$Y$24,25,FALSE))","v":13},{"$f":"IF($A4=\"\",\"\",VLOOKUP($A4,Handbook!$A$4:$AH$24,34,FALSE))","v":"T"},null,null,null,null,null,null,null,null,3,null,null,null,null,null,null,null,null,"A","B"]
[3,null,{"$f":"IF(F4=\"\",\"\",IF(F4>10,F4/11,F4))","v":4},{"$f":"IF(P4=\"\",\"\",IF(P4>10,P4/11,P4))","v":3},1,4,{"$f":"IF($F4=\"\",\"\",IF($F4>90,VLOOKUP(F4,eventcodes,2,FALSE),HLOOKUP(F4,declare,B6,FALSE)))","v":"Tope Faith-Nuqa"},{"$f":"IF($F4=\"\",\"\",IF($F4>90,\"\",VLOOKUP(C4,matchday,2,FALSE)))","v":"Newham & Essex Beagles AC"},12.09,{"$f":"IF(I4=\"\",\"\",IF(AC3=\"T\",X4,X5))","v":""},null,{"$f":"IF(OR(F4=0,F4=\"\",I4=0,I4=\"\"),\"\",IF(I4>A3,0,INT(((B3-I4)*D3/C3)+250)))","v":101},{"$f":"IF(AC3=\"T\",AD4,AE4)","v":"þ"},null,1,33,{"$f":"IF($P4=\"\",\"\",HLOOKUP(P4,declare,B6,FALSE))","v":"Joey Duck"},{"$f":"IF($P4=\"\",\"\",VLOOKUP(D4,matchday,2,FALSE))","v":"Marshall Milton Keynes AC"},12.23,null,{"$f":"IF(OR(P4=0,P4=\"\",S4=0,S4=\"\"),\"\",IF(S4>A3,0,INT(((B3-S4)*D3/C3)+250)))","v":80},{"$f":"IF(AC3=\"T\",AF4,AG4)","v":"þ"},null,{"$f":"IF(AC3=\"F\",\"\",IF(I4<X3,\"LR\",IF(I4=X3,\"=LR\",IF(I4<Y3,\"DR\",IF(I4=Y3,\"=DR\",\"\")))))","v":""},null,null,null,null,null,{"$f":"IF(I4=\"\",\"\",IF(AC3=\"F\",\"\",IF(AC3=\"T\",IF(I4<=Z3,\"þ\",IF(I4<=AA3,\"G2\",IF(I4<=AB3,\"G3\",\"\"))))))","v":"þ"},{"$f":"IF(I4=\"\",\"\",IF(AC3=\"T\",\"\",IF(AC3=\"F\",IF(I4>=Z3,\"þ\",IF(I4>=AA3,\"G2\",IF(I4>=AB3,\"G3\",\"\"))))))","v":""},{"$f":"IF(S4=\"\",\"\",IF(AC3=\"F\",\"\",IF(AC3=\"T\",IF(S4<=Z3,\"þ\",IF(S4<=AA3,\"G2\",IF(S4<=AB3,\"G3\",\"\"))))))","v":"þ"},{"$f":"IF(S4=\"\",\"\",IF(AC3=\"T\",\"\",IF(AC3=\"F\",IF(S4>=Z3,\"þ\",IF(S4>=AA3,\"G2\",IF(S4>=AB3,\"G3\",\"\"))))))","v":""},{"$f":"C4","v":4},{"$f":"IF(F4=\"\",\"\",IF(LEFT(I4,1)=\"D\",0,VLOOKUP(E4,$AT$4:$AU$40,2,FALSE)))","v":9},{"$f":"D4","v":3},{"$f":"IF(P4=\"\",\"\",IF(LEFT(S4,1)=\"D\",0,VLOOKUP(O4,$AT$4:$AV$40,3,FALSE)))","v":9},4,null,{"$f":"'Match Day'!B4","v":1},1,null,null,null,null,"Posn","Points","Points"]
[null,{"$f":"VLOOKUP(A4,Handbook!$A$4:$AK$24,37,FALSE)","v":4},{"$f":"IF(F5=\"\",\"\",IF(F5>10,F5/11,F5))","v":3},8,2,3,{"$f":"IF($F5=\"\",\"\",HLOOKUP(F5,declare,B6,FALSE))","v":"Kadi-Ann Thomas"},{"$f":"IF($F5=\"\",\"\",VLOOKUP(C5,matchday,2,FALSE))","v":"Marshall Milton Keynes AC"},12.18,{"$f":"IF(I5=\"\",\"\",IF(AND(AC3=\"T\",I5<I4),\"X\",IF(AND(AC3=\"F\",I5>I4),\"X\",\"\")))","v":""},null,{"$f":"IF(OR(F5=0,F5=\"\",I5=0,I5=\"\"),\"\",IF(I5>A3,0,INT(((B3-I5)*D3/C3)+250)))","v":88},{"$f":"IF(AC3=\"T\",AD5,AE5)","v":"þ"},null,2,88,{"$f":"IF($P5=\"\",\"\",HLOOKUP(P5,declare,B6,FALSE))","v":"Phyllis Agbo"},"Thames Valley H",12.48,{"$f":"IF(S5=\"\",\"\",IF(AND(AC3=\"T\",S5<S4),\"X\",IF(AND(AC3=\"F\",S5>S4),\"X\",\"\")))","v":""},{"$f":"IF(OR(P5=0,P5=\"\",S5=0,S5=\"\"),\"\",IF(S5>A3,0,INT(((B3-S5)*D3/C3)+250)))","v":0},{"$f":"IF(AC3=\"T\",AF5,AG5)","v":"þ"},null,{"$f":"IF(AC3=\"T\",\"\",IF(I4>X3,\"LR\",IF(I4=X3,\"=LR\",IF(I4>Y3,\"DR\",IF(I4=Y3,\"=DR\",\"\")))))","v":""},null,null,null,null,null,{"$f":"IF(I5=\"\",\"\",IF(AC3=\"F\",\"\",IF(AC3=\"T\",IF(I5<=Z3,\"þ\",IF(I5<=AA3,\"G2\",IF(I5<=AB3,\"G3\",\"\"))))))","v":"þ"},{"$f":"IF(I5=\"\",\"\",IF(AC3=\"T\",\"\",IF(AC3=\"F\",IF(I5>=Z3,\"þ\",IF(I5>=AA3,\"G2\",IF(I5>=AB3,\"G3\",\"\"))))))","v":""},{"$f":"IF(S5=\"\",\"\",IF(AC3=\"F\",\"\",IF(AC3=\"T\",IF(S5<=Z3,\"þ\",IF(S5<=AA3,\"G2\",IF(S5<=AB3,\"G3\",\"\"))))))","v":"þ"},{"$f":"IF(S5=\"\",\"\",IF(AC3=\"T\",\"\",IF(AC3=\"F\",IF(S5>=Z3,\"þ\",IF(S5>=AA3,\"G2\",IF(S5>=AB3,\"G3\",\"\"))))))","v":""},{"$f":"C5","v":3},7,{"$f":"D5","v":8},7,5,null,{"$f":"'Match Day'!B6","v":2},2,null,null,null,null,1,{"$f":"'Match Day'!C23","v":9},{"$f":"'Match Day'!D23","v":9}]
[null,{"$f":"VLOOKUP(A4,declare,20,FALSE)","v":3},2,4,3,2,{"$f":"IF($F6=\"\",\"\",HLOOKUP(F6,declare,B6,FALSE))","v":"Serita Solomon"},"Blackheath & Bromley H",12.38,{"$f":"IF(I6=\"\",\"\",IF(AND(AC3=\"T\",I6<I5),\"X\",IF(AND(AC3=\"F\",I6>I5),\"X\",\"\")))","v":""},null,{"$f":"IF(OR(F6=0,F6=\"\",I6=0,I6=\"\"),\"\",IF(I6>A3,0,INT(((B3-I6)*D3/C3)+250)))","v":57},{"$f":"IF(AC3=\"T\",AD6,AE6)","v":"þ"},null,3,44,{"$f":"IF($P6=\"\",\"\",HLOOKUP(P6,declare,B6,FALSE))","v":"Susannah Banjo"},"Newham & Essex Beagles AC",12.62,{"$f":"IF(S6=\"\",\"\",IF(AND(AC3=\"T\",S6<S5),\"X\",IF(AND(AC3=\"F\",S6>S5),\"X\",\"\")))","v":""},{"$f":"IF(OR(P6=0,P6=\"\",S6=0,S6=\"\"),\"\",IF(S6>A3,0,INT(((B3-S6)*D3/C3)+250)))","v":0},{"$f":"IF(AC3=\"T\",AF6,AG6)","v":"þ"},null,null,null,null,null,null,null,{"$f":"IF(I6=\"\",\"\",IF(AC3=\"F\",\"\",IF(AC3=\"T\",IF(I6<=Z3,\"þ\",IF(I6<=AA3,\"G2\",IF(I6<=AB3,\"G3\",\"\"))))))","v":"þ"},{"$f":"IF(I6=\"\",\"\",IF(AC3=\"T\",\"\",IF(AC3=\"F\",IF(I6>=Z3,\"þ\",IF(I6>=AA3,\"G2\",IF(I6>=AB3,\"G3\",\"\"))))))","v":""},{"$f":"IF(S6=\"\",\"\",IF(AC3=\"F\",\"\",IF(AC3=\"T\",IF(S6<=Z3,\"þ\",IF(S6<=AA3,\"G2\",IF(S6<=AB3,\"G3\",\"\"))))))","v":"þ"},{"$f":"IF(S6=\"\",\"\",IF(AC3=\"T\",\"\",IF(AC3=\"F\",IF(S6>=Z3,\"þ\",IF(S6>=AA3,\"G2\",IF(S6>=AB3,\"G3\",\"\"))))))","v":""},2,6,4,6,6,null,{"$f":"'Match Day'!B8","v":3},3,null,null,null,null,2,{"$f":"'Match Day'!C24","v":7},{"$f":"'Match Day'!D24","v":7}]
[null,null,1,6,4,1,{"$f":"IF($F7=\"\",\"\",HLOOKUP(F7,declare,B6,FALSE))","v":"Emma Bailey"},"Bedford & County AC",12.47,{"$f":"IF(I7=\"\",\"\",IF(AND(AC3=\"T\",I7<I6),\"X\",IF(AND(AC3=\"F\",I7>I6),\"X\",\"\")))","v":""},null,{"$f":"IF(OR(F7=0,F7=\"\",I7=0,I7=\"\"),\"\",IF(I7>A3,0,INT(((B3-I7)*D3/C3)+250)))","v":0},{"$f":"IF(AC3=\"T\",AD7,AE7)","v":"þ"},null,4,66,{"$f":"IF($P7=\"\",\"\",HLOOKUP(P7,declare,B6,FALSE))","v":"Becca Carozzi"},"Southampton AC",12.66,{"$f":"IF(S7=\"\",\"\",IF(AND(AC3=\"T\",S7<S6),\"X\",IF(AND(AC3=\"F\",S7>S6),\"X\",\"\")))","v":""},{"$f":"IF(OR(P7=0,P7=\"\",S7=0,S7=\"\"),\"\",IF(S7>A3,0,INT(((B3-S7)*D3/C3)+250)))","v":0},{"$f":"IF(AC3=\"T\",AF7,AG7)","v":"þ"},null,null,null,null,null,null,null,{"$f":"IF(I7=\"\",\"\",IF(AC3=\"F\",\"\",IF(AC3=\"T\",IF(I7<=Z3,\"þ\",IF(I7<=AA3,\"G2\",IF(I7<=AB3,\"G3\",\"\"))))))","v":"þ"},{"$f":"IF(I7=\"\",\"\",IF(AC3=\"T\",\"\",IF(AC3=\"F\",IF(I7>=Z3,\"þ\",IF(I7>=AA3,\"G2\",IF(I7>=AB3,\"G3\",\"\"))))))","v":""},{"$f":"IF(S7=\"\",\"\",IF(AC3=\"F\",\"\",IF(AC3=\"T\",IF(S7<=Z3,\"þ\",IF(S7<=AA3,\"G2\",IF(S7<=AB3,\"G3\",\"\"))))))","v":"þ"},{"$f":"IF(S7=\"\",\"\",IF(AC3=\"T\",\"\",IF(AC3=\"F\",IF(S7>=Z3,\"þ\",IF(S7>=AA3,\"G2\",IF(S7>=AB3,\"G3\",\"\"))))))","v":""},1,5,6,5,7,null,{"$f":"'Match Day'!B10","v":4},4,null,null,null,null,3,{"$f":"'Match Day'!C25","v":6},{"$f":"'Match Day'!D25","v":6}]
[null,null,8,2,5,8,{"$f":"IF($F8=\"\",\"\",HLOOKUP(F8,declare,B6,FALSE))","v":"Yvette Henry"},"Thames Valley H",12.55,{"$f":"IF(I8=\"\",\"\",IF(AND(AC3=\"T\",I8<I7),\"X\",IF(AND(AC3=\"F\",I8>I7),\"X\",\"\")))","v":""},null,{"$f":"IF(OR(F8=0,F8=\"\",I8=0,I8=\"\"),\"\",IF(I8>A3,0,INT(((B3-I8)*D3/C3)+250)))","v":0},{"$f":"IF(AC3=\"T\",AD8,AE8)","v":"þ"},null,5,22,{"$f":"IF($P8=\"\",\"\",HLOOKUP(P8,declare,B6,FALSE))","v":"Amara Lalemi-Jacobs"},"Blackheath & Bromley H",12.75,{"$f":"IF(S8=\"\",\"\",IF(AND(AC3=\"T\",S8<S7),\"X\",IF(AND(AC3=\"F\",S8>S7),\"X\",\"\")))","v":""},{"$f":"IF(OR(P8=0,P8=\"\",S8=0,S8=\"\"),\"\",IF(S8>A3,0,INT(((B3-S8)*D3/C3)+250)))","v":0},{"$f":"IF(AC3=\"T\",AF8,AG8)","v":"þ"},null,null,null,null,null,null,null,{"$f":"IF(I8=\"\",\"\",IF(AC3=\"F\",\"\",IF(AC3=\"T\",IF(I8<=Z3,\"þ\",IF(I8<=AA3,\"G2\",IF(I8<=AB3,\"G3\",\"\"))))))","v":"þ"},{"$f":"IF(I8=\"\",\"\",IF(AC3=\"T\",\"\",IF(AC3=\"F\",IF(I8>=Z3,\"þ\",IF(I8>=AA3,\"G2\",IF(I8>=AB3,\"G3\",\"\"))))))","v":""},{"$f":"IF(S8=\"\",\"\",IF(AC3=\"F\",\"\",IF(AC3=\"T\",IF(S8<=Z3,\"þ\",IF(S8<=AA3,\"G2\",IF(S8<=AB3,\"G3\",\"\"))))))","v":"þ"},{"$f":"IF(S8=\"\",\"\",IF(AC3=\"T\",\"\",IF(AC3=\"F\",IF(S8>=Z3,\"þ\",IF(S8>=AA3,\"G2\",IF(S8>=AB3,\"G3\",\"\"))))))","v":""},8,4,2,4,8,null,{"$f":"'Match Day'!B12","v":5},5,null,null,null,null,4,{"$f":"'Match Day'!C26","v":5},{"$f":"'Match Day'!D26","v":5}]
[null,null,6,7,6,6,{"$f":"IF($F9=\"\",\"\",HLOOKUP(F9,declare,B6,FALSE))","v":"Emily Newton"},"Southampton AC",12.63,{"$f":"IF(I9=\"\",\"\",IF(AND(AC3=\"T\",I9<I8),\"X\",IF(AND(AC3=\"F\",I9>I8),\"X\",\"\")))","v":""},null,{"$f":"IF(OR(F9=0,F9=\"\",I9=0,I9=\"\"),\"\",IF(I9>A3,0,INT(((B3-I9)*D3/C3)+250)))","v":0},{"$f":"IF(AC3=\"T\",AD9,AE9)","v":"þ"},null,6,77,{"$f":"IF($P9=\"\",\"\",HLOOKUP(P9,declare,B6,FALSE))","v":"Caryl Granville"},"Swansea H",12.81,{"$f":"IF(S9=\"\",\"\",IF(AND(AC3=\"T\",S9<S8),\"X\",IF(AND(AC3=\"F\",S9>S8),\"X\",\"\")))","v":""},{"$f":"IF(OR(P9=0,P9=\"\",S9=0,S9=\"\"),\"\",IF(S9>A3,0,INT(((B3-S9)*D3/C3)+250)))","v":0},{"$f":"IF(AC3=\"T\",AF9,AG9)","v":"þ"},null,null,null,null,null,null,null,{"$f":"IF(I9=\"\",\"\",IF(AC3=\"F\",\"\",IF(AC3=\"T\",IF(I9<=Z3,\"þ\",IF(I9<=AA3,\"G2\",IF(I9<=AB3,\"G3\",\"\"))))))","v":"þ"},{"$f":"IF(I9=\"\",\"\",IF(AC3=\"T\",\"\",IF(AC3=\"F\",IF(I9>=Z3,\"þ\",IF(I9>=AA3,\"G2\",IF(I9>=AB3,\"G3\",\"\"))))))","v":""},{"$f":"IF(S9=\"\",\"\",IF(AC3=\"F\",\"\",IF(AC3=\"T\",IF(S9<=Z3,\"þ\",IF(S9<=AA3,\"G2\",IF(S9<=AB3,\"G3\",\"\"))))))","v":"þ"},{"$f":"IF(S9=\"\",\"\",IF(AC3=\"T\",\"\",IF(AC3=\"F\",IF(S9>=Z3,\"þ\",IF(S9>=AA3,\"G2\",IF(S9>=AB3,\"G3\",\"\"))))))","v":""},6,3,7,3,9,null,{"$f":"'Match Day'!B14","v":6},6,null,null,null,null,5,{"$f":"'Match Day'!C27","v":4},{"$f":"'Match Day'!D27","v":4}]
[null,null,7,5,7,7,{"$f":"IF($F10=\"\",\"\",HLOOKUP(F10,declare,B6,FALSE))","v":"Rebecca Williams"},"Swansea H",12.64,{"$f":"IF(I10=\"\",\"\",IF(AND(AC3=\"T\",I10<I9),\"X\",IF(AND(AC3=\"F\",I10>I9),\"X\",\"\")))","v":""},null,{"$f":"IF(OR(F10=0,F10=\"\",I10=0,I10=\"\"),\"\",IF(I10>A3,0,INT(((B3-I10)*D3/C3)+250)))","v":0},{"$f":"IF(AC3=\"T\",AD10,AE10)","v":"þ"},null,7,55,{"$f":"IF($P10=\"\",\"\",HLOOKUP(P10,declare,B6,FALSE))","v":"Makeda Lewis (U20)"},"Shaftesbury Barnet H",12.9,{"$f":"IF(S10=\"\",\"\",IF(AND(AC3=\"T\",S10<S9),\"X\",IF(AND(AC3=\"F\",S10>S9),\"X\",\"\")))","v":""},{"$f":"IF(OR(P10=0,P10=\"\",S10=0,S10=\"\"),\"\",IF(S10>A3,0,INT(((B3-S10)*D3/C3)+250)))","v":0},{"$f":"IF(AC3=\"T\",AF10,AG10)","v":"þ"},null,null,null,null,null,null,null,{"$f":"IF(I10=\"\",\"\",IF(AC3=\"F\",\"\",IF(AC3=\"T\",IF(I10<=Z3,\"þ\",IF(I10<=AA3,\"G2\",IF(I10<=AB3,\"G3\",\"\"))))))","v":"þ"},{"$f":"IF(I10=\"\",\"\",IF(AC3=\"T\",\"\",IF(AC3=\"F\",IF(I10>=Z3,\"þ\",IF(I10>=AA3,\"G2\",IF(I10>=AB3,\"G3\",\"\"))))))","v":""},{"$f":"IF(S10=\"\",\"\",IF(AC3=\"F\",\"\",IF(AC3=\"T\",IF(S10<=Z3,\"þ\",IF(S10<=AA3,\"G2\",IF(S10<=AB3,\"G3\",\"\"))))))","v":"þ"},{"$f":"IF(S10=\"\",\"\",IF(AC3=\"T\",\"\",IF(AC3=\"F\",IF(S10>=Z3,\"þ\",IF(S10>=AA3,\"G2\",IF(S10>=AB3,\"G3\",\"\"))))))","v":""},7,2,5,2,10,null,{"$f":"'Match Day'!B16","v":7},7,null,null,null,null,6,{"$f":"'Match Day'!C28","v":3},{"$f":"'Match Day'!D28","v":3}]
[null,null,5,"",8,5,{"$f":"IF($F11=\"\",\"\",HLOOKUP(F11,declare,B6,FALSE))","v":"Chisom Nwachukwu (U20)"},"Shaftesbury Barnet H",12.72,{"$f":"IF(I11=\"\",\"\",IF(AND(AC3=\"T\",I11<I10),\"X\",IF(AND(AC3=\"F\",I11>I10),\"X\",\"\")))","v":""},null,{"$f":"IF(OR(F11=0,F11=\"\",I11=0,I11=\"\"),\"\",IF(I11>A3,0,INT(((B3-I11)*D3/C3)+250)))","v":0},{"$f":"IF(AC3=\"T\",AD11,AE11)","v":"þ"},null,8,null,{"$f":"IF($P11=\"\",\"\",HLOOKUP(P11,declare,B6,FALSE))","v":""},"",null,{"$f":"IF(S11=\"\",\"\",IF(AND(AC3=\"T\",S11<S10),\"X\",IF(AND(AC3=\"F\",S11>S10),\"X\",\"\")))","v":""},{"$f":"IF(OR(P11=0,P11=\"\",S11=0,S11=\"\"),\"\",IF(S11>A3,0,INT(((B3-S11)*D3/C3)+250)))","v":""},{"$f":"IF(AC3=\"T\",AF11,AG11)","v":""},null,null,null,null,null,null,null,{"$f":"IF(I11=\"\",\"\",IF(AC3=\"F\",\"\",IF(AC3=\"T\",IF(I11<=Z3,\"þ\",IF(I11<=AA3,\"G2\",IF(I11<=AB3,\"G3\",\"\"))))))","v":"þ"},{"$f":"IF(I11=\"\",\"\",IF(AC3=\"T\",\"\",IF(AC3=\"F\",IF(I11>=Z3,\"þ\",IF(I11>=AA3,\"G2\",IF(I11>=AB3,\"G3\",\"\"))))))","v":""},{"$f":"IF(S11=\"\",\"\",IF(AC3=\"F\",\"\",IF(AC3=\"T\",IF(S11<=Z3,\"þ\",IF(S11<=AA3,\"G2\",IF(S11<=AB3,\"G3\",\"\"))))))","v":""},{"$f":"IF(S11=\"\",\"\",IF(AC3=\"T\",\"\",IF(AC3=\"F\",IF(S11>=Z3,\"þ\",IF(S11>=AA3,\"G2\",IF(S11>=AB3,\"G3\",\"\"))))))","v":""},5,1,"","",11,null,{"$f":"'Match Day'!B18","v":8},8,null,null,null,null,7,{"$f":"'Match Day'!C29","v":2},{"$f":"'Match Day'!D29","v":2}]
[null,null,null,null,null,null,null,null,null,null,null,null,null,null,null,null,null,null,null,null,null,null,null,null,null,null,null,null,null,null,null,null,null,null,null,null,null,12,null,{"$f":"AN4*11","v":11},null,null,null,null,null,8,{"$f":"'Match Day'!C30","v":1},{"$f":"'Match Day'!D30","v":1},{"$f":"SUM(AU5:AU12)","v":37},{"$f":"SUM(AV5:AV12)","v":37}]
[25.6,22.6,0.01,0.66700000000000004,{"$f":"CONCATENATE(VLOOKUP(A14,mens_handbook,3,FALSE),\" A\")","v":"Women's 200m A"},null,null,{"$f":"IF(A14=\"\",\"\",IF(VLOOKUP(A14,Handbook!$A$4:$AI$24,35,FALSE)=\"Y\",\"Wind=\",\"\"))","v":"Wind="},"-0.8",null,null,null,null,null,{"$f":"CONCATENATE(VLOOKUP(A14,mens_handbook,3,FALSE),\" B\")","v":"Women's 200m B"},null,null,{"$f":"H13","v":"Wind="},"-0.7",null,null,null,null,{"$f":"IF($A14=\"\",\"\",VLOOKUP($A14,Handbook!$A$4:$V$24,21,FALSE))","v":23},{"$f":"IF($A14=\"\",\"\",VLOOKUP($A14,Handbook!$A$4:$V$24,22,FALSE))","v":23},{"$f":"IF($A14=\"\",\"\",VLOOKUP($A14,Handbook!$A$4:$W$24,23,FALSE))","v":27},{"$f":"IF($A14=\"\",\"\",VLOOKUP($A14,Handbook!$A$4:$X$24,24,FALSE))","v":27},{"$f":"IF($A14=\"\",\"\",VLOOKUP($A14,Handbook!$A$4:$Y$24,25,FALSE))","v":27},{"$f":"IF($A14=\"\",\"\",VLOOKUP($A14,Handbook!$A$4:$AH$24,34,FALSE))","v":"T"},null,null,null,null,null,null,null,null,13,null,{"$f":"AN5*11","v":22},null,null,null,null,null,"1=",{"$f":"SUM($AU$5:AU6)/2","v":8},{"$f":"SUM($AV$5:AV6)/2","v":8}]
[7,null,{"$f":"IF(F14=\"\",\"\",IF(F14>10,F14/11,F14))","v":3},{"$f":"IF(P14=\"\",\"\",IF(P14>10,P14/11,P14))","v":3},1,3,{"$f":"IF($F14=\"\",\"\",IF($F14>90,VLOOKUP(F14,eventcodes,2,FALSE),HLOOKUP(F14,declare,B16,FALSE)))","v":"Kadi-Ann Thomas"},{"$f":"IF($F14=\"\",\"\",IF($F14>90,\"\",VLOOKUP(C14,matchday,2,FALSE)))","v":"Marshall Milton Keynes AC"},24.52,{"$f":"IF(I14=\"\",\"\",IF(AC13=\"T\",X14,X15))","v":""},null,{"$f":"IF(OR(F14=0,F14=\"\",I14=0,I14=\"\"),\"\",IF(I14>A13,0,INT(((B13-I14)*D13/C13)+250)))","v":121},{"$f":"IF(AC13=\"T\",AD14,AE14)","v":"þ"},null,1,33,{"$f":"IF($P14=\"\",\"\",HLOOKUP(P14,declare,B16,FALSE))","v":"Joey Duck"},{"$f":"IF($P14=\"\",\"\",VLOOKUP(D14,matchday,2,FALSE))","v":"Marshall Milton Keynes AC"},24.53,null,{"$f":"IF(OR(P14=0,P14=\"\",S14=0,S14=\"\"),\"\",IF(S14>A13,0,INT(((B13-S14)*D13/C13)+250)))","v":121},{"$f":"IF(AC13=\"T\",AF14,AG14)","v":"þ"},null,{"$f":"IF(AC13=\"F\",\"\",IF(I14<X13,\"LR\",IF(I14=X13,\"=LR\",IF(I14<Y13,\"DR\",IF(I14=Y13,\"=DR\",\"\")))))","v":""},null,null,null,null,null,{"$f":"IF(I14=\"\",\"\",IF(AC13=\"F\",\"\",IF(AC13=\"T\",IF(I14<=Z13,\"þ\",IF(I14<=AA13,\"G2\",IF(I14<=AB13,\"G3\",\"\"))))))","v":"þ"},{"$f":"IF(I14=\"\",\"\",IF(AC13=\"T\",\"\",IF(AC13=\"F\",IF(I14>=Z13,\"þ\",IF(I14>=AA13,\"G2\",IF(I14>=AB13,\"G3\",\"\"))))))","v":""},{"$f":"IF(S14=\"\",\"\",IF(AC13=\"F\",\"\",IF(AC13=\"T\",IF(S14<=Z13,\"þ\",IF(S14<=AA13,\"G2\",IF(S14<=AB13,\"G3\",\"\"))))))","v":"þ"},{"$f":"IF(S14=\"\",\"\",IF(AC13=\"T\",\"\",IF(AC13=\"F\",IF(S14>=Z13,\"þ\",IF(S14>=AA13,\"G2\",IF(S14>=AB13,\"G3\",\"\"))))))","v":""},{"$f":"C14","v":3},{"$f":"IF(F14=\"\",\"\",IF(LEFT(I14,1)=\"D\",0,VLOOKUP(E14,$AT$4:$AU$40,2,FALSE)))","v":9},{"$f":"D14","v":3},{"$f":"IF(P14=\"\",\"\",IF(LEFT(S14,1)=\"D\",0,VLOOKUP(O14,$AT$4:$AV$40,3,FALSE)))","v":9},14,null,33,null,null,null,null,null,"1==",{"$f":"SUM($AU$5:AU7)/3","v":7.333333333333333},{"$f":"SUM($AV$5:AV7)/3","v":7.333333333333333}]
[null,{"$f":"VLOOKUP(A14,Handbook!$A$4:$AK$24,37,FALSE)","v":8},{"$f":"IF(F15=\"\",\"\",IF(F15>10,F15/11,F15))","v":4},{"$f":"IF(P15=\"\",\"\",IF(P15>10,P15/11,P15))","v":6},2,4,{"$f":"IF($F15=\"\",\"\",HLOOKUP(F15,declare,B16,FALSE))","v":"Tope Faith-Nuqa"},{"$f":"IF($F15=\"\",\"\",VLOOKUP(C15,matchday,2,FALSE))","v":"Newham & Essex Beagles AC"},24.62,{"$f":"IF(I15=\"\",\"\",IF(AND(AC13=\"T\",I15<I14),\"X\",IF(AND(AC13=\"F\",I15>I14),\"X\",\"\")))","v":""},null,{"$f":"IF(OR(F15=0,F15=\"\",I15=0,I15=\"\"),\"\",IF(I15>A13,0,INT(((B13-I15)*D13/C13)+250)))","v":115},{"$f":"IF(AC13=\"T\",AD15,AE15)","v":"þ"},null,2,66,{"$f":"IF($P15=\"\",\"\",HLOOKUP(P15,declare,B16,FALSE))","v":"Emily Newton"},"Southampton AC",25.75,{"$f":"IF(S15=\"\",\"\",IF(AND(AC13=\"T\",S15<S14),\"X\",IF(AND(AC13=\"F\",S15>S14),\"X\",\"\")))","v":""},{"$f":"IF(OR(P15=0,P15=\"\",S15=0,S15=\"\"),\"\",IF(S15>A13,0,INT(((B13-S15)*D13/C13)+250)))","v":0},{"$f":"IF(AC13=\"T\",AF15,AG15)","v":"þ"},null,{"$f":"IF(AC13=\"T\",\"\",IF(I14>X13,\"LR\",IF(I14=X13,\"=LR\",IF(I14>Y13,\"DR\",IF(I14=Y13,\"=DR\",\"\")))))","v":""},null,null,null,null,null,{"$f":"IF(I15=\"\",\"\",IF(AC13=\"F\",\"\",IF(AC13=\"T\",IF(I15<=Z13,\"þ\",IF(I15<=AA13,\"G2\",IF(I15<=AB13,\"G3\",\"\"))))))","v":"þ"},{"$f":"IF(I15=\"\",\"\",IF(AC13=\"T\",\"\",IF(AC13=\"F\",IF(I15>=Z13,\"þ\",IF(I15>=AA13,\"G2\",IF(I15>=AB13,\"G3\",\"\"))))))","v":""},{"$f":"IF(S15=\"\",\"\",IF(AC13=\"F\",\"\",IF(AC13=\"T\",IF(S15<=Z13,\"þ\",IF(S15<=AA13,\"G2\",IF(S15<=AB13,\"G3\",\"\"))))))","v":"þ"},{"$f":"IF(S15=\"\",\"\",IF(AC13=\"T\",\"\",IF(AC13=\"F\",IF(S15>=Z13,\"þ\",IF(S15>=AA13,\"G2\",IF(S15>=AB13,\"G3\",\"\"))))))","v":""},{"$f":"C15","v":4},7,{"$f":"D15","v":6},7,15,null,44,null,null,null,null,null,"1===",{"$f":"SUM($AU$5:AU8)/4","v":6.75},{"$f":"SUM($AV$5:AV8)/4","v":6.75}]
[null,{"$f":"VLOOKUP(A14,declare,20,FALSE)","v":4},8,4,3,8,{"$f":"IF($F16=\"\",\"\",HLOOKUP(F16,declare,B16,FALSE))","v":"Ambwene Simukonda"},"Thames Valley H",24.89,{"$f":"IF(I16=\"\",\"\",IF(AND(AC13=\"T\",I16<I15),\"X\",IF(AND(AC13=\"F\",I16>I15),\"X\",\"\")))","v":""},null,{"$f":"IF(OR(F16=0,F16=\"\",I16=0,I16=\"\"),\"\",IF(I16>A13,0,INT(((B13-I16)*D13/C13)+250)))","v":97},{"$f":"IF(AC13=\"T\",AD16,AE16)","v":"þ"},null,3,44,{"$f":"IF($P16=\"\",\"\",HLOOKUP(P16,declare,B16,FALSE))","v":"Susannah Banjo"},"Newham & Essex Beagles AC",25.88,{"$f":"IF(S16=\"\",\"\",IF(AND(AC13=\"T\",S16<S15),\"X\",IF(AND(AC13=\"F\",S16>S15),\"X\",\"\")))","v":""},{"$f":"IF(OR(P16=0,P16=\"\",S16=0,S16=\"\"),\"\",IF(S16>A13,0,INT(((B13-S16)*D13/C13)+250)))","v":0},{"$f":"IF(AC13=\"T\",AF16,AG16)","v":"þ"},null,null,null,null,null,null,null,{"$f":"IF(I16=\"\",\"\",IF(AC13=\"F\",\"\",IF(AC13=\"T\",IF(I16<=Z13,\"þ\",IF(I16<=AA13,\"G2\",IF(I16<=AB13,\"G3\",\"\"))))))","v":"þ"},{"$f":"IF(I16=\"\",\"\",IF(AC13=\"T\",\"\",IF(AC13=\"F\",IF(I16>=Z13,\"þ\",IF(I16>=AA13,\"G2\",IF(I16>=AB13,\"G3\",\"\"))))))","v":""},{"$f":"IF(S16=\"\",\"\",IF(AC13=\"F\",\"\",IF(AC13=\"T\",IF(S16<=Z13,\"þ\",IF(S16<=AA13,\"G2\",IF(S16<=AB13,\"G3\",\"\"))))))","v":"þ"},{"$f":"IF(S16=\"\",\"\",IF(AC13=\"T\",\"\",IF(AC13=\"F\",IF(S16>=Z13,\"þ\",IF(S16>=AA13,\"G2\",IF(S16>=AB13,\"G3\",\"\"))))))","v":""},8,6,4,6,16,null,55,null,null,null,null,null,"1====",{"$f":"SUM($AU$5:AU9)/5","v":6.2},{"$f":"SUM($AV$5:AV9)/5","v":6.2}]
[null,null,5,2,4,5,{"$f":"IF($F17=\"\",\"\",HLOOKUP(F17,declare,B16,FALSE))","v":"Chisom Nwachukwu (U20)"},"Shaftesbury Barnet H",25.1,{"$f":"IF(I17=\"\",\"\",IF(AND(AC13=\"T\",I17<I16),\"X\",IF(AND(AC13=\"F\",I17>I16),\"X\",\"\")))","v":""},null,{"$f":"IF(OR(F17=0,F17=\"\",I17=0,I17=\"\"),\"\",IF(I17>A13,0,INT(((B13-I17)*D13/C13)+250)))","v":83},{"$f":"IF(AC13=\"T\",AD17,AE17)","v":"þ"},null,4,22,{"$f":"IF($P17=\"\",\"\",HLOOKUP(P17,declare,B16,FALSE))","v":"Emily Martin"},"Blackheath & Bromley H",26.01,{"$f":"IF(S17=\"\",\"\",IF(AND(AC13=\"T\",S17<S16),\"X\",IF(AND(AC13=\"F\",S17>S16),\"X\",\"\")))","v":""},{"$f":"IF(OR(P17=0,P17=\"\",S17=0,S17=\"\"),\"\",IF(S17>A13,0,INT(((B13-S17)*D13/C13)+250)))","v":0},{"$f":"IF(AC13=\"T\",AF17,AG17)","v":"þ"},null,null,null,null,null,null,null,{"$f":"IF(I17=\"\",\"\",IF(AC13=\"F\",\"\",IF(AC13=\"T\",IF(I17<=Z13,\"þ\",IF(I17<=AA13,\"G2\",IF(I17<=AB13,\"G3\",\"\"))))))","v":"þ"},{"$f":"IF(I17=\"\",\"\",IF(AC13=\"T\",\"\",IF(AC13=\"F\",IF(I17>=Z13,\"þ\",IF(I17>=AA13,\"G2\",IF(I17>=AB13,\"G3\",\"\"))))))","v":""},{"$f":"IF(S17=\"\",\"\",IF(AC13=\"F\",\"\",IF(AC13=\"T\",IF(S17<=Z13,\"þ\",IF(S17<=AA13,\"G2\",IF(S17<=AB13,\"G3\",\"\"))))))","v":"þ"},{"$f":"IF(S17=\"\",\"\",IF(AC13=\"T\",\"\",IF(AC13=\"F\",IF(S17>=Z13,\"þ\",IF(S17>=AA13,\"G2\",IF(S17>=AB13,\"G3\",\"\"))))))","v":""},5,5,2,5,17,null,66,null,null,null,null,null,"1=====",{"$f":"SUM($AU$5:AU10)/6","v":5.666666666666667},{"$f":"SUM($AV$5:AV10)/6","v":5.666666666666667}]
[null,null,7,7,5,7,{"$f":"IF($F18=\"\",\"\",HLOOKUP(F18,declare,B16,FALSE))","v":"Rebecca Williams"},"Swansea H",25.12,{"$f":"IF(I18=\"\",\"\",IF(AND(AC13=\"T\",I18<I17),\"X\",IF(AND(AC13=\"F\",I18>I17),\"X\",\"\")))","v":""},null,{"$f":"IF(OR(F18=0,F18=\"\",I18=0,I18=\"\"),\"\",IF(I18>A13,0,INT(((B13-I18)*D13/C13)+250)))","v":81},{"$f":"IF(AC13=\"T\",AD18,AE18)","v":"þ"},null,5,77,{"$f":"IF($P18=\"\",\"\",HLOOKUP(P18,declare,B16,FALSE))","v":"Megan Rogers"},"Swansea H",26.22,{"$f":"IF(S18=\"\",\"\",IF(AND(AC13=\"T\",S18<S17),\"X\",IF(AND(AC13=\"F\",S18>S17),\"X\",\"\")))","v":""},{"$f":"IF(OR(P18=0,P18=\"\",S18=0,S18=\"\"),\"\",IF(S18>A13,0,INT(((B13-S18)*D13/C13)+250)))","v":0},{"$f":"IF(AC13=\"T\",AF18,AG18)","v":"þ"},null,null,null,null,null,null,null,{"$f":"IF(I18=\"\",\"\",IF(AC13=\"F\",\"\",IF(AC13=\"T\",IF(I18<=Z13,\"þ\",IF(I18<=AA13,\"G2\",IF(I18<=AB13,\"G3\",\"\"))))))","v":"þ"},{"$f":"IF(I18=\"\",\"\",IF(AC13=\"T\",\"\",IF(AC13=\"F\",IF(I18>=Z13,\"þ\",IF(I18>=AA13,\"G2\",IF(I18>=AB13,\"G3\",\"\"))))))","v":""},{"$f":"IF(S18=\"\",\"\",IF(AC13=\"F\",\"\",IF(AC13=\"T\",IF(S18<=Z13,\"þ\",IF(S18<=AA13,\"G2\",IF(S18<=AB13,\"G3\",\"\"))))))","v":"þ"},{"$f":"IF(S18=\"\",\"\",IF(AC13=\"T\",\"\",IF(AC13=\"F\",IF(S18>=Z13,\"þ\",IF(S18>=AA13,\"G2\",IF(S18>=AB13,\"G3\",\"\"))))))","v":""},7,4,7,4,18,null,77,null,null,null,null,null,"1======",{"$f":"SUM($AU$5:AU11)/7","v":5.1428571428571432},{"$f":"SUM($AV$5:AV11)/7","v":5.1428571428571432}]
[null,null,1,5,6,1,{"$f":"IF($F19=\"\",\"\",HLOOKUP(F19,declare,B16,FALSE))","v":"Emma Bailey"},"Bedford & County AC",25.45,{"$f":"IF(I19=\"\",\"\",IF(AND(AC13=\"T\",I19<I18),\"X\",IF(AND(AC13=\"F\",I19>I18),\"X\",\"\")))","v":""},null,{"$f":"IF(OR(F19=0,F19=\"\",I19=0,I19=\"\"),\"\",IF(I19>A13,0,INT(((B13-I19)*D13/C13)+250)))","v":59},{"$f":"IF(AC13=\"T\",AD19,AE19)","v":"þ"},null,6,55,{"$f":"IF($P19=\"\",\"\",HLOOKUP(P19,declare,B16,FALSE))","v":"Makeda Lewis (U20)"},"Shaftesbury Barnet H",26.31,{"$f":"IF(S19=\"\",\"\",IF(AND(AC13=\"T\",S19<S18),\"X\",IF(AND(AC13=\"F\",S19>S18),\"X\",\"\")))","v":""},{"$f":"IF(OR(P19=0,P19=\"\",S19=0,S19=\"\"),\"\",IF(S19>A13,0,INT(((B13-S19)*D13/C13)+250)))","v":0},{"$f":"IF(AC13=\"T\",AF19,AG19)","v":"þ"},null,null,null,null,null,null,null,{"$f":"IF(I19=\"\",\"\",IF(AC13=\"F\",\"\",IF(AC13=\"T\",IF(I19<=Z13,\"þ\",IF(I19<=AA13,\"G2\",IF(I19<=AB13,\"G3\",\"\"))))))","v":"þ"},{"$f":"IF(I19=\"\",\"\",IF(AC13=\"T\",\"\",IF(AC13=\"F\",IF(I19>=Z13,\"þ\",IF(I19>=AA13,\"G2\",IF(I19>=AB13,\"G3\",\"\"))))))","v":""},{"$f":"IF(S19=\"\",\"\",IF(AC13=\"F\",\"\",IF(AC13=\"T\",IF(S19<=Z13,\"þ\",IF(S19<=AA13,\"G2\",IF(S19<=AB13,\"G3\",\"\"))))))","v":"þ"},{"$f":"IF(S19=\"\",\"\",IF(AC13=\"T\",\"\",IF(AC13=\"F\",IF(S19>=Z13,\"þ\",IF(S19>=AA13,\"G2\",IF(S19>=AB13,\"G3\",\"\"))))))","v":""},1,3,5,3,19,null,88,null,null,null,null,null,"1=======",{"$f":"SUM($AU$5:AU12)/8","v":4.625},{"$f":"SUM($AV$5:AV12)/8","v":4.625}]
[null,null,6,"",7,6,{"$f":"IF($F20=\"\",\"\",HLOOKUP(F20,declare,B16,FALSE))","v":"Becca Carozzi"},"Southampton AC",25.46,{"$f":"IF(I20=\"\",\"\",IF(AND(AC13=\"T\",I20<I19),\"X\",IF(AND(AC13=\"F\",I20>I19),\"X\",\"\")))","v":""},null,{"$f":"IF(OR(F20=0,F20=\"\",I20=0,I20=\"\"),\"\",IF(I20>A13,0,INT(((B13-I20)*D13/C13)+250)))","v":59},{"$f":"IF(AC13=\"T\",AD20,AE20)","v":"þ"},null,7,null,{"$f":"IF($P20=\"\",\"\",HLOOKUP(P20,declare,B16,FALSE))","v":""},"",null,{"$f":"IF(S20=\"\",\"\",IF(AND(AC13=\"T\",S20<S19),\"X\",IF(AND(AC13=\"F\",S20>S19),\"X\",\"\")))","v":""},{"$f":"IF(OR(P20=0,P20=\"\",S20=0,S20=\"\"),\"\",IF(S20>A13,0,INT(((B13-S20)*D13/C13)+250)))","v":""},{"$f":"IF(AC13=\"T\",AF20,AG20)","v":""},null,null,null,null,null,null,null,{"$f":"IF(I20=\"\",\"\",IF(AC13=\"F\",\"\",IF(AC13=\"T\",IF(I20<=Z13,\"þ\",IF(I20<=AA13,\"G2\",IF(I20<=AB13,\"G3\",\"\"))))))","v":"þ"},{"$f":"IF(I20=\"\",\"\",IF(AC13=\"T\",\"\",IF(AC13=\"F\",IF(I20>=Z13,\"þ\",IF(I20>=AA13,\"G2\",IF(I20>=AB13,\"G3\",\"\"))))))","v":""},{"$f":"IF(S20=\"\",\"\",IF(AC13=\"F\",\"\",IF(AC13=\"T\",IF(S20<=Z13,\"þ\",IF(S20<=AA13,\"G2\",IF(S20<=AB13,\"G3\",\"\"))))))","v":""},{"$f":"IF(S20=\"\",\"\",IF(AC13=\"T\",\"\",IF(AC13=\"F\",IF(S20>=Z13,\"þ\",IF(S20>=AA13,\"G2\",IF(S20>=AB13,\"G3\",\"\"))))))","v":""},6,2,"","",20,null,99,null,null,null,null,null,"2=",{"$f":"SUM($AU$6:AU7)/2","v":6.5},{"$f":"SUM($AV$6:AV7)/2","v":6.5}]
[null,null,2,"",8,2,{"$f":"IF($F21=\"\",\"\",HLOOKUP(F21,declare,B16,FALSE))","v":"Yimika Adewakun"},"Blackheath & Bromley H",25.83,{"$f":"IF(I21=\"\",\"\",IF(AND(AC13=\"T\",I21<I20),\"X\",IF(AND(AC13=\"F\",I21>I20),\"X\",\"\")))","v":""},null,{"$f":"IF(OR(F21=0,F21=\"\",I21=0,I21=\"\"),\"\",IF(I21>A13,0,INT(((B13-I21)*D13/C13)+250)))","v":0},{"$f":"IF(AC13=\"T\",AD21,AE21)","v":"þ"},null,8,null,{"$f":"IF($P21=\"\",\"\",HLOOKUP(P21,declare,B16,FALSE))","v":""},"",null,{"$f":"IF(S21=\"\",\"\",IF(AND(AC13=\"T\",S21<S20),\"X\",IF(AND(AC13=\"F\",S21>S20),\"X\",\"\")))","v":""},{"$f":"IF(OR(P21=0,P21=\"\",S21=0,S21=\"\"),\"\",IF(S21>A13,0,INT(((B13-S21)*D13/C13)+250)))","v":""},{"$f":"IF(AC13=\"T\",AF21,AG21)","v":""},null,null,null,null,null,null,null,{"$f":"IF(I21=\"\",\"\",IF(AC13=\"F\",\"\",IF(AC13=\"T\",IF(I21<=Z13,\"þ\",IF(I21<=AA13,\"G2\",IF(I21<=AB13,\"G3\",\"\"))))))","v":"þ"},{"$f":"IF(I21=\"\",\"\",IF(AC13=\"T\",\"\",IF(AC13=\"F\",IF(I21>=Z13,\"þ\",IF(I21>=AA13,\"G2\",IF(I21>=AB13,\"G3\",\"\"))))))","v":""},{"$f":"IF(S21=\"\",\"\",IF(AC13=\"F\",\"\",IF(AC13=\"T\",IF(S21<=Z13,\"þ\",IF(S21<=AA13,\"G2\",IF(S21<=AB13,\"G3\",\"\"))))))","v":""},{"$f":"IF(S21=\"\",\"\",IF(AC13=\"T\",\"\",IF(AC13=\"F\",IF(S21>=Z13,\"þ\",IF(S21>=AA13,\"G2\",IF(S21>=AB13,\"G3\",\"\"))))))","v":""},2,1,"","",21,null,97,null,null,null,null,null,"2==",{"$f":"SUM($AU$6:AU8)/3","v":6},{"$f":"SUM($AV$6:AV8)/3","v":6}]
[null,null,null,null,null,null,null,null,null,null,null,null,null,null,null,null,null,null,null,null,null,null,null,null,null,null,null,null,null,null,null,null,null,null,null,null,null,22,null,98,null,null,null,null,null,"2===",{"$f":"SUM($AU$6:AU9)/4","v":5.5},{"$f":"SUM($AV$6:AV9)/4","v":5.5}]
[58.75,50.75,0.1,2.5,{"$f":"CONCATENATE(VLOOKUP(A24,mens_handbook,3,FALSE),\" A\")","v":"Women's 400m A"},null,null,{"$f":"IF(A24=\"\",\"\",IF(VLOOKUP(A24,Handbook!$A$4:$AI$24,35,FALSE)=\"Y\",\"Wind=\",\"\"))","v":""},null,null,null,null,null,null,{"$f":"CONCATENATE(VLOOKUP(A24,mens_handbook,3,FALSE),\" B\")","v":"Women's 400m B"},null,null,{"$f":"H23","v":""},null,null,null,null,null,{"$f":"IF($A24=\"\",\"\",VLOOKUP($A24,Handbook!$A$4:$V$24,21,FALSE))","v":51.7},{"$f":"IF($A24=\"\",\"\",VLOOKUP($A24,Handbook!$A$4:$V$24,22,FALSE))","v":52.8},{"$f":"IF($A24=\"\",\"\",VLOOKUP($A24,Handbook!$A$4:$W$24,23,FALSE))","v":62},{"$f":"IF($A24=\"\",\"\",VLOOKUP($A24,Handbook!$A$4:$X$24,24,FALSE))","v":62},{"$f":"IF($A24=\"\",\"\",VLOOKUP($A24,Handbook!$A$4:$Y$24,25,FALSE))","v":62},{"$f":"IF($A24=\"\",\"\",VLOOKUP($A24,Handbook!$A$4:$AH$24,34,FALSE))","v":"T"},null,null,null,null,null,null,null,null,23,null,96,null,null,null,null,null,"2====",{"$f":"SUM($AU$6:AU10)/5","v":5},{"$f":"SUM($AV$6:AV10)/5","v":5}]
[4,null,{"$f":"IF(F24=\"\",\"\",IF(F24>10,F24/11,F24))","v":8},{"$f":"IF(P24=\"\",\"\",IF(P24>10,P24/11,P24))","v":6},1,8,{"$f":"IF($F24=\"\",\"\",IF($F24>90,VLOOKUP(F24,eventcodes,2,FALSE),HLOOKUP(F24,declare,B26,FALSE)))","v":"Ambwene Simukonda"},{"$f":"IF($F24=\"\",\"\",IF($F24>90,\"\",VLOOKUP(C24,matchday,2,FALSE)))","v":"Thames Valley H"},54.5,{"$f":"IF(I24=\"\",\"\",IF(AC23=\"T\",X24,X25))","v":""},null,{"$f":"IF(OR(F24=0,F24=\"\",I24=0,I24=\"\"),\"\",IF(I24>A23,0,INT(((B23-I24)*D23/C23)+250)))","v":156},{"$f":"IF(AC23=\"T\",AD24,AE24)","v":"þ"},null,1,66,{"$f":"IF($P24=\"\",\"\",HLOOKUP(P24,declare,B26,FALSE))","v":"Emily Bonnett"},{"$f":"IF($P24=\"\",\"\",VLOOKUP(D24,matchday,2,FALSE))","v":"Southampton AC"},56.68,null,{"$f":"IF(OR(P24=0,P24=\"\",S24=0,S24=\"\"),\"\",IF(S24>A23,0,INT(((B23-S24)*D23/C23)+250)))","v":101},{"$f":"IF(AC23=\"T\",AF24,AG24)","v":"þ"},null,{"$f":"IF(AC23=\"F\",\"\",IF(I24<X23,\"LR\",IF(I24=X23,\"=LR\",IF(I24<Y23,\"DR\",IF(I24=Y23,\"=DR\",\"\")))))","v":""},null,null,null,null,null,{"$f":"IF(I24=\"\",\"\",IF(AC23=\"F\",\"\",IF(AC23=\"T\",IF(I24<=Z23,\"þ\",IF(I24<=AA23,\"G2\",IF(I24<=AB23,\"G3\",\"\"))))))","v":"þ"},{"$f":"IF(I24=\"\",\"\",IF(AC23=\"T\",\"\",IF(AC23=\"F\",IF(I24>=Z23,\"þ\",IF(I24>=AA23,\"G2\",IF(I24>=AB23,\"G3\",\"\"))))))","v":""},{"$f":"IF(S24=\"\",\"\",IF(AC23=\"F\",\"\",IF(AC23=\"T\",IF(S24<=Z23,\"þ\",IF(S24<=AA23,\"G2\",IF(S24<=AB23,\"G3\",\"\"))))))","v":"þ"},{"$f":"IF(S24=\"\",\"\",IF(AC23=\"T\",\"\",IF(AC23=\"F\",IF(S24>=Z23,\"þ\",IF(S24>=AA23,\"G2\",IF(S24>=AB23,\"G3\",\"\"))))))","v":""},{"$f":"C24","v":8},{"$f":"IF(F24=\"\",\"\",IF(LEFT(I24,1)=\"D\",0,VLOOKUP(E24,$AT$4:$AU$40,2,FALSE)))","v":9},{"$f":"D24","v":6},{"$f":"IF(P24=\"\",\"\",IF(LEFT(S24,1)=\"D\",0,VLOOKUP(O24,$AT$4:$AV$40,3,FALSE)))","v":9},24,null,"Events Not Held Codes",null,null,null,null,null,"2=====",{"$f":"SUM($AU$6:AU11)/6","v":4.5},{"$f":"SUM($AV$6:AV11)/6","v":4.5}]
[null,{"$f":"VLOOKUP(A24,Handbook!$A$4:$AK$24,37,FALSE)","v":5},{"$f":"IF(F25=\"\",\"\",IF(F25>10,F25/11,F25))","v":2},{"$f":"IF(P25=\"\",\"\",IF(P25>10,P25/11,P25))","v":2},2,2,{"$f":"IF($F25=\"\",\"\",HLOOKUP(F25,declare,B26,FALSE))","v":"Yimika Adewakun"},{"$f":"IF($F25=\"\",\"\",VLOOKUP(C25,matchday,2,FALSE))","v":"Blackheath & Bromley H"},55.65,{"$f":"IF(I25=\"\",\"\",IF(AND(AC23=\"T\",I25<I24),\"X\",IF(AND(AC23=\"F\",I25>I24),\"X\",\"\")))","v":""},null,{"$f":"IF(OR(F25=0,F25=\"\",I25=0,I25=\"\"),\"\",IF(I25>A23,0,INT(((B23-I25)*D23/C23)+250)))","v":127},{"$f":"IF(AC23=\"T\",AD25,AE25)","v":"þ"},null,2,22,{"$f":"IF($P25=\"\",\"\",HLOOKUP(P25,declare,B26,FALSE))","v":"Krystal Galley"},"Blackheath & Bromley H",57.08,{"$f":"IF(S25=\"\",\"\",IF(AND(AC23=\"T\",S25<S24),\"X\",IF(AND(AC23=\"F\",S25>S24),\"X\",\"\")))","v":""},{"$f":"IF(OR(P25=0,P25=\"\",S25=0,S25=\"\"),\"\",IF(S25>A23,0,INT(((B23-S25)*D23/C23)+250)))","v":91},{"$f":"IF(AC23=\"T\",AF25,AG25)","v":"þ"},null,{"$f":"IF(AC23=\"T\",\"\",IF(I24>X23,\"LR\",IF(I24=X23,\"=LR\",IF(I24>Y23,\"DR\",IF(I24=Y23,\"=DR\",\"\")))))","v":""},null,null,null,null,null,{"$f":"IF(I25=\"\",\"\",IF(AC23=\"F\",\"\",IF(AC23=\"T\",IF(I25<=Z23,\"þ\",IF(I25<=AA23,\"G2\",IF(I25<=AB23,\"G3\",\"\"))))))","v":"þ"},{"$f":"IF(I25=\"\",\"\",IF(AC23=\"T\",\"\",IF(AC23=\"F\",IF(I25>=Z23,\"þ\",IF(I25>=AA23,\"G2\",IF(I25>=AB23,\"G3\",\"\"))))))","v":""},{"$f":"IF(S25=\"\",\"\",IF(AC23=\"F\",\"\",IF(AC23=\"T\",IF(S25<=Z23,\"þ\",IF(S25<=AA23,\"G2\",IF(S25<=AB23,\"G3\",\"\"))))))","v":"þ"},{"$f":"IF(S25=\"\",\"\",IF(AC23=\"T\",\"\",IF(AC23=\"F\",IF(S25>=Z23,\"þ\",IF(S25>=AA23,\"G2\",IF(S25>=AB23,\"G3\",\"\"))))))","v":""},{"$f":"C25","v":2},7,{"$f":"D25","v":2},7,25,97,"Open Heights Not Cleared",null,null,null,null,null,"2======",{"$f":"SUM($AU$6:AU12)/7","v":4},{"$f":"SUM($AV$6:AV12)/7","v":4}]
[null,{"$f":"VLOOKUP(A24,declare,20,FALSE)","v":5},6,4,3,6,{"$f":"IF($F26=\"\",\"\",HLOOKUP(F26,declare,B26,FALSE))","v":"Millie Clifford"},"Southampton AC",56.69,{"$f":"IF(I26=\"\",\"\",IF(AND(AC23=\"T\",I26<I25),\"X\",IF(AND(AC23=\"F\",I26>I25),\"X\",\"\")))","v":""},null,{"$f":"IF(OR(F26=0,F26=\"\",I26=0,I26=\"\"),\"\",IF(I26>A23,0,INT(((B23-I26)*D23/C23)+250)))","v":101},{"$f":"IF(AC23=\"T\",AD26,AE26)","v":"þ"},null,3,44,{"$f":"IF($P26=\"\",\"\",HLOOKUP(P26,declare,B26,FALSE))","v":"Kate Laidlow"},"Newham & Essex Beagles AC",58.4,{"$f":"IF(S26=\"\",\"\",IF(AND(AC23=\"T\",S26<S25),\"X\",IF(AND(AC23=\"F\",S26>S25),\"X\",\"\")))","v":""},{"$f":"IF(OR(P26=0,P26=\"\",S26=0,S26=\"\"),\"\",IF(S26>A23,0,INT(((B23-S26)*D23/C23)+250)))","v":58},{"$f":"IF(AC23=\"T\",AF26,AG26)","v":"þ"},null,null,null,null,null,null,null,{"$f":"IF(I26=\"\",\"\",IF(AC23=\"F\",\"\",IF(AC23=\"T\",IF(I26<=Z23,\"þ\",IF(I26<=AA23,\"G2\",IF(I26<=AB23,\"G3\",\"\"))))))","v":"þ"},{"$f":"IF(I26=\"\",\"\",IF(AC23=\"T\",\"\",IF(AC23=\"F\",IF(I26>=Z23,\"þ\",IF(I26>=AA23,\"G2\",IF(I26>=AB23,\"G3\",\"\"))))))","v":""},{"$f":"IF(S26=\"\",\"\",IF(AC23=\"F\",\"\",IF(AC23=\"T\",IF(S26<=Z23,\"þ\",IF(S26<=AA23,\"G2\",IF(S26<=AB23,\"G3\",\"\"))))))","v":"þ"},{"$f":"IF(S26=\"\",\"\",IF(AC23=\"T\",\"\",IF(AC23=\"F\",IF(S26>=Z23,\"þ\",IF(S26>=AA23,\"G2\",IF(S26>=AB23,\"G3\",\"\"))))))","v":""},6,6,4,6,26,98,"No Valid Performances",null,null,null,null,null,"3=",{"$f":"SUM($AU$7:AU8)/2","v":5.5},{"$f":"SUM($AV$7:AV8)/2","v":5.5}]
[null,null,7,8,4,7,{"$f":"IF($F27=\"\",\"\",HLOOKUP(F27,declare,B26,FALSE))","v":"Megan Rogers"},"Swansea H",57.15,{"$f":"IF(I27=\"\",\"\",IF(AND(AC23=\"T\",I27<I26),\"X\",IF(AND(AC23=\"F\",I27>I26),\"X\",\"\")))","v":""},null,{"$f":"IF(OR(F27=0,F27=\"\",I27=0,I27=\"\"),\"\",IF(I27>A23,0,INT(((B23-I27)*D23/C23)+250)))","v":90},{"$f":"IF(AC23=\"T\",AD27,AE27)","v":"þ"},null,4,88,{"$f":"IF($P27=\"\",\"\",HLOOKUP(P27,declare,B26,FALSE))","v":"Cleopatra Moulon"},"Thames Valley H",64.28,{"$f":"IF(S27=\"\",\"\",IF(AND(AC23=\"T\",S27<S26),\"X\",IF(AND(AC23=\"F\",S27>S26),\"X\",\"\")))","v":""},{"$f":"IF(OR(P27=0,P27=\"\",S27=0,S27=\"\"),\"\",IF(S27>A23,0,INT(((B23-S27)*D23/C23)+250)))","v":0},{"$f":"IF(AC23=\"T\",AF27,AG27)","v":""},null,null,null,null,null,null,null,{"$f":"IF(I27=\"\",\"\",IF(AC23=\"F\",\"\",IF(AC23=\"T\",IF(I27<=Z23,\"þ\",IF(I27<=AA23,\"G2\",IF(I27<=AB23,\"G3\",\"\"))))))","v":"þ"},{"$f":"IF(I27=\"\",\"\",IF(AC23=\"T\",\"\",IF(AC23=\"F\",IF(I27>=Z23,\"þ\",IF(I27>=AA23,\"G2\",IF(I27>=AB23,\"G3\",\"\"))))))","v":""},{"$f":"IF(S27=\"\",\"\",IF(AC23=\"F\",\"\",IF(AC23=\"T\",IF(S27<=Z23,\"þ\",IF(S27<=AA23,\"G2\",IF(S27<=AB23,\"G3\",\"\"))))))","v":""},{"$f":"IF(S27=\"\",\"\",IF(AC23=\"T\",\"\",IF(AC23=\"F\",IF(S27>=Z23,\"þ\",IF(S27>=AA23,\"G2\",IF(S27>=AB23,\"G3\",\"\"))))))","v":""},7,5,8,5,27,99,"Event Cancelled",null,null,null,null,null,"3==",{"$f":"SUM($AU$7:AU9)/3","v":5},{"$f":"SUM($AV$7:AV9)/3","v":5}]
[null,null,4,7,5,4,{"$f":"IF($F28=\"\",\"\",HLOOKUP(F28,declare,B26,FALSE))","v":"Mubarakat Akinshipo"},"Newham & Essex Beagles AC",62.48,{"$f":"IF(I28=\"\",\"\",IF(AND(AC23=\"T\",I28<I27),\"X\",IF(AND(AC23=\"F\",I28>I27),\"X\",\"\")))","v":""},null,{"$f":"IF(OR(F28=0,F28=\"\",I28=0,I28=\"\"),\"\",IF(I28>A23,0,INT(((B23-I28)*D23/C23)+250)))","v":0},{"$f":"IF(AC23=\"T\",AD28,AE28)","v":""},null,5,77,{"$f":"IF($P28=\"\",\"\",HLOOKUP(P28,declare,B26,FALSE))","v":"Elin Leyshon"},"Swansea H",71.97,{"$f":"IF(S28=\"\",\"\",IF(AND(AC23=\"T\",S28<S27),\"X\",IF(AND(AC23=\"F\",S28>S27),\"X\",\"\")))","v":""},{"$f":"IF(OR(P28=0,P28=\"\",S28=0,S28=\"\"),\"\",IF(S28>A23,0,INT(((B23-S28)*D23/C23)+250)))","v":0},{"$f":"IF(AC23=\"T\",AF28,AG28)","v":""},null,null,null,null,null,null,null,{"$f":"IF(I28=\"\",\"\",IF(AC23=\"F\",\"\",IF(AC23=\"T\",IF(I28<=Z23,\"þ\",IF(I28<=AA23,\"G2\",IF(I28<=AB23,\"G3\",\"\"))))))","v":""},{"$f":"IF(I28=\"\",\"\",IF(AC23=\"T\",\"\",IF(AC23=\"F\",IF(I28>=Z23,\"þ\",IF(I28>=AA23,\"G2\",IF(I28>=AB23,\"G3\",\"\"))))))","v":""},{"$f":"IF(S28=\"\",\"\",IF(AC23=\"F\",\"\",IF(AC23=\"T\",IF(S28<=Z23,\"þ\",IF(S28<=AA23,\"G2\",IF(S28<=AB23,\"G3\",\"\"))))))","v":""},{"$f":"IF(S28=\"\",\"\",IF(AC23=\"T\",\"\",IF(AC23=\"F\",IF(S28>=Z23,\"þ\",IF(S28>=AA23,\"G2\",IF(S28>=AB23,\"G3\",\"\"))))))","v":""},4,4,7,4,28,96,"No Competitors Entered",null,null,null,null,null,"3===",{"$f":"SUM($AU$7:AU10)/4","v":4.5},{"$f":"SUM($AV$7:AV10)/4","v":4.5}]
[null,null,5,"",6,5,{"$f":"IF($F29=\"\",\"\",HLOOKUP(F29,declare,B26,FALSE))","v":"Gerda Vaitkaityte"},"Shaftesbury Barnet H",63.48,{"$f":"IF(I29=\"\",\"\",IF(AND(AC23=\"T\",I29<I28),\"X\",IF(AND(AC23=\"F\",I29>I28),\"X\",\"\")))","v":""},null,{"$f":"IF(OR(F29=0,F29=\"\",I29=0,I29=\"\"),\"\",IF(I29>A23,0,INT(((B23-I29)*D23/C23)+250)))","v":0},{"$f":"IF(AC23=\"T\",AD29,AE29)","v":""},null,6,null,{"$f":"IF($P29=\"\",\"\",HLOOKUP(P29,declare,B26,FALSE))","v":""},"",null,{"$f":"IF(S29=\"\",\"\",IF(AND(AC23=\"T\",S29<S28),\"X\",IF(AND(AC23=\"F\",S29>S28),\"X\",\"\")))","v":""},{"$f":"IF(OR(P29=0,P29=\"\",S29=0,S29=\"\"),\"\",IF(S29>A23,0,INT(((B23-S29)*D23/C23)+250)))","v":""},{"$f":"IF(AC23=\"T\",AF29,AG29)","v":""},null,null,null,null,null,null,null,{"$f":"IF(I29=\"\",\"\",IF(AC23=\"F\",\"\",IF(AC23=\"T\",IF(I29<=Z23,\"þ\",IF(I29<=AA23,\"G2\",IF(I29<=AB23,\"G3\",\"\"))))))","v":""},{"$f":"IF(I29=\"\",\"\",IF(AC23=\"T\",\"\",IF(AC23=\"F\",IF(I29>=Z23,\"þ\",IF(I29>=AA23,\"G2\",IF(I29>=AB23,\"G3\",\"\"))))))","v":""},{"$f":"IF(S29=\"\",\"\",IF(AC23=\"F\",\"\",IF(AC23=\"T\",IF(S29<=Z23,\"þ\",IF(S29<=AA23,\"G2\",IF(S29<=AB23,\"G3\",\"\"))))))","v":""},{"$f":"IF(S29=\"\",\"\",IF(AC23=\"T\",\"\",IF(AC23=\"F\",IF(S29>=Z23,\"þ\",IF(S29>=AA23,\"G2\",IF(S29>=AB23,\"G3\",\"\"))))))","v":""},5,3,"","",29,null,null,null,null,null,null,null,"3====",{"$f":"SUM($AU$7:AU11)/5","v":4},{"$f":"SUM($AV$7:AV11)/5","v":4}]
[null,null,3,"",7,3,{"$f":"IF($F30=\"\",\"\",HLOOKUP(F30,declare,B26,FALSE))","v":"Di Baldwin (V50)"},"Marshall Milton Keynes AC",82.7,{"$f":"IF(I30=\"\",\"\",IF(AND(AC23=\"T\",I30<I29),\"X\",IF(AND(AC23=\"F\",I30>I29),\"X\",\"\")))","v":""},null,{"$f":"IF(OR(F30=0,F30=\"\",I30=0,I30=\"\"),\"\",IF(I30>A23,0,INT(((B23-I30)*D23/C23)+250)))","v":0},{"$f":"IF(AC23=\"T\",AD30,AE30)","v":""},null,7,null,{"$f":"IF($P30=\"\",\"\",HLOOKUP(P30,declare,B26,FALSE))","v":""},"",null,{"$f":"IF(S30=\"\",\"\",IF(AND(AC23=\"T\",S30<S29),\"X\",IF(AND(AC23=\"F\",S30>S29),\"X\",\"\")))","v":""},{"$f":"IF(OR(P30=0,P30=\"\",S30=0,S30=\"\"),\"\",IF(S30>A23,0,INT(((B23-S30)*D23/C23)+250)))","v":""},{"$f":"IF(AC23=\"T\",AF30,AG30)","v":""},null,null,null,null,null,null,null,{"$f":"IF(I30=\"\",\"\",IF(AC23=\"F\",\"\",IF(AC23=\"T\",IF(I30<=Z23,\"þ\",IF(I30<=AA23,\"G2\",IF(I30<=AB23,\"G3\",\"\"))))))","v":""},{"$f":"IF(I30=\"\",\"\",IF(AC23=\"T\",\"\",IF(AC23=\"F\",IF(I30>=Z23,\"þ\",IF(I30>=AA23,\"G2\",IF(I30>=AB23,\"G3\",\"\"))))))","v":""},{"$f":"IF(S30=\"\",\"\",IF(AC23=\"F\",\"\",IF(AC23=\"T\",IF(S30<=Z23,\"þ\",IF(S30<=AA23,\"G2\",IF(S30<=AB23,\"G3\",\"\"))))))","v":""},{"$f":"IF(S30=\"\",\"\",IF(AC23=\"T\",\"\",IF(AC23=\"F\",IF(S30>=Z23,\"þ\",IF(S30>=AA23,\"G2\",IF(S30>=AB23,\"G3\",\"\"))))))","v":""},3,2,"","",30,null,null,null,null,null,null,null,"3=====",{"$f":"SUM($AU$7:AU12)/6","v":3.5},{"$f":"SUM($AV$7:AV12)/6","v":3.5}]
[null,null,"","",8,null,{"$f":"IF($F31=\"\",\"\",HLOOKUP(F31,declare,B26,FALSE))","v":""},"",null,{"$f":"IF(I31=\"\",\"\",IF(AND(AC23=\"T\",I31<I30),\"X\",IF(AND(AC23=\"F\",I31>I30),\"X\",\"\")))","v":""},null,{"$f":"IF(OR(F31=0,F31=\"\",I31=0,I31=\"\"),\"\",IF(I31>A23,0,INT(((B23-I31)*D23/C23)+250)))","v":""},{"$f":"IF(AC23=\"T\",AD31,AE31)","v":""},null,8,null,{"$f":"IF($P31=\"\",\"\",HLOOKUP(P31,declare,B26,FALSE))","v":""},"",null,{"$f":"IF(S31=\"\",\"\",IF(AND(AC23=\"T\",S31<S30),\"X\",IF(AND(AC23=\"F\",S31>S30),\"X\",\"\")))","v":""},{"$f":"IF(OR(P31=0,P31=\"\",S31=0,S31=\"\"),\"\",IF(S31>A23,0,INT(((B23-S31)*D23/C23)+250)))","v":""},{"$f":"IF(AC23=\"T\",AF31,AG31)","v":""},null,null,null,null,null,null,null,{"$f":"IF(I31=\"\",\"\",IF(AC23=\"F\",\"\",IF(AC23=\"T\",IF(I31<=Z23,\"þ\",IF(I31<=AA23,\"G2\",IF(I31<=AB23,\"G3\",\"\"))))))","v":""},{"$f":"IF(I31=\"\",\"\",IF(AC23=\"T\",\"\",IF(AC23=\"F\",IF(I31>=Z23,\"þ\",IF(I31>=AA23,\"G2\",IF(I31>=AB23,\"G3\",\"\"))))))","v":""},{"$f":"IF(S31=\"\",\"\",IF(AC23=\"F\",\"\",IF(AC23=\"T\",IF(S31<=Z23,\"þ\",IF(S31<=AA23,\"G2\",IF(S31<=AB23,\"G3\",\"\"))))))","v":""},{"$f":"IF(S31=\"\",\"\",IF(AC23=\"T\",\"\",IF(AC23=\"F\",IF(S31>=Z23,\"þ\",IF(S31>=AA23,\"G2\",IF(S31>=AB23,\"G3\",\"\"))))))","v":""},"","","","",31,null,null,null,null,null,null,null,"4=",{"$f":"SUM($AU$8:AU9)/2","v":4.5},{"$f":"SUM($AV$8:AV9)/2","v":4.5}]
[null,null,null,null,null,null,null,null,null,null,null,null,null,null,null,null,null,null,null,null,null,null,null,null,null,null,null,null,null,null,null,null,null,null,null,null,null,32,null,null,null,null,null,null,null,"4==",{"$f":"SUM($AU$8:AU10)/3","v":4},{"$f":"SUM($AV$8:AV10)/3","v":4}]
["00:02:14","00:01:58","00:00:00.080",1,{"$f":"CONCATENATE(VLOOKUP(A34,mens_handbook,3,FALSE),\" A\")","v":"Women's 800m A"},null,null,{"$f":"IF(A34=\"\",\"\",IF(VLOOKUP(A34,Handbook!$A$4:$AI$24,35,FALSE)=\"Y\",\"Wind=\",\"\"))","v":""},null,null,null,null,null,null,{"$f":"CONCATENATE(VLOOKUP(A34,mens_handbook,3,FALSE),\" B\")","v":"Women's 800m B"},null,null,{"$f":"H33","v":""},null,null,null,null,null,{"$f":"IF($A34=\"\",\"\",VLOOKUP($A34,Handbook!$A$4:$V$24,21,FALSE))","v":"00:02:00.740"},{"$f":"IF($A34=\"\",\"\",VLOOKUP($A34,Handbook!$A$4:$V$24,22,FALSE))","v":"00:02:03.500"},{"$f":"IF($A34=\"\",\"\",VLOOKUP($A34,Handbook!$A$4:$W$24,23,FALSE))","v":"00:02:25"},{"$f":"IF($A34=\"\",\"\",VLOOKUP($A34,Handbook!$A$4:$X$24,24,FALSE))","v":"00:02:25"},{"$f":"IF($A34=\"\",\"\",VLOOKUP($A34,Handbook!$A$4:$Y$24,25,FALSE))","v":"00:02:25"},{"$f":"IF($A34=\"\",\"\",VLOOKUP($A34,Handbook!$A$4:$AH$24,34,FALSE))","v":"T"},null,null,null,null,null,null,null,null,33,null,null,null,null,null,null,null,"4===",{"$f":"SUM($AU$8:AU11)/4","v":3.5},{"$f":"SUM($AV$8:AV11)/4","v":3.5}]
[2,null,{"$f":"IF(F34=\"\",\"\",IF(F34>10,F34/11,F34))","v":5},{"$f":"IF(P34=\"\",\"\",IF(P34>10,P34/11,P34))","v":8},1,5,{"$f":"IF($F34=\"\",\"\",IF($F34>90,VLOOKUP(F34,eventcodes,2,FALSE),HLOOKUP(F34,declare,B36,FALSE)))","v":"Amy Campbell"},{"$f":"IF($F34=\"\",\"\",IF($F34>90,\"\",VLOOKUP(C34,matchday,2,FALSE)))","v":"Shaftesbury Barnet H"},"00:02:11.060",{"$f":"IF(I34=\"\",\"\",IF(AC33=\"T\",X34,X35))","v":""},null,{"$f":"IF(OR(F34=0,F34=\"\",I34=0,I34=\"\"),\"\",IF(I34>A33,0,INT(((B33-I34)*D33/C33)+250)))","v":86},{"$f":"IF(AC33=\"T\",AD34,AE34)","v":"þ"},null,1,88,{"$f":"IF($P34=\"\",\"\",HLOOKUP(P34,declare,B36,FALSE))","v":"Katie Good"},{"$f":"IF($P34=\"\",\"\",VLOOKUP(D34,matchday,2,FALSE))","v":"Thames Valley H"},"00:02:15.600",null,{"$f":"IF(OR(P34=0,P34=\"\",S34=0,S34=\"\"),\"\",IF(S34>A33,0,INT(((B33-S34)*D33/C33)+250)))","v":0},{"$f":"IF(AC33=\"T\",AF34,AG34)","v":"þ"},null,{"$f":"IF(AC33=\"F\",\"\",IF(I34<X33,\"LR\",IF(I34=X33,\"=LR\",IF(I34<Y33,\"DR\",IF(I34=Y33,\"=DR\",\"\")))))","v":""},null,null,null,null,null,{"$f":"IF(I34=\"\",\"\",IF(AC33=\"F\",\"\",IF(AC33=\"T\",IF(I34<=Z33,\"þ\",IF(I34<=AA33,\"G2\",IF(I34<=AB33,\"G3\",\"\"))))))","v":"þ"},{"$f":"IF(I34=\"\",\"\",IF(AC33=\"T\",\"\",IF(AC33=\"F\",IF(I34>=Z33,\"þ\",IF(I34>=AA33,\"G2\",IF(I34>=AB33,\"G3\",\"\"))))))","v":""},{"$f":"IF(S34=\"\",\"\",IF(AC33=\"F\",\"\",IF(AC33=\"T\",IF(S34<=Z33,\"þ\",IF(S34<=AA33,\"G2\",IF(S34<=AB33,\"G3\",\"\"))))))","v":"þ"},{"$f":"IF(S34=\"\",\"\",IF(AC33=\"T\",\"\",IF(AC33=\"F\",IF(S34>=Z33,\"þ\",IF(S34>=AA33,\"G2\",IF(S34>=AB33,\"G3\",\"\"))))))","v":""},{"$f":"C34","v":5},{"$f":"IF(F34=\"\",\"\",IF(LEFT(I34,1)=\"D\",0,VLOOKUP(E34,$AT$4:$AU$40,2,FALSE)))","v":9},{"$f":"D34","v":8},{"$f":"IF(P34=\"\",\"\",IF(LEFT(S34,1)=\"D\",0,VLOOKUP(O34,$AT$4:$AV$40,3,FALSE)))","v":9},34,null,null,null,null,null,null,null,"4====",{"$f":"SUM($AU$8:AU12)/5","v":3},{"$f":"SUM($AV$8:AV12)/5","v":3}]
[null,{"$f":"VLOOKUP(A34,Handbook!$A$4:$AK$24,37,FALSE)","v":3},{"$f":"IF(F35=\"\",\"\",IF(F35>10,F35/11,F35))","v":6},{"$f":"IF(P35=\"\",\"\",IF(P35>10,P35/11,P35))","v":6},2,6,{"$f":"IF($F35=\"\",\"\",HLOOKUP(F35,declare,B36,FALSE))","v":"Jenny Beckingham"},{"$f":"IF($F35=\"\",\"\",VLOOKUP(C35,matchday,2,FALSE))","v":"Southampton AC"},"00:02:15.540",{"$f":"IF(I35=\"\",\"\",IF(AND(AC33=\"T\",I35<I34),\"X\",IF(AND(AC33=\"F\",I35>I34),\"X\",\"\")))","v":""},null,{"$f":"IF(OR(F35=0,F35=\"\",I35=0,I35=\"\"),\"\",IF(I35>A33,0,INT(((B33-I35)*D33/C33)+250)))","v":0},{"$f":"IF(AC33=\"T\",AD35,AE35)","v":"þ"},null,2,66,{"$f":"IF($P35=\"\",\"\",HLOOKUP(P35,declare,B36,FALSE))","v":"Rhianna Parker-Simpson"},"Southampton AC","00:02:16.500",{"$f":"IF(S35=\"\",\"\",IF(AND(AC33=\"T\",S35<S34),\"X\",IF(AND(AC33=\"F\",S35>S34),\"X\",\"\")))","v":""},{"$f":"IF(OR(P35=0,P35=\"\",S35=0,S35=\"\"),\"\",IF(S35>A33,0,INT(((B33-S35)*D33/C33)+250)))","v":0},{"$f":"IF(AC33=\"T\",AF35,AG35)","v":"þ"},null,{"$f":"IF(AC33=\"T\",\"\",IF(I34>X33,\"LR\",IF(I34=X33,\"=LR\",IF(I34>Y33,\"DR\",IF(I34=Y33,\"=DR\",\"\")))))","v":""},null,null,null,null,null,{"$f":"IF(I35=\"\",\"\",IF(AC33=\"F\",\"\",IF(AC33=\"T\",IF(I35<=Z33,\"þ\",IF(I35<=AA33,\"G2\",IF(I35<=AB33,\"G3\",\"\"))))))","v":"þ"},{"$f":"IF(I35=\"\",\"\",IF(AC33=\"T\",\"\",IF(AC33=\"F\",IF(I35>=Z33,\"þ\",IF(I35>=AA33,\"G2\",IF(I35>=AB33,\"G3\",\"\"))))))","v":""},{"$f":"IF(S35=\"\",\"\",IF(AC33=\"F\",\"\",IF(AC33=\"T\",IF(S35<=Z33,\"þ\",IF(S35<=AA33,\"G2\",IF(S35<=AB33,\"G3\",\"\"))))))","v":"þ"},{"$f":"IF(S35=\"\",\"\",IF(AC33=\"T\",\"\",IF(AC33=\"F\",IF(S35>=Z33,\"þ\",IF(S35>=AA33,\"G2\",IF(S35>=AB33,\"G3\",\"\"))))))","v":""},{"$f":"C35","v":6},7,{"$f":"D35","v":6},7,35,null,null,null,null,null,null,null,"5=",{"$f":"SUM($AU$9:AU10)/2","v":3.5},{"$f":"SUM($AV$9:AV10)/2","v":3.5}]
[null,{"$f":"VLOOKUP(A34,declare,20,FALSE)","v":6},7,5,3,7,{"$f":"IF($F36=\"\",\"\",HLOOKUP(F36,declare,B36,FALSE))","v":"Amanda Jones"},"Swansea H","00:02:16.250",{"$f":"IF(I36=\"\",\"\",IF(AND(AC33=\"T\",I36<I35),\"X\",IF(AND(AC33=\"F\",I36>I35),\"X\",\"\")))","v":""},null,{"$f":"IF(OR(F36=0,F36=\"\",I36=0,I36=\"\"),\"\",IF(I36>A33,0,INT(((B33-I36)*D33/C33)+250)))","v":0},{"$f":"IF(AC33=\"T\",AD36,AE36)","v":"þ"},null,3,55,{"$f":"IF($P36=\"\",\"\",HLOOKUP(P36,declare,B36,FALSE))","v":"Lucy Aukett"},"Shaftesbury Barnet H","00:02:20.500",{"$f":"IF(S36=\"\",\"\",IF(AND(AC33=\"T\",S36<S35),\"X\",IF(AND(AC33=\"F\",S36>S35),\"X\",\"\")))","v":""},{"$f":"IF(OR(P36=0,P36=\"\",S36=0,S36=\"\"),\"\",IF(S36>A33,0,INT(((B33-S36)*D33/C33)+250)))","v":0},{"$f":"IF(AC33=\"T\",AF36,AG36)","v":"þ"},null,null,null,null,null,null,null,{"$f":"IF(I36=\"\",\"\",IF(AC33=\"F\",\"\",IF(AC33=\"T\",IF(I36<=Z33,\"þ\",IF(I36<=AA33,\"G2\",IF(I36<=AB33,\"G3\",\"\"))))))","v":"þ"},{"$f":"IF(I36=\"\",\"\",IF(AC33=\"T\",\"\",IF(AC33=\"F\",IF(I36>=Z33,\"þ\",IF(I36>=AA33,\"G2\",IF(I36>=AB33,\"G3\",\"\"))))))","v":""},{"$f":"IF(S36=\"\",\"\",IF(AC33=\"F\",\"\",IF(AC33=\"T\",IF(S36<=Z33,\"þ\",IF(S36<=AA33,\"G2\",IF(S36<=AB33,\"G3\",\"\"))))))","v":"þ"},{"$f":"IF(S36=\"\",\"\",IF(AC33=\"T\",\"\",IF(AC33=\"F\",IF(S36>=Z33,\"þ\",IF(S36>=AA33,\"G2\",IF(S36>=AB33,\"G3\",\"\"))))))","v":""},7,6,5,6,36,null,null,null,null,null,null,null,"5==",{"$f":"SUM($AU$9:AU11)/3","v":3},{"$f":"SUM($AV$9:AV11)/3","v":3}]
[null,null,8,2,4,8,{"$f":"IF($F37=\"\",\"\",HLOOKUP(F37,declare,B36,FALSE))","v":"Emma Grant"},"Thames Valley H","00:02:16.430",{"$f":"IF(I37=\"\",\"\",IF(AND(AC33=\"T\",I37<I36),\"X\",IF(AND(AC33=\"F\",I37>I36),\"X\",\"\")))","v":""},null,{"$f":"IF(OR(F37=0,F37=\"\",I37=0,I37=\"\"),\"\",IF(I37>A33,0,INT(((B33-I37)*D33/C33)+250)))","v":0},{"$f":"IF(AC33=\"T\",AD37,AE37)","v":"þ"},null,4,22,{"$f":"IF($P37=\"\",\"\",HLOOKUP(P37,declare,B36,FALSE))","v":"Shavaun Henry"},"Blackheath & Bromley H","00:02:24.900",{"$f":"IF(S37=\"\",\"\",IF(AND(AC33=\"T\",S37<S36),\"X\",IF(AND(AC33=\"F\",S37>S36),\"X\",\"\")))","v":""},{"$f":"IF(OR(P37=0,P37=\"\",S37=0,S37=\"\"),\"\",IF(S37>A33,0,INT(((B33-S37)*D33/C33)+250)))","v":0},{"$f":"IF(AC33=\"T\",AF37,AG37)","v":"þ"},null,null,null,null,null,null,null,{"$f":"IF(I37=\"\",\"\",IF(AC33=\"F\",\"\",IF(AC33=\"T\",IF(I37<=Z33,\"þ\",IF(I37<=AA33,\"G2\",IF(I37<=AB33,\"G3\",\"\"))))))","v":"þ"},{"$f":"IF(I37=\"\",\"\",IF(AC33=\"T\",\"\",IF(AC33=\"F\",IF(I37>=Z33,\"þ\",IF(I37>=AA33,\"G2\",IF(I37>=AB33,\"G3\",\"\"))))))","v":""},{"$f":"IF(S37=\"\",\"\",IF(AC33=\"F\",\"\",IF(AC33=\"T\",IF(S37<=Z33,\"þ\",IF(S37<=AA33,\"G2\",IF(S37<=AB33,\"G3\",\"\"))))))","v":"þ"},{"$f":"IF(S37=\"\",\"\",IF(AC33=\"T\",\"\",IF(AC33=\"F\",IF(S37>=Z33,\"þ\",IF(S37>=AA33,\"G2\",IF(S37>=AB33,\"G3\",\"\"))))))","v":""},8,5,2,5,37,null,null,null,null,null,null,null,"5===",{"$f":"SUM($AU$9:AU12)/4","v":2.5},{"$f":"SUM($AV$9:AV12)/4","v":2.5}]
[null,null,2,7,5,2,{"$f":"IF($F38=\"\",\"\",HLOOKUP(F38,declare,B36,FALSE))","v":"Danielle  Critchley"},"Blackheath & Bromley H","00:02:22.330",{"$f":"IF(I38=\"\",\"\",IF(AND(AC33=\"T\",I38<I37),\"X\",IF(AND(AC33=\"F\",I38>I37),\"X\",\"\")))","v":""},null,{"$f":"IF(OR(F38=0,F38=\"\",I38=0,I38=\"\"),\"\",IF(I38>A33,0,INT(((B33-I38)*D33/C33)+250)))","v":0},{"$f":"IF(AC33=\"T\",AD38,AE38)","v":"þ"},null,5,77,{"$f":"IF($P38=\"\",\"\",HLOOKUP(P38,declare,B36,FALSE))","v":"Holly Lawrence"},"Swansea H","00:02:33.500",{"$f":"IF(S38=\"\",\"\",IF(AND(AC33=\"T\",S38<S37),\"X\",IF(AND(AC33=\"F\",S38>S37),\"X\",\"\")))","v":""},{"$f":"IF(OR(P38=0,P38=\"\",S38=0,S38=\"\"),\"\",IF(S38>A33,0,INT(((B33-S38)*D33/C33)+250)))","v":0},{"$f":"IF(AC33=\"T\",AF38,AG38)","v":""},null,null,null,null,null,null,null,{"$f":"IF(I38=\"\",\"\",IF(AC33=\"F\",\"\",IF(AC33=\"T\",IF(I38<=Z33,\"þ\",IF(I38<=AA33,\"G2\",IF(I38<=AB33,\"G3\",\"\"))))))","v":"þ"},{"$f":"IF(I38=\"\",\"\",IF(AC33=\"T\",\"\",IF(AC33=\"F\",IF(I38>=Z33,\"þ\",IF(I38>=AA33,\"G2\",IF(I38>=AB33,\"G3\",\"\"))))))","v":""},{"$f":"IF(S38=\"\",\"\",IF(AC33=\"F\",\"\",IF(AC33=\"T\",IF(S38<=Z33,\"þ\",IF(S38<=AA33,\"G2\",IF(S38<=AB33,\"G3\",\"\"))))))","v":""},{"$f":"IF(S38=\"\",\"\",IF(AC33=\"T\",\"\",IF(AC33=\"F\",IF(S38>=Z33,\"þ\",IF(S38>=AA33,\"G2\",IF(S38>=AB33,\"G3\",\"\"))))))","v":""},2,4,7,4,38,null,null,null,null,null,null,null,"6=",{"$f":"SUM($AU$10:AU11)/2","v":2.5},{"$f":"SUM($AV$10:AV11)/2","v":2.5}]
[null,null,1,1,6,1,{"$f":"IF($F39=\"\",\"\",HLOOKUP(F39,declare,B36,FALSE))","v":"Emily Boast"},"Bedford & County AC","00:02:47.030",{"$f":"IF(I39=\"\",\"\",IF(AND(AC33=\"T\",I39<I38),\"X\",IF(AND(AC33=\"F\",I39>I38),\"X\",\"\")))","v":""},null,{"$f":"IF(OR(F39=0,F39=\"\",I39=0,I39=\"\"),\"\",IF(I39>A33,0,INT(((B33-I39)*D33/C33)+250)))","v":0},{"$f":"IF(AC33=\"T\",AD39,AE39)","v":""},null,6,11,{"$f":"IF($P39=\"\",\"\",HLOOKUP(P39,declare,B36,FALSE))","v":"Lucy Salter"},"Bedford & County AC","00:03:13.600",{"$f":"IF(S39=\"\",\"\",IF(AND(AC33=\"T\",S39<S38),\"X\",IF(AND(AC33=\"F\",S39>S38),\"X\",\"\")))","v":""},{"$f":"IF(OR(P39=0,P39=\"\",S39=0,S39=\"\"),\"\",IF(S39>A33,0,INT(((B33-S39)*D33/C33)+250)))","v":0},{"$f":"IF(AC33=\"T\",AF39,AG39)","v":""},null,null,null,null,null,null,null,{"$f":"IF(I39=\"\",\"\",IF(AC33=\"F\",\"\",IF(AC33=\"T\",IF(I39<=Z33,\"þ\",IF(I39<=AA33,\"G2\",IF(I39<=AB33,\"G3\",\"\"))))))","v":""},{"$f":"IF(I39=\"\",\"\",IF(AC33=\"T\",\"\",IF(AC33=\"F\",IF(I39>=Z33,\"þ\",IF(I39>=AA33,\"G2\",IF(I39>=AB33,\"G3\",\"\"))))))","v":""},{"$f":"IF(S39=\"\",\"\",IF(AC33=\"F\",\"\",IF(AC33=\"T\",IF(S39<=Z33,\"þ\",IF(S39<=AA33,\"G2\",IF(S39<=AB33,\"G3\",\"\"))))))","v":""},{"$f":"IF(S39=\"\",\"\",IF(AC33=\"T\",\"\",IF(AC33=\"F\",IF(S39>=Z33,\"þ\",IF(S39>=AA33,\"G2\",IF(S39>=AB33,\"G3\",\"\"))))))","v":""},1,3,1,3,39,null,null,null,null,null,null,null,"6==",{"$f":"SUM($AU$10:AU12)/3","v":2},{"$f":"SUM($AV$10:AV12)/3","v":2}]
[null,null,3,"",7,3,{"$f":"IF($F40=\"\",\"\",HLOOKUP(F40,declare,B36,FALSE))","v":"Di Baldwin (V50)"},"Marshall Milton Keynes AC","00:03:01.700",{"$f":"IF(I40=\"\",\"\",IF(AND(AC33=\"T\",I40<I39),\"X\",IF(AND(AC33=\"F\",I40>I39),\"X\",\"\")))","v":""},null,{"$f":"IF(OR(F40=0,F40=\"\",I40=0,I40=\"\"),\"\",IF(I40>A33,0,INT(((B33-I40)*D33/C33)+250)))","v":0},{"$f":"IF(AC33=\"T\",AD40,AE40)","v":""},null,7,null,{"$f":"IF($P40=\"\",\"\",HLOOKUP(P40,declare,B36,FALSE))","v":""},"",null,{"$f":"IF(S40=\"\",\"\",IF(AND(AC33=\"T\",S40<S39),\"X\",IF(AND(AC33=\"F\",S40>S39),\"X\",\"\")))","v":""},{"$f":"IF(OR(P40=0,P40=\"\",S40=0,S40=\"\"),\"\",IF(S40>A33,0,INT(((B33-S40)*D33/C33)+250)))","v":""},{"$f":"IF(AC33=\"T\",AF40,AG40)","v":""},null,null,null,null,null,null,null,{"$f":"IF(I40=\"\",\"\",IF(AC33=\"F\",\"\",IF(AC33=\"T\",IF(I40<=Z33,\"þ\",IF(I40<=AA33,\"G2\",IF(I40<=AB33,\"G3\",\"\"))))))","v":""},{"$f":"IF(I40=\"\",\"\",IF(AC33=\"T\",\"\",IF(AC33=\"F\",IF(I40>=Z33,\"þ\",IF(I40>=AA33,\"G2\",IF(I40>=AB33,\"G3\",\"\"))))))","v":""},{"$f":"IF(S40=\"\",\"\",IF(AC33=\"F\",\"\",IF(AC33=\"T\",IF(S40<=Z33,\"þ\",IF(S40<=AA33,\"G2\",IF(S40<=AB33,\"G3\",\"\"))))))","v":""},{"$f":"IF(S40=\"\",\"\",IF(AC33=\"T\",\"\",IF(AC33=\"F\",IF(S40>=Z33,\"þ\",IF(S40>=AA33,\"G2\",IF(S40>=AB33,\"G3\",\"\"))))))","v":""},3,2,"","",40,null,null,null,null,null,null,null,"7=",{"$f":"SUM($AU$11:AU12)/2","v":1.5},{"$f":"SUM($AV$11:AV12)/2","v":1.5}]
[null,null,"","",8,null,{"$f":"IF($F41=\"\",\"\",HLOOKUP(F41,declare,B36,FALSE))","v":""},"",null,{"$f":"IF(I41=\"\",\"\",IF(AND(AC33=\"T\",I41<I40),\"X\",IF(AND(AC33=\"F\",I41>I40),\"X\",\"\")))","v":""},null,{"$f":"IF(OR(F41=0,F41=\"\",I41=0,I41=\"\"),\"\",IF(I41>A33,0,INT(((B33-I41)*D33/C33)+250)))","v":""},{"$f":"IF(AC33=\"T\",AD41,AE41)","v":""},null,8,null,{"$f":"IF($P41=\"\",\"\",HLOOKUP(P41,declare,B36,FALSE))","v":""},"",null,{"$f":"IF(S41=\"\",\"\",IF(AND(AC33=\"T\",S41<S40),\"X\",IF(AND(AC33=\"F\",S41>S40),\"X\",\"\")))","v":""},{"$f":"IF(OR(P41=0,P41=\"\",S41=0,S41=\"\"),\"\",IF(S41>A33,0,INT(((B33-S41)*D33/C33)+250)))","v":""},{"$f":"IF(AC33=\"T\",AF41,AG41)","v":""},null,null,null,null,null,null,null,{"$f":"IF(I41=\"\",\"\",IF(AC33=\"F\",\"\",IF(AC33=\"T\",IF(I41<=Z33,\"þ\",IF(I41<=AA33,\"G2\",IF(I41<=AB33,\"G3\",\"\"))))))","v":""},{"$f":"IF(I41=\"\",\"\",IF(AC33=\"T\",\"\",IF(AC33=\"F\",IF(I41>=Z33,\"þ\",IF(I41>=AA33,\"G2\",IF(I41>=AB33,\"G3\",\"\"))))))","v":""},{"$f":"IF(S41=\"\",\"\",IF(AC33=\"F\",\"\",IF(AC33=\"T\",IF(S41<=Z33,\"þ\",IF(S41<=AA33,\"G2\",IF(S41<=AB33,\"G3\",\"\"))))))","v":""},{"$f":"IF(S41=\"\",\"\",IF(AC33=\"T\",\"\",IF(AC33=\"F\",IF(S41>=Z33,\"þ\",IF(S41>=AA33,\"G2\",IF(S41>=AB33,\"G3\",\"\"))))))","v":""},"","","","",41]
[null,null,null,null,null,null,null,null,null,null,null,null,null,null,null,null,null,null,null,null,null,null,null,null,null,null,null,null,null,null,null,null,null,null,null,null,null,42]
["00:04:42","00:04:02","00:00:01",5,{"$f":"CONCATENATE(VLOOKUP(A44,mens_handbook,3,FALSE),\" A\")","v":"Women's 1500m A"},null,null,{"$f":"IF(A44=\"\",\"\",IF(VLOOKUP(A44,Handbook!$A$4:$AI$24,35,FALSE)=\"Y\",\"Wind=\",\"\"))","v":""},null,null,null,null,null,null,{"$f":"CONCATENATE(VLOOKUP(A44,mens_handbook,3,FALSE),\" B\")","v":"Women's 1500m B"},null,null,{"$f":"H43","v":""},null,null,null,null,null,{"$f":"IF($A44=\"\",\"\",VLOOKUP($A44,Handbook!$A$4:$V$24,21,FALSE))","v":"00:04:12.700"},{"$f":"IF($A44=\"\",\"\",VLOOKUP($A44,Handbook!$A$4:$V$24,22,FALSE))","v":"00:04:12.700"},{"$f":"IF($A44=\"\",\"\",VLOOKUP($A44,Handbook!$A$4:$W$24,23,FALSE))","v":"00:05:00"},{"$f":"IF($A44=\"\",\"\",VLOOKUP($A44,Handbook!$A$4:$X$24,24,FALSE))","v":"00:05:00"},{"$f":"IF($A44=\"\",\"\",VLOOKUP($A44,Handbook!$A$4:$Y$24,25,FALSE))","v":"00:05:00"},{"$f":"IF($A44=\"\",\"\",VLOOKUP($A44,Handbook!$A$4:$AH$24,34,FALSE))","v":"T"},null,null,null,null,null,null,null,null,43]
[8,null,{"$f":"IF(F44=\"\",\"\",IF(F44>10,F44/11,F44))","v":5},{"$f":"IF(P44=\"\",\"\",IF(P44>10,P44/11,P44))","v":7},1,{"$f":"IF(OR('1500m'!E20=0,'1500m'!E20=\"\"),0,'1500m'!E20)","v":5},{"$f":"IF(OR($F44=\"\",F44=0),\"\",IF($F44>90,VLOOKUP(F44,eventcodes,2,FALSE),HLOOKUP(F44,declare,$B$46,FALSE)))","v":"Amy Campbell"},{"$f":"IF(OR($F44=\"\",F44=0),\"\",IF($F44>90,\"\",VLOOKUP(C44,matchday,2,FALSE)))","v":"Shaftesbury Barnet H"},{"$f":"IF(OR('1500m'!H20=\"\",'1500m'!H20=0),\"\",'1500m'!H20)","v":"00:04:33.770"},{"$f":"IF(I44=\"\",\"\",IF(AC43=\"T\",X44,X45))","v":""},null,{"$f":"IF(OR(F44=0,F44=\"\",I44=0,I44=\"\"),\"\",IF(I44>A43,0,INT(((B43-I44)*D43/C43)+250)))","v":91},{"$f":"IF(AC43=\"T\",AD44,AE44)","v":"þ"},null,1,{"$f":"IF(OR('1500m'!E29=\"\",'1500m'!E29=0),\"\",'1500m'!E29)","v":77},{"$f":"IF($P44=\"\",\"\",HLOOKUP(P44,declare,B46,FALSE))","v":"Ellen Butler"},{"$f":"IF($P44=\"\",\"\",VLOOKUP(D44,matchday,2,FALSE))","v":"Swansea H"},{"$f":"IF(OR('1500m'!H29=\"\",'1500m'!H29=0),\"\",'1500m'!H29)","v":"00:04:50.720"},null,{"$f":"IF(OR(P44=0,P44=\"\",S44=0,S44=\"\"),\"\",IF(S44>A43,0,INT(((B43-S44)*D43/C43)+250)))","v":0},{"$f":"IF(AC43=\"T\",AF44,AG44)","v":"þ"},null,{"$f":"IF(AC43=\"F\",\"\",IF(I44<X43,\"LR\",IF(I44=X43,\"=LR\",IF(I44<Y43,\"DR\",IF(I44=Y43,\"=DR\",\"\")))))","v":""},null,null,null,null,null,{"$f":"IF(I44=\"\",\"\",IF(AC43=\"F\",\"\",IF(AC43=\"T\",IF(I44<=Z43,\"þ\",IF(I44<=AA43,\"G2\",IF(I44<=AB43,\"G3\",\"\"))))))","v":"þ"},{"$f":"IF(I44=\"\",\"\",IF(AC43=\"T\",\"\",IF(AC43=\"F\",IF(I44>=Z43,\"þ\",IF(I44>=AA43,\"G2\",IF(I44>=AB43,\"G3\",\"\"))))))","v":""},{"$f":"IF(S44=\"\",\"\",IF(AC43=\"F\",\"\",IF(AC43=\"T\",IF(S44<=Z43,\"þ\",IF(S44<=AA43,\"G2\",IF(S44<=AB43,\"G3\",\"\"))))))","v":"þ"},{"$f":"IF(S44=\"\",\"\",IF(AC43=\"T\",\"\",IF(AC43=\"F\",IF(S44>=Z43,\"þ\",IF(S44>=AA43,\"G2\",IF(S44>=AB43,\"G3\",\"\"))))))","v":""},{"$f":"C44","v":5},{"$f":"IF(F44=\"\",\"\",IF(LEFT(I44,1)=\"D\",0,VLOOKUP(E44,$AT$4:$AU$40,2,FALSE)))","v":9},{"$f":"D44","v":7},{"$f":"IF(P44=\"\",\"\",IF(LEFT(S44,1)=\"D\",0,VLOOKUP(O44,$AT$4:$AV$40,3,FALSE)))","v":9},44]
[null,{"$f":"VLOOKUP(A44,Handbook!$A$4:$AK$24,37,FALSE)","v":9},{"$f":"IF(F45=\"\",\"\",IF(F45>10,F45/11,F45))","v":7},{"$f":"IF(P45=\"\",\"\",IF(P45>10,P45/11,P45))","v":8},2,{"$f":"IF(OR('1500m'!E21=0,'1500m'!E21=\"\"),0,'1500m'!E21)","v":7},"Andrea Whitcombe","Swansea H",{"$f":"IF(OR('1500m'!H21=\"\",'1500m'!H21=0),\"\",'1500m'!H21)","v":"00:04:34.790"},{"$f":"IF(I45=\"\",\"\",IF(AND(AC43=\"T\",I45<I44),\"X\",IF(AND(AC43=\"F\",I45>I44),\"X\",\"\")))","v":""},null,{"$f":"IF(OR(F45=0,F45=\"\",I45=0,I45=\"\"),\"\",IF(I45>A43,0,INT(((B43-I45)*D43/C43)+250)))","v":86},{"$f":"IF(AC43=\"T\",AD45,AE45)","v":"þ"},null,2,{"$f":"IF(OR('1500m'!E30=\"\",'1500m'!E30=0),\"\",'1500m'!E30)","v":88},{"$f":"IF($P45=\"\",\"\",HLOOKUP(P45,declare,B46,FALSE))","v":"Lisa Da Silva"},"Thames Valley H",{"$f":"IF(OR('1500m'!H30=\"\",'1500m'!H30=0),\"\",'1500m'!H30)","v":"00:04:52.400"},{"$f":"IF(S45=\"\",\"\",IF(AND(AC43=\"T\",S45<S44),\"X\",IF(AND(AC43=\"F\",S45>S44),\"X\",\"\")))","v":""},{"$f":"IF(OR(P45=0,P45=\"\",S45=0,S45=\"\"),\"\",IF(S45>A43,0,INT(((B43-S45)*D43/C43)+250)))","v":0},{"$f":"IF(AC43=\"T\",AF45,AG45)","v":"þ"},null,{"$f":"IF(AC43=\"T\",\"\",IF(I44>X43,\"LR\",IF(I44=X43,\"=LR\",IF(I44>Y43,\"DR\",IF(I44=Y43,\"=DR\",\"\")))))","v":""},null,null,null,null,null,{"$f":"IF(I45=\"\",\"\",IF(AC43=\"F\",\"\",IF(AC43=\"T\",IF(I45<=Z43,\"þ\",IF(I45<=AA43,\"G2\",IF(I45<=AB43,\"G3\",\"\"))))))","v":"þ"},{"$f":"IF(I45=\"\",\"\",IF(AC43=\"T\",\"\",IF(AC43=\"F\",IF(I45>=Z43,\"þ\",IF(I45>=AA43,\"G2\",IF(I45>=AB43,\"G3\",\"\"))))))","v":""},{"$f":"IF(S45=\"\",\"\",IF(AC43=\"F\",\"\",IF(AC43=\"T\",IF(S45<=Z43,\"þ\",IF(S45<=AA43,\"G2\",IF(S45<=AB43,\"G3\",\"\"))))))","v":"þ"},{"$f":"IF(S45=\"\",\"\",IF(AC43=\"T\",\"\",IF(AC43=\"F\",IF(S45>=Z43,\"þ\",IF(S45>=AA43,\"G2\",IF(S45>=AB43,\"G3\",\"\"))))))","v":""},{"$f":"C45","v":7},7,{"$f":"D45","v":8},7,45]
[null,{"$f":"VLOOKUP(A44,declare,20,FALSE)","v":7},1,1,3,{"$f":"IF(OR('1500m'!E22=0,'1500m'!E22=\"\"),0,'1500m'!E22)","v":1},"Suzi Boast","Bedford & County AC",{"$f":"IF(OR('1500m'!H22=\"\",'1500m'!H22=0),\"\",'1500m'!H22)","v":"00:04:40.080"},{"$f":"IF(I46=\"\",\"\",IF(AND(AC43=\"T\",I46<I45),\"X\",IF(AND(AC43=\"F\",I46>I45),\"X\",\"\")))","v":""},null,{"$f":"IF(OR(F46=0,F46=\"\",I46=0,I46=\"\"),\"\",IF(I46>A43,0,INT(((B43-I46)*D43/C43)+250)))","v":59},{"$f":"IF(AC43=\"T\",AD46,AE46)","v":"þ"},null,3,{"$f":"IF(OR('1500m'!E31=\"\",'1500m'!E31=0),\"\",'1500m'!E31)","v":11},{"$f":"IF($P46=\"\",\"\",HLOOKUP(P46,declare,B46,FALSE))","v":"Natasha Peters"},"Bedford & County AC",{"$f":"IF(OR('1500m'!H31=\"\",'1500m'!H31=0),\"\",'1500m'!H31)","v":"00:04:53.360"},{"$f":"IF(S46=\"\",\"\",IF(AND(AC43=\"T\",S46<S45),\"X\",IF(AND(AC43=\"F\",S46>S45),\"X\",\"\")))","v":""},{"$f":"IF(OR(P46=0,P46=\"\",S46=0,S46=\"\"),\"\",IF(S46>A43,0,INT(((B43-S46)*D43/C43)+250)))","v":0},{"$f":"IF(AC43=\"T\",AF46,AG46)","v":"þ"},null,null,null,null,null,null,null,{"$f":"IF(I46=\"\",\"\",IF(AC43=\"F\",\"\",IF(AC43=\"T\",IF(I46<=Z43,\"þ\",IF(I46<=AA43,\"G2\",IF(I46<=AB43,\"G3\",\"\"))))))","v":"þ"},{"$f":"IF(I46=\"\",\"\",IF(AC43=\"T\",\"\",IF(AC43=\"F\",IF(I46>=Z43,\"þ\",IF(I46>=AA43,\"G2\",IF(I46>=AB43,\"G3\",\"\"))))))","v":""},{"$f":"IF(S46=\"\",\"\",IF(AC43=\"F\",\"\",IF(AC43=\"T\",IF(S46<=Z43,\"þ\",IF(S46<=AA43,\"G2\",IF(S46<=AB43,\"G3\",\"\"))))))","v":"þ"},{"$f":"IF(S46=\"\",\"\",IF(AC43=\"T\",\"\",IF(AC43=\"F\",IF(S46>=Z43,\"þ\",IF(S46>=AA43,\"G2\",IF(S46>=AB43,\"G3\",\"\"))))))","v":""},1,6,1,6,46]
[null,null,8,5,4,{"$f":"IF(OR('1500m'!E23=0,'1500m'!E23=\"\"),0,'1500m'!E23)","v":8},"Katie Good","Thames Valley H",{"$f":"IF(OR('1500m'!H23=\"\",'1500m'!H23=0),\"\",'1500m'!H23)","v":"00:04:44.930"},{"$f":"IF(I47=\"\",\"\",IF(AND(AC43=\"T\",I47<I46),\"X\",IF(AND(AC43=\"F\",I47>I46),\"X\",\"\")))","v":""},null,{"$f":"IF(OR(F47=0,F47=\"\",I47=0,I47=\"\"),\"\",IF(I47>A43,0,INT(((B43-I47)*D43/C43)+250)))","v":0},{"$f":"IF(AC43=\"T\",AD47,AE47)","v":"þ"},null,4,{"$f":"IF(OR('1500m'!E32=\"\",'1500m'!E32=0),\"\",'1500m'!E32)","v":55},{"$f":"IF($P47=\"\",\"\",HLOOKUP(P47,declare,B46,FALSE))","v":"Lucy Aukett"},"Shaftesbury Barnet H",{"$f":"IF(OR('1500m'!H32=\"\",'1500m'!H32=0),\"\",'1500m'!H32)","v":"00:04:54.100"},{"$f":"IF(S47=\"\",\"\",IF(AND(AC43=\"T\",S47<S46),\"X\",IF(AND(AC43=\"F\",S47>S46),\"X\",\"\")))","v":""},{"$f":"IF(OR(P47=0,P47=\"\",S47=0,S47=\"\"),\"\",IF(S47>A43,0,INT(((B43-S47)*D43/C43)+250)))","v":0},{"$f":"IF(AC43=\"T\",AF47,AG47)","v":"þ"},null,null,null,null,null,null,null,{"$f":"IF(I47=\"\",\"\",IF(AC43=\"F\",\"\",IF(AC43=\"T\",IF(I47<=Z43,\"þ\",IF(I47<=AA43,\"G2\",IF(I47<=AB43,\"G3\",\"\"))))))","v":"þ"},{"$f":"IF(I47=\"\",\"\",IF(AC43=\"T\",\"\",IF(AC43=\"F\",IF(I47>=Z43,\"þ\",IF(I47>=AA43,\"G2\",IF(I47>=AB43,\"G3\",\"\"))))))","v":""},{"$f":"IF(S47=\"\",\"\",IF(AC43=\"F\",\"\",IF(AC43=\"T\",IF(S47<=Z43,\"þ\",IF(S47<=AA43,\"G2\",IF(S47<=AB43,\"G3\",\"\"))))))","v":"þ"},{"$f":"IF(S47=\"\",\"\",IF(AC43=\"T\",\"\",IF(AC43=\"F\",IF(S47>=Z43,\"þ\",IF(S47>=AA43,\"G2\",IF(S47>=AB43,\"G3\",\"\"))))))","v":""},8,5,5,5,47]
[null,null,6,6,5,{"$f":"IF(OR('1500m'!E24=0,'1500m'!E24=\"\"),0,'1500m'!E24)","v":66},"Sophie Hall","Southampton AC",{"$f":"IF(OR('1500m'!H24=\"\",'1500m'!H24=0),\"\",'1500m'!H24)","v":"00:04:57.540"},{"$f":"IF(I48=\"\",\"\",IF(AND(AC43=\"T\",I48<I47),\"X\",IF(AND(AC43=\"F\",I48>I47),\"X\",\"\")))","v":""},null,{"$f":"IF(OR(F48=0,F48=\"\",I48=0,I48=\"\"),\"\",IF(I48>A43,0,INT(((B43-I48)*D43/C43)+250)))","v":0},{"$f":"IF(AC43=\"T\",AD48,AE48)","v":"þ"},null,5,{"$f":"IF(OR('1500m'!E33=\"\",'1500m'!E33=0),\"\",'1500m'!E33)","v":6},{"$f":"IF($P48=\"\",\"\",HLOOKUP(P48,declare,B46,FALSE))","v":"Natalie Burke"},"Southampton AC",{"$f":"IF(OR('1500m'!H33=\"\",'1500m'!H33=0),\"\",'1500m'!H33)","v":"00:04:58.980"},{"$f":"IF(S48=\"\",\"\",IF(AND(AC43=\"T\",S48<S47),\"X\",IF(AND(AC43=\"F\",S48>S47),\"X\",\"\")))","v":""},{"$f":"IF(OR(P48=0,P48=\"\",S48=0,S48=\"\"),\"\",IF(S48>A43,0,INT(((B43-S48)*D43/C43)+250)))","v":0},{"$f":"IF(AC43=\"T\",AF48,AG48)","v":"þ"},null,null,null,null,null,null,null,{"$f":"IF(I48=\"\",\"\",IF(AC43=\"F\",\"\",IF(AC43=\"T\",IF(I48<=Z43,\"þ\",IF(I48<=AA43,\"G2\",IF(I48<=AB43,\"G3\",\"\"))))))","v":"þ"},{"$f":"IF(I48=\"\",\"\",IF(AC43=\"T\",\"\",IF(AC43=\"F\",IF(I48>=Z43,\"þ\",IF(I48>=AA43,\"G2\",IF(I48>=AB43,\"G3\",\"\"))))))","v":""},{"$f":"IF(S48=\"\",\"\",IF(AC43=\"F\",\"\",IF(AC43=\"T\",IF(S48<=Z43,\"þ\",IF(S48<=AA43,\"G2\",IF(S48<=AB43,\"G3\",\"\"))))))","v":"þ"},{"$f":"IF(S48=\"\",\"\",IF(AC43=\"T\",\"\",IF(AC43=\"F\",IF(S48>=Z43,\"þ\",IF(S48>=AA43,\"G2\",IF(S48>=AB43,\"G3\",\"\"))))))","v":""},6,4,6,4,48]
[null,null,2,2,6,{"$f":"IF(OR('1500m'!E25=0,'1500m'!E25=\"\"),0,'1500m'!E25)","v":2},"Shavaun Henry","Blackheath & Bromley H",{"$f":"IF(OR('1500m'!H25=\"\",'1500m'!H25=0),\"\",'1500m'!H25)","v":"00:05:01.680"},{"$f":"IF(I49=\"\",\"\",IF(AND(AC43=\"T\",I49<I48),\"X\",IF(AND(AC43=\"F\",I49>I48),\"X\",\"\")))","v":""},null,{"$f":"IF(OR(F49=0,F49=\"\",I49=0,I49=\"\"),\"\",IF(I49>A43,0,INT(((B43-I49)*D43/C43)+250)))","v":0},{"$f":"IF(AC43=\"T\",AD49,AE49)","v":""},null,6,{"$f":"IF(OR('1500m'!E34=\"\",'1500m'!E34=0),\"\",'1500m'!E34)","v":22},{"$f":"IF($P49=\"\",\"\",HLOOKUP(P49,declare,B46,FALSE))","v":"Danielle Critchley"},"Blackheath & Bromley H",{"$f":"IF(OR('1500m'!H34=\"\",'1500m'!H34=0),\"\",'1500m'!H34)","v":"00:05:20.310"},{"$f":"IF(S49=\"\",\"\",IF(AND(AC43=\"T\",S49<S48),\"X\",IF(AND(AC43=\"F\",S49>S48),\"X\",\"\")))","v":""},{"$f":"IF(OR(P49=0,P49=\"\",S49=0,S49=\"\"),\"\",IF(S49>A43,0,INT(((B43-S49)*D43/C43)+250)))","v":0},{"$f":"IF(AC43=\"T\",AF49,AG49)","v":""},null,null,null,null,null,null,null,{"$f":"IF(I49=\"\",\"\",IF(AC43=\"F\",\"\",IF(AC43=\"T\",IF(I49<=Z43,\"þ\",IF(I49<=AA43,\"G2\",IF(I49<=AB43,\"G3\",\"\"))))))","v":""},{"$f":"IF(I49=\"\",\"\",IF(AC43=\"T\",\"\",IF(AC43=\"F\",IF(I49>=Z43,\"þ\",IF(I49>=AA43,\"G2\",IF(I49>=AB43,\"G3\",\"\"))))))","v":""},{"$f":"IF(S49=\"\",\"\",IF(AC43=\"F\",\"\",IF(AC43=\"T\",IF(S49<=Z43,\"þ\",IF(S49<=AA43,\"G2\",IF(S49<=AB43,\"G3\",\"\"))))))","v":""},{"$f":"IF(S49=\"\",\"\",IF(AC43=\"T\",\"\",IF(AC43=\"F\",IF(S49>=Z43,\"þ\",IF(S49>=AA43,\"G2\",IF(S49>=AB43,\"G3\",\"\"))))))","v":""},2,3,2,3,49]
[null,null,4,3,7,{"$f":"IF(OR('1500m'!E26=0,'1500m'!E26=\"\"),0,'1500m'!E26)","v":4},"Adele Stach-Kevitz","Newham & Essex Beagles AC",{"$f":"IF(OR('1500m'!H26=\"\",'1500m'!H26=0),\"\",'1500m'!H26)","v":"00:06:18.220"},{"$f":"IF(I50=\"\",\"\",IF(AND(AC43=\"T\",I50<I49),\"X\",IF(AND(AC43=\"F\",I50>I49),\"X\",\"\")))","v":""},null,{"$f":"IF(OR(F50=0,F50=\"\",I50=0,I50=\"\"),\"\",IF(I50>A43,0,INT(((B43-I50)*D43/C43)+250)))","v":0},{"$f":"IF(AC43=\"T\",AD50,AE50)","v":""},null,7,{"$f":"IF(OR('1500m'!E35=\"\",'1500m'!E35=0),\"\",'1500m'!E35)","v":33},{"$f":"IF($P50=\"\",\"\",HLOOKUP(P50,declare,B46,FALSE))","v":"Kadi-Ann Thomas"},"Marshall Milton Keynes AC",{"$f":"IF(OR('1500m'!H35=\"\",'1500m'!H35=0),\"\",'1500m'!H35)","v":"00:07:11.320"},{"$f":"IF(S50=\"\",\"\",IF(AND(AC43=\"T\",S50<S49),\"X\",IF(AND(AC43=\"F\",S50>S49),\"X\",\"\")))","v":""},{"$f":"IF(OR(P50=0,P50=\"\",S50=0,S50=\"\"),\"\",IF(S50>A43,0,INT(((B43-S50)*D43/C43)+250)))","v":0},{"$f":"IF(AC43=\"T\",AF50,AG50)","v":""},null,null,null,null,null,null,null,{"$f":"IF(I50=\"\",\"\",IF(AC43=\"F\",\"\",IF(AC43=\"T\",IF(I50<=Z43,\"þ\",IF(I50<=AA43,\"G2\",IF(I50<=AB43,\"G3\",\"\"))))))","v":""},{"$f":"IF(I50=\"\",\"\",IF(AC43=\"T\",\"\",IF(AC43=\"F\",IF(I50>=Z43,\"þ\",IF(I50>=AA43,\"G2\",IF(I50>=AB43,\"G3\",\"\"))))))","v":""},{"$f":"IF(S50=\"\",\"\",IF(AC43=\"F\",\"\",IF(AC43=\"T\",IF(S50<=Z43,\"þ\",IF(S50<=AA43,\"G2\",IF(S50<=AB43,\"G3\",\"\"))))))","v":""},{"$f":"IF(S50=\"\",\"\",IF(AC43=\"T\",\"\",IF(AC43=\"F\",IF(S50>=Z43,\"þ\",IF(S50>=AA43,\"G2\",IF(S50>=AB43,\"G3\",\"\"))))))","v":""},4,2,3,2,50]
[null,null,3,4,8,{"$f":"IF(OR('1500m'!E27=0,'1500m'!E27=\"\"),0,'1500m'!E27)","v":3},"Joey Duck","Marshall Milton Keynes AC",{"$f":"IF(OR('1500m'!H27=\"\",'1500m'!H27=0),\"\",'1500m'!H27)","v":"00:06:55.470"},{"$f":"IF(I51=\"\",\"\",IF(AND(AC43=\"T\",I51<I50),\"X\",IF(AND(AC43=\"F\",I51>I50),\"X\",\"\")))","v":""},null,{"$f":"IF(OR(F51=0,F51=\"\",I51=0,I51=\"\"),\"\",IF(I51>A43,0,INT(((B43-I51)*D43/C43)+250)))","v":0},{"$f":"IF(AC43=\"T\",AD51,AE51)","v":""},null,8,{"$f":"IF(OR('1500m'!E36=\"\",'1500m'!E36=0),\"\",'1500m'!E36)","v":44},{"$f":"IF($P51=\"\",\"\",HLOOKUP(P51,declare,B46,FALSE))","v":"Deborah Oyelade"},"Newham & Essex Beagles AC",{"$f":"IF(OR('1500m'!H36=\"\",'1500m'!H36=0),\"\",'1500m'!H36)","v":"00:07:22.250"},{"$f":"IF(S51=\"\",\"\",IF(AND(AC43=\"T\",S51<S50),\"X\",IF(AND(AC43=\"F\",S51>S50),\"X\",\"\")))","v":""},{"$f":"IF(OR(P51=0,P51=\"\",S51=0,S51=\"\"),\"\",IF(S51>A43,0,INT(((B43-S51)*D43/C43)+250)))","v":0},{"$f":"IF(AC43=\"T\",AF51,AG51)","v":""},null,null,null,null,null,null,null,{"$f":"IF(I51=\"\",\"\",IF(AC43=\"F\",\"\",IF(AC43=\"T\",IF(I51<=Z43,\"þ\",IF(I51<=AA43,\"G2\",IF(I51<=AB43,\"G3\",\"\"))))))","v":""},{"$f":"IF(I51=\"\",\"\",IF(AC43=\"T\",\"\",IF(AC43=\"F\",IF(I51>=Z43,\"þ\",IF(I51>=AA43,\"G2\",IF(I51>=AB43,\"G3\",\"\"))))))","v":""},{"$f":"IF(S51=\"\",\"\",IF(AC43=\"F\",\"\",IF(AC43=\"T\",IF(S51<=Z43,\"þ\",IF(S51<=AA43,\"G2\",IF(S51<=AB43,\"G3\",\"\"))))))","v":""},{"$f":"IF(S51=\"\",\"\",IF(AC43=\"T\",\"\",IF(AC43=\"F\",IF(S51>=Z43,\"þ\",IF(S51>=AA43,\"G2\",IF(S51>=AB43,\"G3\",\"\"))))))","v":""},3,1,4,1,51]
[null,null,null,null,null,null,null,null,null,null,null,null,null,null,null,null,null,null,null,null,null,null,null,null,null,null,null,null,null,null,null,null,null,null,null,null,null,52]
["00:09:55","00:08:15","00:00:01",2,{"$f":"CONCATENATE(VLOOKUP(A54,mens_handbook,3,FALSE),\" A\")","v":"Women's 2000 S/Chase A"},null,null,{"$f":"IF(A54=\"\",\"\",IF(VLOOKUP(A54,Handbook!$A$4:$AI$24,35,FALSE)=\"Y\",\"Wind=\",\"\"))","v":""},null,null,null,null,null,null,{"$f":"CONCATENATE(VLOOKUP(A54,mens_handbook,3,FALSE),\" B\")","v":"Women's 2000 S/Chase B"},null,null,{"$f":"H53","v":""},null,null,null,null,null,{"$f":"IF($A54=\"\",\"\",VLOOKUP($A54,Handbook!$A$4:$V$24,21,FALSE))","v":"-"},{"$f":"IF($A54=\"\",\"\",VLOOKUP($A54,Handbook!$A$4:$V$24,22,FALSE))","v":"-"},{"$f":"IF($A54=\"\",\"\",VLOOKUP($A54,Handbook!$A$4:$W$24,23,FALSE))","v":"00:10:00"},{"$f":"IF($A54=\"\",\"\",VLOOKUP($A54,Handbook!$A$4:$X$24,24,FALSE))","v":"00:10:00"},{"$f":"IF($A54=\"\",\"\",VLOOKUP($A54,Handbook!$A$4:$Y$24,25,FALSE))","v":"00:10:00"},{"$f":"IF($A54=\"\",\"\",VLOOKUP($A54,Handbook!$A$4:$AH$24,34,FALSE))","v":"T"},null,null,null,null,null,null,null,null,53]
[5,null,{"$f":"IF(F54=\"\",\"\",IF(F54>10,F54/11,F54))","v":5},{"$f":"IF(P54=\"\",\"\",IF(P54>10,P54/11,P54))","v":""},1,{"$f":"IF(OR('3kSC'!E20=0,'3kSC'!E20=\"\"),0,'3kSC'!E20)","v":5},{"$f":"IF(OR($F54=\"\",F54=0),\"\",IF($F54>90,VLOOKUP(F54,eventcodes,2,FALSE),HLOOKUP(F54,declare,$B$56,FALSE)))","v":"Victoria Walker (U20)"},{"$f":"IF(OR($F54=\"\",F54=0),\"\",IF($F54>90,\"\",VLOOKUP(C54,matchday,2,FALSE)))","v":"Shaftesbury Barnet H"},{"$f":"IF(OR('3kSC'!H20=\"\",'3kSC'!H20=0),\"\",'3kSC'!H20)","v":"00:07:27.790"},{"$f":"IF(I54=\"\",\"\",IF(AC53=\"T\",X54,X55))","v":"LR"},null,{"$f":"IF(OR(F54=0,F54=\"\",I54=0,I54=\"\"),\"\",IF(I54>A53,0,INT(((B53-I54)*D53/C53)+250)))","v":344},{"$f":"IF(AC53=\"T\",AD54,AE54)","v":"þ"},null,1,{"$f":"IF(OR('3kSC'!E29=\"\",'3kSC'!E29=0),\"\",'3kSC'!E29)","v":""},{"$f":"IF($P54=\"\",\"\",HLOOKUP(P54,declare,B56,FALSE))","v":""},{"$f":"IF($P54=\"\",\"\",VLOOKUP(D54,matchday,2,FALSE))","v":""},null,null,{"$f":"IF(OR(P54=0,P54=\"\",S54=0,S54=\"\"),\"\",IF(S54>A53,0,INT(((B53-S54)*D53/C53)+250)))","v":""},{"$f":"IF(AC53=\"T\",AF54,AG54)","v":""},null,{"$f":"IF(AC53=\"F\",\"\",IF(I54<X53,\"LR\",IF(I54=X53,\"=LR\",IF(I54<Y53,\"DR\",IF(I54=Y53,\"=DR\",\"\")))))","v":"LR"},null,null,null,null,null,{"$f":"IF(I54=\"\",\"\",IF(AC53=\"F\",\"\",IF(AC53=\"T\",IF(I54<=Z53,\"þ\",IF(I54<=AA53,\"G2\",IF(I54<=AB53,\"G3\",\"\"))))))","v":"þ"},{"$f":"IF(I54=\"\",\"\",IF(AC53=\"T\",\"\",IF(AC53=\"F\",IF(I54>=Z53,\"þ\",IF(I54>=AA53,\"G2\",IF(I54>=AB53,\"G3\",\"\"))))))","v":""},{"$f":"IF(S54=\"\",\"\",IF(AC53=\"F\",\"\",IF(AC53=\"T\",IF(S54<=Z53,\"þ\",IF(S54<=AA53,\"G2\",IF(S54<=AB53,\"G3\",\"\"))))))","v":""},{"$f":"IF(S54=\"\",\"\",IF(AC53=\"T\",\"\",IF(AC53=\"F\",IF(S54>=Z53,\"þ\",IF(S54>=AA53,\"G2\",IF(S54>=AB53,\"G3\",\"\"))))))","v":""},{"$f":"C54","v":5},{"$f":"IF(F54=\"\",\"\",IF(LEFT(I54,1)=\"D\",0,VLOOKUP(E54,$AT$4:$AU$40,2,FALSE)))","v":9},{"$f":"D54","v":""},{"$f":"IF(P54=\"\",\"\",IF(LEFT(S54,1)=\"D\",0,VLOOKUP(O54,$AT$4:$AV$40,3,FALSE)))","v":""},54]
[null,{"$f":"VLOOKUP(A54,Handbook!$A$4:$AK$24,37,FALSE)","v":6},{"$f":"IF(F55=\"\",\"\",IF(F55>10,F55/11,F55))","v":7},{"$f":"IF(P55=\"\",\"\",IF(P55>10,P55/11,P55))","v":""},2,{"$f":"IF(OR('3kSC'!E21=0,'3kSC'!E21=\"\"),0,'3kSC'!E21)","v":7},"Holly Lawrence","Swansea H",{"$f":"IF(OR('3kSC'!H21=\"\",'3kSC'!H21=0),\"\",'3kSC'!H21)","v":"00:07:49.440"},{"$f":"IF(I55=\"\",\"\",IF(AND(AC53=\"T\",I55<I54),\"X\",IF(AND(AC53=\"F\",I55>I54),\"X\",\"\")))","v":""},null,{"$f":"IF(OR(F55=0,F55=\"\",I55=0,I55=\"\"),\"\",IF(I55>A53,0,INT(((B53-I55)*D53/C53)+250)))","v":301},{"$f":"IF(AC53=\"T\",AD55,AE55)","v":"þ"},null,2,{"$f":"IF(OR('3kSC'!E30=\"\",'3kSC'!E30=0),\"\",'3kSC'!E30)","v":""},{"$f":"IF($P55=\"\",\"\",HLOOKUP(P55,declare,B56,FALSE))","v":""},"",{"$f":"IF(OR('3kSC'!H30=\"\",'3kSC'!H30=0),\"\",'3kSC'!H30)","v":""},{"$f":"IF(S55=\"\",\"\",IF(AND(AC53=\"T\",S55<S54),\"X\",IF(AND(AC53=\"F\",S55>S54),\"X\",\"\")))","v":""},{"$f":"IF(OR(P55=0,P55=\"\",S55=0,S55=\"\"),\"\",IF(S55>A53,0,INT(((B53-S55)*D53/C53)+250)))","v":""},{"$f":"IF(AC53=\"T\",AF55,AG55)","v":""},null,{"$f":"IF(AC53=\"T\",\"\",IF(I54>X53,\"LR\",IF(I54=X53,\"=LR\",IF(I54>Y53,\"DR\",IF(I54=Y53,\"=DR\",\"\")))))","v":""},null,null,null,null,null,{"$f":"IF(I55=\"\",\"\",IF(AC53=\"F\",\"\",IF(AC53=\"T\",IF(I55<=Z53,\"þ\",IF(I55<=AA53,\"G2\",IF(I55<=AB53,\"G3\",\"\"))))))","v":"þ"},{"$f":"IF(I55=\"\",\"\",IF(AC53=\"T\",\"\",IF(AC53=\"F\",IF(I55>=Z53,\"þ\",IF(I55>=AA53,\"G2\",IF(I55>=AB53,\"G3\",\"\"))))))","v":""},{"$f":"IF(S55=\"\",\"\",IF(AC53=\"F\",\"\",IF(AC53=\"T\",IF(S55<=Z53,\"þ\",IF(S55<=AA53,\"G2\",IF(S55<=AB53,\"G3\",\"\"))))))","v":""},{"$f":"IF(S55=\"\",\"\",IF(AC53=\"T\",\"\",IF(AC53=\"F\",IF(S55>=Z53,\"þ\",IF(S55>=AA53,\"G2\",IF(S55>=AB53,\"G3\",\"\"))))))","v":""},{"$f":"C55","v":7},7,{"$f":"D55","v":""},"",55]
[null,{"$f":"VLOOKUP(A54,declare,20,FALSE)","v":8},8,"",3,{"$f":"IF(OR('3kSC'!E22=0,'3kSC'!E22=\"\"),0,'3kSC'!E22)","v":8},"Joanna Mobed","Thames Valley H",{"$f":"IF(OR('3kSC'!H22=\"\",'3kSC'!H22=0),\"\",'3kSC'!H22)","v":"00:07:52.790"},{"$f":"IF(I56=\"\",\"\",IF(AND(AC53=\"T\",I56<I55),\"X\",IF(AND(AC53=\"F\",I56>I55),\"X\",\"\")))","v":""},null,{"$f":"IF(OR(F56=0,F56=\"\",I56=0,I56=\"\"),\"\",IF(I56>A53,0,INT(((B53-I56)*D53/C53)+250)))","v":294},{"$f":"IF(AC53=\"T\",AD56,AE56)","v":"þ"},null,3,{"$f":"IF(OR('3kSC'!E31=\"\",'3kSC'!E31=0),\"\",'3kSC'!E31)","v":""},{"$f":"IF($P56=\"\",\"\",HLOOKUP(P56,declare,B56,FALSE))","v":""},"",{"$f":"IF(OR('3kSC'!H31=\"\",'3kSC'!H31=0),\"\",'3kSC'!H31)","v":""},{"$f":"IF(S56=\"\",\"\",IF(AND(AC53=\"T\",S56<S55),\"X\",IF(AND(AC53=\"F\",S56>S55),\"X\",\"\")))","v":""},{"$f":"IF(OR(P56=0,P56=\"\",S56=0,S56=\"\"),\"\",IF(S56>A53,0,INT(((B53-S56)*D53/C53)+250)))","v":""},{"$f":"IF(AC53=\"T\",AF56,AG56)","v":""},null,null,null,null,null,null,null,{"$f":"IF(I56=\"\",\"\",IF(AC53=\"F\",\"\",IF(AC53=\"T\",IF(I56<=Z53,\"þ\",IF(I56<=AA53,\"G2\",IF(I56<=AB53,\"G3\",\"\"))))))","v":"þ"},{"$f":"IF(I56=\"\",\"\",IF(AC53=\"T\",\"\",IF(AC53=\"F\",IF(I56>=Z53,\"þ\",IF(I56>=AA53,\"G2\",IF(I56>=AB53,\"G3\",\"\"))))))","v":""},{"$f":"IF(S56=\"\",\"\",IF(AC53=\"F\",\"\",IF(AC53=\"T\",IF(S56<=Z53,\"þ\",IF(S56<=AA53,\"G2\",IF(S56<=AB53,\"G3\",\"\"))))))","v":""},{"$f":"IF(S56=\"\",\"\",IF(AC53=\"T\",\"\",IF(AC53=\"F\",IF(S56>=Z53,\"þ\",IF(S56>=AA53,\"G2\",IF(S56>=AB53,\"G3\",\"\"))))))","v":""},8,6,"","",56]
[null,null,6,"",4,{"$f":"IF(OR('3kSC'!E23=0,'3kSC'!E23=\"\"),0,'3kSC'!E23)","v":6},"Clemmie McAteer","Southampton AC",{"$f":"IF(OR('3kSC'!H23=\"\",'3kSC'!H23=0),\"\",'3kSC'!H23)","v":"00:08:28.430"},{"$f":"IF(I57=\"\",\"\",IF(AND(AC53=\"T\",I57<I56),\"X\",IF(AND(AC53=\"F\",I57>I56),\"X\",\"\")))","v":""},null,{"$f":"IF(OR(F57=0,F57=\"\",I57=0,I57=\"\"),\"\",IF(I57>A53,0,INT(((B53-I57)*D53/C53)+250)))","v":223},{"$f":"IF(AC53=\"T\",AD57,AE57)","v":"þ"},null,4,{"$f":"IF(OR('3kSC'!E32=\"\",'3kSC'!E32=0),\"\",'3kSC'!E32)","v":""},{"$f":"IF($P57=\"\",\"\",HLOOKUP(P57,declare,B56,FALSE))","v":""},"",{"$f":"IF(OR('3kSC'!H32=\"\",'3kSC'!H32=0),\"\",'3kSC'!H32)","v":""},{"$f":"IF(S57=\"\",\"\",IF(AND(AC53=\"T\",S57<S56),\"X\",IF(AND(AC53=\"F\",S57>S56),\"X\",\"\")))","v":""},{"$f":"IF(OR(P57=0,P57=\"\",S57=0,S57=\"\"),\"\",IF(S57>A53,0,INT(((B53-S57)*D53/C53)+250)))","v":""},{"$f":"IF(AC53=\"T\",AF57,AG57)","v":""},null,null,null,null,null,null,null,{"$f":"IF(I57=\"\",\"\",IF(AC53=\"F\",\"\",IF(AC53=\"T\",IF(I57<=Z53,\"þ\",IF(I57<=AA53,\"G2\",IF(I57<=AB53,\"G3\",\"\"))))))","v":"þ"},{"$f":"IF(I57=\"\",\"\",IF(AC53=\"T\",\"\",IF(AC53=\"F\",IF(I57>=Z53,\"þ\",IF(I57>=AA53,\"G2\",IF(I57>=AB53,\"G3\",\"\"))))))","v":""},{"$f":"IF(S57=\"\",\"\",IF(AC53=\"F\",\"\",IF(AC53=\"T\",IF(S57<=Z53,\"þ\",IF(S57<=AA53,\"G2\",IF(S57<=AB53,\"G3\",\"\"))))))","v":""},{"$f":"IF(S57=\"\",\"\",IF(AC53=\"T\",\"\",IF(AC53=\"F\",IF(S57>=Z53,\"þ\",IF(S57>=AA53,\"G2\",IF(S57>=AB53,\"G3\",\"\"))))))","v":""},6,5,"","",57]
[null,null,1,"",5,{"$f":"IF(OR('3kSC'!E24=0,'3kSC'!E24=\"\"),0,'3kSC'!E24)","v":1},"Leanne Buxton","Bedford & County AC",{"$f":"IF(OR('3kSC'!H24=\"\",'3kSC'!H24=0),\"\",'3kSC'!H24)","v":"00:08:59.780"},{"$f":"IF(I58=\"\",\"\",IF(AND(AC53=\"T\",I58<I57),\"X\",IF(AND(AC53=\"F\",I58>I57),\"X\",\"\")))","v":""},null,{"$f":"IF(OR(F58=0,F58=\"\",I58=0,I58=\"\"),\"\",IF(I58>A53,0,INT(((B53-I58)*D53/C53)+250)))","v":160},{"$f":"IF(AC53=\"T\",AD58,AE58)","v":"þ"},null,5,{"$f":"IF(OR('3kSC'!E33=\"\",'3kSC'!E33=0),\"\",'3kSC'!E33)","v":""},{"$f":"IF($P58=\"\",\"\",HLOOKUP(P58,declare,B56,FALSE))","v":""},"",{"$f":"IF(OR('3kSC'!H33=\"\",'3kSC'!H33=0),\"\",'3kSC'!H33)","v":""},{"$f":"IF(S58=\"\",\"\",IF(AND(AC53=\"T\",S58<S57),\"X\",IF(AND(AC53=\"F\",S58>S57),\"X\",\"\")))","v":""},{"$f":"IF(OR(P58=0,P58=\"\",S58=0,S58=\"\"),\"\",IF(S58>A53,0,INT(((B53-S58)*D53/C53)+250)))","v":""},{"$f":"IF(AC53=\"T\",AF58,AG58)","v":""},null,null,null,null,null,null,null,{"$f":"IF(I58=\"\",\"\",IF(AC53=\"F\",\"\",IF(AC53=\"T\",IF(I58<=Z53,\"þ\",IF(I58<=AA53,\"G2\",IF(I58<=AB53,\"G3\",\"\"))))))","v":"þ"},{"$f":"IF(I58=\"\",\"\",IF(AC53=\"T\",\"\",IF(AC53=\"F\",IF(I58>=Z53,\"þ\",IF(I58>=AA53,\"G2\",IF(I58>=AB53,\"G3\",\"\"))))))","v":""},{"$f":"IF(S58=\"\",\"\",IF(AC53=\"F\",\"\",IF(AC53=\"T\",IF(S58<=Z53,\"þ\",IF(S58<=AA53,\"G2\",IF(S58<=AB53,\"G3\",\"\"))))))","v":""},{"$f":"IF(S58=\"\",\"\",IF(AC53=\"T\",\"\",IF(AC53=\"F\",IF(S58>=Z53,\"þ\",IF(S58>=AA53,\"G2\",IF(S58>=AB53,\"G3\",\"\"))))))","v":""},1,4,"","",58]
[null,null,2,"",6,{"$f":"IF(OR('3kSC'!E25=0,'3kSC'!E25=\"\"),0,'3kSC'!E25)","v":2},"Sarah Abrams","Blackheath & Bromley H",{"$f":"IF(OR('3kSC'!H25=\"\",'3kSC'!H25=0),\"\",'3kSC'!H25)","v":"00:09:50.660"},{"$f":"IF(I59=\"\",\"\",IF(AND(AC53=\"T\",I59<I58),\"X\",IF(AND(AC53=\"F\",I59>I58),\"X\",\"\")))","v":""},null,{"$f":"IF(OR(F59=0,F59=\"\",I59=0,I59=\"\"),\"\",IF(I59>A53,0,INT(((B53-I59)*D53/C53)+250)))","v":58},{"$f":"IF(AC53=\"T\",AD59,AE59)","v":"þ"},null,6,{"$f":"IF(OR('3kSC'!E34=\"\",'3kSC'!E34=0),\"\",'3kSC'!E34)","v":""},{"$f":"IF($P59=\"\",\"\",HLOOKUP(P59,declare,B56,FALSE))","v":""},"",{"$f":"IF(OR('3kSC'!H34=\"\",'3kSC'!H34=0),\"\",'3kSC'!H34)","v":""},{"$f":"IF(S59=\"\",\"\",IF(AND(AC53=\"T\",S59<S58),\"X\",IF(AND(AC53=\"F\",S59>S58),\"X\",\"\")))","v":""},{"$f":"IF(OR(P59=0,P59=\"\",S59=0,S59=\"\"),\"\",IF(S59>A53,0,INT(((B53-S59)*D53/C53)+250)))","v":""},{"$f":"IF(AC53=\"T\",AF59,AG59)","v":""},null,null,null,null,null,null,null,{"$f":"IF(I59=\"\",\"\",IF(AC53=\"F\",\"\",IF(AC53=\"T\",IF(I59<=Z53,\"þ\",IF(I59<=AA53,\"G2\",IF(I59<=AB53,\"G3\",\"\"))))))","v":"þ"},{"$f":"IF(I59=\"\",\"\",IF(AC53=\"T\",\"\",IF(AC53=\"F\",IF(I59>=Z53,\"þ\",IF(I59>=AA53,\"G2\",IF(I59>=AB53,\"G3\",\"\"))))))","v":""},{"$f":"IF(S59=\"\",\"\",IF(AC53=\"F\",\"\",IF(AC53=\"T\",IF(S59<=Z53,\"þ\",IF(S59<=AA53,\"G2\",IF(S59<=AB53,\"G3\",\"\"))))))","v":""},{"$f":"IF(S59=\"\",\"\",IF(AC53=\"T\",\"\",IF(AC53=\"F\",IF(S59>=Z53,\"þ\",IF(S59>=AA53,\"G2\",IF(S59>=AB53,\"G3\",\"\"))))))","v":""},2,3,"","",59]
[null,null,3,"",7,{"$f":"IF(OR('3kSC'!E26=0,'3kSC'!E26=\"\"),0,'3kSC'!E26)","v":3},"Di Baldwin (V50)","Marshall Milton Keynes AC",{"$f":"IF(OR('3kSC'!H26=\"\",'3kSC'!H26=0),\"\",'3kSC'!H26)","v":"00:10:24.300"},{"$f":"IF(I60=\"\",\"\",IF(AND(AC53=\"T\",I60<I59),\"X\",IF(AND(AC53=\"F\",I60>I59),\"X\",\"\")))","v":""},null,{"$f":"IF(OR(F60=0,F60=\"\",I60=0,I60=\"\"),\"\",IF(I60>A53,0,INT(((B53-I60)*D53/C53)+250)))","v":0},{"$f":"IF(AC53=\"T\",AD60,AE60)","v":""},null,7,{"$f":"IF(OR('3kSC'!E35=\"\",'3kSC'!E35=0),\"\",'3kSC'!E35)","v":""},{"$f":"IF($P60=\"\",\"\",HLOOKUP(P60,declare,B56,FALSE))","v":""},"",{"$f":"IF(OR('3kSC'!H35=\"\",'3kSC'!H35=0),\"\",'3kSC'!H35)","v":""},{"$f":"IF(S60=\"\",\"\",IF(AND(AC53=\"T\",S60<S59),\"X\",IF(AND(AC53=\"F\",S60>S59),\"X\",\"\")))","v":""},{"$f":"IF(OR(P60=0,P60=\"\",S60=0,S60=\"\"),\"\",IF(S60>A53,0,INT(((B53-S60)*D53/C53)+250)))","v":""},{"$f":"IF(AC53=\"T\",AF60,AG60)","v":""},null,null,null,null,null,null,null,{"$f":"IF(I60=\"\",\"\",IF(AC53=\"F\",\"\",IF(AC53=\"T\",IF(I60<=Z53,\"þ\",IF(I60<=AA53,\"G2\",IF(I60<=AB53,\"G3\",\"\"))))))","v":""},{"$f":"IF(I60=\"\",\"\",IF(AC53=\"T\",\"\",IF(AC53=\"F\",IF(I60>=Z53,\"þ\",IF(I60>=AA53,\"G2\",IF(I60>=AB53,\"G3\",\"\"))))))","v":""},{"$f":"IF(S60=\"\",\"\",IF(AC53=\"F\",\"\",IF(AC53=\"T\",IF(S60<=Z53,\"þ\",IF(S60<=AA53,\"G2\",IF(S60<=AB53,\"G3\",\"\"))))))","v":""},{"$f":"IF(S60=\"\",\"\",IF(AC53=\"T\",\"\",IF(AC53=\"F\",IF(S60>=Z53,\"þ\",IF(S60>=AA53,\"G2\",IF(S60>=AB53,\"G3\",\"\"))))))","v":""},3,2,"","",60]
[null,null,0,"",8,{"$f":"IF(OR('3kSC'!E27=0,'3kSC'!E27=\"\"),0,'3kSC'!E27)","v":0},"","",{"$f":"IF(OR('3kSC'!H27=\"\",'3kSC'!H27=0),\"\",'3kSC'!H27)","v":""},{"$f":"IF(I61=\"\",\"\",IF(AND(AC53=\"T\",I61<I60),\"X\",IF(AND(AC53=\"F\",I61>I60),\"X\",\"\")))","v":""},null,{"$f":"IF(OR(F61=0,F61=\"\",I61=0,I61=\"\"),\"\",IF(I61>A53,0,INT(((B53-I61)*D53/C53)+250)))","v":""},{"$f":"IF(AC53=\"T\",AD61,AE61)","v":""},null,8,{"$f":"IF(OR('3kSC'!E36=\"\",'3kSC'!E36=0),\"\",'3kSC'!E36)","v":""},{"$f":"IF($P61=\"\",\"\",HLOOKUP(P61,declare,B56,FALSE))","v":""},"",{"$f":"IF(OR('3kSC'!H36=\"\",'3kSC'!H36=0),\"\",'3kSC'!H36)","v":""},{"$f":"IF(S61=\"\",\"\",IF(AND(AC53=\"T\",S61<S60),\"X\",IF(AND(AC53=\"F\",S61>S60),\"X\",\"\")))","v":""},{"$f":"IF(OR(P61=0,P61=\"\",S61=0,S61=\"\"),\"\",IF(S61>A53,0,INT(((B53-S61)*D53/C53)+250)))","v":""},{"$f":"IF(AC53=\"T\",AF61,AG61)","v":""},null,null,null,null,null,null,null,{"$f":"IF(I61=\"\",\"\",IF(AC53=\"F\",\"\",IF(AC53=\"T\",IF(I61<=Z53,\"þ\",IF(I61<=AA53,\"G2\",IF(I61<=AB53,\"G3\",\"\"))))))","v":""},{"$f":"IF(I61=\"\",\"\",IF(AC53=\"T\",\"\",IF(AC53=\"F\",IF(I61>=Z53,\"þ\",IF(I61>=AA53,\"G2\",IF(I61>=AB53,\"G3\",\"\"))))))","v":""},{"$f":"IF(S61=\"\",\"\",IF(AC53=\"F\",\"\",IF(AC53=\"T\",IF(S61<=Z53,\"þ\",IF(S61<=AA53,\"G2\",IF(S61<=AB53,\"G3\",\"\"))))))","v":""},{"$f":"IF(S61=\"\",\"\",IF(AC53=\"T\",\"\",IF(AC53=\"F\",IF(S61>=Z53,\"þ\",IF(S61>=AA53,\"G2\",IF(S61>=AB53,\"G3\",\"\"))))))","v":""},0,1,"","",61]
[null,null,null,null,null,null,null,null,null,null,null,null,null,null,null,null,null,null,null,null,null,null,null,null,null,null,null,null,null,null,null,null,null,null,null,null,null,62]
["00:10:30","00:08:30","00:00:01",1.667,{"$f":"CONCATENATE(VLOOKUP(A64,mens_handbook,3,FALSE),\" A\")","v":"Women's 3000m A"},null,null,{"$f":"IF(A64=\"\",\"\",IF(VLOOKUP(A64,Handbook!$A$4:$AI$24,35,FALSE)=\"Y\",\"Wind=\",\"\"))","v":""},null,null,null,null,null,null,{"$f":"CONCATENATE(VLOOKUP(A64,mens_handbook,3,FALSE),\" B\")","v":"Women's 3000m B"},null,null,{"$f":"H63","v":""},null,null,null,null,null,{"$f":"IF($A64=\"\",\"\",VLOOKUP($A64,Handbook!$A$4:$V$24,21,FALSE))","v":"00:09:04.900"},{"$f":"IF($A64=\"\",\"\",VLOOKUP($A64,Handbook!$A$4:$V$24,22,FALSE))","v":"00:09:15.600"},{"$f":"IF($A64=\"\",\"\",VLOOKUP($A64,Handbook!$A$4:$W$24,23,FALSE))","v":"00:11:00"},{"$f":"IF($A64=\"\",\"\",VLOOKUP($A64,Handbook!$A$4:$X$24,24,FALSE))","v":"00:11:00"},{"$f":"IF($A64=\"\",\"\",VLOOKUP($A64,Handbook!$A$4:$Y$24,25,FALSE))","v":"00:11:00"},{"$f":"IF($A64=\"\",\"\",VLOOKUP($A64,Handbook!$A$4:$AH$24,34,FALSE))","v":"T"},null,null,null,null,null,null,null,null,63]
[21,null,{"$f":"IF(F64=\"\",\"\",IF(F64>10,F64/11,F64))","v":7},{"$f":"IF(P64=\"\",\"\",IF(P64>10,P64/11,P64))","v":7},1,{"$f":"IF(OR('5000m'!E20=0,'5000m'!E20=\"\"),0,'5000m'!E20)","v":7},{"$f":"IF(OR($F64=\"\",F64=0),\"\",IF($F64>90,VLOOKUP(F64,eventcodes,2,FALSE),HLOOKUP(F64,declare,$B$66,FALSE)))","v":"Andrea Whitcombe"},{"$f":"IF(OR($F64=\"\",F64=0),\"\",IF($F64>90,\"\",VLOOKUP(C64,matchday,2,FALSE)))","v":"Swansea H"},{"$f":"IF(OR('5000m'!H20=\"\",'5000m'!H20=0),\"\",'5000m'!H20)","v":"00:09:38.900"},{"$f":"IF(I64=\"\",\"\",IF(AC63=\"T\",X64,X65))","v":""},null,{"$f":"IF(OR(F64=0,F64=\"\",I64=0,I64=\"\"),\"\",IF(I64>A63,0,INT(((B63-I64)*D63/C63)+250)))","v":135},{"$f":"IF(AC63=\"T\",AD64,AE64)","v":"þ"},null,1,{"$f":"IF(OR('5000m'!E29=\"\",'5000m'!E29=0),\"\",'5000m'!E29)","v":77},{"$f":"IF($P64=\"\",\"\",HLOOKUP(P64,declare,B66,FALSE))","v":"Alaw Benyon Thomas"},{"$f":"IF($P64=\"\",\"\",VLOOKUP(D64,matchday,2,FALSE))","v":"Swansea H"},{"$f":"IF(OR('5000m'!H29=\"\",'5000m'!H29=0),\"\",'5000m'!H29)","v":"00:10:07.030"},null,{"$f":"IF(OR(P64=0,P64=\"\",S64=0,S64=\"\"),\"\",IF(S64>A63,0,INT(((B63-S64)*D63/C63)+250)))","v":88},{"$f":"IF(AC63=\"T\",AF64,AG64)","v":"þ"},null,{"$f":"IF(AC63=\"F\",\"\",IF(I64<X63,\"LR\",IF(I64=X63,\"=LR\",IF(I64<Y63,\"DR\",IF(I64=Y63,\"=DR\",\"\")))))","v":""},null,null,null,null,null,{"$f":"IF(I64=\"\",\"\",IF(AC63=\"F\",\"\",IF(AC63=\"T\",IF(I64<=Z63,\"þ\",IF(I64<=AA63,\"G2\",IF(I64<=AB63,\"G3\",\"\"))))))","v":"þ"},{"$f":"IF(I64=\"\",\"\",IF(AC63=\"T\",\"\",IF(AC63=\"F\",IF(I64>=Z63,\"þ\",IF(I64>=AA63,\"G2\",IF(I64>=AB63,\"G3\",\"\"))))))","v":""},{"$f":"IF(S64=\"\",\"\",IF(AC63=\"F\",\"\",IF(AC63=\"T\",IF(S64<=Z63,\"þ\",IF(S64<=AA63,\"G2\",IF(S64<=AB63,\"G3\",\"\"))))))","v":"þ"},{"$f":"IF(S64=\"\",\"\",IF(AC63=\"T\",\"\",IF(AC63=\"F\",IF(S64>=Z63,\"þ\",IF(S64>=AA63,\"G2\",IF(S64>=AB63,\"G3\",\"\"))))))","v":""},{"$f":"C64","v":7},{"$f":"IF(F64=\"\",\"\",IF(LEFT(I64,1)=\"D\",0,VLOOKUP(E64,$AT$4:$AU$40,2,FALSE)))","v":9},{"$f":"D64","v":7},{"$f":"IF(P64=\"\",\"\",IF(LEFT(S64,1)=\"D\",0,VLOOKUP(O64,$AT$4:$AV$40,3,FALSE)))","v":9},64]
[null,{"$f":"VLOOKUP(A64,Handbook!$A$4:$AK$24,37,FALSE)","v":22},{"$f":"IF(F65=\"\",\"\",IF(F65>10,F65/11,F65))","v":8},{"$f":"IF(P65=\"\",\"\",IF(P65>10,P65/11,P65))","v":8},2,{"$f":"IF(OR('5000m'!E21=0,'5000m'!E21=\"\"),0,'5000m'!E21)","v":8},"Katie Good","Thames Valley H",{"$f":"IF(OR('5000m'!H21=\"\",'5000m'!H21=0),\"\",'5000m'!H21)","v":"00:09:43.070"},{"$f":"IF(I65=\"\",\"\",IF(AND(AC63=\"T\",I65<I64),\"X\",IF(AND(AC63=\"F\",I65>I64),\"X\",\"\")))","v":""},null,{"$f":"IF(OR(F65=0,F65=\"\",I65=0,I65=\"\"),\"\",IF(I65>A63,0,INT(((B63-I65)*D63/C63)+250)))","v":128},{"$f":"IF(AC63=\"T\",AD65,AE65)","v":"þ"},null,2,{"$f":"IF(OR('5000m'!E30=\"\",'5000m'!E30=0),\"\",'5000m'!E30)","v":88},{"$f":"IF($P65=\"\",\"\",HLOOKUP(P65,declare,B66,FALSE))","v":"Lisa Da Silva"},"Thames Valley H",{"$f":"IF(OR('5000m'!H30=\"\",'5000m'!H30=0),\"\",'5000m'!H30)","v":"00:10:13.040"},{"$f":"IF(S65=\"\",\"\",IF(AND(AC63=\"T\",S65<S64),\"X\",IF(AND(AC63=\"F\",S65>S64),\"X\",\"\")))","v":""},{"$f":"IF(OR(P65=0,P65=\"\",S65=0,S65=\"\"),\"\",IF(S65>A63,0,INT(((B63-S65)*D63/C63)+250)))","v":78},{"$f":"IF(AC63=\"T\",AF65,AG65)","v":"þ"},null,{"$f":"IF(AC63=\"T\",\"\",IF(I64>X63,\"LR\",IF(I64=X63,\"=LR\",IF(I64>Y63,\"DR\",IF(I64=Y63,\"=DR\",\"\")))))","v":""},null,null,null,null,null,{"$f":"IF(I65=\"\",\"\",IF(AC63=\"F\",\"\",IF(AC63=\"T\",IF(I65<=Z63,\"þ\",IF(I65<=AA63,\"G2\",IF(I65<=AB63,\"G3\",\"\"))))))","v":"þ"},{"$f":"IF(I65=\"\",\"\",IF(AC63=\"T\",\"\",IF(AC63=\"F\",IF(I65>=Z63,\"þ\",IF(I65>=AA63,\"G2\",IF(I65>=AB63,\"G3\",\"\"))))))","v":""},{"$f":"IF(S65=\"\",\"\",IF(AC63=\"F\",\"\",IF(AC63=\"T\",IF(S65<=Z63,\"þ\",IF(S65<=AA63,\"G2\",IF(S65<=AB63,\"G3\",\"\"))))))","v":"þ"},{"$f":"IF(S65=\"\",\"\",IF(AC63=\"T\",\"\",IF(AC63=\"F\",IF(S65>=Z63,\"þ\",IF(S65>=AA63,\"G2\",IF(S65>=AB63,\"G3\",\"\"))))))","v":""},{"$f":"C65","v":8},7,{"$f":"D65","v":8},7,65]
[null,{"$f":"VLOOKUP(A64,declare,20,FALSE)","v":9},1,1,3,{"$f":"IF(OR('5000m'!E22=0,'5000m'!E22=\"\"),0,'5000m'!E22)","v":11},"Alice Burgin","Bedford & County AC",{"$f":"IF(OR('5000m'!H22=\"\",'5000m'!H22=0),\"\",'5000m'!H22)","v":"00:10:06.790"},{"$f":"IF(I66=\"\",\"\",IF(AND(AC63=\"T\",I66<I65),\"X\",IF(AND(AC63=\"F\",I66>I65),\"X\",\"\")))","v":""},null,{"$f":"IF(OR(F66=0,F66=\"\",I66=0,I66=\"\"),\"\",IF(I66>A63,0,INT(((B63-I66)*D63/C63)+250)))","v":88},{"$f":"IF(AC63=\"T\",AD66,AE66)","v":"þ"},null,3,{"$f":"IF(OR('5000m'!E31=\"\",'5000m'!E31=0),\"\",'5000m'!E31)","v":1},{"$f":"IF($P66=\"\",\"\",HLOOKUP(P66,declare,B66,FALSE))","v":"Natasha Peters"},"Bedford & County AC",{"$f":"IF(OR('5000m'!H31=\"\",'5000m'!H31=0),\"\",'5000m'!H31)","v":"00:10:21.310"},{"$f":"IF(S66=\"\",\"\",IF(AND(AC63=\"T\",S66<S65),\"X\",IF(AND(AC63=\"F\",S66>S65),\"X\",\"\")))","v":""},{"$f":"IF(OR(P66=0,P66=\"\",S66=0,S66=\"\"),\"\",IF(S66>A63,0,INT(((B63-S66)*D63/C63)+250)))","v":64},{"$f":"IF(AC63=\"T\",AF66,AG66)","v":"þ"},null,null,null,null,null,null,null,{"$f":"IF(I66=\"\",\"\",IF(AC63=\"F\",\"\",IF(AC63=\"T\",IF(I66<=Z63,\"þ\",IF(I66<=AA63,\"G2\",IF(I66<=AB63,\"G3\",\"\"))))))","v":"þ"},{"$f":"IF(I66=\"\",\"\",IF(AC63=\"T\",\"\",IF(AC63=\"F\",IF(I66>=Z63,\"þ\",IF(I66>=AA63,\"G2\",IF(I66>=AB63,\"G3\",\"\"))))))","v":""},{"$f":"IF(S66=\"\",\"\",IF(AC63=\"F\",\"\",IF(AC63=\"T\",IF(S66<=Z63,\"þ\",IF(S66<=AA63,\"G2\",IF(S66<=AB63,\"G3\",\"\"))))))","v":"þ"},{"$f":"IF(S66=\"\",\"\",IF(AC63=\"T\",\"\",IF(AC63=\"F\",IF(S66>=Z63,\"þ\",IF(S66>=AA63,\"G2\",IF(S66>=AB63,\"G3\",\"\"))))))","v":""},1,6,1,6,66]
[null,null,3,2,4,{"$f":"IF(OR('5000m'!E23=0,'5000m'!E23=\"\"),0,'5000m'!E23)","v":3},"Ellie Roche (U20)","Marshall Milton Keynes AC",{"$f":"IF(OR('5000m'!H23=\"\",'5000m'!H23=0),\"\",'5000m'!H23)","v":"00:10:20.700"},{"$f":"IF(I67=\"\",\"\",IF(AND(AC63=\"T\",I67<I66),\"X\",IF(AND(AC63=\"F\",I67>I66),\"X\",\"\")))","v":""},null,{"$f":"IF(OR(F67=0,F67=\"\",I67=0,I67=\"\"),\"\",IF(I67>A63,0,INT(((B63-I67)*D63/C63)+250)))","v":65},{"$f":"IF(AC63=\"T\",AD67,AE67)","v":"þ"},null,4,{"$f":"IF(OR('5000m'!E32=\"\",'5000m'!E32=0),\"\",'5000m'!E32)","v":22},{"$f":"IF($P67=\"\",\"\",HLOOKUP(P67,declare,B66,FALSE))","v":"Rachel Robinson"},"Blackheath & Bromley H",{"$f":"IF(OR('5000m'!H32=\"\",'5000m'!H32=0),\"\",'5000m'!H32)","v":"00:13:12.160"},{"$f":"IF(S67=\"\",\"\",IF(AND(AC63=\"T\",S67<S66),\"X\",IF(AND(AC63=\"F\",S67>S66),\"X\",\"\")))","v":""},{"$f":"IF(OR(P67=0,P67=\"\",S67=0,S67=\"\"),\"\",IF(S67>A63,0,INT(((B63-S67)*D63/C63)+250)))","v":0},{"$f":"IF(AC63=\"T\",AF67,AG67)","v":""},null,null,null,null,null,null,null,{"$f":"IF(I67=\"\",\"\",IF(AC63=\"F\",\"\",IF(AC63=\"T\",IF(I67<=Z63,\"þ\",IF(I67<=AA63,\"G2\",IF(I67<=AB63,\"G3\",\"\"))))))","v":"þ"},{"$f":"IF(I67=\"\",\"\",IF(AC63=\"T\",\"\",IF(AC63=\"F\",IF(I67>=Z63,\"þ\",IF(I67>=AA63,\"G2\",IF(I67>=AB63,\"G3\",\"\"))))))","v":""},{"$f":"IF(S67=\"\",\"\",IF(AC63=\"F\",\"\",IF(AC63=\"T\",IF(S67<=Z63,\"þ\",IF(S67<=AA63,\"G2\",IF(S67<=AB63,\"G3\",\"\"))))))","v":""},{"$f":"IF(S67=\"\",\"\",IF(AC63=\"T\",\"\",IF(AC63=\"F\",IF(S67>=Z63,\"þ\",IF(S67>=AA63,\"G2\",IF(S67>=AB63,\"G3\",\"\"))))))","v":""},3,5,2,5,67]
[null,null,6,"",5,{"$f":"IF(OR('5000m'!E24=0,'5000m'!E24=\"\"),0,'5000m'!E24)","v":6},"Nicci Blandford","Southampton AC",{"$f":"IF(OR('5000m'!H24=\"\",'5000m'!H24=0),\"\",'5000m'!H24)","v":"00:10:22.950"},{"$f":"IF(I68=\"\",\"\",IF(AND(AC63=\"T\",I68<I67),\"X\",IF(AND(AC63=\"F\",I68>I67),\"X\",\"\")))","v":""},null,{"$f":"IF(OR(F68=0,F68=\"\",I68=0,I68=\"\"),\"\",IF(I68>A63,0,INT(((B63-I68)*D63/C63)+250)))","v":61},{"$f":"IF(AC63=\"T\",AD68,AE68)","v":"þ"},null,5,{"$f":"IF(OR('5000m'!E33=\"\",'5000m'!E33=0),\"\",'5000m'!E33)","v":""},{"$f":"IF($P68=\"\",\"\",HLOOKUP(P68,declare,B66,FALSE))","v":""},"",{"$f":"IF(OR('5000m'!H33=\"\",'5000m'!H33=0),\"\",'5000m'!H33)","v":""},{"$f":"IF(S68=\"\",\"\",IF(AND(AC63=\"T\",S68<S67),\"X\",IF(AND(AC63=\"F\",S68>S67),\"X\",\"\")))","v":""},{"$f":"IF(OR(P68=0,P68=\"\",S68=0,S68=\"\"),\"\",IF(S68>A63,0,INT(((B63-S68)*D63/C63)+250)))","v":""},{"$f":"IF(AC63=\"T\",AF68,AG68)","v":""},null,null,null,null,null,null,null,{"$f":"IF(I68=\"\",\"\",IF(AC63=\"F\",\"\",IF(AC63=\"T\",IF(I68<=Z63,\"þ\",IF(I68<=AA63,\"G2\",IF(I68<=AB63,\"G3\",\"\"))))))","v":"þ"},{"$f":"IF(I68=\"\",\"\",IF(AC63=\"T\",\"\",IF(AC63=\"F\",IF(I68>=Z63,\"þ\",IF(I68>=AA63,\"G2\",IF(I68>=AB63,\"G3\",\"\"))))))","v":""},{"$f":"IF(S68=\"\",\"\",IF(AC63=\"F\",\"\",IF(AC63=\"T\",IF(S68<=Z63,\"þ\",IF(S68<=AA63,\"G2\",IF(S68<=AB63,\"G3\",\"\"))))))","v":""},{"$f":"IF(S68=\"\",\"\",IF(AC63=\"T\",\"\",IF(AC63=\"F\",IF(S68>=Z63,\"þ\",IF(S68>=AA63,\"G2\",IF(S68>=AB63,\"G3\",\"\"))))))","v":""},6,4,"","",68]
[null,null,5,"",6,{"$f":"IF(OR('5000m'!E25=0,'5000m'!E25=\"\"),0,'5000m'!E25)","v":5},"Claire Miles ","Shaftesbury Barnet H",{"$f":"IF(OR('5000m'!H25=\"\",'5000m'!H25=0),\"\",'5000m'!H25)","v":"00:10:55.050"},{"$f":"IF(I69=\"\",\"\",IF(AND(AC63=\"T\",I69<I68),\"X\",IF(AND(AC63=\"F\",I69>I68),\"X\",\"\")))","v":""},null,{"$f":"IF(OR(F69=0,F69=\"\",I69=0,I69=\"\"),\"\",IF(I69>A63,0,INT(((B63-I69)*D63/C63)+250)))","v":0},{"$f":"IF(AC63=\"T\",AD69,AE69)","v":"þ"},null,6,{"$f":"IF(OR('5000m'!E34=\"\",'5000m'!E34=0),\"\",'5000m'!E34)","v":""},{"$f":"IF($P69=\"\",\"\",HLOOKUP(P69,declare,B66,FALSE))","v":""},"",{"$f":"IF(OR('5000m'!H34=\"\",'5000m'!H34=0),\"\",'5000m'!H34)","v":""},{"$f":"IF(S69=\"\",\"\",IF(AND(AC63=\"T\",S69<S68),\"X\",IF(AND(AC63=\"F\",S69>S68),\"X\",\"\")))","v":""},{"$f":"IF(OR(P69=0,P69=\"\",S69=0,S69=\"\"),\"\",IF(S69>A63,0,INT(((B63-S69)*D63/C63)+250)))","v":""},{"$f":"IF(AC63=\"T\",AF69,AG69)","v":""},null,null,null,null,null,null,null,{"$f":"IF(I69=\"\",\"\",IF(AC63=\"F\",\"\",IF(AC63=\"T\",IF(I69<=Z63,\"þ\",IF(I69<=AA63,\"G2\",IF(I69<=AB63,\"G3\",\"\"))))))","v":"þ"},{"$f":"IF(I69=\"\",\"\",IF(AC63=\"T\",\"\",IF(AC63=\"F\",IF(I69>=Z63,\"þ\",IF(I69>=AA63,\"G2\",IF(I69>=AB63,\"G3\",\"\"))))))","v":""},{"$f":"IF(S69=\"\",\"\",IF(AC63=\"F\",\"\",IF(AC63=\"T\",IF(S69<=Z63,\"þ\",IF(S69<=AA63,\"G2\",IF(S69<=AB63,\"G3\",\"\"))))))","v":""},{"$f":"IF(S69=\"\",\"\",IF(AC63=\"T\",\"\",IF(AC63=\"F\",IF(S69>=Z63,\"þ\",IF(S69>=AA63,\"G2\",IF(S69>=AB63,\"G3\",\"\"))))))","v":""},5,3,"","",69]
[null,null,2,"",7,{"$f":"IF(OR('5000m'!E26=0,'5000m'!E26=\"\"),0,'5000m'!E26)","v":2},"Jane Bradshaw","Blackheath & Bromley H",{"$f":"IF(OR('5000m'!H26=\"\",'5000m'!H26=0),\"\",'5000m'!H26)","v":"00:11:01.030"},{"$f":"IF(I70=\"\",\"\",IF(AND(AC63=\"T\",I70<I69),\"X\",IF(AND(AC63=\"F\",I70>I69),\"X\",\"\")))","v":""},null,{"$f":"IF(OR(F70=0,F70=\"\",I70=0,I70=\"\"),\"\",IF(I70>A63,0,INT(((B63-I70)*D63/C63)+250)))","v":0},{"$f":"IF(AC63=\"T\",AD70,AE70)","v":""},null,7,{"$f":"IF(OR('5000m'!E35=\"\",'5000m'!E35=0),\"\",'5000m'!E35)","v":""},{"$f":"IF($P70=\"\",\"\",HLOOKUP(P70,declare,B66,FALSE))","v":""},"",{"$f":"IF(OR('5000m'!H35=\"\",'5000m'!H35=0),\"\",'5000m'!H35)","v":""},{"$f":"IF(S70=\"\",\"\",IF(AND(AC63=\"T\",S70<S69),\"X\",IF(AND(AC63=\"F\",S70>S69),\"X\",\"\")))","v":""},{"$f":"IF(OR(P70=0,P70=\"\",S70=0,S70=\"\"),\"\",IF(S70>A63,0,INT(((B63-S70)*D63/C63)+250)))","v":""},{"$f":"IF(AC63=\"T\",AF70,AG70)","v":""},null,null,null,null,null,null,null,{"$f":"IF(I70=\"\",\"\",IF(AC63=\"F\",\"\",IF(AC63=\"T\",IF(I70<=Z63,\"þ\",IF(I70<=AA63,\"G2\",IF(I70<=AB63,\"G3\",\"\"))))))","v":""},{"$f":"IF(I70=\"\",\"\",IF(AC63=\"T\",\"\",IF(AC63=\"F\",IF(I70>=Z63,\"þ\",IF(I70>=AA63,\"G2\",IF(I70>=AB63,\"G3\",\"\"))))))","v":""},{"$f":"IF(S70=\"\",\"\",IF(AC63=\"F\",\"\",IF(AC63=\"T\",IF(S70<=Z63,\"þ\",IF(S70<=AA63,\"G2\",IF(S70<=AB63,\"G3\",\"\"))))))","v":""},{"$f":"IF(S70=\"\",\"\",IF(AC63=\"T\",\"\",IF(AC63=\"F\",IF(S70>=Z63,\"þ\",IF(S70>=AA63,\"G2\",IF(S70>=AB63,\"G3\",\"\"))))))","v":""},2,2,"","",70]
[null,null,4,"",8,{"$f":"IF(OR('5000m'!E27=0,'5000m'!E27=\"\"),0,'5000m'!E27)","v":44},"Adele Stach-Kevitz","Newham & Essex Beagles AC",{"$f":"IF(OR('5000m'!H27=\"\",'5000m'!H27=0),\"\",'5000m'!H27)","v":"00:13:12.680"},{"$f":"IF(I71=\"\",\"\",IF(AND(AC63=\"T\",I71<I70),\"X\",IF(AND(AC63=\"F\",I71>I70),\"X\",\"\")))","v":""},null,{"$f":"IF(OR(F71=0,F71=\"\",I71=0,I71=\"\"),\"\",IF(I71>A63,0,INT(((B63-I71)*D63/C63)+250)))","v":0},{"$f":"IF(AC63=\"T\",AD71,AE71)","v":""},null,8,{"$f":"IF(OR('5000m'!E36=\"\",'5000m'!E36=0),\"\",'5000m'!E36)","v":""},{"$f":"IF($P71=\"\",\"\",HLOOKUP(P71,declare,B66,FALSE))","v":""},"",{"$f":"IF(OR('5000m'!H36=\"\",'5000m'!H36=0),\"\",'5000m'!H36)","v":""},{"$f":"IF(S71=\"\",\"\",IF(AND(AC63=\"T\",S71<S70),\"X\",IF(AND(AC63=\"F\",S71>S70),\"X\",\"\")))","v":""},{"$f":"IF(OR(P71=0,P71=\"\",S71=0,S71=\"\"),\"\",IF(S71>A63,0,INT(((B63-S71)*D63/C63)+250)))","v":""},{"$f":"IF(AC63=\"T\",AF71,AG71)","v":""},null,null,null,null,null,null,null,{"$f":"IF(I71=\"\",\"\",IF(AC63=\"F\",\"\",IF(AC63=\"T\",IF(I71<=Z63,\"þ\",IF(I71<=AA63,\"G2\",IF(I71<=AB63,\"G3\",\"\"))))))","v":""},{"$f":"IF(I71=\"\",\"\",IF(AC63=\"T\",\"\",IF(AC63=\"F\",IF(I71>=Z63,\"þ\",IF(I71>=AA63,\"G2\",IF(I71>=AB63,\"G3\",\"\"))))))","v":""},{"$f":"IF(S71=\"\",\"\",IF(AC63=\"F\",\"\",IF(AC63=\"T\",IF(S71<=Z63,\"þ\",IF(S71<=AA63,\"G2\",IF(S71<=AB63,\"G3\",\"\"))))))","v":""},{"$f":"IF(S71=\"\",\"\",IF(AC63=\"T\",\"\",IF(AC63=\"F\",IF(S71>=Z63,\"þ\",IF(S71>=AA63,\"G2\",IF(S71>=AB63,\"G3\",\"\"))))))","v":""},4,1,"","",71]
[null,null,null,null,null,null,null,null,null,null,null,null,null,null,null,null,null,null,null,null,null,null,null,null,null,null,null,null,null,null,null,null,null,null,null,null,null,72]
[66.5,54.5,0.12,2,{"$f":"CONCATENATE(VLOOKUP(A74,mens_handbook,3,FALSE),\" A\")","v":"Women's 400 Hurdles A"},null,null,{"$f":"IF(A74=\"\",\"\",IF(VLOOKUP(A74,Handbook!$A$4:$AI$24,35,FALSE)=\"Y\",\"Wind=\",\"\"))","v":""},null,null,null,null,null,null,{"$f":"CONCATENATE(VLOOKUP(A74,mens_handbook,3,FALSE),\" B\")","v":"Women's 400 Hurdles B"},null,null,{"$f":"H73","v":""},null,null,null,null,null,{"$f":"IF($A74=\"\",\"\",VLOOKUP($A74,Handbook!$A$4:$V$24,21,FALSE))","v":56.5},{"$f":"IF($A74=\"\",\"\",VLOOKUP($A74,Handbook!$A$4:$V$24,22,FALSE))","v":57.1},{"$f":"IF($A74=\"\",\"\",VLOOKUP($A74,Handbook!$A$4:$W$24,23,FALSE))","v":70},{"$f":"IF($A74=\"\",\"\",VLOOKUP($A74,Handbook!$A$4:$X$24,24,FALSE))","v":70},{"$f":"IF($A74=\"\",\"\",VLOOKUP($A74,Handbook!$A$4:$Y$24,25,FALSE))","v":70},{"$f":"IF($A74=\"\",\"\",VLOOKUP($A74,Handbook!$A$4:$AH$24,34,FALSE))","v":"T"},null,null,null,null,null,null,null,null,73]
[1,null,{"$f":"IF(F74=\"\",\"\",IF(F74>10,F74/11,F74))","v":7},{"$f":"IF(P74=\"\",\"\",IF(P74>10,P74/11,P74))","v":7},1,7,{"$f":"IF($F74=\"\",\"\",IF($F74>90,VLOOKUP(F74,eventcodes,2,FALSE),HLOOKUP(F74,declare,B76,FALSE)))","v":"Caryl Granville"},{"$f":"IF($F74=\"\",\"\",IF($F74>90,\"\",VLOOKUP(C74,matchday,2,FALSE)))","v":"Swansea H"},60.46,{"$f":"IF(I74=\"\",\"\",IF(AC73=\"T\",X74,X75))","v":""},null,{"$f":"IF(OR(F74=0,F74=\"\",I74=0,I74=\"\"),\"\",IF(I74>A73,0,INT(((B73-I74)*D73/C73)+250)))","v":150},{"$f":"IF(AC73=\"T\",AD74,AE74)","v":"þ"},null,1,77,{"$f":"IF($P74=\"\",\"\",HLOOKUP(P74,declare,B76,FALSE))","v":"Anwen Rees"},{"$f":"IF($P74=\"\",\"\",VLOOKUP(D74,matchday,2,FALSE))","v":"Swansea H"},61.87,null,{"$f":"IF(OR(P74=0,P74=\"\",S74=0,S74=\"\"),\"\",IF(S74>A73,0,INT(((B73-S74)*D73/C73)+250)))","v":127},{"$f":"IF(AC73=\"T\",AF74,AG74)","v":"þ"},null,{"$f":"IF(AC73=\"F\",\"\",IF(I74<X73,\"LR\",IF(I74=X73,\"=LR\",IF(I74<Y73,\"DR\",IF(I74=Y73,\"=DR\",\"\")))))","v":""},null,null,null,null,null,{"$f":"IF(I74=\"\",\"\",IF(AC73=\"F\",\"\",IF(AC73=\"T\",IF(I74<=Z73,\"þ\",IF(I74<=AA73,\"G2\",IF(I74<=AB73,\"G3\",\"\"))))))","v":"þ"},{"$f":"IF(I74=\"\",\"\",IF(AC73=\"T\",\"\",IF(AC73=\"F\",IF(I74>=Z73,\"þ\",IF(I74>=AA73,\"G2\",IF(I74>=AB73,\"G3\",\"\"))))))","v":""},{"$f":"IF(S74=\"\",\"\",IF(AC73=\"F\",\"\",IF(AC73=\"T\",IF(S74<=Z73,\"þ\",IF(S74<=AA73,\"G2\",IF(S74<=AB73,\"G3\",\"\"))))))","v":"þ"},{"$f":"IF(S74=\"\",\"\",IF(AC73=\"T\",\"\",IF(AC73=\"F\",IF(S74>=Z73,\"þ\",IF(S74>=AA73,\"G2\",IF(S74>=AB73,\"G3\",\"\"))))))","v":""},{"$f":"C74","v":7},{"$f":"IF(F74=\"\",\"\",IF(LEFT(I74,1)=\"D\",0,VLOOKUP(E74,$AT$4:$AU$40,2,FALSE)))","v":9},{"$f":"D74","v":7},{"$f":"IF(P74=\"\",\"\",IF(LEFT(S74,1)=\"D\",0,VLOOKUP(O74,$AT$4:$AV$40,3,FALSE)))","v":9},74]
[null,{"$f":"VLOOKUP(A74,Handbook!$A$4:$AK$24,37,FALSE)","v":2},{"$f":"IF(F75=\"\",\"\",IF(F75>10,F75/11,F75))","v":6},{"$f":"IF(P75=\"\",\"\",IF(P75>10,P75/11,P75))","v":6},2,6,{"$f":"IF($F75=\"\",\"\",HLOOKUP(F75,declare,B76,FALSE))","v":"Emily Bonnett"},{"$f":"IF($F75=\"\",\"\",VLOOKUP(C75,matchday,2,FALSE))","v":"Southampton AC"},61.02,{"$f":"IF(I75=\"\",\"\",IF(AND(AC73=\"T\",I75<I74),\"X\",IF(AND(AC73=\"F\",I75>I74),\"X\",\"\")))","v":""},null,{"$f":"IF(OR(F75=0,F75=\"\",I75=0,I75=\"\"),\"\",IF(I75>A73,0,INT(((B73-I75)*D73/C73)+250)))","v":141},{"$f":"IF(AC73=\"T\",AD75,AE75)","v":"þ"},null,2,66,{"$f":"IF($P75=\"\",\"\",HLOOKUP(P75,declare,B76,FALSE))","v":"Millie Clifford"},"Southampton AC",62.07,{"$f":"IF(S75=\"\",\"\",IF(AND(AC73=\"T\",S75<S74),\"X\",IF(AND(AC73=\"F\",S75>S74),\"X\",\"\")))","v":""},{"$f":"IF(OR(P75=0,P75=\"\",S75=0,S75=\"\"),\"\",IF(S75>A73,0,INT(((B73-S75)*D73/C73)+250)))","v":123},{"$f":"IF(AC73=\"T\",AF75,AG75)","v":"þ"},null,{"$f":"IF(AC73=\"T\",\"\",IF(I74>X73,\"LR\",IF(I74=X73,\"=LR\",IF(I74>Y73,\"DR\",IF(I74=Y73,\"=DR\",\"\")))))","v":""},null,null,null,null,null,{"$f":"IF(I75=\"\",\"\",IF(AC73=\"F\",\"\",IF(AC73=\"T\",IF(I75<=Z73,\"þ\",IF(I75<=AA73,\"G2\",IF(I75<=AB73,\"G3\",\"\"))))))","v":"þ"},{"$f":"IF(I75=\"\",\"\",IF(AC73=\"T\",\"\",IF(AC73=\"F\",IF(I75>=Z73,\"þ\",IF(I75>=AA73,\"G2\",IF(I75>=AB73,\"G3\",\"\"))))))","v":""},{"$f":"IF(S75=\"\",\"\",IF(AC73=\"F\",\"\",IF(AC73=\"T\",IF(S75<=Z73,\"þ\",IF(S75<=AA73,\"G2\",IF(S75<=AB73,\"G3\",\"\"))))))","v":"þ"},{"$f":"IF(S75=\"\",\"\",IF(AC73=\"T\",\"\",IF(AC73=\"F\",IF(S75>=Z73,\"þ\",IF(S75>=AA73,\"G2\",IF(S75>=AB73,\"G3\",\"\"))))))","v":""},{"$f":"C75","v":6},7,{"$f":"D75","v":6},7,75]
[null,{"$f":"VLOOKUP(A74,declare,20,FALSE)","v":10},2,2,3,2,{"$f":"IF($F76=\"\",\"\",HLOOKUP(F76,declare,B76,FALSE))","v":"Megan Southwart"},"Blackheath & Bromley H",61.05,{"$f":"IF(I76=\"\",\"\",IF(AND(AC73=\"T\",I76<I75),\"X\",IF(AND(AC73=\"F\",I76>I75),\"X\",\"\")))","v":""},null,{"$f":"IF(OR(F76=0,F76=\"\",I76=0,I76=\"\"),\"\",IF(I76>A73,0,INT(((B73-I76)*D73/C73)+250)))","v":140},{"$f":"IF(AC73=\"T\",AD76,AE76)","v":"þ"},null,3,22,{"$f":"IF($P76=\"\",\"\",HLOOKUP(P76,declare,B76,FALSE))","v":"Rachel Robinson"},"Blackheath & Bromley H",69.760000000000005,{"$f":"IF(S76=\"\",\"\",IF(AND(AC73=\"T\",S76<S75),\"X\",IF(AND(AC73=\"F\",S76>S75),\"X\",\"\")))","v":""},{"$f":"IF(OR(P76=0,P76=\"\",S76=0,S76=\"\"),\"\",IF(S76>A73,0,INT(((B73-S76)*D73/C73)+250)))","v":0},{"$f":"IF(AC73=\"T\",AF76,AG76)","v":"þ"},null,null,null,null,null,null,null,{"$f":"IF(I76=\"\",\"\",IF(AC73=\"F\",\"\",IF(AC73=\"T\",IF(I76<=Z73,\"þ\",IF(I76<=AA73,\"G2\",IF(I76<=AB73,\"G3\",\"\"))))))","v":"þ"},{"$f":"IF(I76=\"\",\"\",IF(AC73=\"T\",\"\",IF(AC73=\"F\",IF(I76>=Z73,\"þ\",IF(I76>=AA73,\"G2\",IF(I76>=AB73,\"G3\",\"\"))))))","v":""},{"$f":"IF(S76=\"\",\"\",IF(AC73=\"F\",\"\",IF(AC73=\"T\",IF(S76<=Z73,\"þ\",IF(S76<=AA73,\"G2\",IF(S76<=AB73,\"G3\",\"\"))))))","v":"þ"},{"$f":"IF(S76=\"\",\"\",IF(AC73=\"T\",\"\",IF(AC73=\"F\",IF(S76>=Z73,\"þ\",IF(S76>=AA73,\"G2\",IF(S76>=AB73,\"G3\",\"\"))))))","v":""},2,6,2,6,76]
[null,null,4,8,4,4,{"$f":"IF($F77=\"\",\"\",HLOOKUP(F77,declare,B76,FALSE))","v":"Kate Laidlow"},"Newham & Essex Beagles AC",65.25,{"$f":"IF(I77=\"\",\"\",IF(AND(AC73=\"T\",I77<I76),\"X\",IF(AND(AC73=\"F\",I77>I76),\"X\",\"\")))","v":""},null,{"$f":"IF(OR(F77=0,F77=\"\",I77=0,I77=\"\"),\"\",IF(I77>A73,0,INT(((B73-I77)*D73/C73)+250)))","v":70},{"$f":"IF(AC73=\"T\",AD77,AE77)","v":"þ"},null,4,88,{"$f":"IF($P77=\"\",\"\",HLOOKUP(P77,declare,B76,FALSE))","v":"Joanna Mobed"},"Thames Valley H",73.92,{"$f":"IF(S77=\"\",\"\",IF(AND(AC73=\"T\",S77<S76),\"X\",IF(AND(AC73=\"F\",S77>S76),\"X\",\"\")))","v":""},{"$f":"IF(OR(P77=0,P77=\"\",S77=0,S77=\"\"),\"\",IF(S77>A73,0,INT(((B73-S77)*D73/C73)+250)))","v":0},{"$f":"IF(AC73=\"T\",AF77,AG77)","v":""},null,null,null,null,null,null,null,{"$f":"IF(I77=\"\",\"\",IF(AC73=\"F\",\"\",IF(AC73=\"T\",IF(I77<=Z73,\"þ\",IF(I77<=AA73,\"G2\",IF(I77<=AB73,\"G3\",\"\"))))))","v":"þ"},{"$f":"IF(I77=\"\",\"\",IF(AC73=\"T\",\"\",IF(AC73=\"F\",IF(I77>=Z73,\"þ\",IF(I77>=AA73,\"G2\",IF(I77>=AB73,\"G3\",\"\"))))))","v":""},{"$f":"IF(S77=\"\",\"\",IF(AC73=\"F\",\"\",IF(AC73=\"T\",IF(S77<=Z73,\"þ\",IF(S77<=AA73,\"G2\",IF(S77<=AB73,\"G3\",\"\"))))))","v":""},{"$f":"IF(S77=\"\",\"\",IF(AC73=\"T\",\"\",IF(AC73=\"F\",IF(S77>=Z73,\"þ\",IF(S77>=AA73,\"G2\",IF(S77>=AB73,\"G3\",\"\"))))))","v":""},4,5,8,5,77]
[null,null,8,"",5,8,{"$f":"IF($F78=\"\",\"\",HLOOKUP(F78,declare,B76,FALSE))","v":"Ambwene Simukonda"},"Thames Valley H",65.69,{"$f":"IF(I78=\"\",\"\",IF(AND(AC73=\"T\",I78<I77),\"X\",IF(AND(AC73=\"F\",I78>I77),\"X\",\"\")))","v":""},null,{"$f":"IF(OR(F78=0,F78=\"\",I78=0,I78=\"\"),\"\",IF(I78>A73,0,INT(((B73-I78)*D73/C73)+250)))","v":63},{"$f":"IF(AC73=\"T\",AD78,AE78)","v":"þ"},null,5,null,{"$f":"IF($P78=\"\",\"\",HLOOKUP(P78,declare,B76,FALSE))","v":""},"",null,{"$f":"IF(S78=\"\",\"\",IF(AND(AC73=\"T\",S78<S77),\"X\",IF(AND(AC73=\"F\",S78>S77),\"X\",\"\")))","v":""},{"$f":"IF(OR(P78=0,P78=\"\",S78=0,S78=\"\"),\"\",IF(S78>A73,0,INT(((B73-S78)*D73/C73)+250)))","v":""},{"$f":"IF(AC73=\"T\",AF78,AG78)","v":""},null,null,null,null,null,null,null,{"$f":"IF(I78=\"\",\"\",IF(AC73=\"F\",\"\",IF(AC73=\"T\",IF(I78<=Z73,\"þ\",IF(I78<=AA73,\"G2\",IF(I78<=AB73,\"G3\",\"\"))))))","v":"þ"},{"$f":"IF(I78=\"\",\"\",IF(AC73=\"T\",\"\",IF(AC73=\"F\",IF(I78>=Z73,\"þ\",IF(I78>=AA73,\"G2\",IF(I78>=AB73,\"G3\",\"\"))))))","v":""},{"$f":"IF(S78=\"\",\"\",IF(AC73=\"F\",\"\",IF(AC73=\"T\",IF(S78<=Z73,\"þ\",IF(S78<=AA73,\"G2\",IF(S78<=AB73,\"G3\",\"\"))))))","v":""},{"$f":"IF(S78=\"\",\"\",IF(AC73=\"T\",\"\",IF(AC73=\"F\",IF(S78>=Z73,\"þ\",IF(S78>=AA73,\"G2\",IF(S78>=AB73,\"G3\",\"\"))))))","v":""},8,4,"","",78]
[null,null,1,"",6,1,{"$f":"IF($F79=\"\",\"\",HLOOKUP(F79,declare,B76,FALSE))","v":"Lucy Spray"},"Bedford & County AC",66.599999999999994,{"$f":"IF(I79=\"\",\"\",IF(AND(AC73=\"T\",I79<I78),\"X\",IF(AND(AC73=\"F\",I79>I78),\"X\",\"\")))","v":""},null,{"$f":"IF(OR(F79=0,F79=\"\",I79=0,I79=\"\"),\"\",IF(I79>A73,0,INT(((B73-I79)*D73/C73)+250)))","v":0},{"$f":"IF(AC73=\"T\",AD79,AE79)","v":"þ"},null,6,null,{"$f":"IF($P79=\"\",\"\",HLOOKUP(P79,declare,B76,FALSE))","v":""},"",null,{"$f":"IF(S79=\"\",\"\",IF(AND(AC73=\"T\",S79<S78),\"X\",IF(AND(AC73=\"F\",S79>S78),\"X\",\"\")))","v":""},{"$f":"IF(OR(P79=0,P79=\"\",S79=0,S79=\"\"),\"\",IF(S79>A73,0,INT(((B73-S79)*D73/C73)+250)))","v":""},{"$f":"IF(AC73=\"T\",AF79,AG79)","v":""},null,null,null,null,null,null,null,{"$f":"IF(I79=\"\",\"\",IF(AC73=\"F\",\"\",IF(AC73=\"T\",IF(I79<=Z73,\"þ\",IF(I79<=AA73,\"G2\",IF(I79<=AB73,\"G3\",\"\"))))))","v":"þ"},{"$f":"IF(I79=\"\",\"\",IF(AC73=\"T\",\"\",IF(AC73=\"F\",IF(I79>=Z73,\"þ\",IF(I79>=AA73,\"G2\",IF(I79>=AB73,\"G3\",\"\"))))))","v":""},{"$f":"IF(S79=\"\",\"\",IF(AC73=\"F\",\"\",IF(AC73=\"T\",IF(S79<=Z73,\"þ\",IF(S79<=AA73,\"G2\",IF(S79<=AB73,\"G3\",\"\"))))))","v":""},{"$f":"IF(S79=\"\",\"\",IF(AC73=\"T\",\"\",IF(AC73=\"F\",IF(S79>=Z73,\"þ\",IF(S79>=AA73,\"G2\",IF(S79>=AB73,\"G3\",\"\"))))))","v":""},1,3,"","",79]
[null,null,3,"",7,3,{"$f":"IF($F80=\"\",\"\",HLOOKUP(F80,declare,B76,FALSE))","v":"Chloe Walley"},"Marshall Milton Keynes AC",72.25,{"$f":"IF(I80=\"\",\"\",IF(AND(AC73=\"T\",I80<I79),\"X\",IF(AND(AC73=\"F\",I80>I79),\"X\",\"\")))","v":""},null,{"$f":"IF(OR(F80=0,F80=\"\",I80=0,I80=\"\"),\"\",IF(I80>A73,0,INT(((B73-I80)*D73/C73)+250)))","v":0},{"$f":"IF(AC73=\"T\",AD80,AE80)","v":""},null,7,null,{"$f":"IF($P80=\"\",\"\",HLOOKUP(P80,declare,B76,FALSE))","v":""},"",null,{"$f":"IF(S80=\"\",\"\",IF(AND(AC73=\"T\",S80<S79),\"X\",IF(AND(AC73=\"F\",S80>S79),\"X\",\"\")))","v":""},{"$f":"IF(OR(P80=0,P80=\"\",S80=0,S80=\"\"),\"\",IF(S80>A73,0,INT(((B73-S80)*D73/C73)+250)))","v":""},{"$f":"IF(AC73=\"T\",AF80,AG80)","v":""},null,null,null,null,null,null,null,{"$f":"IF(I80=\"\",\"\",IF(AC73=\"F\",\"\",IF(AC73=\"T\",IF(I80<=Z73,\"þ\",IF(I80<=AA73,\"G2\",IF(I80<=AB73,\"G3\",\"\"))))))","v":""},{"$f":"IF(I80=\"\",\"\",IF(AC73=\"T\",\"\",IF(AC73=\"F\",IF(I80>=Z73,\"þ\",IF(I80>=AA73,\"G2\",IF(I80>=AB73,\"G3\",\"\"))))))","v":""},{"$f":"IF(S80=\"\",\"\",IF(AC73=\"F\",\"\",IF(AC73=\"T\",IF(S80<=Z73,\"þ\",IF(S80<=AA73,\"G2\",IF(S80<=AB73,\"G3\",\"\"))))))","v":""},{"$f":"IF(S80=\"\",\"\",IF(AC73=\"T\",\"\",IF(AC73=\"F\",IF(S80>=Z73,\"þ\",IF(S80>=AA73,\"G2\",IF(S80>=AB73,\"G3\",\"\"))))))","v":""},3,2,"","",80]
[null,null,5,"",8,5,{"$f":"IF($F81=\"\",\"\",HLOOKUP(F81,declare,B76,FALSE))","v":"Victoria Walker (U20)"},"Shaftesbury Barnet H",81.069999999999993,{"$f":"IF(I81=\"\",\"\",IF(AND(AC73=\"T\",I81<I80),\"X\",IF(AND(AC73=\"F\",I81>I80),\"X\",\"\")))","v":""},null,{"$f":"IF(OR(F81=0,F81=\"\",I81=0,I81=\"\"),\"\",IF(I81>A73,0,INT(((B73-I81)*D73/C73)+250)))","v":0},{"$f":"IF(AC73=\"T\",AD81,AE81)","v":""},null,8,null,{"$f":"IF($P81=\"\",\"\",HLOOKUP(P81,declare,B76,FALSE))","v":""},"",null,{"$f":"IF(S81=\"\",\"\",IF(AND(AC73=\"T\",S81<S80),\"X\",IF(AND(AC73=\"F\",S81>S80),\"X\",\"\")))","v":""},{"$f":"IF(OR(P81=0,P81=\"\",S81=0,S81=\"\"),\"\",IF(S81>A73,0,INT(((B73-S81)*D73/C73)+250)))","v":""},{"$f":"IF(AC73=\"T\",AF81,AG81)","v":""},null,null,null,null,null,null,null,{"$f":"IF(I81=\"\",\"\",IF(AC73=\"F\",\"\",IF(AC73=\"T\",IF(I81<=Z73,\"þ\",IF(I81<=AA73,\"G2\",IF(I81<=AB73,\"G3\",\"\"))))))","v":""},{"$f":"IF(I81=\"\",\"\",IF(AC73=\"T\",\"\",IF(AC73=\"F\",IF(I81>=Z73,\"þ\",IF(I81>=AA73,\"G2\",IF(I81>=AB73,\"G3\",\"\"))))))","v":""},{"$f":"IF(S81=\"\",\"\",IF(AC73=\"F\",\"\",IF(AC73=\"T\",IF(S81<=Z73,\"þ\",IF(S81<=AA73,\"G2\",IF(S81<=AB73,\"G3\",\"\"))))))","v":""},{"$f":"IF(S81=\"\",\"\",IF(AC73=\"T\",\"\",IF(AC73=\"F\",IF(S81>=Z73,\"þ\",IF(S81>=AA73,\"G2\",IF(S81>=AB73,\"G3\",\"\"))))))","v":""},5,1,"","",81]
[null,null,null,null,null,null,null,null,null,null,null,null,null,null,null,null,null,null,null,null,null,null,null,null,null,null,null,null,null,null,null,null,null,null,null,null,null,82]
[15.55,12.55,1.4999999999999999E-2,1,{"$f":"CONCATENATE(VLOOKUP(A84,mens_handbook,3,FALSE),\" A\")","v":"Women's 100 Hurdles A"},null,null,{"$f":"IF(A84=\"\",\"\",IF(VLOOKUP(A84,Handbook!$A$4:$AI$24,35,FALSE)=\"Y\",\"Wind=\",\"\"))","v":"Wind="},"-2.1",null,null,null,null,null,{"$f":"CONCATENATE(VLOOKUP(A84,mens_handbook,3,FALSE),\" B\")","v":"Women's 100 Hurdles B"},null,null,{"$f":"H83","v":"Wind="},"-2.0",null,null,null,null,{"$f":"IF($A84=\"\",\"\",VLOOKUP($A84,Handbook!$A$4:$V$24,21,FALSE))","v":13.1},{"$f":"IF($A84=\"\",\"\",VLOOKUP($A84,Handbook!$A$4:$V$24,22,FALSE))","v":13.18},{"$f":"IF($A84=\"\",\"\",VLOOKUP($A84,Handbook!$A$4:$W$24,23,FALSE))","v":16.5},{"$f":"IF($A84=\"\",\"\",VLOOKUP($A84,Handbook!$A$4:$X$24,24,FALSE))","v":16.5},{"$f":"IF($A84=\"\",\"\",VLOOKUP($A84,Handbook!$A$4:$Y$24,25,FALSE))","v":16.5},{"$f":"IF($A84=\"\",\"\",VLOOKUP($A84,Handbook!$A$4:$AH$24,34,FALSE))","v":"T"},null,null,null,null,null,null,null,null,83]
[6,null,{"$f":"IF(F84=\"\",\"\",IF(F84>10,F84/11,F84))","v":6},{"$f":"IF(P84=\"\",\"\",IF(P84>10,P84/11,P84))","v":2},1,6,{"$f":"IF($F84=\"\",\"\",IF($F84>90,VLOOKUP(F84,eventcodes,2,FALSE),HLOOKUP(F84,declare,B86,FALSE)))","v":"Karla Drew"},{"$f":"IF($F84=\"\",\"\",IF($F84>90,\"\",VLOOKUP(C84,matchday,2,FALSE)))","v":"Southampton AC"},14.24,{"$f":"IF(I84=\"\",\"\",IF(AC83=\"T\",X84,X85))","v":""},null,{"$f":"IF(OR(F84=0,F84=\"\",I84=0,I84=\"\"),\"\",IF(I84>A83,0,INT(((B83-I84)*D83/C83)+250)))","v":137},{"$f":"IF(AC83=\"T\",AD84,AE84)","v":"þ"},null,1,22,{"$f":"IF($P84=\"\",\"\",HLOOKUP(P84,declare,B86,FALSE))","v":"Megan Southwart"},{"$f":"IF($P84=\"\",\"\",VLOOKUP(D84,matchday,2,FALSE))","v":"Blackheath & Bromley H"},15.16,null,{"$f":"IF(OR(P84=0,P84=\"\",S84=0,S84=\"\"),\"\",IF(S84>A83,0,INT(((B83-S84)*D83/C83)+250)))","v":76},{"$f":"IF(AC83=\"T\",AF84,AG84)","v":"þ"},null,{"$f":"IF(AC83=\"F\",\"\",IF(I84<X83,\"LR\",IF(I84=X83,\"=LR\",IF(I84<Y83,\"DR\",IF(I84=Y83,\"=DR\",\"\")))))","v":""},null,null,null,null,null,{"$f":"IF(I84=\"\",\"\",IF(AC83=\"F\",\"\",IF(AC83=\"T\",IF(I84<=Z83,\"þ\",IF(I84<=AA83,\"G2\",IF(I84<=AB83,\"G3\",\"\"))))))","v":"þ"},{"$f":"IF(I84=\"\",\"\",IF(AC83=\"T\",\"\",IF(AC83=\"F\",IF(I84>=Z83,\"þ\",IF(I84>=AA83,\"G2\",IF(I84>=AB83,\"G3\",\"\"))))))","v":""},{"$f":"IF(S84=\"\",\"\",IF(AC83=\"F\",\"\",IF(AC83=\"T\",IF(S84<=Z83,\"þ\",IF(S84<=AA83,\"G2\",IF(S84<=AB83,\"G3\",\"\"))))))","v":"þ"},{"$f":"IF(S84=\"\",\"\",IF(AC83=\"T\",\"\",IF(AC83=\"F\",IF(S84>=Z83,\"þ\",IF(S84>=AA83,\"G2\",IF(S84>=AB83,\"G3\",\"\"))))))","v":""},{"$f":"C84","v":6},{"$f":"IF(F84=\"\",\"\",IF(LEFT(I84,1)=\"D\",0,VLOOKUP(E84,$AT$4:$AU$40,2,FALSE)))","v":9},{"$f":"D84","v":2},{"$f":"IF(P84=\"\",\"\",IF(LEFT(S84,1)=\"D\",0,VLOOKUP(O84,$AT$4:$AV$40,3,FALSE)))","v":9},84]
[null,{"$f":"VLOOKUP(A84,Handbook!$A$4:$AK$24,37,FALSE)","v":7},{"$f":"IF(F85=\"\",\"\",IF(F85>10,F85/11,F85))","v":2},{"$f":"IF(P85=\"\",\"\",IF(P85>10,P85/11,P85))","v":7},2,2,{"$f":"IF($F85=\"\",\"\",HLOOKUP(F85,declare,B86,FALSE))","v":"Serita Solomon"},{"$f":"IF($F85=\"\",\"\",VLOOKUP(C85,matchday,2,FALSE))","v":"Blackheath & Bromley H"},14.34,{"$f":"IF(I85=\"\",\"\",IF(AND(AC83=\"T\",I85<I84),\"X\",IF(AND(AC83=\"F\",I85>I84),\"X\",\"\")))","v":""},null,{"$f":"IF(OR(F85=0,F85=\"\",I85=0,I85=\"\"),\"\",IF(I85>A83,0,INT(((B83-I85)*D83/C83)+250)))","v":130},{"$f":"IF(AC83=\"T\",AD85,AE85)","v":"þ"},null,2,77,{"$f":"IF($P85=\"\",\"\",HLOOKUP(P85,declare,B86,FALSE))","v":"Anwen Rees"},"Swansea H",15.6,{"$f":"IF(S85=\"\",\"\",IF(AND(AC83=\"T\",S85<S84),\"X\",IF(AND(AC83=\"F\",S85>S84),\"X\",\"\")))","v":""},{"$f":"IF(OR(P85=0,P85=\"\",S85=0,S85=\"\"),\"\",IF(S85>A83,0,INT(((B83-S85)*D83/C83)+250)))","v":0},{"$f":"IF(AC83=\"T\",AF85,AG85)","v":"þ"},null,{"$f":"IF(AC83=\"T\",\"\",IF(I84>X83,\"LR\",IF(I84=X83,\"=LR\",IF(I84>Y83,\"DR\",IF(I84=Y83,\"=DR\",\"\")))))","v":""},null,null,null,null,null,{"$f":"IF(I85=\"\",\"\",IF(AC83=\"F\",\"\",IF(AC83=\"T\",IF(I85<=Z83,\"þ\",IF(I85<=AA83,\"G2\",IF(I85<=AB83,\"G3\",\"\"))))))","v":"þ"},{"$f":"IF(I85=\"\",\"\",IF(AC83=\"T\",\"\",IF(AC83=\"F\",IF(I85>=Z83,\"þ\",IF(I85>=AA83,\"G2\",IF(I85>=AB83,\"G3\",\"\"))))))","v":""},{"$f":"IF(S85=\"\",\"\",IF(AC83=\"F\",\"\",IF(AC83=\"T\",IF(S85<=Z83,\"þ\",IF(S85<=AA83,\"G2\",IF(S85<=AB83,\"G3\",\"\"))))))","v":"þ"},{"$f":"IF(S85=\"\",\"\",IF(AC83=\"T\",\"\",IF(AC83=\"F\",IF(S85>=Z83,\"þ\",IF(S85>=AA83,\"G2\",IF(S85>=AB83,\"G3\",\"\"))))))","v":""},{"$f":"C85","v":2},7,{"$f":"D85","v":7},7,85]
[null,{"$f":"VLOOKUP(A84,declare,20,FALSE)","v":11},4,6,3,4,{"$f":"IF($F86=\"\",\"\",HLOOKUP(F86,declare,B86,FALSE))","v":"Holly Thomas"},"Newham & Essex Beagles AC",14.59,{"$f":"IF(I86=\"\",\"\",IF(AND(AC83=\"T\",I86<I85),\"X\",IF(AND(AC83=\"F\",I86>I85),\"X\",\"\")))","v":""},null,{"$f":"IF(OR(F86=0,F86=\"\",I86=0,I86=\"\"),\"\",IF(I86>A83,0,INT(((B83-I86)*D83/C83)+250)))","v":114},{"$f":"IF(AC83=\"T\",AD86,AE86)","v":"þ"},null,3,66,{"$f":"IF($P86=\"\",\"\",HLOOKUP(P86,declare,B86,FALSE))","v":"Megan Fry"},"Southampton AC",16.510000000000002,{"$f":"IF(S86=\"\",\"\",IF(AND(AC83=\"T\",S86<S85),\"X\",IF(AND(AC83=\"F\",S86>S85),\"X\",\"\")))","v":""},{"$f":"IF(OR(P86=0,P86=\"\",S86=0,S86=\"\"),\"\",IF(S86>A83,0,INT(((B83-S86)*D83/C83)+250)))","v":0},{"$f":"IF(AC83=\"T\",AF86,AG86)","v":""},null,null,null,null,null,null,null,{"$f":"IF(I86=\"\",\"\",IF(AC83=\"F\",\"\",IF(AC83=\"T\",IF(I86<=Z83,\"þ\",IF(I86<=AA83,\"G2\",IF(I86<=AB83,\"G3\",\"\"))))))","v":"þ"},{"$f":"IF(I86=\"\",\"\",IF(AC83=\"T\",\"\",IF(AC83=\"F\",IF(I86>=Z83,\"þ\",IF(I86>=AA83,\"G2\",IF(I86>=AB83,\"G3\",\"\"))))))","v":""},{"$f":"IF(S86=\"\",\"\",IF(AC83=\"F\",\"\",IF(AC83=\"T\",IF(S86<=Z83,\"þ\",IF(S86<=AA83,\"G2\",IF(S86<=AB83,\"G3\",\"\"))))))","v":""},{"$f":"IF(S86=\"\",\"\",IF(AC83=\"T\",\"\",IF(AC83=\"F\",IF(S86>=Z83,\"þ\",IF(S86>=AA83,\"G2\",IF(S86>=AB83,\"G3\",\"\"))))))","v":""},4,6,6,6,86]
[null,null,7,4,4,7,{"$f":"IF($F87=\"\",\"\",HLOOKUP(F87,declare,B86,FALSE))","v":"Caryl Granville"},"Swansea H",15.05,{"$f":"IF(I87=\"\",\"\",IF(AND(AC83=\"T\",I87<I86),\"X\",IF(AND(AC83=\"F\",I87>I86),\"X\",\"\")))","v":""},null,{"$f":"IF(OR(F87=0,F87=\"\",I87=0,I87=\"\"),\"\",IF(I87>A83,0,INT(((B83-I87)*D83/C83)+250)))","v":83},{"$f":"IF(AC83=\"T\",AD87,AE87)","v":"þ"},null,4,44,{"$f":"IF($P87=\"\",\"\",HLOOKUP(P87,declare,B86,FALSE))","v":"Stephanie Ugbo"},"Newham & Essex Beagles AC",16.7,{"$f":"IF(S87=\"\",\"\",IF(AND(AC83=\"T\",S87<S86),\"X\",IF(AND(AC83=\"F\",S87>S86),\"X\",\"\")))","v":""},{"$f":"IF(OR(P87=0,P87=\"\",S87=0,S87=\"\"),\"\",IF(S87>A83,0,INT(((B83-S87)*D83/C83)+250)))","v":0},{"$f":"IF(AC83=\"T\",AF87,AG87)","v":""},null,null,null,null,null,null,null,{"$f":"IF(I87=\"\",\"\",IF(AC83=\"F\",\"\",IF(AC83=\"T\",IF(I87<=Z83,\"þ\",IF(I87<=AA83,\"G2\",IF(I87<=AB83,\"G3\",\"\"))))))","v":"þ"},{"$f":"IF(I87=\"\",\"\",IF(AC83=\"T\",\"\",IF(AC83=\"F\",IF(I87>=Z83,\"þ\",IF(I87>=AA83,\"G2\",IF(I87>=AB83,\"G3\",\"\"))))))","v":""},{"$f":"IF(S87=\"\",\"\",IF(AC83=\"F\",\"\",IF(AC83=\"T\",IF(S87<=Z83,\"þ\",IF(S87<=AA83,\"G2\",IF(S87<=AB83,\"G3\",\"\"))))))","v":""},{"$f":"IF(S87=\"\",\"\",IF(AC83=\"T\",\"\",IF(AC83=\"F\",IF(S87>=Z83,\"þ\",IF(S87>=AA83,\"G2\",IF(S87>=AB83,\"G3\",\"\"))))))","v":""},7,5,4,5,87]
[null,null,3,8,5,3,{"$f":"IF($F88=\"\",\"\",HLOOKUP(F88,declare,B86,FALSE))","v":"Chloe Walley"},"Marshall Milton Keynes AC",15.32,{"$f":"IF(I88=\"\",\"\",IF(AND(AC83=\"T\",I88<I87),\"X\",IF(AND(AC83=\"F\",I88>I87),\"X\",\"\")))","v":""},null,{"$f":"IF(OR(F88=0,F88=\"\",I88=0,I88=\"\"),\"\",IF(I88>A83,0,INT(((B83-I88)*D83/C83)+250)))","v":65},{"$f":"IF(AC83=\"T\",AD88,AE88)","v":"þ"},null,5,88,{"$f":"IF($P88=\"\",\"\",HLOOKUP(P88,declare,B86,FALSE))","v":"Joanna Mobed"},"Thames Valley H",22.78,{"$f":"IF(S88=\"\",\"\",IF(AND(AC83=\"T\",S88<S87),\"X\",IF(AND(AC83=\"F\",S88>S87),\"X\",\"\")))","v":""},{"$f":"IF(OR(P88=0,P88=\"\",S88=0,S88=\"\"),\"\",IF(S88>A83,0,INT(((B83-S88)*D83/C83)+250)))","v":0},{"$f":"IF(AC83=\"T\",AF88,AG88)","v":""},null,null,null,null,null,null,null,{"$f":"IF(I88=\"\",\"\",IF(AC83=\"F\",\"\",IF(AC83=\"T\",IF(I88<=Z83,\"þ\",IF(I88<=AA83,\"G2\",IF(I88<=AB83,\"G3\",\"\"))))))","v":"þ"},{"$f":"IF(I88=\"\",\"\",IF(AC83=\"T\",\"\",IF(AC83=\"F\",IF(I88>=Z83,\"þ\",IF(I88>=AA83,\"G2\",IF(I88>=AB83,\"G3\",\"\"))))))","v":""},{"$f":"IF(S88=\"\",\"\",IF(AC83=\"F\",\"\",IF(AC83=\"T\",IF(S88<=Z83,\"þ\",IF(S88<=AA83,\"G2\",IF(S88<=AB83,\"G3\",\"\"))))))","v":""},{"$f":"IF(S88=\"\",\"\",IF(AC83=\"T\",\"\",IF(AC83=\"F\",IF(S88>=Z83,\"þ\",IF(S88>=AA83,\"G2\",IF(S88>=AB83,\"G3\",\"\"))))))","v":""},3,4,8,4,88]
[null,null,8,"",6,8,{"$f":"IF($F89=\"\",\"\",HLOOKUP(F89,declare,B86,FALSE))","v":"Ugne Liuksaityte"},"Thames Valley H",19.32,{"$f":"IF(I89=\"\",\"\",IF(AND(AC83=\"T\",I89<I88),\"X\",IF(AND(AC83=\"F\",I89>I88),\"X\",\"\")))","v":""},null,{"$f":"IF(OR(F89=0,F89=\"\",I89=0,I89=\"\"),\"\",IF(I89>A83,0,INT(((B83-I89)*D83/C83)+250)))","v":0},{"$f":"IF(AC83=\"T\",AD89,AE89)","v":""},null,6,null,{"$f":"IF($P89=\"\",\"\",HLOOKUP(P89,declare,B86,FALSE))","v":""},"",null,{"$f":"IF(S89=\"\",\"\",IF(AND(AC83=\"T\",S89<S88),\"X\",IF(AND(AC83=\"F\",S89>S88),\"X\",\"\")))","v":""},{"$f":"IF(OR(P89=0,P89=\"\",S89=0,S89=\"\"),\"\",IF(S89>A83,0,INT(((B83-S89)*D83/C83)+250)))","v":""},{"$f":"IF(AC83=\"T\",AF89,AG89)","v":""},null,null,null,null,null,null,null,{"$f":"IF(I89=\"\",\"\",IF(AC83=\"F\",\"\",IF(AC83=\"T\",IF(I89<=Z83,\"þ\",IF(I89<=AA83,\"G2\",IF(I89<=AB83,\"G3\",\"\"))))))","v":""},{"$f":"IF(I89=\"\",\"\",IF(AC83=\"T\",\"\",IF(AC83=\"F\",IF(I89>=Z83,\"þ\",IF(I89>=AA83,\"G2\",IF(I89>=AB83,\"G3\",\"\"))))))","v":""},{"$f":"IF(S89=\"\",\"\",IF(AC83=\"F\",\"\",IF(AC83=\"T\",IF(S89<=Z83,\"þ\",IF(S89<=AA83,\"G2\",IF(S89<=AB83,\"G3\",\"\"))))))","v":""},{"$f":"IF(S89=\"\",\"\",IF(AC83=\"T\",\"\",IF(AC83=\"F\",IF(S89>=Z83,\"þ\",IF(S89>=AA83,\"G2\",IF(S89>=AB83,\"G3\",\"\"))))))","v":""},8,3,"","",89]
[null,null,"","",7,null,{"$f":"IF($F90=\"\",\"\",HLOOKUP(F90,declare,B86,FALSE))","v":""},"",null,{"$f":"IF(I90=\"\",\"\",IF(AND(AC83=\"T\",I90<I89),\"X\",IF(AND(AC83=\"F\",I90>I89),\"X\",\"\")))","v":""},null,{"$f":"IF(OR(F90=0,F90=\"\",I90=0,I90=\"\"),\"\",IF(I90>A83,0,INT(((B83-I90)*D83/C83)+250)))","v":""},{"$f":"IF(AC83=\"T\",AD90,AE90)","v":""},null,7,null,{"$f":"IF($P90=\"\",\"\",HLOOKUP(P90,declare,B86,FALSE))","v":""},"",null,{"$f":"IF(S90=\"\",\"\",IF(AND(AC83=\"T\",S90<S89),\"X\",IF(AND(AC83=\"F\",S90>S89),\"X\",\"\")))","v":""},{"$f":"IF(OR(P90=0,P90=\"\",S90=0,S90=\"\"),\"\",IF(S90>A83,0,INT(((B83-S90)*D83/C83)+250)))","v":""},{"$f":"IF(AC83=\"T\",AF90,AG90)","v":""},null,null,null,null,null,null,null,{"$f":"IF(I90=\"\",\"\",IF(AC83=\"F\",\"\",IF(AC83=\"T\",IF(I90<=Z83,\"þ\",IF(I90<=AA83,\"G2\",IF(I90<=AB83,\"G3\",\"\"))))))","v":""},{"$f":"IF(I90=\"\",\"\",IF(AC83=\"T\",\"\",IF(AC83=\"F\",IF(I90>=Z83,\"þ\",IF(I90>=AA83,\"G2\",IF(I90>=AB83,\"G3\",\"\"))))))","v":""},{"$f":"IF(S90=\"\",\"\",IF(AC83=\"F\",\"\",IF(AC83=\"T\",IF(S90<=Z83,\"þ\",IF(S90<=AA83,\"G2\",IF(S90<=AB83,\"G3\",\"\"))))))","v":""},{"$f":"IF(S90=\"\",\"\",IF(AC83=\"T\",\"\",IF(AC83=\"F\",IF(S90>=Z83,\"þ\",IF(S90>=AA83,\"G2\",IF(S90>=AB83,\"G3\",\"\"))))))","v":""},"","","","",90]
[null,null,"","",8,null,{"$f":"IF($F91=\"\",\"\",HLOOKUP(F91,declare,B86,FALSE))","v":""},"",null,{"$f":"IF(I91=\"\",\"\",IF(AND(AC83=\"T\",I91<I90),\"X\",IF(AND(AC83=\"F\",I91>I90),\"X\",\"\")))","v":""},null,{"$f":"IF(OR(F91=0,F91=\"\",I91=0,I91=\"\"),\"\",IF(I91>A83,0,INT(((B83-I91)*D83/C83)+250)))","v":""},{"$f":"IF(AC83=\"T\",AD91,AE91)","v":""},null,8,null,{"$f":"IF($P91=\"\",\"\",HLOOKUP(P91,declare,B86,FALSE))","v":""},"",null,{"$f":"IF(S91=\"\",\"\",IF(AND(AC83=\"T\",S91<S90),\"X\",IF(AND(AC83=\"F\",S91>S90),\"X\",\"\")))","v":""},{"$f":"IF(OR(P91=0,P91=\"\",S91=0,S91=\"\"),\"\",IF(S91>A83,0,INT(((B83-S91)*D83/C83)+250)))","v":""},{"$f":"IF(AC83=\"T\",AF91,AG91)","v":""},null,null,null,null,null,null,null,{"$f":"IF(I91=\"\",\"\",IF(AC83=\"F\",\"\",IF(AC83=\"T\",IF(I91<=Z83,\"þ\",IF(I91<=AA83,\"G2\",IF(I91<=AB83,\"G3\",\"\"))))))","v":""},{"$f":"IF(I91=\"\",\"\",IF(AC83=\"T\",\"\",IF(AC83=\"F\",IF(I91>=Z83,\"þ\",IF(I91>=AA83,\"G2\",IF(I91>=AB83,\"G3\",\"\"))))))","v":""},{"$f":"IF(S91=\"\",\"\",IF(AC83=\"F\",\"\",IF(AC83=\"T\",IF(S91<=Z83,\"þ\",IF(S91<=AA83,\"G2\",IF(S91<=AB83,\"G3\",\"\"))))))","v":""},{"$f":"IF(S91=\"\",\"\",IF(AC83=\"T\",\"\",IF(AC83=\"F\",IF(S91>=Z83,\"þ\",IF(S91>=AA83,\"G2\",IF(S91>=AB83,\"G3\",\"\"))))))","v":""},"","","","",91]
[null,null,null,null,null,null,null,null,null,null,null,null,null,null,null,null,null,null,null,null,null,null,null,null,null,null,null,null,null,null,null,null,null,null,null,null,null,92]
[37,73,1.8,10,{"$f":"CONCATENATE(VLOOKUP(A94,mens_handbook,3,FALSE),\" A\")","v":"Women's Hammer A"},null,null,{"$f":"IF(A94=\"\",\"\",IF(VLOOKUP(A94,Handbook!$A$4:$AI$24,35,FALSE)=\"Y\",\"Wind=\",\"\"))","v":""},null,null,null,null,null,null,{"$f":"CONCATENATE(VLOOKUP(A94,mens_handbook,3,FALSE),\" B\")","v":"Women's Hammer B"},null,null,{"$f":"H93","v":""},{"$f":"IF(I93=\"\",\"\",I93)","v":""},null,null,null,null,{"$f":"IF($A94=\"\",\"\",VLOOKUP($A94,Handbook!$A$4:$V$24,21,FALSE))","v":67.94},{"$f":"IF($A94=\"\",\"\",VLOOKUP($A94,Handbook!$A$4:$V$24,22,FALSE))","v":67.94},{"$f":"IF($A94=\"\",\"\",VLOOKUP($A94,Handbook!$A$4:$W$24,23,FALSE))","v":30},{"$f":"IF($A94=\"\",\"\",VLOOKUP($A94,Handbook!$A$4:$X$24,24,FALSE))","v":30},{"$f":"IF($A94=\"\",\"\",VLOOKUP($A94,Handbook!$A$4:$Y$24,25,FALSE))","v":30},{"$f":"IF($A94=\"\",\"\",VLOOKUP($A94,Handbook!$A$4:$AH$24,34,FALSE))","v":"F"},null,null,null,null,null,null,null,null,93]
[11,null,{"$f":"IF(F94=\"\",\"\",IF(F94>10,F94/11,F94))","v":7},{"$f":"IF(P94=\"\",\"\",IF(P94>10,P94/11,P94))","v":3},{"$f":"Hammer!$E$26","v":1},{"$f":"IF(Hammer!$I$26=0,\"\",Hammer!$F$26)","v":7},{"$f":"IF(OR($F94=\"\",$F94=0),\"\",IF($F94>90,VLOOKUP(F94,eventcodes,2,FALSE),HLOOKUP(F94,declare,B96,FALSE)))","v":"Toni Wells"},{"$f":"IF(OR($F94=\"\",$F94=0),\"\",IF($F94>90,\"\",VLOOKUP(C94,matchday,2,FALSE)))","v":"Swansea H"},{"$f":"IF(Hammer!$I$26=0,\"\",Hammer!$I$26)","v":51.73},{"$f":"IF(I94=\"\",\"\",IF(AC93=\"T\",X94,X95))","v":""},null,{"$f":"IF(OR(F94=0,F94=\"\",I94=0,I94=\"\"),\"\",IF(I94<A93,0,INT(((I94-B93)*D93/C93)+250)))","v":131},{"$f":"IF(AC93=\"T\",AD94,AE94)","v":"þ"},null,{"$f":"Hammer!$K$26","v":1},{"$f":"IF(Hammer!$I$26=0,\"\",Hammer!$L$26)","v":33},{"$f":"IF(OR($P94=\"\",$P94=0),\"\",HLOOKUP(P94,declare,B96,FALSE))","v":"Sadie Watts"},{"$f":"IF(OR($P94=\"\",$P94=0),\"\",VLOOKUP(D94,matchday,2,FALSE))","v":"Marshall Milton Keynes AC"},{"$f":"IF(Hammer!$I$26=0,\"\",Hammer!$U$26)","v":43.63},null,{"$f":"IF(OR(P94=0,P94=\"\",S94=0,S94=\"\"),\"\",IF(S94<A93,0,INT(((S94-B93)*D93/C93)+250)))","v":86},{"$f":"IF(AC93=\"T\",AF94,AG94)","v":"þ"},null,{"$f":"IF(AC93=\"F\",\"\",IF(I94<X93,\"LR\",IF(I94=X93,\"=LR\",IF(I94<Y93,\"DR\",IF(I94=Y93,\"=DR\",\"\")))))","v":""},null,null,null,null,null,{"$f":"IF(I94=\"\",\"\",IF(AC93=\"F\",\"\",IF(AC93=\"T\",IF(I94<=Z93,\"þ\",IF(I94<=AA93,\"G2\",IF(I94<=AB93,\"G3\",\"\"))))))","v":""},{"$f":"IF(I94=\"\",\"\",IF(AC93=\"T\",\"\",IF(AC93=\"F\",IF(I94>=Z93,\"þ\",IF(I94>=AA93,\"G2\",IF(I94>=AB93,\"G3\",\"\"))))))","v":"þ"},{"$f":"IF(S94=\"\",\"\",IF(AC93=\"F\",\"\",IF(AC93=\"T\",IF(S94<=Z93,\"þ\",IF(S94<=AA93,\"G2\",IF(S94<=AB93,\"G3\",\"\"))))))","v":""},{"$f":"IF(S94=\"\",\"\",IF(AC93=\"T\",\"\",IF(AC93=\"F\",IF(S94>=Z93,\"þ\",IF(S94>=AA93,\"G2\",IF(S94>=AB93,\"G3\",\"\"))))))","v":"þ"},{"$f":"C94","v":7},{"$f":"IF(F94=\"\",\"\",IF(LEFT(I94,1)=\"D\",0,VLOOKUP(E94,$AT$4:$AU$40,2,FALSE)))","v":9},{"$f":"D94","v":3},{"$f":"IF(P94=\"\",\"\",IF(LEFT(S94,1)=\"D\",0,VLOOKUP(O94,$AT$4:$AV$40,3,FALSE)))","v":9},94]
[null,{"$f":"VLOOKUP(A94,Handbook!$A$4:$AK$24,37,FALSE)","v":12},{"$f":"IF(F95=\"\",\"\",IF(F95>10,F95/11,F95))","v":2},{"$f":"IF(P95=\"\",\"\",IF(P95>10,P95/11,P95))","v":2},{"$f":"Hammer!$E$27","v":2},{"$f":"IF(Hammer!$I$26=0,\"\",Hammer!$F$27)","v":2},{"$f":"IF(OR($F95=\"\",$F95=0),\"\",IF($F95>90,VLOOKUP(F95,eventcodes,2,FALSE),HLOOKUP(F95,declare,B96,FALSE)))","v":"Shaunagh  Brown"},"Blackheath & Bromley H",{"$f":"IF(Hammer!$I$26=0,\"\",Hammer!$I$27)","v":50.25},null,null,{"$f":"IF(OR(F95=0,F95=\"\",I95=0,I95=\"\"),\"\",IF(I95<A93,0,INT(((I95-B93)*D93/C93)+250)))","v":123},{"$f":"IF(AC93=\"T\",AD95,AE95)","v":"þ"},null,{"$f":"Hammer!$K$27","v":2},{"$f":"IF(Hammer!$I$26=0,\"\",Hammer!$L$27)","v":22},{"$f":"IF(OR($P95=\"\",$P95=0),\"\",HLOOKUP(P95,declare,B96,FALSE))","v":"Sam Milner"},"Blackheath & Bromley H",{"$f":"IF(Hammer!$I$26=0,\"\",Hammer!$U$27)","v":36.42},null,{"$f":"IF(OR(P95=0,P95=\"\",S95=0,S95=\"\"),\"\",IF(S95<A93,0,INT(((S95-B93)*D93/C93)+250)))","v":0},{"$f":"IF(AC93=\"T\",AF95,AG95)","v":"þ"},null,{"$f":"IF(AC93=\"T\",\"\",IF(I94>X93,\"LR\",IF(I94=X93,\"=LR\",IF(I94>Y93,\"DR\",IF(I94=Y93,\"=DR\",\"\")))))","v":""},null,null,null,null,null,{"$f":"IF(I95=\"\",\"\",IF(AC93=\"F\",\"\",IF(AC93=\"T\",IF(I95<=Z93,\"þ\",IF(I95<=AA93,\"G2\",IF(I95<=AB93,\"G3\",\"\"))))))","v":""},{"$f":"IF(I95=\"\",\"\",IF(AC93=\"T\",\"\",IF(AC93=\"F\",IF(I95>=Z93,\"þ\",IF(I95>=AA93,\"G2\",IF(I95>=AB93,\"G3\",\"\"))))))","v":"þ"},{"$f":"IF(S95=\"\",\"\",IF(AC93=\"F\",\"\",IF(AC93=\"T\",IF(S95<=Z93,\"þ\",IF(S95<=AA93,\"G2\",IF(S95<=AB93,\"G3\",\"\"))))))","v":""},{"$f":"IF(S95=\"\",\"\",IF(AC93=\"T\",\"\",IF(AC93=\"F\",IF(S95>=Z93,\"þ\",IF(S95>=AA93,\"G2\",IF(S95>=AB93,\"G3\",\"\"))))))","v":"þ"},{"$f":"C95","v":2},7,{"$f":"D95","v":2},7,95]
[null,{"$f":"VLOOKUP(A94,declare,20,FALSE)","v":12},3,8,{"$f":"Hammer!$E$28","v":3},{"$f":"IF(Hammer!$I$26=0,\"\",Hammer!$F$28)","v":3},{"$f":"IF(OR($F96=\"\",$F96=0),\"\",IF($F96>90,VLOOKUP(F96,eventcodes,2,FALSE),HLOOKUP(F96,declare,B96,FALSE)))","v":"Andrea Jenkins"},"Marshall Milton Keynes AC",{"$f":"IF(Hammer!$I$26=0,\"\",Hammer!$I$28)","v":50.11},null,null,{"$f":"IF(OR(F96=0,F96=\"\",I96=0,I96=\"\"),\"\",IF(I96<A93,0,INT(((I96-B93)*D93/C93)+250)))","v":122},{"$f":"IF(AC93=\"T\",AD96,AE96)","v":"þ"},null,{"$f":"Hammer!$K$28","v":3},{"$f":"IF(Hammer!$I$26=0,\"\",Hammer!$L$28)","v":8},{"$f":"IF(OR($P96=\"\",$P96=0),\"\",HLOOKUP(P96,declare,B96,FALSE))","v":"Ellisha Dee"},"Thames Valley H",{"$f":"IF(Hammer!$I$26=0,\"\",Hammer!$U$28)","v":35.74},null,{"$f":"IF(OR(P96=0,P96=\"\",S96=0,S96=\"\"),\"\",IF(S96<A93,0,INT(((S96-B93)*D93/C93)+250)))","v":0},{"$f":"IF(AC93=\"T\",AF96,AG96)","v":"þ"},null,null,null,null,null,null,null,{"$f":"IF(I96=\"\",\"\",IF(AC93=\"F\",\"\",IF(AC93=\"T\",IF(I96<=Z93,\"þ\",IF(I96<=AA93,\"G2\",IF(I96<=AB93,\"G3\",\"\"))))))","v":""},{"$f":"IF(I96=\"\",\"\",IF(AC93=\"T\",\"\",IF(AC93=\"F\",IF(I96>=Z93,\"þ\",IF(I96>=AA93,\"G2\",IF(I96>=AB93,\"G3\",\"\"))))))","v":"þ"},{"$f":"IF(S96=\"\",\"\",IF(AC93=\"F\",\"\",IF(AC93=\"T\",IF(S96<=Z93,\"þ\",IF(S96<=AA93,\"G2\",IF(S96<=AB93,\"G3\",\"\"))))))","v":""},{"$f":"IF(S96=\"\",\"\",IF(AC93=\"T\",\"\",IF(AC93=\"F\",IF(S96>=Z93,\"þ\",IF(S96>=AA93,\"G2\",IF(S96>=AB93,\"G3\",\"\"))))))","v":"þ"},3,6,8,6,96]
[null,null,1,1,{"$f":"Hammer!$E$29","v":4},{"$f":"IF(Hammer!$I$26=0,\"\",Hammer!$F$29)","v":1},{"$f":"IF(OR($F97=\"\",$F97=0),\"\",IF($F97>90,VLOOKUP(F97,eventcodes,2,FALSE),HLOOKUP(F97,declare,B96,FALSE)))","v":"Laura Duke"},"Bedford & County AC",{"$f":"IF(Hammer!$I$26=0,\"\",Hammer!$I$29)","v":47.3},null,null,{"$f":"IF(OR(F97=0,F97=\"\",I97=0,I97=\"\"),\"\",IF(I97<A93,0,INT(((I97-B93)*D93/C93)+250)))","v":107},{"$f":"IF(AC93=\"T\",AD97,AE97)","v":"þ"},null,{"$f":"Hammer!$K$29","v":4},{"$f":"IF(Hammer!$I$26=0,\"\",Hammer!$L$29)","v":11},{"$f":"IF(OR($P97=\"\",$P97=0),\"\",HLOOKUP(P97,declare,B96,FALSE))","v":"Rachael Bennett"},"Bedford & County AC",{"$f":"IF(Hammer!$I$26=0,\"\",Hammer!$U$29)","v":28.41},null,{"$f":"IF(OR(P97=0,P97=\"\",S97=0,S97=\"\"),\"\",IF(S97<A93,0,INT(((S97-B93)*D93/C93)+250)))","v":0},{"$f":"IF(AC93=\"T\",AF97,AG97)","v":""},null,null,null,null,null,null,null,{"$f":"IF(I97=\"\",\"\",IF(AC93=\"F\",\"\",IF(AC93=\"T\",IF(I97<=Z93,\"þ\",IF(I97<=AA93,\"G2\",IF(I97<=AB93,\"G3\",\"\"))))))","v":""},{"$f":"IF(I97=\"\",\"\",IF(AC93=\"T\",\"\",IF(AC93=\"F\",IF(I97>=Z93,\"þ\",IF(I97>=AA93,\"G2\",IF(I97>=AB93,\"G3\",\"\"))))))","v":"þ"},{"$f":"IF(S97=\"\",\"\",IF(AC93=\"F\",\"\",IF(AC93=\"T\",IF(S97<=Z93,\"þ\",IF(S97<=AA93,\"G2\",IF(S97<=AB93,\"G3\",\"\"))))))","v":""},{"$f":"IF(S97=\"\",\"\",IF(AC93=\"T\",\"\",IF(AC93=\"F\",IF(S97>=Z93,\"þ\",IF(S97>=AA93,\"G2\",IF(S97>=AB93,\"G3\",\"\"))))))","v":""},1,5,1,5,97]
[null,null,5,5,{"$f":"Hammer!$E$30","v":5},{"$f":"IF(Hammer!$I$26=0,\"\",Hammer!$F$30)","v":5},{"$f":"IF(OR($F98=\"\",$F98=0),\"\",IF($F98>90,VLOOKUP(F98,eventcodes,2,FALSE),HLOOKUP(F98,declare,B96,FALSE)))","v":"Amy Clemens (U20)"},"Shaftesbury Barnet H",{"$f":"IF(Hammer!$I$26=0,\"\",Hammer!$I$30)","v":46.64},null,null,{"$f":"IF(OR(F98=0,F98=\"\",I98=0,I98=\"\"),\"\",IF(I98<A93,0,INT(((I98-B93)*D93/C93)+250)))","v":103},{"$f":"IF(AC93=\"T\",AD98,AE98)","v":"þ"},null,{"$f":"Hammer!$K$30","v":5},{"$f":"IF(Hammer!$I$26=0,\"\",Hammer!$L$30)","v":55},{"$f":"IF(OR($P98=\"\",$P98=0),\"\",HLOOKUP(P98,declare,B96,FALSE))","v":"Nneka Ofulue (U20)"},"Shaftesbury Barnet H",{"$f":"IF(Hammer!$I$26=0,\"\",Hammer!$U$30)","v":27.31},null,{"$f":"IF(OR(P98=0,P98=\"\",S98=0,S98=\"\"),\"\",IF(S98<A93,0,INT(((S98-B93)*D93/C93)+250)))","v":0},{"$f":"IF(AC93=\"T\",AF98,AG98)","v":""},null,null,null,null,null,null,null,{"$f":"IF(I98=\"\",\"\",IF(AC93=\"F\",\"\",IF(AC93=\"T\",IF(I98<=Z93,\"þ\",IF(I98<=AA93,\"G2\",IF(I98<=AB93,\"G3\",\"\"))))))","v":""},{"$f":"IF(I98=\"\",\"\",IF(AC93=\"T\",\"\",IF(AC93=\"F\",IF(I98>=Z93,\"þ\",IF(I98>=AA93,\"G2\",IF(I98>=AB93,\"G3\",\"\"))))))","v":"þ"},{"$f":"IF(S98=\"\",\"\",IF(AC93=\"F\",\"\",IF(AC93=\"T\",IF(S98<=Z93,\"þ\",IF(S98<=AA93,\"G2\",IF(S98<=AB93,\"G3\",\"\"))))))","v":""},{"$f":"IF(S98=\"\",\"\",IF(AC93=\"T\",\"\",IF(AC93=\"F\",IF(S98>=Z93,\"þ\",IF(S98>=AA93,\"G2\",IF(S98>=AB93,\"G3\",\"\"))))))","v":""},5,4,5,4,98]
[null,null,8,7,{"$f":"Hammer!$E$31","v":6},{"$f":"IF(Hammer!$I$26=0,\"\",Hammer!$F$31)","v":88},{"$f":"IF(OR($F99=\"\",$F99=0),\"\",IF($F99>90,VLOOKUP(F99,eventcodes,2,FALSE),HLOOKUP(F99,declare,B96,FALSE)))","v":"Carla Letheby"},"Thames Valley H",{"$f":"IF(Hammer!$I$26=0,\"\",Hammer!$I$31)","v":37.01},null,null,{"$f":"IF(OR(F99=0,F99=\"\",I99=0,I99=\"\"),\"\",IF(I99<A93,0,INT(((I99-B93)*D93/C93)+250)))","v":50},{"$f":"IF(AC93=\"T\",AD99,AE99)","v":"þ"},null,{"$f":"Hammer!$K$31","v":6},{"$f":"IF(Hammer!$I$26=0,\"\",Hammer!$L$31)","v":77},{"$f":"IF(OR($P99=\"\",$P99=0),\"\",HLOOKUP(P99,declare,B96,FALSE))","v":"Nina Prells"},"Swansea H",{"$f":"IF(Hammer!$I$26=0,\"\",Hammer!$U$31)","v":24.86},null,{"$f":"IF(OR(P99=0,P99=\"\",S99=0,S99=\"\"),\"\",IF(S99<A93,0,INT(((S99-B93)*D93/C93)+250)))","v":0},{"$f":"IF(AC93=\"T\",AF99,AG99)","v":""},null,null,null,null,null,null,null,{"$f":"IF(I99=\"\",\"\",IF(AC93=\"F\",\"\",IF(AC93=\"T\",IF(I99<=Z93,\"þ\",IF(I99<=AA93,\"G2\",IF(I99<=AB93,\"G3\",\"\"))))))","v":""},{"$f":"IF(I99=\"\",\"\",IF(AC93=\"T\",\"\",IF(AC93=\"F\",IF(I99>=Z93,\"þ\",IF(I99>=AA93,\"G2\",IF(I99>=AB93,\"G3\",\"\"))))))","v":"þ"},{"$f":"IF(S99=\"\",\"\",IF(AC93=\"F\",\"\",IF(AC93=\"T\",IF(S99<=Z93,\"þ\",IF(S99<=AA93,\"G2\",IF(S99<=AB93,\"G3\",\"\"))))))","v":""},{"$f":"IF(S99=\"\",\"\",IF(AC93=\"T\",\"\",IF(AC93=\"F\",IF(S99>=Z93,\"þ\",IF(S99>=AA93,\"G2\",IF(S99>=AB93,\"G3\",\"\"))))))","v":""},8,3,7,3,99]
[null,null,4,4,{"$f":"Hammer!$E$32","v":7},{"$f":"IF(Hammer!$I$26=0,\"\",Hammer!$F$32)","v":4},{"$f":"IF(OR($F100=\"\",$F100=0),\"\",IF($F100>90,VLOOKUP(F100,eventcodes,2,FALSE),HLOOKUP(F100,declare,B96,FALSE)))","v":"Sue Lawrence"},"Newham & Essex Beagles AC",{"$f":"IF(Hammer!$I$26=0,\"\",Hammer!$I$32)","v":33.92},null,null,{"$f":"IF(OR(F100=0,F100=\"\",I100=0,I100=\"\"),\"\",IF(I100<A93,0,INT(((I100-B93)*D93/C93)+250)))","v":0},{"$f":"IF(AC93=\"T\",AD100,AE100)","v":"þ"},null,{"$f":"Hammer!$K$32","v":7},{"$f":"IF(Hammer!$I$26=0,\"\",Hammer!$L$32)","v":44},{"$f":"IF(OR($P100=\"\",$P100=0),\"\",HLOOKUP(P100,declare,B96,FALSE))","v":"Adele Stach-Kevitz"},"Newham & Essex Beagles AC",{"$f":"IF(Hammer!$I$26=0,\"\",Hammer!$U$32)","v":23.13},null,{"$f":"IF(OR(P100=0,P100=\"\",S100=0,S100=\"\"),\"\",IF(S100<A93,0,INT(((S100-B93)*D93/C93)+250)))","v":0},{"$f":"IF(AC93=\"T\",AF100,AG100)","v":""},null,null,null,null,null,null,null,{"$f":"IF(I100=\"\",\"\",IF(AC93=\"F\",\"\",IF(AC93=\"T\",IF(I100<=Z93,\"þ\",IF(I100<=AA93,\"G2\",IF(I100<=AB93,\"G3\",\"\"))))))","v":""},{"$f":"IF(I100=\"\",\"\",IF(AC93=\"T\",\"\",IF(AC93=\"F\",IF(I100>=Z93,\"þ\",IF(I100>=AA93,\"G2\",IF(I100>=AB93,\"G3\",\"\"))))))","v":"þ"},{"$f":"IF(S100=\"\",\"\",IF(AC93=\"F\",\"\",IF(AC93=\"T\",IF(S100<=Z93,\"þ\",IF(S100<=AA93,\"G2\",IF(S100<=AB93,\"G3\",\"\"))))))","v":""},{"$f":"IF(S100=\"\",\"\",IF(AC93=\"T\",\"\",IF(AC93=\"F\",IF(S100>=Z93,\"þ\",IF(S100>=AA93,\"G2\",IF(S100>=AB93,\"G3\",\"\"))))))","v":""},4,2,4,2,100]
[null,null,6,6,{"$f":"Hammer!$E$33","v":8},{"$f":"IF(Hammer!$I$26=0,\"\",Hammer!$F$33)","v":6},{"$f":"IF(OR($F101=\"\",$F101=0),\"\",IF($F101>90,VLOOKUP(F101,eventcodes,2,FALSE),HLOOKUP(F101,declare,B96,FALSE)))","v":"Anna Stevens"},"Southampton AC",{"$f":"IF(Hammer!$I$26=0,\"\",Hammer!$I$33)","v":31.44},null,null,{"$f":"IF(OR(F101=0,F101=\"\",I101=0,I101=\"\"),\"\",IF(I101<A93,0,INT(((I101-B93)*D93/C93)+250)))","v":0},{"$f":"IF(AC93=\"T\",AD101,AE101)","v":"þ"},null,{"$f":"Hammer!$K$33","v":8},{"$f":"IF(Hammer!$I$26=0,\"\",Hammer!$L$33)","v":66},{"$f":"IF(OR($P101=\"\",$P101=0),\"\",HLOOKUP(P101,declare,B96,FALSE))","v":"Sarah Ellis"},"Southampton AC",{"$f":"IF(Hammer!$I$26=0,\"\",Hammer!$U$33)","v":22.48},null,{"$f":"IF(OR(P101=0,P101=\"\",S101=0,S101=\"\"),\"\",IF(S101<A93,0,INT(((S101-B93)*D93/C93)+250)))","v":0},{"$f":"IF(AC93=\"T\",AF101,AG101)","v":""},null,null,null,null,null,null,null,{"$f":"IF(I101=\"\",\"\",IF(AC93=\"F\",\"\",IF(AC93=\"T\",IF(I101<=Z93,\"þ\",IF(I101<=AA93,\"G2\",IF(I101<=AB93,\"G3\",\"\"))))))","v":""},{"$f":"IF(I101=\"\",\"\",IF(AC93=\"T\",\"\",IF(AC93=\"F\",IF(I101>=Z93,\"þ\",IF(I101>=AA93,\"G2\",IF(I101>=AB93,\"G3\",\"\"))))))","v":"þ"},{"$f":"IF(S101=\"\",\"\",IF(AC93=\"F\",\"\",IF(AC93=\"T\",IF(S101<=Z93,\"þ\",IF(S101<=AA93,\"G2\",IF(S101<=AB93,\"G3\",\"\"))))))","v":""},{"$f":"IF(S101=\"\",\"\",IF(AC93=\"T\",\"\",IF(AC93=\"F\",IF(S101>=Z93,\"þ\",IF(S101>=AA93,\"G2\",IF(S101>=AB93,\"G3\",\"\"))))))","v":""},6,1,6,1,101]
[null,null,null,null,null,null,null,null,null,null,null,null,null,null,null,null,null,null,null,null,null,null,null,null,null,null,null,null,null,null,null,null,null,null,null,null,null,102]
[33,65,1.6,10,{"$f":"CONCATENATE(VLOOKUP(A104,mens_handbook,3,FALSE),\" A\")","v":"Women's Discus A"},null,null,{"$f":"IF(A104=\"\",\"\",IF(VLOOKUP(A104,Handbook!$A$4:$AI$24,35,FALSE)=\"Y\",\"Wind=\",\"\"))","v":""},null,null,null,null,null,null,{"$f":"CONCATENATE(VLOOKUP(A104,mens_handbook,3,FALSE),\" B\")","v":"Women's Discus B"},null,null,{"$f":"H103","v":""},{"$f":"IF(I103=\"\",\"\",I103)","v":""},null,null,null,null,{"$f":"IF($A104=\"\",\"\",VLOOKUP($A104,Handbook!$A$4:$V$24,21,FALSE))","v":62.18},{"$f":"IF($A104=\"\",\"\",VLOOKUP($A104,Handbook!$A$4:$V$24,22,FALSE))","v":56.26},{"$f":"IF($A104=\"\",\"\",VLOOKUP($A104,Handbook!$A$4:$W$24,23,FALSE))","v":30},{"$f":"IF($A104=\"\",\"\",VLOOKUP($A104,Handbook!$A$4:$X$24,24,FALSE))","v":30},{"$f":"IF($A104=\"\",\"\",VLOOKUP($A104,Handbook!$A$4:$Y$24,25,FALSE))","v":30},{"$f":"IF($A104=\"\",\"\",VLOOKUP($A104,Handbook!$A$4:$AH$24,34,FALSE))","v":"F"},null,null,null,null,null,null,null,null,103]
[15,null,{"$f":"IF(F104=\"\",\"\",IF(F104>10,F104/11,F104))","v":2},{"$f":"IF(P104=\"\",\"\",IF(P104>10,P104/11,P104))","v":2},{"$f":"Discus!$E$26","v":1},{"$f":"IF(Discus!$I$26=0,\"\",Discus!$F$26)","v":2},{"$f":"IF(OR($F104=\"\",$F104=0),\"\",IF($F104>90,VLOOKUP(F104,eventcodes,2,FALSE),HLOOKUP(F104,declare,B106,FALSE)))","v":"Shaunagh  Brown"},{"$f":"IF(OR($F104=\"\",$F104=0),\"\",IF($F104>90,\"\",VLOOKUP(C104,matchday,2,FALSE)))","v":"Blackheath & Bromley H"},{"$f":"IF(Discus!$I$26=0,\"\",Discus!$I$26)","v":49.7},{"$f":"IF(I104=\"\",\"\",IF(AC103=\"T\",X104,X105))","v":""},null,{"$f":"IF(OR(F104=0,F104=\"\",I104=0,I104=\"\"),\"\",IF(I104<A103,0,INT(((I104-B103)*D103/C103)+250)))","v":154},{"$f":"IF(AC103=\"T\",AD104,AE104)","v":"þ"},null,{"$f":"Discus!$K$26","v":1},{"$f":"IF(Discus!$I$26=0,\"\",Discus!$L$26)","v":22},{"$f":"IF(OR($P104=\"\",$P104=0),\"\",HLOOKUP(P104,declare,B106,FALSE))","v":"Sam Milner"},{"$f":"IF(OR($P104=\"\",$P104=0),\"\",VLOOKUP(D104,matchday,2,FALSE))","v":"Blackheath & Bromley H"},{"$f":"IF(Discus!$I$26=0,\"\",Discus!$U$26)","v":42.22},null,{"$f":"IF(OR(P104=0,P104=\"\",S104=0,S104=\"\"),\"\",IF(S104<A103,0,INT(((S104-B103)*D103/C103)+250)))","v":107},{"$f":"IF(AC103=\"T\",AF104,AG104)","v":"þ"},null,{"$f":"IF(AC103=\"F\",\"\",IF(I104<X103,\"LR\",IF(I104=X103,\"=LR\",IF(I104<Y103,\"DR\",IF(I104=Y103,\"=DR\",\"\")))))","v":""},null,null,null,null,null,{"$f":"IF(I104=\"\",\"\",IF(AC103=\"F\",\"\",IF(AC103=\"T\",IF(I104<=Z103,\"þ\",IF(I104<=AA103,\"G2\",IF(I104<=AB103,\"G3\",\"\"))))))","v":""},{"$f":"IF(I104=\"\",\"\",IF(AC103=\"T\",\"\",IF(AC103=\"F\",IF(I104>=Z103,\"þ\",IF(I104>=AA103,\"G2\",IF(I104>=AB103,\"G3\",\"\"))))))","v":"þ"},{"$f":"IF(S104=\"\",\"\",IF(AC103=\"F\",\"\",IF(AC103=\"T\",IF(S104<=Z103,\"þ\",IF(S104<=AA103,\"G2\",IF(S104<=AB103,\"G3\",\"\"))))))","v":""},{"$f":"IF(S104=\"\",\"\",IF(AC103=\"T\",\"\",IF(AC103=\"F\",IF(S104>=Z103,\"þ\",IF(S104>=AA103,\"G2\",IF(S104>=AB103,\"G3\",\"\"))))))","v":"þ"},{"$f":"C104","v":2},{"$f":"IF(F104=\"\",\"\",IF(LEFT(I104,1)=\"D\",0,VLOOKUP(E104,$AT$4:$AU$40,2,FALSE)))","v":9},{"$f":"D104","v":2},{"$f":"IF(P104=\"\",\"\",IF(LEFT(S104,1)=\"D\",0,VLOOKUP(O104,$AT$4:$AV$40,3,FALSE)))","v":9},104]
[null,{"$f":"VLOOKUP(A104,Handbook!$A$4:$AK$24,37,FALSE)","v":16},{"$f":"IF(F105=\"\",\"\",IF(F105>10,F105/11,F105))","v":3},{"$f":"IF(P105=\"\",\"\",IF(P105>10,P105/11,P105))","v":3},{"$f":"Discus!$E$27","v":2},{"$f":"IF(Discus!$I$26=0,\"\",Discus!$F$27)","v":3},{"$f":"IF(OR($F105=\"\",$F105=0),\"\",IF($F105>90,VLOOKUP(F105,eventcodes,2,FALSE),HLOOKUP(F105,declare,B106,FALSE)))","v":"Emma Beales (V35)"},"Marshall Milton Keynes AC",{"$f":"IF(Discus!$I$26=0,\"\",Discus!$I$27)","v":43.14},null,null,{"$f":"IF(OR(F105=0,F105=\"\",I105=0,I105=\"\"),\"\",IF(I105<A103,0,INT(((I105-B103)*D103/C103)+250)))","v":113},{"$f":"IF(AC103=\"T\",AD105,AE105)","v":"þ"},null,{"$f":"Discus!$K$27","v":2},{"$f":"IF(Discus!$I$26=0,\"\",Discus!$L$27)","v":33},{"$f":"IF(OR($P105=\"\",$P105=0),\"\",HLOOKUP(P105,declare,B106,FALSE))","v":"Andrea Jenkins"},"Marshall Milton Keynes AC",{"$f":"IF(Discus!$I$26=0,\"\",Discus!$U$27)","v":40.93},null,{"$f":"IF(OR(P105=0,P105=\"\",S105=0,S105=\"\"),\"\",IF(S105<A103,0,INT(((S105-B103)*D103/C103)+250)))","v":99},{"$f":"IF(AC103=\"T\",AF105,AG105)","v":"þ"},null,{"$f":"IF(AC103=\"T\",\"\",IF(I104>X103,\"LR\",IF(I104=X103,\"=LR\",IF(I104>Y103,\"DR\",IF(I104=Y103,\"=DR\",\"\")))))","v":""},null,null,null,null,null,{"$f":"IF(I105=\"\",\"\",IF(AC103=\"F\",\"\",IF(AC103=\"T\",IF(I105<=Z103,\"þ\",IF(I105<=AA103,\"G2\",IF(I105<=AB103,\"G3\",\"\"))))))","v":""},{"$f":"IF(I105=\"\",\"\",IF(AC103=\"T\",\"\",IF(AC103=\"F\",IF(I105>=Z103,\"þ\",IF(I105>=AA103,\"G2\",IF(I105>=AB103,\"G3\",\"\"))))))","v":"þ"},{"$f":"IF(S105=\"\",\"\",IF(AC103=\"F\",\"\",IF(AC103=\"T\",IF(S105<=Z103,\"þ\",IF(S105<=AA103,\"G2\",IF(S105<=AB103,\"G3\",\"\"))))))","v":""},{"$f":"IF(S105=\"\",\"\",IF(AC103=\"T\",\"\",IF(AC103=\"F\",IF(S105>=Z103,\"þ\",IF(S105>=AA103,\"G2\",IF(S105>=AB103,\"G3\",\"\"))))))","v":"þ"},{"$f":"C105","v":3},7,{"$f":"D105","v":3},7,105]
[null,{"$f":"VLOOKUP(A104,declare,20,FALSE)","v":16},8,8,{"$f":"Discus!$E$28","v":3},{"$f":"IF(Discus!$I$26=0,\"\",Discus!$F$28)","v":8},{"$f":"IF(OR($F106=\"\",$F106=0),\"\",IF($F106>90,VLOOKUP(F106,eventcodes,2,FALSE),HLOOKUP(F106,declare,B106,FALSE)))","v":"Ellisha Dee"},"Thames Valley H",{"$f":"IF(Discus!$I$26=0,\"\",Discus!$I$28)","v":40.590000000000003},null,null,{"$f":"IF(OR(F106=0,F106=\"\",I106=0,I106=\"\"),\"\",IF(I106<A103,0,INT(((I106-B103)*D103/C103)+250)))","v":97},{"$f":"IF(AC103=\"T\",AD106,AE106)","v":"þ"},null,{"$f":"Discus!$K$28","v":3},{"$f":"IF(Discus!$I$26=0,\"\",Discus!$L$28)","v":88},{"$f":"IF(OR($P106=\"\",$P106=0),\"\",HLOOKUP(P106,declare,B106,FALSE))","v":"Carla Letheby"},"Thames Valley H",{"$f":"IF(Discus!$I$26=0,\"\",Discus!$U$28)","v":36.83},null,{"$f":"IF(OR(P106=0,P106=\"\",S106=0,S106=\"\"),\"\",IF(S106<A103,0,INT(((S106-B103)*D103/C103)+250)))","v":73},{"$f":"IF(AC103=\"T\",AF106,AG106)","v":"þ"},null,null,null,null,null,null,null,{"$f":"IF(I106=\"\",\"\",IF(AC103=\"F\",\"\",IF(AC103=\"T\",IF(I106<=Z103,\"þ\",IF(I106<=AA103,\"G2\",IF(I106<=AB103,\"G3\",\"\"))))))","v":""},{"$f":"IF(I106=\"\",\"\",IF(AC103=\"T\",\"\",IF(AC103=\"F\",IF(I106>=Z103,\"þ\",IF(I106>=AA103,\"G2\",IF(I106>=AB103,\"G3\",\"\"))))))","v":"þ"},{"$f":"IF(S106=\"\",\"\",IF(AC103=\"F\",\"\",IF(AC103=\"T\",IF(S106<=Z103,\"þ\",IF(S106<=AA103,\"G2\",IF(S106<=AB103,\"G3\",\"\"))))))","v":""},{"$f":"IF(S106=\"\",\"\",IF(AC103=\"T\",\"\",IF(AC103=\"F\",IF(S106>=Z103,\"þ\",IF(S106>=AA103,\"G2\",IF(S106>=AB103,\"G3\",\"\"))))))","v":"þ"},8,6,8,6,106]
[null,null,6,1,{"$f":"Discus!$E$29","v":4},{"$f":"IF(Discus!$I$26=0,\"\",Discus!$F$29)","v":6},{"$f":"IF(OR($F107=\"\",$F107=0),\"\",IF($F107>90,VLOOKUP(F107,eventcodes,2,FALSE),HLOOKUP(F107,declare,B106,FALSE)))","v":"Debbie Callaway"},"Southampton AC",{"$f":"IF(Discus!$I$26=0,\"\",Discus!$I$29)","v":38.85},null,null,{"$f":"IF(OR(F107=0,F107=\"\",I107=0,I107=\"\"),\"\",IF(I107<A103,0,INT(((I107-B103)*D103/C103)+250)))","v":86},{"$f":"IF(AC103=\"T\",AD107,AE107)","v":"þ"},null,{"$f":"Discus!$K$29","v":4},{"$f":"IF(Discus!$I$26=0,\"\",Discus!$L$29)","v":11},{"$f":"IF(OR($P107=\"\",$P107=0),\"\",HLOOKUP(P107,declare,B106,FALSE))","v":"Jemma Eastwood"},"Bedford & County AC",{"$f":"IF(Discus!$I$26=0,\"\",Discus!$U$29)","v":28.71},null,{"$f":"IF(OR(P107=0,P107=\"\",S107=0,S107=\"\"),\"\",IF(S107<A103,0,INT(((S107-B103)*D103/C103)+250)))","v":0},{"$f":"IF(AC103=\"T\",AF107,AG107)","v":""},null,null,null,null,null,null,null,{"$f":"IF(I107=\"\",\"\",IF(AC103=\"F\",\"\",IF(AC103=\"T\",IF(I107<=Z103,\"þ\",IF(I107<=AA103,\"G2\",IF(I107<=AB103,\"G3\",\"\"))))))","v":""},{"$f":"IF(I107=\"\",\"\",IF(AC103=\"T\",\"\",IF(AC103=\"F\",IF(I107>=Z103,\"þ\",IF(I107>=AA103,\"G2\",IF(I107>=AB103,\"G3\",\"\"))))))","v":"þ"},{"$f":"IF(S107=\"\",\"\",IF(AC103=\"F\",\"\",IF(AC103=\"T\",IF(S107<=Z103,\"þ\",IF(S107<=AA103,\"G2\",IF(S107<=AB103,\"G3\",\"\"))))))","v":""},{"$f":"IF(S107=\"\",\"\",IF(AC103=\"T\",\"\",IF(AC103=\"F\",IF(S107>=Z103,\"þ\",IF(S107>=AA103,\"G2\",IF(S107>=AB103,\"G3\",\"\"))))))","v":""},6,5,1,5,107]
[null,null,1,7,{"$f":"Discus!$E$30","v":5},{"$f":"IF(Discus!$I$26=0,\"\",Discus!$F$30)","v":1},{"$f":"IF(OR($F108=\"\",$F108=0),\"\",IF($F108>90,VLOOKUP(F108,eventcodes,2,FALSE),HLOOKUP(F108,declare,B106,FALSE)))","v":"Rachael Bennett"},"Bedford & County AC",{"$f":"IF(Discus!$I$26=0,\"\",Discus!$I$30)","v":37.36},null,null,{"$f":"IF(OR(F108=0,F108=\"\",I108=0,I108=\"\"),\"\",IF(I108<A103,0,INT(((I108-B103)*D103/C103)+250)))","v":77},{"$f":"IF(AC103=\"T\",AD108,AE108)","v":"þ"},null,{"$f":"Discus!$K$30","v":5},{"$f":"IF(Discus!$I$26=0,\"\",Discus!$L$30)","v":77},{"$f":"IF(OR($P108=\"\",$P108=0),\"\",HLOOKUP(P108,declare,B106,FALSE))","v":"Toni Wells"},"Swansea H",{"$f":"IF(Discus!$I$26=0,\"\",Discus!$U$30)","v":28.63},null,{"$f":"IF(OR(P108=0,P108=\"\",S108=0,S108=\"\"),\"\",IF(S108<A103,0,INT(((S108-B103)*D103/C103)+250)))","v":0},{"$f":"IF(AC103=\"T\",AF108,AG108)","v":""},null,null,null,null,null,null,null,{"$f":"IF(I108=\"\",\"\",IF(AC103=\"F\",\"\",IF(AC103=\"T\",IF(I108<=Z103,\"þ\",IF(I108<=AA103,\"G2\",IF(I108<=AB103,\"G3\",\"\"))))))","v":""},{"$f":"IF(I108=\"\",\"\",IF(AC103=\"T\",\"\",IF(AC103=\"F\",IF(I108>=Z103,\"þ\",IF(I108>=AA103,\"G2\",IF(I108>=AB103,\"G3\",\"\"))))))","v":"þ"},{"$f":"IF(S108=\"\",\"\",IF(AC103=\"F\",\"\",IF(AC103=\"T\",IF(S108<=Z103,\"þ\",IF(S108<=AA103,\"G2\",IF(S108<=AB103,\"G3\",\"\"))))))","v":""},{"$f":"IF(S108=\"\",\"\",IF(AC103=\"T\",\"\",IF(AC103=\"F\",IF(S108>=Z103,\"þ\",IF(S108>=AA103,\"G2\",IF(S108>=AB103,\"G3\",\"\"))))))","v":""},1,4,7,4,108]
[null,null,4,6,{"$f":"Discus!$E$31","v":6},{"$f":"IF(Discus!$I$26=0,\"\",Discus!$F$31)","v":4},{"$f":"IF(OR($F109=\"\",$F109=0),\"\",IF($F109>90,VLOOKUP(F109,eventcodes,2,FALSE),HLOOKUP(F109,declare,B106,FALSE)))","v":"Sue Lawrence"},"Newham & Essex Beagles AC",{"$f":"IF(Discus!$I$26=0,\"\",Discus!$I$31)","v":35.49},null,null,{"$f":"IF(OR(F109=0,F109=\"\",I109=0,I109=\"\"),\"\",IF(I109<A103,0,INT(((I109-B103)*D103/C103)+250)))","v":65},{"$f":"IF(AC103=\"T\",AD109,AE109)","v":"þ"},null,{"$f":"Discus!$K$31","v":6},{"$f":"IF(Discus!$I$26=0,\"\",Discus!$L$31)","v":66},{"$f":"IF(OR($P109=\"\",$P109=0),\"\",HLOOKUP(P109,declare,B106,FALSE))","v":"Anna Stevens"},"Southampton AC",{"$f":"IF(Discus!$I$26=0,\"\",Discus!$U$31)","v":28.08},null,{"$f":"IF(OR(P109=0,P109=\"\",S109=0,S109=\"\"),\"\",IF(S109<A103,0,INT(((S109-B103)*D103/C103)+250)))","v":0},{"$f":"IF(AC103=\"T\",AF109,AG109)","v":""},null,null,null,null,null,null,null,{"$f":"IF(I109=\"\",\"\",IF(AC103=\"F\",\"\",IF(AC103=\"T\",IF(I109<=Z103,\"þ\",IF(I109<=AA103,\"G2\",IF(I109<=AB103,\"G3\",\"\"))))))","v":""},{"$f":"IF(I109=\"\",\"\",IF(AC103=\"T\",\"\",IF(AC103=\"F\",IF(I109>=Z103,\"þ\",IF(I109>=AA103,\"G2\",IF(I109>=AB103,\"G3\",\"\"))))))","v":"þ"},{"$f":"IF(S109=\"\",\"\",IF(AC103=\"F\",\"\",IF(AC103=\"T\",IF(S109<=Z103,\"þ\",IF(S109<=AA103,\"G2\",IF(S109<=AB103,\"G3\",\"\"))))))","v":""},{"$f":"IF(S109=\"\",\"\",IF(AC103=\"T\",\"\",IF(AC103=\"F\",IF(S109>=Z103,\"þ\",IF(S109>=AA103,\"G2\",IF(S109>=AB103,\"G3\",\"\"))))))","v":""},4,3,6,3,109]
[null,null,5,5,{"$f":"Discus!$E$32","v":7},{"$f":"IF(Discus!$I$26=0,\"\",Discus!$F$32)","v":5},{"$f":"IF(OR($F110=\"\",$F110=0),\"\",IF($F110>90,VLOOKUP(F110,eventcodes,2,FALSE),HLOOKUP(F110,declare,B106,FALSE)))","v":"Trecia Smith"},"Shaftesbury Barnet H",{"$f":"IF(Discus!$I$26=0,\"\",Discus!$I$32)","v":35.090000000000003},null,null,{"$f":"IF(OR(F110=0,F110=\"\",I110=0,I110=\"\"),\"\",IF(I110<A103,0,INT(((I110-B103)*D103/C103)+250)))","v":63},{"$f":"IF(AC103=\"T\",AD110,AE110)","v":"þ"},null,{"$f":"Discus!$K$32","v":7},{"$f":"IF(Discus!$I$26=0,\"\",Discus!$L$32)","v":55},{"$f":"IF(OR($P110=\"\",$P110=0),\"\",HLOOKUP(P110,declare,B106,FALSE))","v":"Nneka Ofulue (U20)"},"Shaftesbury Barnet H",{"$f":"IF(Discus!$I$26=0,\"\",Discus!$U$32)","v":23.74},null,{"$f":"IF(OR(P110=0,P110=\"\",S110=0,S110=\"\"),\"\",IF(S110<A103,0,INT(((S110-B103)*D103/C103)+250)))","v":0},{"$f":"IF(AC103=\"T\",AF110,AG110)","v":""},null,null,null,null,null,null,null,{"$f":"IF(I110=\"\",\"\",IF(AC103=\"F\",\"\",IF(AC103=\"T\",IF(I110<=Z103,\"þ\",IF(I110<=AA103,\"G2\",IF(I110<=AB103,\"G3\",\"\"))))))","v":""},{"$f":"IF(I110=\"\",\"\",IF(AC103=\"T\",\"\",IF(AC103=\"F\",IF(I110>=Z103,\"þ\",IF(I110>=AA103,\"G2\",IF(I110>=AB103,\"G3\",\"\"))))))","v":"þ"},{"$f":"IF(S110=\"\",\"\",IF(AC103=\"F\",\"\",IF(AC103=\"T\",IF(S110<=Z103,\"þ\",IF(S110<=AA103,\"G2\",IF(S110<=AB103,\"G3\",\"\"))))))","v":""},{"$f":"IF(S110=\"\",\"\",IF(AC103=\"T\",\"\",IF(AC103=\"F\",IF(S110>=Z103,\"þ\",IF(S110>=AA103,\"G2\",IF(S110>=AB103,\"G3\",\"\"))))))","v":""},5,2,5,2,110]
[null,null,7,4,{"$f":"Discus!$E$33","v":8},{"$f":"IF(Discus!$I$26=0,\"\",Discus!$F$33)","v":7},{"$f":"IF(OR($F111=\"\",$F111=0),\"\",IF($F111>90,VLOOKUP(F111,eventcodes,2,FALSE),HLOOKUP(F111,declare,B106,FALSE)))","v":"Nina Prells"},"Swansea H",{"$f":"IF(Discus!$I$26=0,\"\",Discus!$I$33)","v":32.729999999999997},null,null,{"$f":"IF(OR(F111=0,F111=\"\",I111=0,I111=\"\"),\"\",IF(I111<A103,0,INT(((I111-B103)*D103/C103)+250)))","v":0},{"$f":"IF(AC103=\"T\",AD111,AE111)","v":"þ"},null,{"$f":"Discus!$K$33","v":8},{"$f":"IF(Discus!$I$26=0,\"\",Discus!$L$33)","v":44},{"$f":"IF(OR($P111=\"\",$P111=0),\"\",HLOOKUP(P111,declare,B106,FALSE))","v":"Melissa Strevens"},"Newham & Essex Beagles AC",{"$f":"IF(Discus!$I$26=0,\"\",Discus!$U$33)","v":15.88},null,{"$f":"IF(OR(P111=0,P111=\"\",S111=0,S111=\"\"),\"\",IF(S111<A103,0,INT(((S111-B103)*D103/C103)+250)))","v":0},{"$f":"IF(AC103=\"T\",AF111,AG111)","v":""},null,null,null,null,null,null,null,{"$f":"IF(I111=\"\",\"\",IF(AC103=\"F\",\"\",IF(AC103=\"T\",IF(I111<=Z103,\"þ\",IF(I111<=AA103,\"G2\",IF(I111<=AB103,\"G3\",\"\"))))))","v":""},{"$f":"IF(I111=\"\",\"\",IF(AC103=\"T\",\"\",IF(AC103=\"F\",IF(I111>=Z103,\"þ\",IF(I111>=AA103,\"G2\",IF(I111>=AB103,\"G3\",\"\"))))))","v":"þ"},{"$f":"IF(S111=\"\",\"\",IF(AC103=\"F\",\"\",IF(AC103=\"T\",IF(S111<=Z103,\"þ\",IF(S111<=AA103,\"G2\",IF(S111<=AB103,\"G3\",\"\"))))))","v":""},{"$f":"IF(S111=\"\",\"\",IF(AC103=\"T\",\"\",IF(AC103=\"F\",IF(S111>=Z103,\"þ\",IF(S111>=AA103,\"G2\",IF(S111>=AB103,\"G3\",\"\"))))))","v":""},7,1,4,1,111]
[null,null,null,null,null,null,null,null,null,null,null,null,null,null,null,null,null,null,null,null,null,null,null,null,null,null,null,null,null,null,null,null,null,null,null,null,null,112]
[32,64,1.6,10,{"$f":"CONCATENATE(VLOOKUP(A114,mens_handbook,3,FALSE),\" A\")","v":"Women's Javelin A"},null,null,{"$f":"IF(A114=\"\",\"\",IF(VLOOKUP(A114,Handbook!$A$4:$AI$24,35,FALSE)=\"Y\",\"Wind=\",\"\"))","v":""},null,null,null,null,null,null,{"$f":"CONCATENATE(VLOOKUP(A114,mens_handbook,3,FALSE),\" B\")","v":"Women's Javelin B"},null,null,{"$f":"H113","v":""},{"$f":"IF(I113=\"\",\"\",I113)","v":""},null,null,null,null,{"$f":"IF($A114=\"\",\"\",VLOOKUP($A114,Handbook!$A$4:$V$24,21,FALSE))","v":57.99},{"$f":"IF($A114=\"\",\"\",VLOOKUP($A114,Handbook!$A$4:$V$24,22,FALSE))","v":53.06},{"$f":"IF($A114=\"\",\"\",VLOOKUP($A114,Handbook!$A$4:$W$24,23,FALSE))","v":30},{"$f":"IF($A114=\"\",\"\",VLOOKUP($A114,Handbook!$A$4:$X$24,24,FALSE))","v":30},{"$f":"IF($A114=\"\",\"\",VLOOKUP($A114,Handbook!$A$4:$Y$24,25,FALSE))","v":30},{"$f":"IF($A114=\"\",\"\",VLOOKUP($A114,Handbook!$A$4:$AH$24,34,FALSE))","v":"F"},null,null,null,null,null,null,null,null,113]
[18,null,{"$f":"IF(F114=\"\",\"\",IF(F114>10,F114/11,F114))","v":6},{"$f":"IF(P114=\"\",\"\",IF(P114>10,P114/11,P114))","v":6},{"$f":"Javelin!$E$26","v":1},{"$f":"IF(Javelin!$I$26=0,\"\",Javelin!$F$26)","v":6},{"$f":"IF(OR($F114=\"\",$F114=0),\"\",IF($F114>90,VLOOKUP(F114,eventcodes,2,FALSE),HLOOKUP(F114,declare,B116,FALSE)))","v":"Freya Jones"},{"$f":"IF(OR($F114=\"\",$F114=0),\"\",IF($F114>90,\"\",VLOOKUP(C114,matchday,2,FALSE)))","v":"Southampton AC"},{"$f":"IF(Javelin!$I$26=0,\"\",Javelin!$I$26)","v":48.33},{"$f":"IF(I114=\"\",\"\",IF(AC113=\"T\",X114,X115))","v":""},null,{"$f":"IF(OR(F114=0,F114=\"\",I114=0,I114=\"\"),\"\",IF(I114<A113,0,INT(((I114-B113)*D113/C113)+250)))","v":152},{"$f":"IF(AC113=\"T\",AD114,AE114)","v":"þ"},null,{"$f":"Javelin!$K$26","v":1},{"$f":"IF(Javelin!$I$26=0,\"\",Javelin!$L$26)","v":66},{"$f":"IF(OR($P114=\"\",$P114=0),\"\",HLOOKUP(P114,declare,B116,FALSE))","v":"Sarah Ellis"},{"$f":"IF(OR($P114=\"\",$P114=0),\"\",VLOOKUP(D114,matchday,2,FALSE))","v":"Southampton AC"},{"$f":"IF(Javelin!$I$26=0,\"\",Javelin!$U$26)","v":39.79},null,{"$f":"IF(OR(P114=0,P114=\"\",S114=0,S114=\"\"),\"\",IF(S114<A113,0,INT(((S114-B113)*D113/C113)+250)))","v":98},{"$f":"IF(AC113=\"T\",AF114,AG114)","v":"þ"},null,{"$f":"IF(AC113=\"F\",\"\",IF(I114<X113,\"LR\",IF(I114=X113,\"=LR\",IF(I114<Y113,\"DR\",IF(I114=Y113,\"=DR\",\"\")))))","v":""},null,null,null,null,null,{"$f":"IF(I114=\"\",\"\",IF(AC113=\"F\",\"\",IF(AC113=\"T\",IF(I114<=Z113,\"þ\",IF(I114<=AA113,\"G2\",IF(I114<=AB113,\"G3\",\"\"))))))","v":""},{"$f":"IF(I114=\"\",\"\",IF(AC113=\"T\",\"\",IF(AC113=\"F\",IF(I114>=Z113,\"þ\",IF(I114>=AA113,\"G2\",IF(I114>=AB113,\"G3\",\"\"))))))","v":"þ"},{"$f":"IF(S114=\"\",\"\",IF(AC113=\"F\",\"\",IF(AC113=\"T\",IF(S114<=Z113,\"þ\",IF(S114<=AA113,\"G2\",IF(S114<=AB113,\"G3\",\"\"))))))","v":""},{"$f":"IF(S114=\"\",\"\",IF(AC113=\"T\",\"\",IF(AC113=\"F\",IF(S114>=Z113,\"þ\",IF(S114>=AA113,\"G2\",IF(S114>=AB113,\"G3\",\"\"))))))","v":"þ"},{"$f":"C114","v":6},{"$f":"IF(F114=\"\",\"\",IF(LEFT(I114,1)=\"D\",0,VLOOKUP(E114,$AT$4:$AU$40,2,FALSE)))","v":9},{"$f":"D114","v":6},{"$f":"IF(P114=\"\",\"\",IF(LEFT(S114,1)=\"D\",0,VLOOKUP(O114,$AT$4:$AV$40,3,FALSE)))","v":9},114]
[null,{"$f":"VLOOKUP(A114,Handbook!$A$4:$AK$24,37,FALSE)","v":19},{"$f":"IF(F115=\"\",\"\",IF(F115>10,F115/11,F115))","v":3},{"$f":"IF(P115=\"\",\"\",IF(P115>10,P115/11,P115))","v":5},{"$f":"Javelin!$E$27","v":2},{"$f":"IF(Javelin!$I$26=0,\"\",Javelin!$F$27)","v":3},{"$f":"IF(OR($F115=\"\",$F115=0),\"\",IF($F115>90,VLOOKUP(F115,eventcodes,2,FALSE),HLOOKUP(F115,declare,B116,FALSE)))","v":"Sadie Watts"},"Marshall Milton Keynes AC",{"$f":"IF(Javelin!$I$26=0,\"\",Javelin!$I$27)","v":39.700000000000003},null,null,{"$f":"IF(OR(F115=0,F115=\"\",I115=0,I115=\"\"),\"\",IF(I115<A113,0,INT(((I115-B113)*D113/C113)+250)))","v":98},{"$f":"IF(AC113=\"T\",AD115,AE115)","v":"þ"},null,{"$f":"Javelin!$K$27","v":2},{"$f":"IF(Javelin!$I$26=0,\"\",Javelin!$L$27)","v":5},{"$f":"IF(OR($P115=\"\",$P115=0),\"\",HLOOKUP(P115,declare,B116,FALSE))","v":"Trecia Smith"},"Shaftesbury Barnet H",{"$f":"IF(Javelin!$I$26=0,\"\",Javelin!$U$27)","v":30.98},null,{"$f":"IF(OR(P115=0,P115=\"\",S115=0,S115=\"\"),\"\",IF(S115<A113,0,INT(((S115-B113)*D113/C113)+250)))","v":0},{"$f":"IF(AC113=\"T\",AF115,AG115)","v":"þ"},null,{"$f":"IF(AC113=\"T\",\"\",IF(I114>X113,\"LR\",IF(I114=X113,\"=LR\",IF(I114>Y113,\"DR\",IF(I114=Y113,\"=DR\",\"\")))))","v":""},null,null,null,null,null,{"$f":"IF(I115=\"\",\"\",IF(AC113=\"F\",\"\",IF(AC113=\"T\",IF(I115<=Z113,\"þ\",IF(I115<=AA113,\"G2\",IF(I115<=AB113,\"G3\",\"\"))))))","v":""},{"$f":"IF(I115=\"\",\"\",IF(AC113=\"T\",\"\",IF(AC113=\"F\",IF(I115>=Z113,\"þ\",IF(I115>=AA113,\"G2\",IF(I115>=AB113,\"G3\",\"\"))))))","v":"þ"},{"$f":"IF(S115=\"\",\"\",IF(AC113=\"F\",\"\",IF(AC113=\"T\",IF(S115<=Z113,\"þ\",IF(S115<=AA113,\"G2\",IF(S115<=AB113,\"G3\",\"\"))))))","v":""},{"$f":"IF(S115=\"\",\"\",IF(AC113=\"T\",\"\",IF(AC113=\"F\",IF(S115>=Z113,\"þ\",IF(S115>=AA113,\"G2\",IF(S115>=AB113,\"G3\",\"\"))))))","v":"þ"},{"$f":"C115","v":3},7,{"$f":"D115","v":5},7,115]
[null,{"$f":"VLOOKUP(A114,declare,20,FALSE)","v":19},7,1,{"$f":"Javelin!$E$28","v":3},{"$f":"IF(Javelin!$I$26=0,\"\",Javelin!$F$28)","v":7},{"$f":"IF(OR($F116=\"\",$F116=0),\"\",IF($F116>90,VLOOKUP(F116,eventcodes,2,FALSE),HLOOKUP(F116,declare,B116,FALSE)))","v":"Clair Williams"},"Swansea H",{"$f":"IF(Javelin!$I$26=0,\"\",Javelin!$I$28)","v":39.659999999999997},null,null,{"$f":"IF(OR(F116=0,F116=\"\",I116=0,I116=\"\"),\"\",IF(I116<A113,0,INT(((I116-B113)*D113/C113)+250)))","v":97},{"$f":"IF(AC113=\"T\",AD116,AE116)","v":"þ"},null,{"$f":"Javelin!$K$28","v":3},{"$f":"IF(Javelin!$I$26=0,\"\",Javelin!$L$28)","v":11},{"$f":"IF(OR($P116=\"\",$P116=0),\"\",HLOOKUP(P116,declare,B116,FALSE))","v":"Rachael Bennett"},"Bedford & County AC",{"$f":"IF(Javelin!$I$26=0,\"\",Javelin!$U$28)","v":27.65},null,{"$f":"IF(OR(P116=0,P116=\"\",S116=0,S116=\"\"),\"\",IF(S116<A113,0,INT(((S116-B113)*D113/C113)+250)))","v":0},{"$f":"IF(AC113=\"T\",AF116,AG116)","v":""},null,null,null,null,null,null,null,{"$f":"IF(I116=\"\",\"\",IF(AC113=\"F\",\"\",IF(AC113=\"T\",IF(I116<=Z113,\"þ\",IF(I116<=AA113,\"G2\",IF(I116<=AB113,\"G3\",\"\"))))))","v":""},{"$f":"IF(I116=\"\",\"\",IF(AC113=\"T\",\"\",IF(AC113=\"F\",IF(I116>=Z113,\"þ\",IF(I116>=AA113,\"G2\",IF(I116>=AB113,\"G3\",\"\"))))))","v":"þ"},{"$f":"IF(S116=\"\",\"\",IF(AC113=\"F\",\"\",IF(AC113=\"T\",IF(S116<=Z113,\"þ\",IF(S116<=AA113,\"G2\",IF(S116<=AB113,\"G3\",\"\"))))))","v":""},{"$f":"IF(S116=\"\",\"\",IF(AC113=\"T\",\"\",IF(AC113=\"F\",IF(S116>=Z113,\"þ\",IF(S116>=AA113,\"G2\",IF(S116>=AB113,\"G3\",\"\"))))))","v":""},7,6,1,6,116]
[null,null,5,7,{"$f":"Javelin!$E$29","v":4},{"$f":"IF(Javelin!$I$26=0,\"\",Javelin!$F$29)","v":55},{"$f":"IF(OR($F117=\"\",$F117=0),\"\",IF($F117>90,VLOOKUP(F117,eventcodes,2,FALSE),HLOOKUP(F117,declare,B116,FALSE)))","v":"Makeda Lewis (U20)"},"Shaftesbury Barnet H",{"$f":"IF(Javelin!$I$26=0,\"\",Javelin!$I$29)","v":32.409999999999997},null,null,{"$f":"IF(OR(F117=0,F117=\"\",I117=0,I117=\"\"),\"\",IF(I117<A113,0,INT(((I117-B113)*D113/C113)+250)))","v":52},{"$f":"IF(AC113=\"T\",AD117,AE117)","v":"þ"},null,{"$f":"Javelin!$K$29","v":4},{"$f":"IF(Javelin!$I$26=0,\"\",Javelin!$L$29)","v":77},{"$f":"IF(OR($P117=\"\",$P117=0),\"\",HLOOKUP(P117,declare,B116,FALSE))","v":"Megan Rogers"},"Swansea H",{"$f":"IF(Javelin!$I$26=0,\"\",Javelin!$U$29)","v":26.45},null,{"$f":"IF(OR(P117=0,P117=\"\",S117=0,S117=\"\"),\"\",IF(S117<A113,0,INT(((S117-B113)*D113/C113)+250)))","v":0},{"$f":"IF(AC113=\"T\",AF117,AG117)","v":""},null,null,null,null,null,null,null,{"$f":"IF(I117=\"\",\"\",IF(AC113=\"F\",\"\",IF(AC113=\"T\",IF(I117<=Z113,\"þ\",IF(I117<=AA113,\"G2\",IF(I117<=AB113,\"G3\",\"\"))))))","v":""},{"$f":"IF(I117=\"\",\"\",IF(AC113=\"T\",\"\",IF(AC113=\"F\",IF(I117>=Z113,\"þ\",IF(I117>=AA113,\"G2\",IF(I117>=AB113,\"G3\",\"\"))))))","v":"þ"},{"$f":"IF(S117=\"\",\"\",IF(AC113=\"F\",\"\",IF(AC113=\"T\",IF(S117<=Z113,\"þ\",IF(S117<=AA113,\"G2\",IF(S117<=AB113,\"G3\",\"\"))))))","v":""},{"$f":"IF(S117=\"\",\"\",IF(AC113=\"T\",\"\",IF(AC113=\"F\",IF(S117>=Z113,\"þ\",IF(S117>=AA113,\"G2\",IF(S117>=AB113,\"G3\",\"\"))))))","v":""},5,5,7,5,117]
[null,null,8,3,{"$f":"Javelin!$E$30","v":5},{"$f":"IF(Javelin!$I$26=0,\"\",Javelin!$F$30)","v":8},{"$f":"IF(OR($F118=\"\",$F118=0),\"\",IF($F118>90,VLOOKUP(F118,eventcodes,2,FALSE),HLOOKUP(F118,declare,B116,FALSE)))","v":"Carla Letheby"},"Thames Valley H",{"$f":"IF(Javelin!$I$26=0,\"\",Javelin!$I$30)","v":31.83},null,null,{"$f":"IF(OR(F118=0,F118=\"\",I118=0,I118=\"\"),\"\",IF(I118<A113,0,INT(((I118-B113)*D113/C113)+250)))","v":0},{"$f":"IF(AC113=\"T\",AD118,AE118)","v":"þ"},null,{"$f":"Javelin!$K$30","v":5},{"$f":"IF(Javelin!$I$26=0,\"\",Javelin!$L$30)","v":33},{"$f":"IF(OR($P118=\"\",$P118=0),\"\",HLOOKUP(P118,declare,B116,FALSE))","v":"Andrea Jenkins"},"Marshall Milton Keynes AC",{"$f":"IF(Javelin!$I$26=0,\"\",Javelin!$U$30)","v":24.9},null,{"$f":"IF(OR(P118=0,P118=\"\",S118=0,S118=\"\"),\"\",IF(S118<A113,0,INT(((S118-B113)*D113/C113)+250)))","v":0},{"$f":"IF(AC113=\"T\",AF118,AG118)","v":""},null,null,null,null,null,null,null,{"$f":"IF(I118=\"\",\"\",IF(AC113=\"F\",\"\",IF(AC113=\"T\",IF(I118<=Z113,\"þ\",IF(I118<=AA113,\"G2\",IF(I118<=AB113,\"G3\",\"\"))))))","v":""},{"$f":"IF(I118=\"\",\"\",IF(AC113=\"T\",\"\",IF(AC113=\"F\",IF(I118>=Z113,\"þ\",IF(I118>=AA113,\"G2\",IF(I118>=AB113,\"G3\",\"\"))))))","v":"þ"},{"$f":"IF(S118=\"\",\"\",IF(AC113=\"F\",\"\",IF(AC113=\"T\",IF(S118<=Z113,\"þ\",IF(S118<=AA113,\"G2\",IF(S118<=AB113,\"G3\",\"\"))))))","v":""},{"$f":"IF(S118=\"\",\"\",IF(AC113=\"T\",\"\",IF(AC113=\"F\",IF(S118>=Z113,\"þ\",IF(S118>=AA113,\"G2\",IF(S118>=AB113,\"G3\",\"\"))))))","v":""},8,4,3,4,118]
[null,null,1,8,{"$f":"Javelin!$E$31","v":6},{"$f":"IF(Javelin!$I$26=0,\"\",Javelin!$F$31)","v":1},{"$f":"IF(OR($F119=\"\",$F119=0),\"\",IF($F119>90,VLOOKUP(F119,eventcodes,2,FALSE),HLOOKUP(F119,declare,B116,FALSE)))","v":"Leanne Buxton"},"Bedford & County AC",{"$f":"IF(Javelin!$I$26=0,\"\",Javelin!$I$31)","v":30.79},null,null,{"$f":"IF(OR(F119=0,F119=\"\",I119=0,I119=\"\"),\"\",IF(I119<A113,0,INT(((I119-B113)*D113/C113)+250)))","v":0},{"$f":"IF(AC113=\"T\",AD119,AE119)","v":"þ"},null,{"$f":"Javelin!$K$31","v":6},{"$f":"IF(Javelin!$I$26=0,\"\",Javelin!$L$31)","v":88},{"$f":"IF(OR($P119=\"\",$P119=0),\"\",HLOOKUP(P119,declare,B116,FALSE))","v":"Juchinar Searles"},"Thames Valley H",{"$f":"IF(Javelin!$I$26=0,\"\",Javelin!$U$31)","v":23.84},null,{"$f":"IF(OR(P119=0,P119=\"\",S119=0,S119=\"\"),\"\",IF(S119<A113,0,INT(((S119-B113)*D113/C113)+250)))","v":0},{"$f":"IF(AC113=\"T\",AF119,AG119)","v":""},null,null,null,null,null,null,null,{"$f":"IF(I119=\"\",\"\",IF(AC113=\"F\",\"\",IF(AC113=\"T\",IF(I119<=Z113,\"þ\",IF(I119<=AA113,\"G2\",IF(I119<=AB113,\"G3\",\"\"))))))","v":""},{"$f":"IF(I119=\"\",\"\",IF(AC113=\"T\",\"\",IF(AC113=\"F\",IF(I119>=Z113,\"þ\",IF(I119>=AA113,\"G2\",IF(I119>=AB113,\"G3\",\"\"))))))","v":"þ"},{"$f":"IF(S119=\"\",\"\",IF(AC113=\"F\",\"\",IF(AC113=\"T\",IF(S119<=Z113,\"þ\",IF(S119<=AA113,\"G2\",IF(S119<=AB113,\"G3\",\"\"))))))","v":""},{"$f":"IF(S119=\"\",\"\",IF(AC113=\"T\",\"\",IF(AC113=\"F\",IF(S119>=Z113,\"þ\",IF(S119>=AA113,\"G2\",IF(S119>=AB113,\"G3\",\"\"))))))","v":""},1,3,8,3,119]
[null,null,2,2,{"$f":"Javelin!$E$32","v":7},{"$f":"IF(Javelin!$I$26=0,\"\",Javelin!$F$32)","v":22},{"$f":"IF(OR($F120=\"\",$F120=0),\"\",IF($F120>90,VLOOKUP(F120,eventcodes,2,FALSE),HLOOKUP(F120,declare,B116,FALSE)))","v":"Sandra Alaneme"},"Blackheath & Bromley H",{"$f":"IF(Javelin!$I$26=0,\"\",Javelin!$I$32)","v":18.489999999999998},null,null,{"$f":"IF(OR(F120=0,F120=\"\",I120=0,I120=\"\"),\"\",IF(I120<A113,0,INT(((I120-B113)*D113/C113)+250)))","v":0},{"$f":"IF(AC113=\"T\",AD120,AE120)","v":""},null,{"$f":"Javelin!$K$32","v":7},{"$f":"IF(Javelin!$I$26=0,\"\",Javelin!$L$32)","v":2},{"$f":"IF(OR($P120=\"\",$P120=0),\"\",HLOOKUP(P120,declare,B116,FALSE))","v":"Liz Hughes"},"Blackheath & Bromley H",{"$f":"IF(Javelin!$I$26=0,\"\",Javelin!$U$32)","v":18.440000000000001},null,{"$f":"IF(OR(P120=0,P120=\"\",S120=0,S120=\"\"),\"\",IF(S120<A113,0,INT(((S120-B113)*D113/C113)+250)))","v":0},{"$f":"IF(AC113=\"T\",AF120,AG120)","v":""},null,null,null,null,null,null,null,{"$f":"IF(I120=\"\",\"\",IF(AC113=\"F\",\"\",IF(AC113=\"T\",IF(I120<=Z113,\"þ\",IF(I120<=AA113,\"G2\",IF(I120<=AB113,\"G3\",\"\"))))))","v":""},{"$f":"IF(I120=\"\",\"\",IF(AC113=\"T\",\"\",IF(AC113=\"F\",IF(I120>=Z113,\"þ\",IF(I120>=AA113,\"G2\",IF(I120>=AB113,\"G3\",\"\"))))))","v":""},{"$f":"IF(S120=\"\",\"\",IF(AC113=\"F\",\"\",IF(AC113=\"T\",IF(S120<=Z113,\"þ\",IF(S120<=AA113,\"G2\",IF(S120<=AB113,\"G3\",\"\"))))))","v":""},{"$f":"IF(S120=\"\",\"\",IF(AC113=\"T\",\"\",IF(AC113=\"F\",IF(S120>=Z113,\"þ\",IF(S120>=AA113,\"G2\",IF(S120>=AB113,\"G3\",\"\"))))))","v":""},2,2,2,2,120]
[null,null,4,0,{"$f":"Javelin!$E$33","v":8},{"$f":"IF(Javelin!$I$26=0,\"\",Javelin!$F$33)","v":4},{"$f":"IF(OR($F121=\"\",$F121=0),\"\",IF($F121>90,VLOOKUP(F121,eventcodes,2,FALSE),HLOOKUP(F121,declare,B116,FALSE)))","v":"Susannah Banjo"},"Newham & Essex Beagles AC",{"$f":"IF(Javelin!$I$26=0,\"\",Javelin!$I$33)","v":10.95},null,null,{"$f":"IF(OR(F121=0,F121=\"\",I121=0,I121=\"\"),\"\",IF(I121<A113,0,INT(((I121-B113)*D113/C113)+250)))","v":0},{"$f":"IF(AC113=\"T\",AD121,AE121)","v":""},null,{"$f":"Javelin!$K$33","v":8},{"$f":"IF(Javelin!$I$26=0,\"\",Javelin!$L$33)","v":0},{"$f":"IF(OR($P121=\"\",$P121=0),\"\",HLOOKUP(P121,declare,B116,FALSE))","v":""},"",{"$f":"IF(Javelin!$I$26=0,\"\",Javelin!$U$33)","v":0},null,{"$f":"IF(OR(P121=0,P121=\"\",S121=0,S121=\"\"),\"\",IF(S121<A113,0,INT(((S121-B113)*D113/C113)+250)))","v":""},{"$f":"IF(AC113=\"T\",AF121,AG121)","v":""},null,null,null,null,null,null,null,{"$f":"IF(I121=\"\",\"\",IF(AC113=\"F\",\"\",IF(AC113=\"T\",IF(I121<=Z113,\"þ\",IF(I121<=AA113,\"G2\",IF(I121<=AB113,\"G3\",\"\"))))))","v":""},{"$f":"IF(I121=\"\",\"\",IF(AC113=\"T\",\"\",IF(AC113=\"F\",IF(I121>=Z113,\"þ\",IF(I121>=AA113,\"G2\",IF(I121>=AB113,\"G3\",\"\"))))))","v":""},{"$f":"IF(S121=\"\",\"\",IF(AC113=\"F\",\"\",IF(AC113=\"T\",IF(S121<=Z113,\"þ\",IF(S121<=AA113,\"G2\",IF(S121<=AB113,\"G3\",\"\"))))))","v":""},{"$f":"IF(S121=\"\",\"\",IF(AC113=\"T\",\"\",IF(AC113=\"F\",IF(S121>=Z113,\"þ\",IF(S121>=AA113,\"G2\",IF(S121>=AB113,\"G3\",\"\"))))))","v":""},4,1,0,1,121]
[null,null,null,null,null,null,null,null,null,null,null,null,null,null,null,null,null,null,null,null,null,null,null,null,null,null,null,null,null,null,null,null,null,null,null,null,null,122]
[10,20,0.05,1,{"$f":"CONCATENATE(VLOOKUP(A124,mens_handbook,3,FALSE),\" A\")","v":"Women's Shot Putt A"},null,null,{"$f":"IF(A124=\"\",\"\",IF(VLOOKUP(A124,Handbook!$A$4:$AI$24,35,FALSE)=\"Y\",\"Wind=\",\"\"))","v":""},null,null,null,null,null,null,{"$f":"CONCATENATE(VLOOKUP(A124,mens_handbook,3,FALSE),\" B\")","v":"Women's Shot Putt B"},null,null,{"$f":"H123","v":""},{"$f":"IF(I123=\"\",\"\",I123)","v":""},null,null,null,null,{"$f":"IF($A124=\"\",\"\",VLOOKUP($A124,Handbook!$A$4:$V$24,21,FALSE))","v":18.88},{"$f":"IF($A124=\"\",\"\",VLOOKUP($A124,Handbook!$A$4:$V$24,22,FALSE))","v":17.96},{"$f":"IF($A124=\"\",\"\",VLOOKUP($A124,Handbook!$A$4:$W$24,23,FALSE))","v":10},{"$f":"IF($A124=\"\",\"\",VLOOKUP($A124,Handbook!$A$4:$X$24,24,FALSE))","v":10},{"$f":"IF($A124=\"\",\"\",VLOOKUP($A124,Handbook!$A$4:$Y$24,25,FALSE))","v":10},{"$f":"IF($A124=\"\",\"\",VLOOKUP($A124,Handbook!$A$4:$AH$24,34,FALSE))","v":"F"},null,null,null,null,null,null,null,null,123]
[17,null,{"$f":"IF(F124=\"\",\"\",IF(F124>10,F124/11,F124))","v":2},{"$f":"IF(P124=\"\",\"\",IF(P124>10,P124/11,P124))","v":2},{"$f":"Shot!$E$26","v":1},{"$f":"IF(Shot!$I$26=0,\"\",Shot!$F$26)","v":2},{"$f":"IF(OR($F124=\"\",$F124=0),\"\",IF($F124>90,VLOOKUP(F124,eventcodes,2,FALSE),HLOOKUP(F124,declare,B126,FALSE)))","v":"Shaunagh  Brown"},{"$f":"IF(OR($F124=\"\",$F124=0),\"\",IF($F124>90,\"\",VLOOKUP(C124,matchday,2,FALSE)))","v":"Blackheath & Bromley H"},{"$f":"IF(Shot!$I$26=0,\"\",Shot!$I$26)","v":14.38},{"$f":"IF(I124=\"\",\"\",IF(AC123=\"T\",X124,X125))","v":""},null,{"$f":"IF(OR(F124=0,F124=\"\",I124=0,I124=\"\"),\"\",IF(I124<A123,0,INT(((I124-B123)*D123/C123)+250)))","v":137},{"$f":"IF(AC123=\"T\",AD124,AE124)","v":"þ"},null,{"$f":"Shot!$K$26","v":1},{"$f":"IF(Shot!$I$26=0,\"\",Shot!$L$26)","v":22},{"$f":"IF(OR($P124=\"\",$P124=0),\"\",HLOOKUP(P124,declare,B126,FALSE))","v":"Sam Milner"},{"$f":"IF(OR($P124=\"\",$P124=0),\"\",VLOOKUP(D124,matchday,2,FALSE))","v":"Blackheath & Bromley H"},{"$f":"IF(Shot!$I$26=0,\"\",Shot!$U$26)","v":11.4},null,{"$f":"IF(OR(P124=0,P124=\"\",S124=0,S124=\"\"),\"\",IF(S124<A123,0,INT(((S124-B123)*D123/C123)+250)))","v":78},{"$f":"IF(AC123=\"T\",AF124,AG124)","v":"þ"},null,{"$f":"IF(AC123=\"F\",\"\",IF(I124<X123,\"LR\",IF(I124=X123,\"=LR\",IF(I124<Y123,\"DR\",IF(I124=Y123,\"=DR\",\"\")))))","v":""},null,null,null,null,null,{"$f":"IF(I124=\"\",\"\",IF(AC123=\"F\",\"\",IF(AC123=\"T\",IF(I124<=Z123,\"þ\",IF(I124<=AA123,\"G2\",IF(I124<=AB123,\"G3\",\"\"))))))","v":""},{"$f":"IF(I124=\"\",\"\",IF(AC123=\"T\",\"\",IF(AC123=\"F\",IF(I124>=Z123,\"þ\",IF(I124>=AA123,\"G2\",IF(I124>=AB123,\"G3\",\"\"))))))","v":"þ"},{"$f":"IF(S124=\"\",\"\",IF(AC123=\"F\",\"\",IF(AC123=\"T\",IF(S124<=Z123,\"þ\",IF(S124<=AA123,\"G2\",IF(S124<=AB123,\"G3\",\"\"))))))","v":""},{"$f":"IF(S124=\"\",\"\",IF(AC123=\"T\",\"\",IF(AC123=\"F\",IF(S124>=Z123,\"þ\",IF(S124>=AA123,\"G2\",IF(S124>=AB123,\"G3\",\"\"))))))","v":"þ"},{"$f":"C124","v":2},{"$f":"IF(F124=\"\",\"\",IF(LEFT(I124,1)=\"D\",0,VLOOKUP(E124,$AT$4:$AU$40,2,FALSE)))","v":9},{"$f":"D124","v":2},{"$f":"IF(P124=\"\",\"\",IF(LEFT(S124,1)=\"D\",0,VLOOKUP(O124,$AT$4:$AV$40,3,FALSE)))","v":9},124]
[null,{"$f":"VLOOKUP(A124,Handbook!$A$4:$AK$24,37,FALSE)","v":18},{"$f":"IF(F125=\"\",\"\",IF(F125>10,F125/11,F125))","v":8},{"$f":"IF(P125=\"\",\"\",IF(P125>10,P125/11,P125))","v":8},{"$f":"Shot!$E$27","v":2},{"$f":"IF(Shot!$I$26=0,\"\",Shot!$F$27)","v":8},{"$f":"IF(OR($F125=\"\",$F125=0),\"\",IF($F125>90,VLOOKUP(F125,eventcodes,2,FALSE),HLOOKUP(F125,declare,B126,FALSE)))","v":"Phyllis Agbo"},"Thames Valley H",{"$f":"IF(Shot!$I$26=0,\"\",Shot!$I$27)","v":13.24},null,null,{"$f":"IF(OR(F125=0,F125=\"\",I125=0,I125=\"\"),\"\",IF(I125<A123,0,INT(((I125-B123)*D123/C123)+250)))","v":114},{"$f":"IF(AC123=\"T\",AD125,AE125)","v":"þ"},null,{"$f":"Shot!$K$27","v":2},{"$f":"IF(Shot!$I$26=0,\"\",Shot!$L$27)","v":88},{"$f":"IF(OR($P125=\"\",$P125=0),\"\",HLOOKUP(P125,declare,B126,FALSE))","v":"Abigail Moronkeji"},"Thames Valley H",{"$f":"IF(Shot!$I$26=0,\"\",Shot!$U$27)","v":11.12},null,{"$f":"IF(OR(P125=0,P125=\"\",S125=0,S125=\"\"),\"\",IF(S125<A123,0,INT(((S125-B123)*D123/C123)+250)))","v":72},{"$f":"IF(AC123=\"T\",AF125,AG125)","v":"þ"},null,{"$f":"IF(AC123=\"T\",\"\",IF(I124>X123,\"LR\",IF(I124=X123,\"=LR\",IF(I124>Y123,\"DR\",IF(I124=Y123,\"=DR\",\"\")))))","v":""},null,null,null,null,null,{"$f":"IF(I125=\"\",\"\",IF(AC123=\"F\",\"\",IF(AC123=\"T\",IF(I125<=Z123,\"þ\",IF(I125<=AA123,\"G2\",IF(I125<=AB123,\"G3\",\"\"))))))","v":""},{"$f":"IF(I125=\"\",\"\",IF(AC123=\"T\",\"\",IF(AC123=\"F\",IF(I125>=Z123,\"þ\",IF(I125>=AA123,\"G2\",IF(I125>=AB123,\"G3\",\"\"))))))","v":"þ"},{"$f":"IF(S125=\"\",\"\",IF(AC123=\"F\",\"\",IF(AC123=\"T\",IF(S125<=Z123,\"þ\",IF(S125<=AA123,\"G2\",IF(S125<=AB123,\"G3\",\"\"))))))","v":""},{"$f":"IF(S125=\"\",\"\",IF(AC123=\"T\",\"\",IF(AC123=\"F\",IF(S125>=Z123,\"þ\",IF(S125>=AA123,\"G2\",IF(S125>=AB123,\"G3\",\"\"))))))","v":"þ"},{"$f":"C125","v":8},7,{"$f":"D125","v":8},7,125]
[null,{"$f":"VLOOKUP(A124,declare,20,FALSE)","v":18},6,1,{"$f":"Shot!$E$28","v":3},{"$f":"IF(Shot!$I$26=0,\"\",Shot!$F$28)","v":6},{"$f":"IF(OR($F126=\"\",$F126=0),\"\",IF($F126>90,VLOOKUP(F126,eventcodes,2,FALSE),HLOOKUP(F126,declare,B126,FALSE)))","v":"Freya Jones"},"Southampton AC",{"$f":"IF(Shot!$I$26=0,\"\",Shot!$I$28)","v":12.03},null,null,{"$f":"IF(OR(F126=0,F126=\"\",I126=0,I126=\"\"),\"\",IF(I126<A123,0,INT(((I126-B123)*D123/C123)+250)))","v":90},{"$f":"IF(AC123=\"T\",AD126,AE126)","v":"þ"},null,{"$f":"Shot!$K$28","v":3},{"$f":"IF(Shot!$I$26=0,\"\",Shot!$L$28)","v":11},{"$f":"IF(OR($P126=\"\",$P126=0),\"\",HLOOKUP(P126,declare,B126,FALSE))","v":"Laura Duke"},"Bedford & County AC",{"$f":"IF(Shot!$I$26=0,\"\",Shot!$U$28)","v":10.57},null,{"$f":"IF(OR(P126=0,P126=\"\",S126=0,S126=\"\"),\"\",IF(S126<A123,0,INT(((S126-B123)*D123/C123)+250)))","v":61},{"$f":"IF(AC123=\"T\",AF126,AG126)","v":"þ"},null,null,null,null,null,null,null,{"$f":"IF(I126=\"\",\"\",IF(AC123=\"F\",\"\",IF(AC123=\"T\",IF(I126<=Z123,\"þ\",IF(I126<=AA123,\"G2\",IF(I126<=AB123,\"G3\",\"\"))))))","v":""},{"$f":"IF(I126=\"\",\"\",IF(AC123=\"T\",\"\",IF(AC123=\"F\",IF(I126>=Z123,\"þ\",IF(I126>=AA123,\"G2\",IF(I126>=AB123,\"G3\",\"\"))))))","v":"þ"},{"$f":"IF(S126=\"\",\"\",IF(AC123=\"F\",\"\",IF(AC123=\"T\",IF(S126<=Z123,\"þ\",IF(S126<=AA123,\"G2\",IF(S126<=AB123,\"G3\",\"\"))))))","v":""},{"$f":"IF(S126=\"\",\"\",IF(AC123=\"T\",\"\",IF(AC123=\"F\",IF(S126>=Z123,\"þ\",IF(S126>=AA123,\"G2\",IF(S126>=AB123,\"G3\",\"\"))))))","v":"þ"},6,6,1,6,126]
[null,null,5,6,{"$f":"Shot!$E$29","v":4},{"$f":"IF(Shot!$I$26=0,\"\",Shot!$F$29)","v":5},{"$f":"IF(OR($F127=\"\",$F127=0),\"\",IF($F127>90,VLOOKUP(F127,eventcodes,2,FALSE),HLOOKUP(F127,declare,B126,FALSE)))","v":"Lucy Boggis"},"Shaftesbury Barnet H",{"$f":"IF(Shot!$I$26=0,\"\",Shot!$I$29)","v":11.2},null,null,{"$f":"IF(OR(F127=0,F127=\"\",I127=0,I127=\"\"),\"\",IF(I127<A123,0,INT(((I127-B123)*D123/C123)+250)))","v":74},{"$f":"IF(AC123=\"T\",AD127,AE127)","v":"þ"},null,{"$f":"Shot!$K$29","v":4},{"$f":"IF(Shot!$I$26=0,\"\",Shot!$L$29)","v":66},{"$f":"IF(OR($P127=\"\",$P127=0),\"\",HLOOKUP(P127,declare,B126,FALSE))","v":"Debbie Callaway"},"Southampton AC",{"$f":"IF(Shot!$I$26=0,\"\",Shot!$U$29)","v":9.8699999999999992},null,{"$f":"IF(OR(P127=0,P127=\"\",S127=0,S127=\"\"),\"\",IF(S127<A123,0,INT(((S127-B123)*D123/C123)+250)))","v":0},{"$f":"IF(AC123=\"T\",AF127,AG127)","v":""},null,null,null,null,null,null,null,{"$f":"IF(I127=\"\",\"\",IF(AC123=\"F\",\"\",IF(AC123=\"T\",IF(I127<=Z123,\"þ\",IF(I127<=AA123,\"G2\",IF(I127<=AB123,\"G3\",\"\"))))))","v":""},{"$f":"IF(I127=\"\",\"\",IF(AC123=\"T\",\"\",IF(AC123=\"F\",IF(I127>=Z123,\"þ\",IF(I127>=AA123,\"G2\",IF(I127>=AB123,\"G3\",\"\"))))))","v":"þ"},{"$f":"IF(S127=\"\",\"\",IF(AC123=\"F\",\"\",IF(AC123=\"T\",IF(S127<=Z123,\"þ\",IF(S127<=AA123,\"G2\",IF(S127<=AB123,\"G3\",\"\"))))))","v":""},{"$f":"IF(S127=\"\",\"\",IF(AC123=\"T\",\"\",IF(AC123=\"F\",IF(S127>=Z123,\"þ\",IF(S127>=AA123,\"G2\",IF(S127>=AB123,\"G3\",\"\"))))))","v":""},5,5,6,5,127]
[null,null,1,3,{"$f":"Shot!$E$30","v":5},{"$f":"IF(Shot!$I$26=0,\"\",Shot!$F$30)","v":1},{"$f":"IF(OR($F128=\"\",$F128=0),\"\",IF($F128>90,VLOOKUP(F128,eventcodes,2,FALSE),HLOOKUP(F128,declare,B126,FALSE)))","v":"Leanne Buxton"},"Bedford & County AC",{"$f":"IF(Shot!$I$26=0,\"\",Shot!$I$30)","v":10.6},null,null,{"$f":"IF(OR(F128=0,F128=\"\",I128=0,I128=\"\"),\"\",IF(I128<A123,0,INT(((I128-B123)*D123/C123)+250)))","v":62},{"$f":"IF(AC123=\"T\",AD128,AE128)","v":"þ"},null,{"$f":"Shot!$K$30","v":5},{"$f":"IF(Shot!$I$26=0,\"\",Shot!$L$30)","v":33},{"$f":"IF(OR($P128=\"\",$P128=0),\"\",HLOOKUP(P128,declare,B126,FALSE))","v":"Sadie Watts"},"Marshall Milton Keynes AC",{"$f":"IF(Shot!$I$26=0,\"\",Shot!$U$30)","v":9.6},null,{"$f":"IF(OR(P128=0,P128=\"\",S128=0,S128=\"\"),\"\",IF(S128<A123,0,INT(((S128-B123)*D123/C123)+250)))","v":0},{"$f":"IF(AC123=\"T\",AF128,AG128)","v":""},null,null,null,null,null,null,null,{"$f":"IF(I128=\"\",\"\",IF(AC123=\"F\",\"\",IF(AC123=\"T\",IF(I128<=Z123,\"þ\",IF(I128<=AA123,\"G2\",IF(I128<=AB123,\"G3\",\"\"))))))","v":""},{"$f":"IF(I128=\"\",\"\",IF(AC123=\"T\",\"\",IF(AC123=\"F\",IF(I128>=Z123,\"þ\",IF(I128>=AA123,\"G2\",IF(I128>=AB123,\"G3\",\"\"))))))","v":"þ"},{"$f":"IF(S128=\"\",\"\",IF(AC123=\"F\",\"\",IF(AC123=\"T\",IF(S128<=Z123,\"þ\",IF(S128<=AA123,\"G2\",IF(S128<=AB123,\"G3\",\"\"))))))","v":""},{"$f":"IF(S128=\"\",\"\",IF(AC123=\"T\",\"\",IF(AC123=\"F\",IF(S128>=Z123,\"þ\",IF(S128>=AA123,\"G2\",IF(S128>=AB123,\"G3\",\"\"))))))","v":""},1,4,3,4,128]
[null,null,3,5,{"$f":"Shot!$E$31","v":6},{"$f":"IF(Shot!$I$26=0,\"\",Shot!$F$31)","v":3},{"$f":"IF(OR($F129=\"\",$F129=0),\"\",IF($F129>90,VLOOKUP(F129,eventcodes,2,FALSE),HLOOKUP(F129,declare,B126,FALSE)))","v":"Emma Beales (vV35)"},"Marshall Milton Keynes AC",{"$f":"IF(Shot!$I$26=0,\"\",Shot!$I$31)","v":10.45},null,null,{"$f":"IF(OR(F129=0,F129=\"\",I129=0,I129=\"\"),\"\",IF(I129<A123,0,INT(((I129-B123)*D123/C123)+250)))","v":59},{"$f":"IF(AC123=\"T\",AD129,AE129)","v":"þ"},null,{"$f":"Shot!$K$31","v":6},{"$f":"IF(Shot!$I$26=0,\"\",Shot!$L$31)","v":55},{"$f":"IF(OR($P129=\"\",$P129=0),\"\",HLOOKUP(P129,declare,B126,FALSE))","v":"Makeda Lewis (U20)"},"Shaftesbury Barnet H",{"$f":"IF(Shot!$I$26=0,\"\",Shot!$U$31)","v":9.2799999999999994},null,{"$f":"IF(OR(P129=0,P129=\"\",S129=0,S129=\"\"),\"\",IF(S129<A123,0,INT(((S129-B123)*D123/C123)+250)))","v":0},{"$f":"IF(AC123=\"T\",AF129,AG129)","v":""},null,null,null,null,null,null,null,{"$f":"IF(I129=\"\",\"\",IF(AC123=\"F\",\"\",IF(AC123=\"T\",IF(I129<=Z123,\"þ\",IF(I129<=AA123,\"G2\",IF(I129<=AB123,\"G3\",\"\"))))))","v":""},{"$f":"IF(I129=\"\",\"\",IF(AC123=\"T\",\"\",IF(AC123=\"F\",IF(I129>=Z123,\"þ\",IF(I129>=AA123,\"G2\",IF(I129>=AB123,\"G3\",\"\"))))))","v":"þ"},{"$f":"IF(S129=\"\",\"\",IF(AC123=\"F\",\"\",IF(AC123=\"T\",IF(S129<=Z123,\"þ\",IF(S129<=AA123,\"G2\",IF(S129<=AB123,\"G3\",\"\"))))))","v":""},{"$f":"IF(S129=\"\",\"\",IF(AC123=\"T\",\"\",IF(AC123=\"F\",IF(S129>=Z123,\"þ\",IF(S129>=AA123,\"G2\",IF(S129>=AB123,\"G3\",\"\"))))))","v":""},3,3,5,3,129]
[null,null,7,7,{"$f":"Shot!$E$32","v":7},{"$f":"IF(Shot!$I$26=0,\"\",Shot!$F$32)","v":7},{"$f":"IF(OR($F130=\"\",$F130=0),\"\",IF($F130>90,VLOOKUP(F130,eventcodes,2,FALSE),HLOOKUP(F130,declare,B126,FALSE)))","v":"Toni Wells"},"Swansea H",{"$f":"IF(Shot!$I$26=0,\"\",Shot!$I$32)","v":10.33},null,null,{"$f":"IF(OR(F130=0,F130=\"\",I130=0,I130=\"\"),\"\",IF(I130<A123,0,INT(((I130-B123)*D123/C123)+250)))","v":56},{"$f":"IF(AC123=\"T\",AD130,AE130)","v":"þ"},null,{"$f":"Shot!$K$32","v":7},{"$f":"IF(Shot!$I$26=0,\"\",Shot!$L$32)","v":77},{"$f":"IF(OR($P130=\"\",$P130=0),\"\",HLOOKUP(P130,declare,B126,FALSE))","v":"Nina Prells"},"Swansea H",{"$f":"IF(Shot!$I$26=0,\"\",Shot!$U$32)","v":8.9},null,{"$f":"IF(OR(P130=0,P130=\"\",S130=0,S130=\"\"),\"\",IF(S130<A123,0,INT(((S130-B123)*D123/C123)+250)))","v":0},{"$f":"IF(AC123=\"T\",AF130,AG130)","v":""},null,null,null,null,null,null,null,{"$f":"IF(I130=\"\",\"\",IF(AC123=\"F\",\"\",IF(AC123=\"T\",IF(I130<=Z123,\"þ\",IF(I130<=AA123,\"G2\",IF(I130<=AB123,\"G3\",\"\"))))))","v":""},{"$f":"IF(I130=\"\",\"\",IF(AC123=\"T\",\"\",IF(AC123=\"F\",IF(I130>=Z123,\"þ\",IF(I130>=AA123,\"G2\",IF(I130>=AB123,\"G3\",\"\"))))))","v":"þ"},{"$f":"IF(S130=\"\",\"\",IF(AC123=\"F\",\"\",IF(AC123=\"T\",IF(S130<=Z123,\"þ\",IF(S130<=AA123,\"G2\",IF(S130<=AB123,\"G3\",\"\"))))))","v":""},{"$f":"IF(S130=\"\",\"\",IF(AC123=\"T\",\"\",IF(AC123=\"F\",IF(S130>=Z123,\"þ\",IF(S130>=AA123,\"G2\",IF(S130>=AB123,\"G3\",\"\"))))))","v":""},7,2,7,2,130]
[null,null,4,4,{"$f":"Shot!$E$33","v":8},{"$f":"IF(Shot!$I$26=0,\"\",Shot!$F$33)","v":4},{"$f":"IF(OR($F131=\"\",$F131=0),\"\",IF($F131>90,VLOOKUP(F131,eventcodes,2,FALSE),HLOOKUP(F131,declare,B126,FALSE)))","v":"Sue Lawrence"},"Newham & Essex Beagles AC",{"$f":"IF(Shot!$I$26=0,\"\",Shot!$I$33)","v":8.5500000000000007},null,null,{"$f":"IF(OR(F131=0,F131=\"\",I131=0,I131=\"\"),\"\",IF(I131<A123,0,INT(((I131-B123)*D123/C123)+250)))","v":0},{"$f":"IF(AC123=\"T\",AD131,AE131)","v":""},null,{"$f":"Shot!$K$33","v":8},{"$f":"IF(Shot!$I$26=0,\"\",Shot!$L$33)","v":44},{"$f":"IF(OR($P131=\"\",$P131=0),\"\",HLOOKUP(P131,declare,B126,FALSE))","v":"Kate Laidlow"},"Newham & Essex Beagles AC",{"$f":"IF(Shot!$I$26=0,\"\",Shot!$U$33)","v":7.72},null,{"$f":"IF(OR(P131=0,P131=\"\",S131=0,S131=\"\"),\"\",IF(S131<A123,0,INT(((S131-B123)*D123/C123)+250)))","v":0},{"$f":"IF(AC123=\"T\",AF131,AG131)","v":""},null,null,null,null,null,null,null,{"$f":"IF(I131=\"\",\"\",IF(AC123=\"F\",\"\",IF(AC123=\"T\",IF(I131<=Z123,\"þ\",IF(I131<=AA123,\"G2\",IF(I131<=AB123,\"G3\",\"\"))))))","v":""},{"$f":"IF(I131=\"\",\"\",IF(AC123=\"T\",\"\",IF(AC123=\"F\",IF(I131>=Z123,\"þ\",IF(I131>=AA123,\"G2\",IF(I131>=AB123,\"G3\",\"\"))))))","v":""},{"$f":"IF(S131=\"\",\"\",IF(AC123=\"F\",\"\",IF(AC123=\"T\",IF(S131<=Z123,\"þ\",IF(S131<=AA123,\"G2\",IF(S131<=AB123,\"G3\",\"\"))))))","v":""},{"$f":"IF(S131=\"\",\"\",IF(AC123=\"T\",\"\",IF(AC123=\"F\",IF(S131>=Z123,\"þ\",IF(S131>=AA123,\"G2\",IF(S131>=AB123,\"G3\",\"\"))))))","v":""},4,1,4,1,131]
[null,null,null,null,null,null,null,null,null,null,null,null,null,null,null,null,null,null,null,null,null,null,null,null,null,null,null,null,null,null,null,null,null,null,null,null,null,132]
[5.3,6.9,0.08,10,{"$f":"CONCATENATE(VLOOKUP(A134,mens_handbook,3,FALSE),\" A\")","v":"Women's Long Jump A"},null,null,{"$f":"IF(A134=\"\",\"\",IF(VLOOKUP(A134,Handbook!$A$4:$AI$24,35,FALSE)=\"Y\",\"Wind=\",\"\"))","v":""},null,null,null,null,null,null,{"$f":"CONCATENATE(VLOOKUP(A134,mens_handbook,3,FALSE),\" B\")","v":"Women's Long Jump B"},null,null,{"$f":"H133","v":""},{"$f":"IF(I133=\"\",\"\",I133)","v":""},null,null,null,null,{"$f":"IF($A134=\"\",\"\",VLOOKUP($A134,Handbook!$A$4:$V$24,21,FALSE))","v":6.69},{"$f":"IF($A134=\"\",\"\",VLOOKUP($A134,Handbook!$A$4:$V$24,22,FALSE))","v":6.38},{"$f":"IF($A134=\"\",\"\",VLOOKUP($A134,Handbook!$A$4:$W$24,23,FALSE))","v":5},{"$f":"IF($A134=\"\",\"\",VLOOKUP($A134,Handbook!$A$4:$X$24,24,FALSE))","v":5},{"$f":"IF($A134=\"\",\"\",VLOOKUP($A134,Handbook!$A$4:$Y$24,25,FALSE))","v":5},{"$f":"IF($A134=\"\",\"\",VLOOKUP($A134,Handbook!$A$4:$AH$24,34,FALSE))","v":"F"},null,null,null,null,null,null,null,null,133]
[13,null,{"$f":"IF(F134=\"\",\"\",IF(F134>10,F134/11,F134))","v":8},{"$f":"IF(P134=\"\",\"\",IF(P134>10,P134/11,P134))","v":5},{"$f":"LJ!$E$26","v":1},{"$f":"IF(LJ!$I$26=0,\"\",LJ!$F$26)","v":8},{"$f":"IF(OR($F134=\"\",$F134=0),\"\",IF($F134>90,VLOOKUP(F134,eventcodes,2,FALSE),HLOOKUP(F134,declare,B136,FALSE)))","v":"Phyllis Agbo"},{"$f":"IF(OR($F134=\"\",$F134=0),\"\",IF($F134>90,\"\",VLOOKUP(C134,matchday,2,FALSE)))","v":"Thames Valley H"},{"$f":"IF(LJ!$I$26=0,\"\",LJ!$I$26)","v":6.24},{"$f":"IF(I134=\"\",\"\",IF(AC133=\"T\",X134,X135))","v":""},"+2.6",{"$f":"IF(OR(F134=0,F134=\"\",I134=0,I134=\"\"),\"\",IF(I134<A133,0,INT(((I134-B133)*D133/C133)+250)))","v":167},{"$f":"IF(AC133=\"T\",AD134,AE134)","v":"þ"},null,{"$f":"LJ!$K$26","v":1},{"$f":"IF(LJ!$I$26=0,\"\",LJ!$L$26)","v":55},{"$f":"IF(OR($P134=\"\",$P134=0),\"\",HLOOKUP(P134,declare,B136,FALSE))","v":"Gaby Rowsell (U20)"},{"$f":"IF(OR($P134=\"\",$P134=0),\"\",VLOOKUP(D134,matchday,2,FALSE))","v":"Shaftesbury Barnet H"},{"$f":"IF(LJ!$I$26=0,\"\",LJ!$U$26)","v":5.36},"+2.2",{"$f":"IF(OR(P134=0,P134=\"\",S134=0,S134=\"\"),\"\",IF(S134<A133,0,INT(((S134-B133)*D133/C133)+250)))","v":57},{"$f":"IF(AC133=\"T\",AF134,AG134)","v":"þ"},null,{"$f":"IF(AC133=\"F\",\"\",IF(I134<X133,\"LR\",IF(I134=X133,\"=LR\",IF(I134<Y133,\"DR\",IF(I134=Y133,\"=DR\",\"\")))))","v":""},null,null,null,null,null,{"$f":"IF(I134=\"\",\"\",IF(AC133=\"F\",\"\",IF(AC133=\"T\",IF(I134<=Z133,\"þ\",IF(I134<=AA133,\"G2\",IF(I134<=AB133,\"G3\",\"\"))))))","v":""},{"$f":"IF(I134=\"\",\"\",IF(AC133=\"T\",\"\",IF(AC133=\"F\",IF(I134>=Z133,\"þ\",IF(I134>=AA133,\"G2\",IF(I134>=AB133,\"G3\",\"\"))))))","v":"þ"},{"$f":"IF(S134=\"\",\"\",IF(AC133=\"F\",\"\",IF(AC133=\"T\",IF(S134<=Z133,\"þ\",IF(S134<=AA133,\"G2\",IF(S134<=AB133,\"G3\",\"\"))))))","v":""},{"$f":"IF(S134=\"\",\"\",IF(AC133=\"T\",\"\",IF(AC133=\"F\",IF(S134>=Z133,\"þ\",IF(S134>=AA133,\"G2\",IF(S134>=AB133,\"G3\",\"\"))))))","v":"þ"},{"$f":"C134","v":8},{"$f":"IF(F134=\"\",\"\",IF(LEFT(I134,1)=\"D\",0,VLOOKUP(E134,$AT$4:$AU$40,2,FALSE)))","v":9},{"$f":"D134","v":5},{"$f":"IF(P134=\"\",\"\",IF(LEFT(S134,1)=\"D\",0,VLOOKUP(O134,$AT$4:$AV$40,3,FALSE)))","v":9},134]
[null,{"$f":"VLOOKUP(A134,Handbook!$A$4:$AK$24,37,FALSE)","v":14},{"$f":"IF(F135=\"\",\"\",IF(F135>10,F135/11,F135))","v":5},{"$f":"IF(P135=\"\",\"\",IF(P135>10,P135/11,P135))","v":2},{"$f":"LJ!$E$27","v":2},{"$f":"IF(LJ!$I$26=0,\"\",LJ!$F$27)","v":5},{"$f":"IF(OR($F135=\"\",$F135=0),\"\",IF($F135>90,VLOOKUP(F135,eventcodes,2,FALSE),HLOOKUP(F135,declare,B136,FALSE)))","v":"Lucy Boggis"},"Shaftesbury Barnet H",{"$f":"IF(LJ!$I$26=0,\"\",LJ!$I$27)","v":5.59},null,"+1.4",{"$f":"IF(OR(F135=0,F135=\"\",I135=0,I135=\"\"),\"\",IF(I135<A133,0,INT(((I135-B133)*D133/C133)+250)))","v":86},{"$f":"IF(AC133=\"T\",AD135,AE135)","v":"þ"},null,{"$f":"LJ!$K$27","v":2},{"$f":"IF(LJ!$I$26=0,\"\",LJ!$L$27)","v":22},{"$f":"IF(OR($P135=\"\",$P135=0),\"\",HLOOKUP(P135,declare,B136,FALSE))","v":"Lauren Blackie"},"Blackheath & Bromley H",{"$f":"IF(LJ!$I$26=0,\"\",LJ!$U$27)","v":5.35},"-1.7",{"$f":"IF(OR(P135=0,P135=\"\",S135=0,S135=\"\"),\"\",IF(S135<A133,0,INT(((S135-B133)*D133/C133)+250)))","v":56},{"$f":"IF(AC133=\"T\",AF135,AG135)","v":"þ"},null,{"$f":"IF(AC133=\"T\",\"\",IF(I134>X133,\"LR\",IF(I134=X133,\"=LR\",IF(I134>Y133,\"DR\",IF(I134=Y133,\"=DR\",\"\")))))","v":""},null,null,null,null,null,{"$f":"IF(I135=\"\",\"\",IF(AC133=\"F\",\"\",IF(AC133=\"T\",IF(I135<=Z133,\"þ\",IF(I135<=AA133,\"G2\",IF(I135<=AB133,\"G3\",\"\"))))))","v":""},{"$f":"IF(I135=\"\",\"\",IF(AC133=\"T\",\"\",IF(AC133=\"F\",IF(I135>=Z133,\"þ\",IF(I135>=AA133,\"G2\",IF(I135>=AB133,\"G3\",\"\"))))))","v":"þ"},{"$f":"IF(S135=\"\",\"\",IF(AC133=\"F\",\"\",IF(AC133=\"T\",IF(S135<=Z133,\"þ\",IF(S135<=AA133,\"G2\",IF(S135<=AB133,\"G3\",\"\"))))))","v":""},{"$f":"IF(S135=\"\",\"\",IF(AC133=\"T\",\"\",IF(AC133=\"F\",IF(S135>=Z133,\"þ\",IF(S135>=AA133,\"G2\",IF(S135>=AB133,\"G3\",\"\"))))))","v":"þ"},{"$f":"C135","v":5},7,{"$f":"D135","v":2},7,135]
[null,{"$f":"VLOOKUP(A134,declare,20,FALSE)","v":14},3,4,{"$f":"LJ!$E$28","v":3},{"$f":"IF(LJ!$I$26=0,\"\",LJ!$F$28)","v":3},{"$f":"IF(OR($F136=\"\",$F136=0),\"\",IF($F136>90,VLOOKUP(F136,eventcodes,2,FALSE),HLOOKUP(F136,declare,B136,FALSE)))","v":"Sophie Wilkins"},"Marshall Milton Keynes AC",{"$f":"IF(LJ!$I$26=0,\"\",LJ!$I$28)","v":5.56},null,"+0.8",{"$f":"IF(OR(F136=0,F136=\"\",I136=0,I136=\"\"),\"\",IF(I136<A133,0,INT(((I136-B133)*D133/C133)+250)))","v":82},{"$f":"IF(AC133=\"T\",AD136,AE136)","v":"þ"},null,{"$f":"LJ!$K$28","v":3},{"$f":"IF(LJ!$I$26=0,\"\",LJ!$L$28)","v":4},{"$f":"IF(OR($P136=\"\",$P136=0),\"\",HLOOKUP(P136,declare,B136,FALSE))","v":"Chioma Matthews"},"Newham & Essex Beagles AC",{"$f":"IF(LJ!$I$26=0,\"\",LJ!$U$28)","v":4.9400000000000004},"+0.0",{"$f":"IF(OR(P136=0,P136=\"\",S136=0,S136=\"\"),\"\",IF(S136<A133,0,INT(((S136-B133)*D133/C133)+250)))","v":0},{"$f":"IF(AC133=\"T\",AF136,AG136)","v":""},null,null,null,null,null,null,null,{"$f":"IF(I136=\"\",\"\",IF(AC133=\"F\",\"\",IF(AC133=\"T\",IF(I136<=Z133,\"þ\",IF(I136<=AA133,\"G2\",IF(I136<=AB133,\"G3\",\"\"))))))","v":""},{"$f":"IF(I136=\"\",\"\",IF(AC133=\"T\",\"\",IF(AC133=\"F\",IF(I136>=Z133,\"þ\",IF(I136>=AA133,\"G2\",IF(I136>=AB133,\"G3\",\"\"))))))","v":"þ"},{"$f":"IF(S136=\"\",\"\",IF(AC133=\"F\",\"\",IF(AC133=\"T\",IF(S136<=Z133,\"þ\",IF(S136<=AA133,\"G2\",IF(S136<=AB133,\"G3\",\"\"))))))","v":""},{"$f":"IF(S136=\"\",\"\",IF(AC133=\"T\",\"\",IF(AC133=\"F\",IF(S136>=Z133,\"þ\",IF(S136>=AA133,\"G2\",IF(S136>=AB133,\"G3\",\"\"))))))","v":""},3,6,4,6,136]
[null,null,6,7,{"$f":"LJ!$E$29","v":4},{"$f":"IF(LJ!$I$26=0,\"\",LJ!$F$29)","v":6},{"$f":"IF(OR($F137=\"\",$F137=0),\"\",IF($F137>90,VLOOKUP(F137,eventcodes,2,FALSE),HLOOKUP(F137,declare,B136,FALSE)))","v":"Karla Drew"},"Southampton AC",{"$f":"IF(LJ!$I$26=0,\"\",LJ!$I$29)","v":5.53},null,"+1.8",{"$f":"IF(OR(F137=0,F137=\"\",I137=0,I137=\"\"),\"\",IF(I137<A133,0,INT(((I137-B133)*D133/C133)+250)))","v":78},{"$f":"IF(AC133=\"T\",AD137,AE137)","v":"þ"},null,{"$f":"LJ!$K$29","v":4},{"$f":"IF(LJ!$I$26=0,\"\",LJ!$L$29)","v":7},{"$f":"IF(OR($P137=\"\",$P137=0),\"\",HLOOKUP(P137,declare,B136,FALSE))","v":"Rebecca Williams"},"Swansea H",{"$f":"IF(LJ!$I$26=0,\"\",LJ!$U$29)","v":4.68},"+0.9",{"$f":"IF(OR(P137=0,P137=\"\",S137=0,S137=\"\"),\"\",IF(S137<A133,0,INT(((S137-B133)*D133/C133)+250)))","v":0},{"$f":"IF(AC133=\"T\",AF137,AG137)","v":""},null,null,null,null,null,null,null,{"$f":"IF(I137=\"\",\"\",IF(AC133=\"F\",\"\",IF(AC133=\"T\",IF(I137<=Z133,\"þ\",IF(I137<=AA133,\"G2\",IF(I137<=AB133,\"G3\",\"\"))))))","v":""},{"$f":"IF(I137=\"\",\"\",IF(AC133=\"T\",\"\",IF(AC133=\"F\",IF(I137>=Z133,\"þ\",IF(I137>=AA133,\"G2\",IF(I137>=AB133,\"G3\",\"\"))))))","v":"þ"},{"$f":"IF(S137=\"\",\"\",IF(AC133=\"F\",\"\",IF(AC133=\"T\",IF(S137<=Z133,\"þ\",IF(S137<=AA133,\"G2\",IF(S137<=AB133,\"G3\",\"\"))))))","v":""},{"$f":"IF(S137=\"\",\"\",IF(AC133=\"T\",\"\",IF(AC133=\"F\",IF(S137>=Z133,\"þ\",IF(S137>=AA133,\"G2\",IF(S137>=AB133,\"G3\",\"\"))))))","v":""},6,5,7,5,137]
[null,null,2,8,{"$f":"LJ!$E$30","v":5},{"$f":"IF(LJ!$I$26=0,\"\",LJ!$F$30)","v":2},{"$f":"IF(OR($F138=\"\",$F138=0),\"\",IF($F138>90,VLOOKUP(F138,eventcodes,2,FALSE),HLOOKUP(F138,declare,B136,FALSE)))","v":"Emily Martin"},"Blackheath & Bromley H",{"$f":"IF(LJ!$I$26=0,\"\",LJ!$I$30)","v":5.48},null,"+0.3",{"$f":"IF(OR(F138=0,F138=\"\",I138=0,I138=\"\"),\"\",IF(I138<A133,0,INT(((I138-B133)*D133/C133)+250)))","v":72},{"$f":"IF(AC133=\"T\",AD138,AE138)","v":"þ"},null,{"$f":"LJ!$K$30","v":5},{"$f":"IF(LJ!$I$26=0,\"\",LJ!$L$30)","v":88},{"$f":"IF(OR($P138=\"\",$P138=0),\"\",HLOOKUP(P138,declare,B136,FALSE))","v":"Esther Aije"},"Thames Valley H",{"$f":"IF(LJ!$I$26=0,\"\",LJ!$U$30)","v":4.5},"+1.5",{"$f":"IF(OR(P138=0,P138=\"\",S138=0,S138=\"\"),\"\",IF(S138<A133,0,INT(((S138-B133)*D133/C133)+250)))","v":0},{"$f":"IF(AC133=\"T\",AF138,AG138)","v":""},null,null,null,null,null,null,null,{"$f":"IF(I138=\"\",\"\",IF(AC133=\"F\",\"\",IF(AC133=\"T\",IF(I138<=Z133,\"þ\",IF(I138<=AA133,\"G2\",IF(I138<=AB133,\"G3\",\"\"))))))","v":""},{"$f":"IF(I138=\"\",\"\",IF(AC133=\"T\",\"\",IF(AC133=\"F\",IF(I138>=Z133,\"þ\",IF(I138>=AA133,\"G2\",IF(I138>=AB133,\"G3\",\"\"))))))","v":"þ"},{"$f":"IF(S138=\"\",\"\",IF(AC133=\"F\",\"\",IF(AC133=\"T\",IF(S138<=Z133,\"þ\",IF(S138<=AA133,\"G2\",IF(S138<=AB133,\"G3\",\"\"))))))","v":""},{"$f":"IF(S138=\"\",\"\",IF(AC133=\"T\",\"\",IF(AC133=\"F\",IF(S138>=Z133,\"þ\",IF(S138>=AA133,\"G2\",IF(S138>=AB133,\"G3\",\"\"))))))","v":""},2,4,8,4,138]
[null,null,4,3,{"$f":"LJ!$E$31","v":6},{"$f":"IF(LJ!$I$26=0,\"\",LJ!$F$31)","v":44},{"$f":"IF(OR($F139=\"\",$F139=0),\"\",IF($F139>90,VLOOKUP(F139,eventcodes,2,FALSE),HLOOKUP(F139,declare,B136,FALSE)))","v":"Rochelle Jones "},"Newham & Essex Beagles AC",{"$f":"IF(LJ!$I$26=0,\"\",LJ!$I$31)","v":5.16},null,"+1.1",{"$f":"IF(OR(F139=0,F139=\"\",I139=0,I139=\"\"),\"\",IF(I139<A133,0,INT(((I139-B133)*D133/C133)+250)))","v":0},{"$f":"IF(AC133=\"T\",AD139,AE139)","v":"þ"},null,{"$f":"LJ!$K$31","v":6},{"$f":"IF(LJ!$I$26=0,\"\",LJ!$L$31)","v":33},{"$f":"IF(OR($P139=\"\",$P139=0),\"\",HLOOKUP(P139,declare,B136,FALSE))","v":"Chloe Walley"},"Marshall Milton Keynes AC",{"$f":"IF(LJ!$I$26=0,\"\",LJ!$U$31)","v":4.4400000000000004},"+2.1",{"$f":"IF(OR(P139=0,P139=\"\",S139=0,S139=\"\"),\"\",IF(S139<A133,0,INT(((S139-B133)*D133/C133)+250)))","v":0},{"$f":"IF(AC133=\"T\",AF139,AG139)","v":""},null,null,null,null,null,null,null,{"$f":"IF(I139=\"\",\"\",IF(AC133=\"F\",\"\",IF(AC133=\"T\",IF(I139<=Z133,\"þ\",IF(I139<=AA133,\"G2\",IF(I139<=AB133,\"G3\",\"\"))))))","v":""},{"$f":"IF(I139=\"\",\"\",IF(AC133=\"T\",\"\",IF(AC133=\"F\",IF(I139>=Z133,\"þ\",IF(I139>=AA133,\"G2\",IF(I139>=AB133,\"G3\",\"\"))))))","v":"þ"},{"$f":"IF(S139=\"\",\"\",IF(AC133=\"F\",\"\",IF(AC133=\"T\",IF(S139<=Z133,\"þ\",IF(S139<=AA133,\"G2\",IF(S139<=AB133,\"G3\",\"\"))))))","v":""},{"$f":"IF(S139=\"\",\"\",IF(AC133=\"T\",\"\",IF(AC133=\"F\",IF(S139>=Z133,\"þ\",IF(S139>=AA133,\"G2\",IF(S139>=AB133,\"G3\",\"\"))))))","v":""},4,3,3,3,139]
[null,null,7,6,{"$f":"LJ!$E$32","v":7},{"$f":"IF(LJ!$I$26=0,\"\",LJ!$F$32)","v":77},{"$f":"IF(OR($F140=\"\",$F140=0),\"\",IF($F140>90,VLOOKUP(F140,eventcodes,2,FALSE),HLOOKUP(F140,declare,B136,FALSE)))","v":"Donna Jones"},"Swansea H",{"$f":"IF(LJ!$I$26=0,\"\",LJ!$I$32)","v":5.07},null,"-0.6",{"$f":"IF(OR(F140=0,F140=\"\",I140=0,I140=\"\"),\"\",IF(I140<A133,0,INT(((I140-B133)*D133/C133)+250)))","v":0},{"$f":"IF(AC133=\"T\",AD140,AE140)","v":"þ"},null,{"$f":"LJ!$K$32","v":7},{"$f":"IF(LJ!$I$26=0,\"\",LJ!$L$32)","v":66},{"$f":"IF(OR($P140=\"\",$P140=0),\"\",HLOOKUP(P140,declare,B136,FALSE))","v":"Megan Fry"},"Southampton AC",{"$f":"IF(LJ!$I$26=0,\"\",LJ!$U$32)","v":4.33},"+1.1",{"$f":"IF(OR(P140=0,P140=\"\",S140=0,S140=\"\"),\"\",IF(S140<A133,0,INT(((S140-B133)*D133/C133)+250)))","v":0},{"$f":"IF(AC133=\"T\",AF140,AG140)","v":""},null,null,null,null,null,null,null,{"$f":"IF(I140=\"\",\"\",IF(AC133=\"F\",\"\",IF(AC133=\"T\",IF(I140<=Z133,\"þ\",IF(I140<=AA133,\"G2\",IF(I140<=AB133,\"G3\",\"\"))))))","v":""},{"$f":"IF(I140=\"\",\"\",IF(AC133=\"T\",\"\",IF(AC133=\"F\",IF(I140>=Z133,\"þ\",IF(I140>=AA133,\"G2\",IF(I140>=AB133,\"G3\",\"\"))))))","v":"þ"},{"$f":"IF(S140=\"\",\"\",IF(AC133=\"F\",\"\",IF(AC133=\"T\",IF(S140<=Z133,\"þ\",IF(S140<=AA133,\"G2\",IF(S140<=AB133,\"G3\",\"\"))))))","v":""},{"$f":"IF(S140=\"\",\"\",IF(AC133=\"T\",\"\",IF(AC133=\"F\",IF(S140>=Z133,\"þ\",IF(S140>=AA133,\"G2\",IF(S140>=AB133,\"G3\",\"\"))))))","v":""},7,2,6,2,140]
[null,null,1,0,{"$f":"LJ!$E$33","v":8},{"$f":"IF(LJ!$I$26=0,\"\",LJ!$F$33)","v":1},{"$f":"IF(OR($F141=\"\",$F141=0),\"\",IF($F141>90,VLOOKUP(F141,eventcodes,2,FALSE),HLOOKUP(F141,declare,B136,FALSE)))","v":"Emma Bailey"},"Bedford & County AC",{"$f":"IF(LJ!$I$26=0,\"\",LJ!$I$33)","v":3.67},null,"+1.3",{"$f":"IF(OR(F141=0,F141=\"\",I141=0,I141=\"\"),\"\",IF(I141<A133,0,INT(((I141-B133)*D133/C133)+250)))","v":0},{"$f":"IF(AC133=\"T\",AD141,AE141)","v":""},null,{"$f":"LJ!$K$33","v":8},{"$f":"IF(LJ!$I$26=0,\"\",LJ!$L$33)","v":0},{"$f":"IF(OR($P141=\"\",$P141=0),\"\",HLOOKUP(P141,declare,B136,FALSE))","v":""},"",{"$f":"IF(LJ!$I$26=0,\"\",LJ!$U$33)","v":0},null,{"$f":"IF(OR(P141=0,P141=\"\",S141=0,S141=\"\"),\"\",IF(S141<A133,0,INT(((S141-B133)*D133/C133)+250)))","v":""},{"$f":"IF(AC133=\"T\",AF141,AG141)","v":""},null,null,null,null,null,null,null,{"$f":"IF(I141=\"\",\"\",IF(AC133=\"F\",\"\",IF(AC133=\"T\",IF(I141<=Z133,\"þ\",IF(I141<=AA133,\"G2\",IF(I141<=AB133,\"G3\",\"\"))))))","v":""},{"$f":"IF(I141=\"\",\"\",IF(AC133=\"T\",\"\",IF(AC133=\"F\",IF(I141>=Z133,\"þ\",IF(I141>=AA133,\"G2\",IF(I141>=AB133,\"G3\",\"\"))))))","v":""},{"$f":"IF(S141=\"\",\"\",IF(AC133=\"F\",\"\",IF(AC133=\"T\",IF(S141<=Z133,\"þ\",IF(S141<=AA133,\"G2\",IF(S141<=AB133,\"G3\",\"\"))))))","v":""},{"$f":"IF(S141=\"\",\"\",IF(AC133=\"T\",\"\",IF(AC133=\"F\",IF(S141>=Z133,\"þ\",IF(S141>=AA133,\"G2\",IF(S141>=AB133,\"G3\",\"\"))))))","v":""},1,1,0,1,141]
[null,null,null,null,null,null,null,null,null,null,null,null,null,null,null,null,null,null,null,null,null,null,null,null,null,null,null,null,null,null,null,null,null,null,null,null,null,142]
[10.75,14.75,0.2,10,{"$f":"CONCATENATE(VLOOKUP(A144,mens_handbook,3,FALSE),\" A\")","v":"Women's Triple Jump A"},null,null,{"$f":"IF(A144=\"\",\"\",IF(VLOOKUP(A144,Handbook!$A$4:$AI$24,35,FALSE)=\"Y\",\"Wind=\",\"\"))","v":""},null,null,null,null,null,null,{"$f":"CONCATENATE(VLOOKUP(A144,mens_handbook,3,FALSE),\" B\")","v":"Women's Triple Jump B"},null,null,{"$f":"H143","v":""},{"$f":"IF(I143=\"\",\"\",I143)","v":""},null,null,null,null,{"$f":"IF($A144=\"\",\"\",VLOOKUP($A144,Handbook!$A$4:$V$24,21,FALSE))","v":14.55},{"$f":"IF($A144=\"\",\"\",VLOOKUP($A144,Handbook!$A$4:$V$24,22,FALSE))","v":14.55},{"$f":"IF($A144=\"\",\"\",VLOOKUP($A144,Handbook!$A$4:$W$24,23,FALSE))","v":10},{"$f":"IF($A144=\"\",\"\",VLOOKUP($A144,Handbook!$A$4:$X$24,24,FALSE))","v":10},{"$f":"IF($A144=\"\",\"\",VLOOKUP($A144,Handbook!$A$4:$Y$24,25,FALSE))","v":10},{"$f":"IF($A144=\"\",\"\",VLOOKUP($A144,Handbook!$A$4:$AH$24,34,FALSE))","v":"F"},null,null,null,null,null,null,null,null,143]
[16,null,{"$f":"IF(F144=\"\",\"\",IF(F144>10,F144/11,F144))","v":5},{"$f":"IF(P144=\"\",\"\",IF(P144>10,P144/11,P144))","v":5},{"$f":"TJ!$E$26","v":1},{"$f":"IF(TJ!$I$26=0,\"\",TJ!$F$26)","v":55},{"$f":"IF(OR($F144=\"\",$F144=0),\"\",IF($F144>90,VLOOKUP(F144,eventcodes,2,FALSE),HLOOKUP(F144,declare,B146,FALSE)))","v":"Yamille Aldama"},{"$f":"IF(OR($F144=\"\",$F144=0),\"\",IF($F144>90,\"\",VLOOKUP(C144,matchday,2,FALSE)))","v":"Shaftesbury Barnet H"},{"$f":"IF(TJ!$I$26=0,\"\",TJ!$I$26)","v":14.3},{"$f":"IF(I144=\"\",\"\",IF(AC143=\"T\",X144,X145))","v":""},"+2.6",{"$f":"IF(OR(F144=0,F144=\"\",I144=0,I144=\"\"),\"\",IF(I144<A143,0,INT(((I144-B143)*D143/C143)+250)))","v":227},{"$f":"IF(AC143=\"T\",AD144,AE144)","v":"þ"},null,{"$f":"TJ!$K$26","v":1},{"$f":"IF(TJ!$I$26=0,\"\",TJ!$L$26)","v":5},{"$f":"IF(OR($P144=\"\",$P144=0),\"\",HLOOKUP(P144,declare,B146,FALSE))","v":"Trecia Smith"},{"$f":"IF(OR($P144=\"\",$P144=0),\"\",VLOOKUP(D144,matchday,2,FALSE))","v":"Shaftesbury Barnet H"},{"$f":"IF(TJ!$I$26=0,\"\",TJ!$U$26)","v":12.27},"+1.6",{"$f":"IF(OR(P144=0,P144=\"\",S144=0,S144=\"\"),\"\",IF(S144<A143,0,INT(((S144-B143)*D143/C143)+250)))","v":126},{"$f":"IF(AC143=\"T\",AF144,AG144)","v":"þ"},null,{"$f":"IF(AC143=\"F\",\"\",IF(I144<X143,\"LR\",IF(I144=X143,\"=LR\",IF(I144<Y143,\"DR\",IF(I144=Y143,\"=DR\",\"\")))))","v":""},null,null,null,null,null,{"$f":"IF(I144=\"\",\"\",IF(AC143=\"F\",\"\",IF(AC143=\"T\",IF(I144<=Z143,\"þ\",IF(I144<=AA143,\"G2\",IF(I144<=AB143,\"G3\",\"\"))))))","v":""},{"$f":"IF(I144=\"\",\"\",IF(AC143=\"T\",\"\",IF(AC143=\"F\",IF(I144>=Z143,\"þ\",IF(I144>=AA143,\"G2\",IF(I144>=AB143,\"G3\",\"\"))))))","v":"þ"},{"$f":"IF(S144=\"\",\"\",IF(AC143=\"F\",\"\",IF(AC143=\"T\",IF(S144<=Z143,\"þ\",IF(S144<=AA143,\"G2\",IF(S144<=AB143,\"G3\",\"\"))))))","v":""},{"$f":"IF(S144=\"\",\"\",IF(AC143=\"T\",\"\",IF(AC143=\"F\",IF(S144>=Z143,\"þ\",IF(S144>=AA143,\"G2\",IF(S144>=AB143,\"G3\",\"\"))))))","v":"þ"},{"$f":"C144","v":5},{"$f":"IF(F144=\"\",\"\",IF(LEFT(I144,1)=\"D\",0,VLOOKUP(E144,$AT$4:$AU$40,2,FALSE)))","v":9},{"$f":"D144","v":5},{"$f":"IF(P144=\"\",\"\",IF(LEFT(S144,1)=\"D\",0,VLOOKUP(O144,$AT$4:$AV$40,3,FALSE)))","v":9},144]
[null,{"$f":"VLOOKUP(A144,Handbook!$A$4:$AK$24,37,FALSE)","v":17},{"$f":"IF(F145=\"\",\"\",IF(F145>10,F145/11,F145))","v":4},{"$f":"IF(P145=\"\",\"\",IF(P145>10,P145/11,P145))","v":2},{"$f":"TJ!$E$27","v":2},{"$f":"IF(TJ!$I$26=0,\"\",TJ!$F$27)","v":4},{"$f":"IF(OR($F145=\"\",$F145=0),\"\",IF($F145>90,VLOOKUP(F145,eventcodes,2,FALSE),HLOOKUP(F145,declare,B146,FALSE)))","v":"Chioma Matthews"},"Newham & Essex Beagles AC",{"$f":"IF(TJ!$I$26=0,\"\",TJ!$I$27)","v":12.6},null,"+1.0",{"$f":"IF(OR(F145=0,F145=\"\",I145=0,I145=\"\"),\"\",IF(I145<A143,0,INT(((I145-B143)*D143/C143)+250)))","v":142},{"$f":"IF(AC143=\"T\",AD145,AE145)","v":"þ"},null,{"$f":"TJ!$K$27","v":2},{"$f":"IF(TJ!$I$26=0,\"\",TJ!$L$27)","v":2},{"$f":"IF(OR($P145=\"\",$P145=0),\"\",HLOOKUP(P145,declare,B146,FALSE))","v":"Sandra Alaneme"},"Blackheath & Bromley H",{"$f":"IF(TJ!$I$26=0,\"\",TJ!$U$27)","v":11.93},"+1.9",{"$f":"IF(OR(P145=0,P145=\"\",S145=0,S145=\"\"),\"\",IF(S145<A143,0,INT(((S145-B143)*D143/C143)+250)))","v":109},{"$f":"IF(AC143=\"T\",AF145,AG145)","v":"þ"},null,{"$f":"IF(AC143=\"T\",\"\",IF(I144>X143,\"LR\",IF(I144=X143,\"=LR\",IF(I144>Y143,\"DR\",IF(I144=Y143,\"=DR\",\"\")))))","v":""},null,null,null,null,null,{"$f":"IF(I145=\"\",\"\",IF(AC143=\"F\",\"\",IF(AC143=\"T\",IF(I145<=Z143,\"þ\",IF(I145<=AA143,\"G2\",IF(I145<=AB143,\"G3\",\"\"))))))","v":""},{"$f":"IF(I145=\"\",\"\",IF(AC143=\"T\",\"\",IF(AC143=\"F\",IF(I145>=Z143,\"þ\",IF(I145>=AA143,\"G2\",IF(I145>=AB143,\"G3\",\"\"))))))","v":"þ"},{"$f":"IF(S145=\"\",\"\",IF(AC143=\"F\",\"\",IF(AC143=\"T\",IF(S145<=Z143,\"þ\",IF(S145<=AA143,\"G2\",IF(S145<=AB143,\"G3\",\"\"))))))","v":""},{"$f":"IF(S145=\"\",\"\",IF(AC143=\"T\",\"\",IF(AC143=\"F\",IF(S145>=Z143,\"þ\",IF(S145>=AA143,\"G2\",IF(S145>=AB143,\"G3\",\"\"))))))","v":"þ"},{"$f":"C145","v":4},7,{"$f":"D145","v":2},7,145]
[null,{"$f":"VLOOKUP(A144,declare,20,FALSE)","v":17},2,7,{"$f":"TJ!$E$28","v":3},{"$f":"IF(TJ!$I$26=0,\"\",TJ!$F$28)","v":22},{"$f":"IF(OR($F146=\"\",$F146=0),\"\",IF($F146>90,VLOOKUP(F146,eventcodes,2,FALSE),HLOOKUP(F146,declare,B146,FALSE)))","v":"Lauren Blackie"},"Blackheath & Bromley H",{"$f":"IF(TJ!$I$26=0,\"\",TJ!$I$28)","v":11.95},null,"+2.1",{"$f":"IF(OR(F146=0,F146=\"\",I146=0,I146=\"\"),\"\",IF(I146<A143,0,INT(((I146-B143)*D143/C143)+250)))","v":110},{"$f":"IF(AC143=\"T\",AD146,AE146)","v":"þ"},null,{"$f":"TJ!$K$28","v":3},{"$f":"IF(TJ!$I$26=0,\"\",TJ!$L$28)","v":77},{"$f":"IF(OR($P146=\"\",$P146=0),\"\",HLOOKUP(P146,declare,B146,FALSE))","v":"Donna Jones"},"Swansea H",{"$f":"IF(TJ!$I$26=0,\"\",TJ!$U$28)","v":10.44},"+0.9",{"$f":"IF(OR(P146=0,P146=\"\",S146=0,S146=\"\"),\"\",IF(S146<A143,0,INT(((S146-B143)*D143/C143)+250)))","v":0},{"$f":"IF(AC143=\"T\",AF146,AG146)","v":"þ"},null,null,null,null,null,null,null,{"$f":"IF(I146=\"\",\"\",IF(AC143=\"F\",\"\",IF(AC143=\"T\",IF(I146<=Z143,\"þ\",IF(I146<=AA143,\"G2\",IF(I146<=AB143,\"G3\",\"\"))))))","v":""},{"$f":"IF(I146=\"\",\"\",IF(AC143=\"T\",\"\",IF(AC143=\"F\",IF(I146>=Z143,\"þ\",IF(I146>=AA143,\"G2\",IF(I146>=AB143,\"G3\",\"\"))))))","v":"þ"},{"$f":"IF(S146=\"\",\"\",IF(AC143=\"F\",\"\",IF(AC143=\"T\",IF(S146<=Z143,\"þ\",IF(S146<=AA143,\"G2\",IF(S146<=AB143,\"G3\",\"\"))))))","v":""},{"$f":"IF(S146=\"\",\"\",IF(AC143=\"T\",\"\",IF(AC143=\"F\",IF(S146>=Z143,\"þ\",IF(S146>=AA143,\"G2\",IF(S146>=AB143,\"G3\",\"\"))))))","v":"þ"},2,6,7,6,146]
[null,null,7,3,{"$f":"TJ!$E$29","v":4},{"$f":"IF(TJ!$I$26=0,\"\",TJ!$F$29)","v":7},{"$f":"IF(OR($F147=\"\",$F147=0),\"\",IF($F147>90,VLOOKUP(F147,eventcodes,2,FALSE),HLOOKUP(F147,declare,B146,FALSE)))","v":"Sian Swanson"},"Swansea H",{"$f":"IF(TJ!$I$26=0,\"\",TJ!$I$29)","v":10.46},null,"+0.3",{"$f":"IF(OR(F147=0,F147=\"\",I147=0,I147=\"\"),\"\",IF(I147<A143,0,INT(((I147-B143)*D143/C143)+250)))","v":0},{"$f":"IF(AC143=\"T\",AD147,AE147)","v":"þ"},null,{"$f":"TJ!$K$29","v":4},{"$f":"IF(TJ!$I$26=0,\"\",TJ!$L$29)","v":3},{"$f":"IF(OR($P147=\"\",$P147=0),\"\",HLOOKUP(P147,declare,B146,FALSE))","v":"Rachel Gibbens"},"Marshall Milton Keynes AC",{"$f":"IF(TJ!$I$26=0,\"\",TJ!$U$29)","v":9.65},"+1.5",{"$f":"IF(OR(P147=0,P147=\"\",S147=0,S147=\"\"),\"\",IF(S147<A143,0,INT(((S147-B143)*D143/C143)+250)))","v":0},{"$f":"IF(AC143=\"T\",AF147,AG147)","v":""},null,null,null,null,null,null,null,{"$f":"IF(I147=\"\",\"\",IF(AC143=\"F\",\"\",IF(AC143=\"T\",IF(I147<=Z143,\"þ\",IF(I147<=AA143,\"G2\",IF(I147<=AB143,\"G3\",\"\"))))))","v":""},{"$f":"IF(I147=\"\",\"\",IF(AC143=\"T\",\"\",IF(AC143=\"F\",IF(I147>=Z143,\"þ\",IF(I147>=AA143,\"G2\",IF(I147>=AB143,\"G3\",\"\"))))))","v":"þ"},{"$f":"IF(S147=\"\",\"\",IF(AC143=\"F\",\"\",IF(AC143=\"T\",IF(S147<=Z143,\"þ\",IF(S147<=AA143,\"G2\",IF(S147<=AB143,\"G3\",\"\"))))))","v":""},{"$f":"IF(S147=\"\",\"\",IF(AC143=\"T\",\"\",IF(AC143=\"F\",IF(S147>=Z143,\"þ\",IF(S147>=AA143,\"G2\",IF(S147>=AB143,\"G3\",\"\"))))))","v":""},7,5,3,5,147]
[null,null,3,8,{"$f":"TJ!$E$30","v":5},{"$f":"IF(TJ!$I$26=0,\"\",TJ!$F$30)","v":33},{"$f":"IF(OR($F148=\"\",$F148=0),\"\",IF($F148>90,VLOOKUP(F148,eventcodes,2,FALSE),HLOOKUP(F148,declare,B146,FALSE)))","v":"Sophie Wilkins"},"Marshall Milton Keynes AC",{"$f":"IF(TJ!$I$26=0,\"\",TJ!$I$30)","v":10.220000000000001},null,"+1.1",{"$f":"IF(OR(F148=0,F148=\"\",I148=0,I148=\"\"),\"\",IF(I148<A143,0,INT(((I148-B143)*D143/C143)+250)))","v":0},{"$f":"IF(AC143=\"T\",AD148,AE148)","v":"þ"},null,{"$f":"TJ!$K$30","v":5},{"$f":"IF(TJ!$I$26=0,\"\",TJ!$L$30)","v":8},{"$f":"IF(OR($P148=\"\",$P148=0),\"\",HLOOKUP(P148,declare,B146,FALSE))","v":"Esther Aije"},"Thames Valley H",{"$f":"IF(TJ!$I$26=0,\"\",TJ!$U$30)","v":8.91},"+0.0",{"$f":"IF(OR(P148=0,P148=\"\",S148=0,S148=\"\"),\"\",IF(S148<A143,0,INT(((S148-B143)*D143/C143)+250)))","v":0},{"$f":"IF(AC143=\"T\",AF148,AG148)","v":""},null,null,null,null,null,null,null,{"$f":"IF(I148=\"\",\"\",IF(AC143=\"F\",\"\",IF(AC143=\"T\",IF(I148<=Z143,\"þ\",IF(I148<=AA143,\"G2\",IF(I148<=AB143,\"G3\",\"\"))))))","v":""},{"$f":"IF(I148=\"\",\"\",IF(AC143=\"T\",\"\",IF(AC143=\"F\",IF(I148>=Z143,\"þ\",IF(I148>=AA143,\"G2\",IF(I148>=AB143,\"G3\",\"\"))))))","v":"þ"},{"$f":"IF(S148=\"\",\"\",IF(AC143=\"F\",\"\",IF(AC143=\"T\",IF(S148<=Z143,\"þ\",IF(S148<=AA143,\"G2\",IF(S148<=AB143,\"G3\",\"\"))))))","v":""},{"$f":"IF(S148=\"\",\"\",IF(AC143=\"T\",\"\",IF(AC143=\"F\",IF(S148>=Z143,\"þ\",IF(S148>=AA143,\"G2\",IF(S148>=AB143,\"G3\",\"\"))))))","v":""},3,4,8,4,148]
[null,null,8,6,{"$f":"TJ!$E$31","v":6},{"$f":"IF(TJ!$I$26=0,\"\",TJ!$F$31)","v":88},{"$f":"IF(OR($F149=\"\",$F149=0),\"\",IF($F149>90,VLOOKUP(F149,eventcodes,2,FALSE),HLOOKUP(F149,declare,B146,FALSE)))","v":"Ugne Liuksaityte"},"Thames Valley H",{"$f":"IF(TJ!$I$26=0,\"\",TJ!$I$31)","v":9.3800000000000008},null,"+1.3",{"$f":"IF(OR(F149=0,F149=\"\",I149=0,I149=\"\"),\"\",IF(I149<A143,0,INT(((I149-B143)*D143/C143)+250)))","v":0},{"$f":"IF(AC143=\"T\",AD149,AE149)","v":""},null,{"$f":"TJ!$K$31","v":6},{"$f":"IF(TJ!$I$26=0,\"\",TJ!$L$31)","v":66},{"$f":"IF(OR($P149=\"\",$P149=0),\"\",HLOOKUP(P149,declare,B146,FALSE))","v":"Jenny Beckingham"},"Southampton AC",{"$f":"IF(TJ!$I$26=0,\"\",TJ!$U$31)","v":7.93},"+1.1",{"$f":"IF(OR(P149=0,P149=\"\",S149=0,S149=\"\"),\"\",IF(S149<A143,0,INT(((S149-B143)*D143/C143)+250)))","v":0},{"$f":"IF(AC143=\"T\",AF149,AG149)","v":""},null,null,null,null,null,null,null,{"$f":"IF(I149=\"\",\"\",IF(AC143=\"F\",\"\",IF(AC143=\"T\",IF(I149<=Z143,\"þ\",IF(I149<=AA143,\"G2\",IF(I149<=AB143,\"G3\",\"\"))))))","v":""},{"$f":"IF(I149=\"\",\"\",IF(AC143=\"T\",\"\",IF(AC143=\"F\",IF(I149>=Z143,\"þ\",IF(I149>=AA143,\"G2\",IF(I149>=AB143,\"G3\",\"\"))))))","v":""},{"$f":"IF(S149=\"\",\"\",IF(AC143=\"F\",\"\",IF(AC143=\"T\",IF(S149<=Z143,\"þ\",IF(S149<=AA143,\"G2\",IF(S149<=AB143,\"G3\",\"\"))))))","v":""},{"$f":"IF(S149=\"\",\"\",IF(AC143=\"T\",\"\",IF(AC143=\"F\",IF(S149>=Z143,\"þ\",IF(S149>=AA143,\"G2\",IF(S149>=AB143,\"G3\",\"\"))))))","v":""},8,3,6,3,149]
[null,null,6,0,{"$f":"TJ!$E$32","v":7},{"$f":"IF(TJ!$I$26=0,\"\",TJ!$F$32)","v":6},{"$f":"IF(OR($F150=\"\",$F150=0),\"\",IF($F150>90,VLOOKUP(F150,eventcodes,2,FALSE),HLOOKUP(F150,declare,B146,FALSE)))","v":"Vicki Vinter"},"Southampton AC",{"$f":"IF(TJ!$I$26=0,\"\",TJ!$I$32)","v":9.2799999999999994},null,"+0.5",{"$f":"IF(OR(F150=0,F150=\"\",I150=0,I150=\"\"),\"\",IF(I150<A143,0,INT(((I150-B143)*D143/C143)+250)))","v":0},{"$f":"IF(AC143=\"T\",AD150,AE150)","v":""},null,{"$f":"TJ!$K$32","v":7},{"$f":"IF(TJ!$I$26=0,\"\",TJ!$L$32)","v":0},{"$f":"IF(OR($P150=\"\",$P150=0),\"\",HLOOKUP(P150,declare,B146,FALSE))","v":""},"",{"$f":"IF(TJ!$I$26=0,\"\",TJ!$U$32)","v":0},null,{"$f":"IF(OR(P150=0,P150=\"\",S150=0,S150=\"\"),\"\",IF(S150<A143,0,INT(((S150-B143)*D143/C143)+250)))","v":""},{"$f":"IF(AC143=\"T\",AF150,AG150)","v":""},null,null,null,null,null,null,null,{"$f":"IF(I150=\"\",\"\",IF(AC143=\"F\",\"\",IF(AC143=\"T\",IF(I150<=Z143,\"þ\",IF(I150<=AA143,\"G2\",IF(I150<=AB143,\"G3\",\"\"))))))","v":""},{"$f":"IF(I150=\"\",\"\",IF(AC143=\"T\",\"\",IF(AC143=\"F\",IF(I150>=Z143,\"þ\",IF(I150>=AA143,\"G2\",IF(I150>=AB143,\"G3\",\"\"))))))","v":""},{"$f":"IF(S150=\"\",\"\",IF(AC143=\"F\",\"\",IF(AC143=\"T\",IF(S150<=Z143,\"þ\",IF(S150<=AA143,\"G2\",IF(S150<=AB143,\"G3\",\"\"))))))","v":""},{"$f":"IF(S150=\"\",\"\",IF(AC143=\"T\",\"\",IF(AC143=\"F\",IF(S150>=Z143,\"þ\",IF(S150>=AA143,\"G2\",IF(S150>=AB143,\"G3\",\"\"))))))","v":""},6,2,0,2,150]
[null,null,1,0,{"$f":"TJ!$E$33","v":8},{"$f":"IF(TJ!$I$26=0,\"\",TJ!$F$33)","v":1},{"$f":"IF(OR($F151=\"\",$F151=0),\"\",IF($F151>90,VLOOKUP(F151,eventcodes,2,FALSE),HLOOKUP(F151,declare,B146,FALSE)))","v":"Jemma Eastwood"},"Bedford & County AC",{"$f":"IF(TJ!$I$26=0,\"\",TJ!$I$33)","v":8.5399999999999991},null,"+0.8",{"$f":"IF(OR(F151=0,F151=\"\",I151=0,I151=\"\"),\"\",IF(I151<A143,0,INT(((I151-B143)*D143/C143)+250)))","v":0},{"$f":"IF(AC143=\"T\",AD151,AE151)","v":""},null,{"$f":"TJ!$K$33","v":8},{"$f":"IF(TJ!$I$26=0,\"\",TJ!$L$33)","v":0},{"$f":"IF(OR($P151=\"\",$P151=0),\"\",HLOOKUP(P151,declare,B146,FALSE))","v":""},"",{"$f":"IF(TJ!$I$26=0,\"\",TJ!$U$33)","v":0},null,{"$f":"IF(OR(P151=0,P151=\"\",S151=0,S151=\"\"),\"\",IF(S151<A143,0,INT(((S151-B143)*D143/C143)+250)))","v":""},{"$f":"IF(AC143=\"T\",AF151,AG151)","v":""},null,null,null,null,null,null,null,{"$f":"IF(I151=\"\",\"\",IF(AC143=\"F\",\"\",IF(AC143=\"T\",IF(I151<=Z143,\"þ\",IF(I151<=AA143,\"G2\",IF(I151<=AB143,\"G3\",\"\"))))))","v":""},{"$f":"IF(I151=\"\",\"\",IF(AC143=\"T\",\"\",IF(AC143=\"F\",IF(I151>=Z143,\"þ\",IF(I151>=AA143,\"G2\",IF(I151>=AB143,\"G3\",\"\"))))))","v":""},{"$f":"IF(S151=\"\",\"\",IF(AC143=\"F\",\"\",IF(AC143=\"T\",IF(S151<=Z143,\"þ\",IF(S151<=AA143,\"G2\",IF(S151<=AB143,\"G3\",\"\"))))))","v":""},{"$f":"IF(S151=\"\",\"\",IF(AC143=\"T\",\"\",IF(AC143=\"F\",IF(S151>=Z143,\"þ\",IF(S151>=AA143,\"G2\",IF(S151>=AB143,\"G3\",\"\"))))))","v":""},1,1,0,1,151]
[null,null,null,null,null,null,null,null,null,null,null,null,null,null,null,null,null,null,null,null,null,null,null,null,null,null,null,null,null,null,null,null,null,null,null,null,null,152]
[1.56,1.96,0.02,10,{"$f":"CONCATENATE(VLOOKUP(A154,mens_handbook,3,FALSE),\" A\")","v":"Women's High Jump A"},null,null,{"$f":"IF(A154=\"\",\"\",IF(VLOOKUP(A154,Handbook!$A$4:$AI$24,35,FALSE)=\"Y\",\"Wind=\",\"\"))","v":""},null,null,null,null,null,null,{"$f":"CONCATENATE(VLOOKUP(A154,mens_handbook,3,FALSE),\" B\")","v":"Women's High Jump B"},null,null,{"$f":"H153","v":""},{"$f":"IF(I153=\"\",\"\",I153)","v":""},null,null,null,null,{"$f":"IF($A154=\"\",\"\",VLOOKUP($A154,Handbook!$A$4:$V$24,21,FALSE))","v":1.91},{"$f":"IF($A154=\"\",\"\",VLOOKUP($A154,Handbook!$A$4:$V$24,22,FALSE))","v":1.9},{"$f":"IF($A154=\"\",\"\",VLOOKUP($A154,Handbook!$A$4:$W$24,23,FALSE))","v":1.55},{"$f":"IF($A154=\"\",\"\",VLOOKUP($A154,Handbook!$A$4:$X$24,24,FALSE))","v":1.55},{"$f":"IF($A154=\"\",\"\",VLOOKUP($A154,Handbook!$A$4:$Y$24,25,FALSE))","v":1.55},{"$f":"IF($A154=\"\",\"\",VLOOKUP($A154,Handbook!$A$4:$AH$24,34,FALSE))","v":"F"},null,null,null,null,null,null,null,null,153]
[14,null,{"$f":"IF(F154=\"\",\"\",IF(F154>10,F154/11,F154))","v":2},{"$f":"IF(P154=\"\",\"\",IF(P154>10,P154/11,P154))","v":3},{"$f":"HJ!$E26","v":1},{"$f":"IF(HJ!$I$26=0,\"\",HJ!$F26)","v":2},{"$f":"IF($F154=\"\",\"\",IF($F154>90,VLOOKUP(F154,eventcodes,2,FALSE),HLOOKUP(F154,declare,B156,FALSE)))","v":"Sarah Abrams"},{"$f":"IF($F154=\"\",\"\",IF($F154>90,\"\",VLOOKUP(C154,matchday,2,FALSE)))","v":"Blackheath & Bromley H"},{"$f":"IF(HJ!$I$26=0,\"\",HJ!$I26)","v":1.7},{"$f":"IF(I154=\"\",\"\",IF(AC153=\"T\",X154,X155))","v":""},null,{"$f":"IF(OR(F154=0,F154=\"\",I154=0,I154=\"\"),\"\",IF(I154<A153,0,INT(((I154-B153)*D153/C153)+250)))","v":120},{"$f":"IF(AC153=\"T\",AD154,AE154)","v":"þ"},null,{"$f":"HJ!$K26","v":"1="},{"$f":"IF(HJ!$I$26=0,\"\",HJ!$M26)","v":33},{"$f":"IF($P154=\"\",\"\",HLOOKUP(P154,declare,B156,FALSE))","v":"Sophie Wilkins"},{"$f":"IF($P154=\"\",\"\",VLOOKUP(D154,matchday,2,FALSE))","v":"Marshall Milton Keynes AC"},{"$f":"IF(HJ!$I$26=0,\"\",HJ!$AA26)","v":1.55},null,{"$f":"IF(OR(P154=0,P154=\"\",S154=0,S154=\"\"),\"\",IF(S154<A153,0,INT(((S154-B153)*D153/C153)+250)))","v":0},{"$f":"IF(AC153=\"T\",AF154,AG154)","v":"þ"},null,{"$f":"IF(AC153=\"F\",\"\",IF(I154<X153,\"LR\",IF(I154=X153,\"=LR\",IF(I154<Y153,\"DR\",IF(I154=Y153,\"=DR\",\"\")))))","v":""},null,null,null,null,null,{"$f":"IF(I154=\"\",\"\",IF(AC153=\"F\",\"\",IF(AC153=\"T\",IF(I154<=Z153,\"þ\",IF(I154<=AA153,\"G2\",IF(I154<=AB153,\"G3\",\"\"))))))","v":""},{"$f":"IF(I154=\"\",\"\",IF(AC153=\"T\",\"\",IF(AC153=\"F\",IF(I154>=Z153,\"þ\",IF(I154>=AA153,\"G2\",IF(I154>=AB153,\"G3\",\"\"))))))","v":"þ"},{"$f":"IF(S154=\"\",\"\",IF(AC153=\"F\",\"\",IF(AC153=\"T\",IF(S154<=Z153,\"þ\",IF(S154<=AA153,\"G2\",IF(S154<=AB153,\"G3\",\"\"))))))","v":""},{"$f":"IF(S154=\"\",\"\",IF(AC153=\"T\",\"\",IF(AC153=\"F\",IF(S154>=Z153,\"þ\",IF(S154>=AA153,\"G2\",IF(S154>=AB153,\"G3\",\"\"))))))","v":"þ"},{"$f":"C154","v":2},{"$f":"IF(F154=\"\",\"\",IF(LEFT(I154,1)=\"D\",0,VLOOKUP(E154,$AT$4:$AU$40,2,FALSE)))","v":9},{"$f":"D154","v":3},{"$f":"IF(P154=\"\",\"\",IF(LEFT(S154,1)=\"D\",0,VLOOKUP(O154,$AT$4:$AV$40,3,FALSE)))","v":8},154]
[null,{"$f":"VLOOKUP(A154,Handbook!$A$4:$AK$24,37,FALSE)","v":15},{"$f":"IF(F155=\"\",\"\",IF(F155>10,F155/11,F155))","v":5},{"$f":"IF(P155=\"\",\"\",IF(P155>10,P155/11,P155))","v":5},{"$f":"HJ!$E27","v":2},{"$f":"IF(HJ!$I$26=0,\"\",HJ!$F27)","v":5},{"$f":"IF($F155=\"\",\"\",HLOOKUP(F155,declare,B156,FALSE))","v":"Eloise Newman"},{"$f":"IF($F155=\"\",\"\",IF($F155=9,\"\",VLOOKUP(C155,matchday,2,FALSE)))","v":"Shaftesbury Barnet H"},{"$f":"IF(HJ!$I$26=0,\"\",HJ!$I27)","v":1.65},null,null,{"$f":"IF(OR(F155=0,F155=\"\",I155=0,I155=\"\"),\"\",IF(I155<A153,0,INT(((I155-B153)*D153/C153)+250)))","v":95},{"$f":"IF(AC153=\"T\",AD155,AE155)","v":"þ"},null,{"$f":"HJ!$K27","v":"1="},{"$f":"IF(HJ!$I$26=0,\"\",HJ!$M27)","v":55},{"$f":"IF($P155=\"\",\"\",HLOOKUP(P155,declare,B156,FALSE))","v":"Gaby Rowsell (U20)"},"Shaftesbury Barnet H",{"$f":"IF(HJ!$I$26=0,\"\",HJ!$AA27)","v":1.55},null,{"$f":"IF(OR(P155=0,P155=\"\",S155=0,S155=\"\"),\"\",IF(S155<A153,0,INT(((S155-B153)*D153/C153)+250)))","v":0},{"$f":"IF(AC153=\"T\",AF155,AG155)","v":"þ"},null,{"$f":"IF(AC153=\"T\",\"\",IF(I154>X153,\"LR\",IF(I154=X153,\"=LR\",IF(I154>Y153,\"DR\",IF(I154=Y153,\"=DR\",\"\")))))","v":""},null,null,null,null,null,{"$f":"IF(I155=\"\",\"\",IF(AC153=\"F\",\"\",IF(AC153=\"T\",IF(I155<=Z153,\"þ\",IF(I155<=AA153,\"G2\",IF(I155<=AB153,\"G3\",\"\"))))))","v":""},{"$f":"IF(I155=\"\",\"\",IF(AC153=\"T\",\"\",IF(AC153=\"F\",IF(I155>=Z153,\"þ\",IF(I155>=AA153,\"G2\",IF(I155>=AB153,\"G3\",\"\"))))))","v":"þ"},{"$f":"IF(S155=\"\",\"\",IF(AC153=\"F\",\"\",IF(AC153=\"T\",IF(S155<=Z153,\"þ\",IF(S155<=AA153,\"G2\",IF(S155<=AB153,\"G3\",\"\"))))))","v":""},{"$f":"IF(S155=\"\",\"\",IF(AC153=\"T\",\"\",IF(AC153=\"F\",IF(S155>=Z153,\"þ\",IF(S155>=AA153,\"G2\",IF(S155>=AB153,\"G3\",\"\"))))))","v":"þ"},{"$f":"C155","v":5},7,{"$f":"D155","v":5},8,155]
[null,{"$f":"VLOOKUP(A154,declare,20,FALSE)","v":15},6,2,{"$f":"HJ!$E28","v":3},{"$f":"IF(HJ!$I$26=0,\"\",HJ!$F28)","v":6},{"$f":"IF($F156=\"\",\"\",HLOOKUP(F156,declare,B156,FALSE))","v":"Karla Drew"},"Southampton AC",{"$f":"IF(HJ!$I$26=0,\"\",HJ!$I28)","v":1.65},null,null,{"$f":"IF(OR(F156=0,F156=\"\",I156=0,I156=\"\"),\"\",IF(I156<A153,0,INT(((I156-B153)*D153/C153)+250)))","v":95},{"$f":"IF(AC153=\"T\",AD156,AE156)","v":"þ"},null,{"$f":"HJ!$K28","v":3},{"$f":"IF(HJ!$I$26=0,\"\",HJ!$M28)","v":22},{"$f":"IF($P156=\"\",\"\",HLOOKUP(P156,declare,B156,FALSE))","v":"Christine Lyston"},"Blackheath & Bromley H",{"$f":"IF(HJ!$I$26=0,\"\",HJ!$AA28)","v":1.5},null,{"$f":"IF(OR(P156=0,P156=\"\",S156=0,S156=\"\"),\"\",IF(S156<A153,0,INT(((S156-B153)*D153/C153)+250)))","v":0},{"$f":"IF(AC153=\"T\",AF156,AG156)","v":""},null,null,null,null,null,null,null,{"$f":"IF(I156=\"\",\"\",IF(AC153=\"F\",\"\",IF(AC153=\"T\",IF(I156<=Z153,\"þ\",IF(I156<=AA153,\"G2\",IF(I156<=AB153,\"G3\",\"\"))))))","v":""},{"$f":"IF(I156=\"\",\"\",IF(AC153=\"T\",\"\",IF(AC153=\"F\",IF(I156>=Z153,\"þ\",IF(I156>=AA153,\"G2\",IF(I156>=AB153,\"G3\",\"\"))))))","v":"þ"},{"$f":"IF(S156=\"\",\"\",IF(AC153=\"F\",\"\",IF(AC153=\"T\",IF(S156<=Z153,\"þ\",IF(S156<=AA153,\"G2\",IF(S156<=AB153,\"G3\",\"\"))))))","v":""},{"$f":"IF(S156=\"\",\"\",IF(AC153=\"T\",\"\",IF(AC153=\"F\",IF(S156>=Z153,\"þ\",IF(S156>=AA153,\"G2\",IF(S156>=AB153,\"G3\",\"\"))))))","v":""},6,6,2,6,156]
[null,null,7,1,{"$f":"HJ!$E29","v":4},{"$f":"IF(HJ!$I$26=0,\"\",HJ!$F29)","v":7},{"$f":"IF($F157=\"\",\"\",HLOOKUP(F157,declare,B156,FALSE))","v":"Sian Swanson"},"Swansea H",{"$f":"IF(HJ!$I$26=0,\"\",HJ!$I29)","v":1.6},null,null,{"$f":"IF(OR(F157=0,F157=\"\",I157=0,I157=\"\"),\"\",IF(I157<A153,0,INT(((I157-B153)*D153/C153)+250)))","v":70},{"$f":"IF(AC153=\"T\",AD157,AE157)","v":"þ"},null,{"$f":"HJ!$K29","v":4},{"$f":"IF(HJ!$I$26=0,\"\",HJ!$M29)","v":11},{"$f":"IF($P157=\"\",\"\",HLOOKUP(P157,declare,B156,FALSE))","v":"Laura Duke"},"Bedford & County AC",{"$f":"IF(HJ!$I$26=0,\"\",HJ!$AA29)","v":1.5},null,{"$f":"IF(OR(P157=0,P157=\"\",S157=0,S157=\"\"),\"\",IF(S157<A153,0,INT(((S157-B153)*D153/C153)+250)))","v":0},{"$f":"IF(AC153=\"T\",AF157,AG157)","v":""},null,null,null,null,null,null,null,{"$f":"IF(I157=\"\",\"\",IF(AC153=\"F\",\"\",IF(AC153=\"T\",IF(I157<=Z153,\"þ\",IF(I157<=AA153,\"G2\",IF(I157<=AB153,\"G3\",\"\"))))))","v":""},{"$f":"IF(I157=\"\",\"\",IF(AC153=\"T\",\"\",IF(AC153=\"F\",IF(I157>=Z153,\"þ\",IF(I157>=AA153,\"G2\",IF(I157>=AB153,\"G3\",\"\"))))))","v":"þ"},{"$f":"IF(S157=\"\",\"\",IF(AC153=\"F\",\"\",IF(AC153=\"T\",IF(S157<=Z153,\"þ\",IF(S157<=AA153,\"G2\",IF(S157<=AB153,\"G3\",\"\"))))))","v":""},{"$f":"IF(S157=\"\",\"\",IF(AC153=\"T\",\"\",IF(AC153=\"F\",IF(S157>=Z153,\"þ\",IF(S157>=AA153,\"G2\",IF(S157>=AB153,\"G3\",\"\"))))))","v":""},7,5,1,5,157]
[null,null,1,7,{"$f":"HJ!$E30","v":5},{"$f":"IF(HJ!$I$26=0,\"\",HJ!$F30)","v":1},{"$f":"IF($F158=\"\",\"\",HLOOKUP(F158,declare,B156,FALSE))","v":"Hannah Frith"},"Bedford & County AC",{"$f":"IF(HJ!$I$26=0,\"\",HJ!$I30)","v":1.6},null,null,{"$f":"IF(OR(F158=0,F158=\"\",I158=0,I158=\"\"),\"\",IF(I158<A153,0,INT(((I158-B153)*D153/C153)+250)))","v":70},{"$f":"IF(AC153=\"T\",AD158,AE158)","v":"þ"},null,{"$f":"HJ!$K30","v":5},{"$f":"IF(HJ!$I$26=0,\"\",HJ!$M30)","v":77},{"$f":"IF($P158=\"\",\"\",HLOOKUP(P158,declare,B156,FALSE))","v":"Atlanta Williams"},"Swansea H",{"$f":"IF(HJ!$I$26=0,\"\",HJ!$AA30)","v":1.5},null,{"$f":"IF(OR(P158=0,P158=\"\",S158=0,S158=\"\"),\"\",IF(S158<A153,0,INT(((S158-B153)*D153/C153)+250)))","v":0},{"$f":"IF(AC153=\"T\",AF158,AG158)","v":""},null,null,null,null,null,null,null,{"$f":"IF(I158=\"\",\"\",IF(AC153=\"F\",\"\",IF(AC153=\"T\",IF(I158<=Z153,\"þ\",IF(I158<=AA153,\"G2\",IF(I158<=AB153,\"G3\",\"\"))))))","v":""},{"$f":"IF(I158=\"\",\"\",IF(AC153=\"T\",\"\",IF(AC153=\"F\",IF(I158>=Z153,\"þ\",IF(I158>=AA153,\"G2\",IF(I158>=AB153,\"G3\",\"\"))))))","v":"þ"},{"$f":"IF(S158=\"\",\"\",IF(AC153=\"F\",\"\",IF(AC153=\"T\",IF(S158<=Z153,\"þ\",IF(S158<=AA153,\"G2\",IF(S158<=AB153,\"G3\",\"\"))))))","v":""},{"$f":"IF(S158=\"\",\"\",IF(AC153=\"T\",\"\",IF(AC153=\"F\",IF(S158>=Z153,\"þ\",IF(S158>=AA153,\"G2\",IF(S158>=AB153,\"G3\",\"\"))))))","v":""},1,4,7,4,158]
[null,null,3,6,{"$f":"HJ!$E31","v":6},{"$f":"IF(HJ!$I$26=0,\"\",HJ!$F31)","v":3},{"$f":"IF($F159=\"\",\"\",HLOOKUP(F159,declare,B156,FALSE))","v":"Rachel Gibbens"},"Marshall Milton Keynes AC",{"$f":"IF(HJ!$I$26=0,\"\",HJ!$I31)","v":1.55},null,null,{"$f":"IF(OR(F159=0,F159=\"\",I159=0,I159=\"\"),\"\",IF(I159<A153,0,INT(((I159-B153)*D153/C153)+250)))","v":0},{"$f":"IF(AC153=\"T\",AD159,AE159)","v":"þ"},null,{"$f":"HJ!$K31","v":6},{"$f":"IF(HJ!$I$26=0,\"\",HJ!$M31)","v":66},{"$f":"IF($P159=\"\",\"\",HLOOKUP(P159,declare,B156,FALSE))","v":"Joanne Bottell"},"Southampton AC",{"$f":"IF(HJ!$I$26=0,\"\",HJ!$AA31)","v":1.25},null,{"$f":"IF(OR(P159=0,P159=\"\",S159=0,S159=\"\"),\"\",IF(S159<A153,0,INT(((S159-B153)*D153/C153)+250)))","v":0},{"$f":"IF(AC153=\"T\",AF159,AG159)","v":""},null,null,null,null,null,null,null,{"$f":"IF(I159=\"\",\"\",IF(AC153=\"F\",\"\",IF(AC153=\"T\",IF(I159<=Z153,\"þ\",IF(I159<=AA153,\"G2\",IF(I159<=AB153,\"G3\",\"\"))))))","v":""},{"$f":"IF(I159=\"\",\"\",IF(AC153=\"T\",\"\",IF(AC153=\"F\",IF(I159>=Z153,\"þ\",IF(I159>=AA153,\"G2\",IF(I159>=AB153,\"G3\",\"\"))))))","v":"þ"},{"$f":"IF(S159=\"\",\"\",IF(AC153=\"F\",\"\",IF(AC153=\"T\",IF(S159<=Z153,\"þ\",IF(S159<=AA153,\"G2\",IF(S159<=AB153,\"G3\",\"\"))))))","v":""},{"$f":"IF(S159=\"\",\"\",IF(AC153=\"T\",\"\",IF(AC153=\"F\",IF(S159>=Z153,\"þ\",IF(S159>=AA153,\"G2\",IF(S159>=AB153,\"G3\",\"\"))))))","v":""},3,3,6,3,159]
[null,null,4,8,{"$f":"HJ!$E32","v":7},{"$f":"IF(HJ!$I$26=0,\"\",HJ!$F32)","v":4},{"$f":"IF($F160=\"\",\"\",HLOOKUP(F160,declare,B156,FALSE))","v":"Stephanie Ugbo"},"Newham & Essex Beagles AC",{"$f":"IF(HJ!$I$26=0,\"\",HJ!$I32)","v":1.55},null,null,{"$f":"IF(OR(F160=0,F160=\"\",I160=0,I160=\"\"),\"\",IF(I160<A153,0,INT(((I160-B153)*D153/C153)+250)))","v":0},{"$f":"IF(AC153=\"T\",AD160,AE160)","v":"þ"},null,{"$f":"HJ!$K32","v":7},{"$f":"IF(HJ!$I$26=0,\"\",HJ!$M32)","v":88},{"$f":"IF($P160=\"\",\"\",HLOOKUP(P160,declare,B156,FALSE))","v":"Abigail Moronkeji"},"Thames Valley H",{"$f":"IF(HJ!$I$26=0,\"\",HJ!$AA32)","v":1.25},null,{"$f":"IF(OR(P160=0,P160=\"\",S160=0,S160=\"\"),\"\",IF(S160<A153,0,INT(((S160-B153)*D153/C153)+250)))","v":0},{"$f":"IF(AC153=\"T\",AF160,AG160)","v":""},null,null,null,null,null,null,null,{"$f":"IF(I160=\"\",\"\",IF(AC153=\"F\",\"\",IF(AC153=\"T\",IF(I160<=Z153,\"þ\",IF(I160<=AA153,\"G2\",IF(I160<=AB153,\"G3\",\"\"))))))","v":""},{"$f":"IF(I160=\"\",\"\",IF(AC153=\"T\",\"\",IF(AC153=\"F\",IF(I160>=Z153,\"þ\",IF(I160>=AA153,\"G2\",IF(I160>=AB153,\"G3\",\"\"))))))","v":"þ"},{"$f":"IF(S160=\"\",\"\",IF(AC153=\"F\",\"\",IF(AC153=\"T\",IF(S160<=Z153,\"þ\",IF(S160<=AA153,\"G2\",IF(S160<=AB153,\"G3\",\"\"))))))","v":""},{"$f":"IF(S160=\"\",\"\",IF(AC153=\"T\",\"\",IF(AC153=\"F\",IF(S160>=Z153,\"þ\",IF(S160>=AA153,\"G2\",IF(S160>=AB153,\"G3\",\"\"))))))","v":""},4,2,8,2,160]
[null,null,8,"",{"$f":"HJ!$E33","v":8},{"$f":"IF(HJ!$I$26=0,\"\",HJ!$F33)","v":8},{"$f":"IF($F161=\"\",\"\",HLOOKUP(F161,declare,B156,FALSE))","v":"Esther Aije"},"Thames Valley H",{"$f":"IF(HJ!$I$26=0,\"\",HJ!$I33)","v":1.5},null,null,{"$f":"IF(OR(F161=0,F161=\"\",I161=0,I161=\"\"),\"\",IF(I161<A153,0,INT(((I161-B153)*D153/C153)+250)))","v":0},{"$f":"IF(AC153=\"T\",AD161,AE161)","v":""},null,{"$f":"HJ!$K33","v":""},{"$f":"IF(HJ!$I$26=0,\"\",HJ!$M33)","v":""},{"$f":"IF($P161=\"\",\"\",HLOOKUP(P161,declare,B156,FALSE))","v":""},"",{"$f":"IF(HJ!$I$26=0,\"\",HJ!$AA33)","v":""},null,{"$f":"IF(OR(P161=0,P161=\"\",S161=0,S161=\"\"),\"\",IF(S161<A153,0,INT(((S161-B153)*D153/C153)+250)))","v":""},{"$f":"IF(AC153=\"T\",AF161,AG161)","v":""},null,null,null,null,null,null,null,{"$f":"IF(I161=\"\",\"\",IF(AC153=\"F\",\"\",IF(AC153=\"T\",IF(I161<=Z153,\"þ\",IF(I161<=AA153,\"G2\",IF(I161<=AB153,\"G3\",\"\"))))))","v":""},{"$f":"IF(I161=\"\",\"\",IF(AC153=\"T\",\"\",IF(AC153=\"F\",IF(I161>=Z153,\"þ\",IF(I161>=AA153,\"G2\",IF(I161>=AB153,\"G3\",\"\"))))))","v":""},{"$f":"IF(S161=\"\",\"\",IF(AC153=\"F\",\"\",IF(AC153=\"T\",IF(S161<=Z153,\"þ\",IF(S161<=AA153,\"G2\",IF(S161<=AB153,\"G3\",\"\"))))))","v":""},{"$f":"IF(S161=\"\",\"\",IF(AC153=\"T\",\"\",IF(AC153=\"F\",IF(S161>=Z153,\"þ\",IF(S161>=AA153,\"G2\",IF(S161>=AB153,\"G3\",\"\"))))))","v":""},8,1,"","",161]
[null,null,null,null,null,null,null,null,null,null,null,null,null,null,null,null,null,null,null,null,null,null,null,null,null,null,null,null,null,null,null,null,null,null,null,null,null,162]
[2.65,4.6500000000000004,0.1,10,{"$f":"CONCATENATE(VLOOKUP(A164,mens_handbook,3,FALSE),\" A\")","v":"Women's Pole Vault A"},null,null,{"$f":"IF(A164=\"\",\"\",IF(VLOOKUP(A164,Handbook!$A$4:$AI$24,35,FALSE)=\"Y\",\"Wind=\",\"\"))","v":""},null,null,null,null,null,null,{"$f":"CONCATENATE(VLOOKUP(A164,mens_handbook,3,FALSE),\" B\")","v":"Women's Pole Vault B"},null,null,{"$f":"H163","v":""},{"$f":"IF(I163=\"\",\"\",I163)","v":""},null,null,null,null,{"$f":"IF($A164=\"\",\"\",VLOOKUP($A164,Handbook!$A$4:$V$24,21,FALSE))","v":4.2},{"$f":"IF($A164=\"\",\"\",VLOOKUP($A164,Handbook!$A$4:$V$24,22,FALSE))","v":4},{"$f":"IF($A164=\"\",\"\",VLOOKUP($A164,Handbook!$A$4:$W$24,23,FALSE))","v":2.25},{"$f":"IF($A164=\"\",\"\",VLOOKUP($A164,Handbook!$A$4:$X$24,24,FALSE))","v":2.25},{"$f":"IF($A164=\"\",\"\",VLOOKUP($A164,Handbook!$A$4:$Y$24,25,FALSE))","v":2.25},{"$f":"IF($A164=\"\",\"\",VLOOKUP($A164,Handbook!$A$4:$AH$24,34,FALSE))","v":"F"},null,null,null,null,null,null,null,null,163]
[12,null,{"$f":"IF(F164=\"\",\"\",IF(F164>10,F164/11,F164))","v":5},{"$f":"IF(P164=\"\",\"\",IF(P164>10,P164/11,P164))","v":2},{"$f":"PV!$E27","v":1},{"$f":"IF(PV!$I$27=0,\"\",PV!F27)","v":5},{"$f":"IF($F164=\"\",\"\",IF($F164>90,VLOOKUP(F164,eventcodes,2,FALSE),HLOOKUP(F164,declare,B166,FALSE)))","v":"Jade Ive (U20)"},{"$f":"IF($F164=\"\",\"\",IF($F164>90,\"\",VLOOKUP(C164,matchday,2,FALSE)))","v":"Shaftesbury Barnet H"},{"$f":"IF(PV!$I$27=0,\"\",PV!$I27)","v":3.91},{"$f":"IF(I164=\"\",\"\",IF(AC163=\"T\",X164,X165))","v":""},null,{"$f":"IF(OR(F164=0,F164=\"\",I164=0,I164=\"\"),\"\",IF(I164<A163,0,INT(((I164-B163)*D163/C163)+250)))","v":176},{"$f":"IF(AC163=\"T\",AD164,AE164)","v":"þ"},null,{"$f":"PV!$K27","v":1},{"$f":"IF(PV!$I$27=0,\"\",PV!$M27)","v":2},{"$f":"IF($P164=\"\",\"\",HLOOKUP(P164,declare,B166,FALSE))","v":"Liz Hughes"},{"$f":"IF($P164=\"\",\"\",VLOOKUP(D164,matchday,2,FALSE))","v":"Blackheath & Bromley H"},{"$f":"IF(PV!$I$27=0,\"\",PV!$AA27)","v":3.5},null,{"$f":"IF(OR(P164=0,P164=\"\",S164=0,S164=\"\"),\"\",IF(S164<A163,0,INT(((S164-B163)*D163/C163)+250)))","v":135},{"$f":"IF(AC163=\"T\",AF164,AG164)","v":"þ"},null,{"$f":"IF(AC163=\"F\",\"\",IF(I164<X163,\"LR\",IF(I164=X163,\"=LR\",IF(I164<Y163,\"DR\",IF(I164=Y163,\"=DR\",\"\")))))","v":""},null,null,null,null,null,{"$f":"IF(I164=\"\",\"\",IF(AC163=\"F\",\"\",IF(AC163=\"T\",IF(I164<=Z163,\"þ\",IF(I164<=AA163,\"G2\",IF(I164<=AB163,\"G3\",\"\"))))))","v":""},{"$f":"IF(I164=\"\",\"\",IF(AC163=\"T\",\"\",IF(AC163=\"F\",IF(I164>=Z163,\"þ\",IF(I164>=AA163,\"G2\",IF(I164>=AB163,\"G3\",\"\"))))))","v":"þ"},{"$f":"IF(S164=\"\",\"\",IF(AC163=\"F\",\"\",IF(AC163=\"T\",IF(S164<=Z163,\"þ\",IF(S164<=AA163,\"G2\",IF(S164<=AB163,\"G3\",\"\"))))))","v":""},{"$f":"IF(S164=\"\",\"\",IF(AC163=\"T\",\"\",IF(AC163=\"F\",IF(S164>=Z163,\"þ\",IF(S164>=AA163,\"G2\",IF(S164>=AB163,\"G3\",\"\"))))))","v":"þ"},{"$f":"C164","v":5},{"$f":"IF(F164=\"\",\"\",IF(LEFT(I164,1)=\"D\",0,VLOOKUP(E164,$AT$4:$AU$40,2,FALSE)))","v":9},{"$f":"D164","v":2},{"$f":"IF(P164=\"\",\"\",IF(LEFT(S164,1)=\"D\",0,VLOOKUP(O164,$AT$4:$AV$40,3,FALSE)))","v":9},164]
[null,{"$f":"VLOOKUP(A164,Handbook!$A$4:$AK$24,37,FALSE)","v":13},{"$f":"IF(F165=\"\",\"\",IF(F165>10,F165/11,F165))","v":2},{"$f":"IF(P165=\"\",\"\",IF(P165>10,P165/11,P165))","v":4},{"$f":"PV!$E28","v":2},{"$f":"IF(PV!$I$27=0,\"\",PV!F28)","v":22},{"$f":"IF($F165=\"\",\"\",HLOOKUP(F165,declare,B166,FALSE))","v":"Rachel Arnheim"},{"$f":"IF($F165=\"\",\"\",IF($F165=9,\"\",VLOOKUP(C165,matchday,2,FALSE)))","v":"Blackheath & Bromley H"},{"$f":"IF(PV!$I$27=0,\"\",PV!$I28)","v":3.6},null,null,{"$f":"IF(OR(F165=0,F165=\"\",I165=0,I165=\"\"),\"\",IF(I165<A163,0,INT(((I165-B163)*D163/C163)+250)))","v":145},{"$f":"IF(AC163=\"T\",AD165,AE165)","v":"þ"},null,{"$f":"PV!$K28","v":2},{"$f":"IF(PV!$I$27=0,\"\",PV!$M28)","v":4},{"$f":"IF($P165=\"\",\"\",HLOOKUP(P165,declare,B166,FALSE))","v":"Kelly Montgomery"},"Newham & Essex Beagles AC",{"$f":"IF(PV!$I$27=0,\"\",PV!$AA28)","v":2.5},null,{"$f":"IF(OR(P165=0,P165=\"\",S165=0,S165=\"\"),\"\",IF(S165<A163,0,INT(((S165-B163)*D163/C163)+250)))","v":0},{"$f":"IF(AC163=\"T\",AF165,AG165)","v":"þ"},null,{"$f":"IF(AC163=\"T\",\"\",IF(I164>X163,\"LR\",IF(I164=X163,\"=LR\",IF(I164>Y163,\"DR\",IF(I164=Y163,\"=DR\",\"\")))))","v":""},null,null,null,null,null,{"$f":"IF(I165=\"\",\"\",IF(AC163=\"F\",\"\",IF(AC163=\"T\",IF(I165<=Z163,\"þ\",IF(I165<=AA163,\"G2\",IF(I165<=AB163,\"G3\",\"\"))))))","v":""},{"$f":"IF(I165=\"\",\"\",IF(AC163=\"T\",\"\",IF(AC163=\"F\",IF(I165>=Z163,\"þ\",IF(I165>=AA163,\"G2\",IF(I165>=AB163,\"G3\",\"\"))))))","v":"þ"},{"$f":"IF(S165=\"\",\"\",IF(AC163=\"F\",\"\",IF(AC163=\"T\",IF(S165<=Z163,\"þ\",IF(S165<=AA163,\"G2\",IF(S165<=AB163,\"G3\",\"\"))))))","v":""},{"$f":"IF(S165=\"\",\"\",IF(AC163=\"T\",\"\",IF(AC163=\"F\",IF(S165>=Z163,\"þ\",IF(S165>=AA163,\"G2\",IF(S165>=AB163,\"G3\",\"\"))))))","v":"þ"},{"$f":"C165","v":2},7,{"$f":"D165","v":4},7,165]
[null,{"$f":"VLOOKUP(A164,declare,20,FALSE)","v":13},3,1,{"$f":"PV!$E29","v":3},{"$f":"IF(PV!$I$27=0,\"\",PV!F29)","v":3},{"$f":"IF($F166=\"\",\"\",HLOOKUP(F166,declare,B166,FALSE))","v":"Rachel Gibbens"},"Marshall Milton Keynes AC",{"$f":"IF(PV!$I$27=0,\"\",PV!$I29)","v":3.4},null,null,{"$f":"IF(OR(F166=0,F166=\"\",I166=0,I166=\"\"),\"\",IF(I166<A163,0,INT(((I166-B163)*D163/C163)+250)))","v":125},{"$f":"IF(AC163=\"T\",AD166,AE166)","v":"þ"},null,{"$f":"PV!$K29","v":3},{"$f":"IF(PV!$I$27=0,\"\",PV!$M29)","v":11},{"$f":"IF($P166=\"\",\"\",HLOOKUP(P166,declare,B166,FALSE))","v":"Hannah Frith"},"Bedford & County AC",{"$f":"IF(PV!$I$27=0,\"\",PV!$AA29)","v":2.2999999999999998},null,{"$f":"IF(OR(P166=0,P166=\"\",S166=0,S166=\"\"),\"\",IF(S166<A163,0,INT(((S166-B163)*D163/C163)+250)))","v":0},{"$f":"IF(AC163=\"T\",AF166,AG166)","v":"þ"},null,null,null,null,null,null,null,{"$f":"IF(I166=\"\",\"\",IF(AC163=\"F\",\"\",IF(AC163=\"T\",IF(I166<=Z163,\"þ\",IF(I166<=AA163,\"G2\",IF(I166<=AB163,\"G3\",\"\"))))))","v":""},{"$f":"IF(I166=\"\",\"\",IF(AC163=\"T\",\"\",IF(AC163=\"F\",IF(I166>=Z163,\"þ\",IF(I166>=AA163,\"G2\",IF(I166>=AB163,\"G3\",\"\"))))))","v":"þ"},{"$f":"IF(S166=\"\",\"\",IF(AC163=\"F\",\"\",IF(AC163=\"T\",IF(S166<=Z163,\"þ\",IF(S166<=AA163,\"G2\",IF(S166<=AB163,\"G3\",\"\"))))))","v":""},{"$f":"IF(S166=\"\",\"\",IF(AC163=\"T\",\"\",IF(AC163=\"F\",IF(S166>=Z163,\"þ\",IF(S166>=AA163,\"G2\",IF(S166>=AB163,\"G3\",\"\"))))))","v":"þ"},3,6,1,6,166]
[null,null,7,7,{"$f":"PV!$E30","v":4},{"$f":"IF(PV!$I$27=0,\"\",PV!F30)","v":7},{"$f":"IF($F167=\"\",\"\",HLOOKUP(F167,declare,B166,FALSE))","v":"Naomi James"},"Swansea H",{"$f":"IF(PV!$I$27=0,\"\",PV!$I30)","v":3.3},null,null,{"$f":"IF(OR(F167=0,F167=\"\",I167=0,I167=\"\"),\"\",IF(I167<A163,0,INT(((I167-B163)*D163/C163)+250)))","v":115},{"$f":"IF(AC163=\"T\",AD167,AE167)","v":"þ"},null,{"$f":"PV!$K30","v":4},{"$f":"IF(PV!$I$27=0,\"\",PV!$M30)","v":77},{"$f":"IF($P167=\"\",\"\",HLOOKUP(P167,declare,B166,FALSE))","v":"Megan Jones"},"Swansea H",{"$f":"IF(PV!$I$27=0,\"\",PV!$AA30)","v":2.2999999999999998},null,{"$f":"IF(OR(P167=0,P167=\"\",S167=0,S167=\"\"),\"\",IF(S167<A163,0,INT(((S167-B163)*D163/C163)+250)))","v":0},{"$f":"IF(AC163=\"T\",AF167,AG167)","v":"þ"},null,null,null,null,null,null,null,{"$f":"IF(I167=\"\",\"\",IF(AC163=\"F\",\"\",IF(AC163=\"T\",IF(I167<=Z163,\"þ\",IF(I167<=AA163,\"G2\",IF(I167<=AB163,\"G3\",\"\"))))))","v":""},{"$f":"IF(I167=\"\",\"\",IF(AC163=\"T\",\"\",IF(AC163=\"F\",IF(I167>=Z163,\"þ\",IF(I167>=AA163,\"G2\",IF(I167>=AB163,\"G3\",\"\"))))))","v":"þ"},{"$f":"IF(S167=\"\",\"\",IF(AC163=\"F\",\"\",IF(AC163=\"T\",IF(S167<=Z163,\"þ\",IF(S167<=AA163,\"G2\",IF(S167<=AB163,\"G3\",\"\"))))))","v":""},{"$f":"IF(S167=\"\",\"\",IF(AC163=\"T\",\"\",IF(AC163=\"F\",IF(S167>=Z163,\"þ\",IF(S167>=AA163,\"G2\",IF(S167>=AB163,\"G3\",\"\"))))))","v":"þ"},7,5,7,5,167]
[null,null,1,"",{"$f":"PV!$E31","v":5},{"$f":"IF(PV!$I$27=0,\"\",PV!F31)","v":1},{"$f":"IF($F168=\"\",\"\",HLOOKUP(F168,declare,B166,FALSE))","v":"Jemma Eastwood"},"Bedford & County AC",{"$f":"IF(PV!$I$27=0,\"\",PV!$I31)","v":3.1},null,null,{"$f":"IF(OR(F168=0,F168=\"\",I168=0,I168=\"\"),\"\",IF(I168<A163,0,INT(((I168-B163)*D163/C163)+250)))","v":95},{"$f":"IF(AC163=\"T\",AD168,AE168)","v":"þ"},null,{"$f":"PV!$K31","v":""},{"$f":"IF(PV!$I$27=0,\"\",PV!$M31)","v":""},{"$f":"IF($P168=\"\",\"\",HLOOKUP(P168,declare,B166,FALSE))","v":""},"",{"$f":"IF(PV!$I$27=0,\"\",PV!$AA31)","v":""},null,{"$f":"IF(OR(P168=0,P168=\"\",S168=0,S168=\"\"),\"\",IF(S168<A163,0,INT(((S168-B163)*D163/C163)+250)))","v":""},{"$f":"IF(AC163=\"T\",AF168,AG168)","v":""},null,null,null,null,null,null,null,{"$f":"IF(I168=\"\",\"\",IF(AC163=\"F\",\"\",IF(AC163=\"T\",IF(I168<=Z163,\"þ\",IF(I168<=AA163,\"G2\",IF(I168<=AB163,\"G3\",\"\"))))))","v":""},{"$f":"IF(I168=\"\",\"\",IF(AC163=\"T\",\"\",IF(AC163=\"F\",IF(I168>=Z163,\"þ\",IF(I168>=AA163,\"G2\",IF(I168>=AB163,\"G3\",\"\"))))))","v":"þ"},{"$f":"IF(S168=\"\",\"\",IF(AC163=\"F\",\"\",IF(AC163=\"T\",IF(S168<=Z163,\"þ\",IF(S168<=AA163,\"G2\",IF(S168<=AB163,\"G3\",\"\"))))))","v":""},{"$f":"IF(S168=\"\",\"\",IF(AC163=\"T\",\"\",IF(AC163=\"F\",IF(S168>=Z163,\"þ\",IF(S168>=AA163,\"G2\",IF(S168>=AB163,\"G3\",\"\"))))))","v":""},1,4,"","",168]
[null,null,4,"",{"$f":"PV!$E32","v":6},{"$f":"IF(PV!$I$27=0,\"\",PV!F32)","v":44},{"$f":"IF($F169=\"\",\"\",HLOOKUP(F169,declare,B166,FALSE))","v":"Melissa Strevens"},"Newham & Essex Beagles AC",{"$f":"IF(PV!$I$27=0,\"\",PV!$I32)","v":2.7},null,null,{"$f":"IF(OR(F169=0,F169=\"\",I169=0,I169=\"\"),\"\",IF(I169<A163,0,INT(((I169-B163)*D163/C163)+250)))","v":55},{"$f":"IF(AC163=\"T\",AD169,AE169)","v":"þ"},null,{"$f":"PV!$K32","v":""},{"$f":"IF(PV!$I$27=0,\"\",PV!$M32)","v":""},{"$f":"IF($P169=\"\",\"\",HLOOKUP(P169,declare,B166,FALSE))","v":""},"",{"$f":"IF(PV!$I$27=0,\"\",PV!$AA32)","v":""},null,{"$f":"IF(OR(P169=0,P169=\"\",S169=0,S169=\"\"),\"\",IF(S169<A163,0,INT(((S169-B163)*D163/C163)+250)))","v":""},{"$f":"IF(AC163=\"T\",AF169,AG169)","v":""},null,null,null,null,null,null,null,{"$f":"IF(I169=\"\",\"\",IF(AC163=\"F\",\"\",IF(AC163=\"T\",IF(I169<=Z163,\"þ\",IF(I169<=AA163,\"G2\",IF(I169<=AB163,\"G3\",\"\"))))))","v":""},{"$f":"IF(I169=\"\",\"\",IF(AC163=\"T\",\"\",IF(AC163=\"F\",IF(I169>=Z163,\"þ\",IF(I169>=AA163,\"G2\",IF(I169>=AB163,\"G3\",\"\"))))))","v":"þ"},{"$f":"IF(S169=\"\",\"\",IF(AC163=\"F\",\"\",IF(AC163=\"T\",IF(S169<=Z163,\"þ\",IF(S169<=AA163,\"G2\",IF(S169<=AB163,\"G3\",\"\"))))))","v":""},{"$f":"IF(S169=\"\",\"\",IF(AC163=\"T\",\"\",IF(AC163=\"F\",IF(S169>=Z163,\"þ\",IF(S169>=AA163,\"G2\",IF(S169>=AB163,\"G3\",\"\"))))))","v":""},4,3,"","",169]
[null,null,8,"",{"$f":"PV!$E33","v":7},{"$f":"IF(PV!$I$27=0,\"\",PV!F33)","v":8},{"$f":"IF($F170=\"\",\"\",HLOOKUP(F170,declare,B166,FALSE))","v":"Ugne Liuksaityte"},"Thames Valley H",{"$f":"IF(PV!$I$27=0,\"\",PV!$I33)","v":2.2999999999999998},null,null,{"$f":"IF(OR(F170=0,F170=\"\",I170=0,I170=\"\"),\"\",IF(I170<A163,0,INT(((I170-B163)*D163/C163)+250)))","v":0},{"$f":"IF(AC163=\"T\",AD170,AE170)","v":"þ"},null,{"$f":"PV!$K33","v":""},{"$f":"IF(PV!$I$27=0,\"\",PV!$M33)","v":""},{"$f":"IF($P170=\"\",\"\",HLOOKUP(P170,declare,B166,FALSE))","v":""},"",{"$f":"IF(PV!$I$27=0,\"\",PV!$AA33)","v":""},null,{"$f":"IF(OR(P170=0,P170=\"\",S170=0,S170=\"\"),\"\",IF(S170<A163,0,INT(((S170-B163)*D163/C163)+250)))","v":""},{"$f":"IF(AC163=\"T\",AF170,AG170)","v":""},null,null,null,null,null,null,null,{"$f":"IF(I170=\"\",\"\",IF(AC163=\"F\",\"\",IF(AC163=\"T\",IF(I170<=Z163,\"þ\",IF(I170<=AA163,\"G2\",IF(I170<=AB163,\"G3\",\"\"))))))","v":""},{"$f":"IF(I170=\"\",\"\",IF(AC163=\"T\",\"\",IF(AC163=\"F\",IF(I170>=Z163,\"þ\",IF(I170>=AA163,\"G2\",IF(I170>=AB163,\"G3\",\"\"))))))","v":"þ"},{"$f":"IF(S170=\"\",\"\",IF(AC163=\"F\",\"\",IF(AC163=\"T\",IF(S170<=Z163,\"þ\",IF(S170<=AA163,\"G2\",IF(S170<=AB163,\"G3\",\"\"))))))","v":""},{"$f":"IF(S170=\"\",\"\",IF(AC163=\"T\",\"\",IF(AC163=\"F\",IF(S170>=Z163,\"þ\",IF(S170>=AA163,\"G2\",IF(S170>=AB163,\"G3\",\"\"))))))","v":""},8,2,"","",170]
[null,null,"","",{"$f":"PV!$E34","v":""},{"$f":"IF(PV!$I$27=0,\"\",PV!F34)","v":""},{"$f":"IF($F171=\"\",\"\",HLOOKUP(F171,declare,B166,FALSE))","v":""},"",{"$f":"IF(PV!$I$27=0,\"\",PV!$I34)","v":""},null,null,{"$f":"IF(OR(F171=0,F171=\"\",I171=0,I171=\"\"),\"\",IF(I171<A163,0,INT(((I171-B163)*D163/C163)+250)))","v":""},{"$f":"IF(AC163=\"T\",AD171,AE171)","v":""},null,{"$f":"PV!$K34","v":""},{"$f":"IF(PV!$I$27=0,\"\",PV!$M34)","v":""},{"$f":"IF($P171=\"\",\"\",HLOOKUP(P171,declare,B166,FALSE))","v":""},"",{"$f":"IF(PV!$I$27=0,\"\",PV!$AA34)","v":""},null,{"$f":"IF(OR(P171=0,P171=\"\",S171=0,S171=\"\"),\"\",IF(S171<A163,0,INT(((S171-B163)*D163/C163)+250)))","v":""},{"$f":"IF(AC163=\"T\",AF171,AG171)","v":""},null,null,null,null,null,null,null,{"$f":"IF(I171=\"\",\"\",IF(AC163=\"F\",\"\",IF(AC163=\"T\",IF(I171<=Z163,\"þ\",IF(I171<=AA163,\"G2\",IF(I171<=AB163,\"G3\",\"\"))))))","v":""},{"$f":"IF(I171=\"\",\"\",IF(AC163=\"T\",\"\",IF(AC163=\"F\",IF(I171>=Z163,\"þ\",IF(I171>=AA163,\"G2\",IF(I171>=AB163,\"G3\",\"\"))))))","v":""},{"$f":"IF(S171=\"\",\"\",IF(AC163=\"F\",\"\",IF(AC163=\"T\",IF(S171<=Z163,\"þ\",IF(S171<=AA163,\"G2\",IF(S171<=AB163,\"G3\",\"\"))))))","v":""},{"$f":"IF(S171=\"\",\"\",IF(AC163=\"T\",\"\",IF(AC163=\"F\",IF(S171>=Z163,\"þ\",IF(S171>=AA163,\"G2\",IF(S171>=AB163,\"G3\",\"\"))))))","v":""},"","","","",171]
[null,null,null,null,null,null,null,null,null,null,null,null,null,null,null,null,null,null,null,null,null,null,null,null,null,null,null,null,null,null,null,null,null,null,null,null,null,172]
[null,null,null,null,{"$f":"VLOOKUP(A174,mens_handbook,3,FALSE)","v":"Women's 4x100m Relay"},null,null,null,null,null,null,null,null,null,null,null,null,null,null,null,null,null,null,{"$f":"IF($A174=\"\",\"\",VLOOKUP($A174,Handbook!$A$4:$V$24,21,FALSE))","v":44.4},{"$f":"IF($A174=\"\",\"\",VLOOKUP($A174,Handbook!$A$4:$V$24,22,FALSE))","v":44.4},{"$f":"IF($A174=\"\",\"\",VLOOKUP($A174,Handbook!$A$4:$W$24,23,FALSE))","v":52},{"$f":"IF($A174=\"\",\"\",VLOOKUP($A174,Handbook!$A$4:$X$24,24,FALSE))","v":52},{"$f":"IF($A174=\"\",\"\",VLOOKUP($A174,Handbook!$A$4:$Y$24,25,FALSE))","v":52},{"$f":"IF($A174=\"\",\"\",VLOOKUP($A174,Handbook!$A$4:$AH$24,34,FALSE))","v":"T"},null,null,null,null,null,null,null,null,173]
[9,null,{"$f":"IF(F174=\"\",\"\",IF(F174>10,F174/11,F174))","v":4},{"$f":"IF(P174=\"\",\"\",IF(P174>10,P174/11,P174))","v":""},1,4,{"$f":"IF($F174=\"\",\"\",IF($F174>90,VLOOKUP(F174,eventcodes,2,FALSE),VLOOKUP(C174,matchday,2,FALSE)))","v":"Newham & Essex Beagles AC"},{"$f":"IF($F174=\"\",\"\",IF($F174>90,\"\",HLOOKUP($C174,declare,$B176,FALSE)))","v":"Rochelle Jones "},{"$f":"IF($F174=\"\",\"\",IF($F174>90,\"\",HLOOKUP($C174,declare,$B176+1,FALSE)))","v":"Temi Erinoso"},null,null,null,null,null,{"$f":"IF($F174=\"\",\"\",IF($F174>90,\"\",HLOOKUP($C174,declare,$B176+2,FALSE)))","v":"Susannah Banjo"},null,null,{"$f":"IF($F174=\"\",\"\",IF($F174>90,\"\",HLOOKUP($C174,declare,$B176+3,FALSE)))","v":"Tope Faith-Nuqa"},48.42,null,null,{"$f":"IF(AC173=\"T\",AF174,AG174)","v":"þ"},null,{"$f":"IF(AC173=\"F\",\"\",IF(S174<X173,\"LR\",IF(S174=X173,\"=LR\",IF(S174<Y173,\"DR\",IF(S174=Y173,\"=DR\",\"\")))))","v":""},null,null,null,null,null,null,null,{"$f":"IF(S174=\"\",\"\",IF(AC173=\"F\",\"\",IF(AC173=\"T\",IF(S174<=Z173,\"þ\",IF(S174<=AA173,\"G2\",IF(S174<=AB173,\"G3\",\"\"))))))","v":"þ"},{"$f":"IF(S174=\"\",\"\",IF(AC173=\"T\",\"\",IF(AC173=\"F\",IF(S174>=Z173,\"þ\",IF(S174>=AA173,\"G2\",IF(S174>=AB173,\"G3\",\"\"))))))","v":""},{"$f":"C174","v":4},{"$f":"IF(F174=\"\",\"\",IF(LEFT(S174,1)=\"D\",0,VLOOKUP(E174,$AT$4:$AU$40,2,FALSE)))","v":9},{"$f":"D174","v":""},{"$f":"IF(P174=\"\",\"\",IF(LEFT(S174,1)=\"D\",0,VLOOKUP(O174,$AT$4:$AV$40,3,FALSE)))","v":""},174]
[null,{"$f":"VLOOKUP(A174,Handbook!$A$4:$AK$24,37,FALSE)","v":10},{"$f":"IF(F175=\"\",\"\",IF(F175>10,F175/11,F175))","v":3},{"$f":"IF(P175=\"\",\"\",IF(P175>10,P175/11,P175))","v":""},2,3,{"$f":"IF($F175=\"\",\"\",VLOOKUP(C175,matchday,2,FALSE))","v":"Marshall Milton Keynes AC"},{"$f":"IF($F175=\"\",\"\",IF($F175>90,\"\",HLOOKUP($C175,declare,$B176,FALSE)))","v":"Chloe Walley"},{"$f":"IF($F175=\"\",\"\",IF($F175>90,\"\",HLOOKUP($C175,declare,$B176+1,FALSE)))","v":"Joey Duck"},null,null,null,null,null,{"$f":"IF($F175=\"\",\"\",IF($F175>90,\"\",HLOOKUP($C175,declare,$B176+2,FALSE)))","v":"Sophie Wilkins"},null,null,{"$f":"IF($F175=\"\",\"\",IF($F175>90,\"\",HLOOKUP($C175,declare,$B176+3,FALSE)))","v":"Kadi-Ann Thomas"},48.58,{"$f":"IF(S175=\"\",\"\",IF(AND(AC173=\"T\",S175<S174),\"X\",IF(AND(AC173=\"F\",S175>S174),\"X\",\"\")))","v":""},null,{"$f":"IF(AC173=\"T\",AF175,AG175)","v":"þ"},null,{"$f":"IF(AC173=\"T\",\"\",IF(S174>X173,\"LR\",IF(S174=X173,\"=LR\",IF(S174>Y173,\"DR\",IF(S174=Y173,\"=DR\",\"\")))))","v":""},null,null,null,null,null,null,null,{"$f":"IF(S175=\"\",\"\",IF(AC173=\"F\",\"\",IF(AC173=\"T\",IF(S175<=Z173,\"þ\",IF(S175<=AA173,\"G2\",IF(S175<=AB173,\"G3\",\"\"))))))","v":"þ"},{"$f":"IF(S175=\"\",\"\",IF(AC173=\"T\",\"\",IF(AC173=\"F\",IF(S175>=Z173,\"þ\",IF(S175>=AA173,\"G2\",IF(S175>=AB173,\"G3\",\"\"))))))","v":""},{"$f":"C175","v":3},7,{"$f":"D175","v":""},"",175]
[null,{"$f":"VLOOKUP(A174,declare,20,FALSE)","v":22},2,"",3,2,"Blackheath & Bromley H",{"$f":"IF($F176=\"\",\"\",IF($F176>90,\"\",HLOOKUP($C176,declare,$B176,FALSE)))","v":"Lauren Blackie"},{"$f":"IF($F176=\"\",\"\",IF($F176>90,\"\",HLOOKUP($C176,declare,$B176+1,FALSE)))","v":"Serita Solomon"},null,null,null,null,null,{"$f":"IF($F176=\"\",\"\",IF($F176>90,\"\",HLOOKUP($C176,declare,$B176+2,FALSE)))","v":"Emily Martin"},null,null,{"$f":"IF($F176=\"\",\"\",IF($F176>90,\"\",HLOOKUP($C176,declare,$B176+3,FALSE)))","v":"Amara Lalemi-Jacobs"},48.6,{"$f":"IF(S176=\"\",\"\",IF(AND(AC173=\"T\",S176<S175),\"X\",IF(AND(AC173=\"F\",S176>S175),\"X\",\"\")))","v":""},null,{"$f":"IF(AC173=\"T\",AF176,AG176)","v":"þ"},null,null,null,null,null,null,null,null,null,{"$f":"IF(S176=\"\",\"\",IF(AC173=\"F\",\"\",IF(AC173=\"T\",IF(S176<=Z173,\"þ\",IF(S176<=AA173,\"G2\",IF(S176<=AB173,\"G3\",\"\"))))))","v":"þ"},{"$f":"IF(S176=\"\",\"\",IF(AC173=\"T\",\"\",IF(AC173=\"F\",IF(S176>=Z173,\"þ\",IF(S176>=AA173,\"G2\",IF(S176>=AB173,\"G3\",\"\"))))))","v":""},2,6,"","",176]
[null,null,8,"",4,8,"Thames Valley H",{"$f":"IF($F177=\"\",\"\",IF($F177>90,\"\",HLOOKUP($C177,declare,$B176,FALSE)))","v":"Cleopatra Moulon"},{"$f":"IF($F177=\"\",\"\",IF($F177>90,\"\",HLOOKUP($C177,declare,$B176+1,FALSE)))","v":"Ambwene Simukonda"},null,null,null,null,null,{"$f":"IF($F177=\"\",\"\",IF($F177>90,\"\",HLOOKUP($C177,declare,$B176+2,FALSE)))","v":"Phyllis Agbo"},null,null,{"$f":"IF($F177=\"\",\"\",IF($F177>90,\"\",HLOOKUP($C177,declare,$B176+3,FALSE)))","v":"Yvette Henry"},49,{"$f":"IF(S177=\"\",\"\",IF(AND(AC173=\"T\",S177<S176),\"X\",IF(AND(AC173=\"F\",S177>S176),\"X\",\"\")))","v":""},null,{"$f":"IF(AC173=\"T\",AF177,AG177)","v":"þ"},null,null,null,null,null,null,null,null,null,{"$f":"IF(S177=\"\",\"\",IF(AC173=\"F\",\"\",IF(AC173=\"T\",IF(S177<=Z173,\"þ\",IF(S177<=AA173,\"G2\",IF(S177<=AB173,\"G3\",\"\"))))))","v":"þ"},{"$f":"IF(S177=\"\",\"\",IF(AC173=\"T\",\"\",IF(AC173=\"F\",IF(S177>=Z173,\"þ\",IF(S177>=AA173,\"G2\",IF(S177>=AB173,\"G3\",\"\"))))))","v":""},8,5,"","",177]
[null,null,7,"",5,7,"Swansea H",{"$f":"IF($F178=\"\",\"\",IF($F178>90,\"\",HLOOKUP($C178,declare,$B176,FALSE)))","v":"Sian Swanson"},{"$f":"IF($F178=\"\",\"\",IF($F178>90,\"\",HLOOKUP($C178,declare,$B176+1,FALSE)))","v":"Caryl Granville"},null,null,null,null,null,{"$f":"IF($F178=\"\",\"\",IF($F178>90,\"\",HLOOKUP($C178,declare,$B176+2,FALSE)))","v":"Megan Rogers"},null,null,{"$f":"IF($F178=\"\",\"\",IF($F178>90,\"\",HLOOKUP($C178,declare,$B176+3,FALSE)))","v":"Rebecca Williams"},49.08,{"$f":"IF(S178=\"\",\"\",IF(AND(AC173=\"T\",S178<S177),\"X\",IF(AND(AC173=\"F\",S178>S177),\"X\",\"\")))","v":""},null,{"$f":"IF(AC173=\"T\",AF178,AG178)","v":"þ"},null,null,null,null,null,null,null,null,null,{"$f":"IF(S178=\"\",\"\",IF(AC173=\"F\",\"\",IF(AC173=\"T\",IF(S178<=Z173,\"þ\",IF(S178<=AA173,\"G2\",IF(S178<=AB173,\"G3\",\"\"))))))","v":"þ"},{"$f":"IF(S178=\"\",\"\",IF(AC173=\"T\",\"\",IF(AC173=\"F\",IF(S178>=Z173,\"þ\",IF(S178>=AA173,\"G2\",IF(S178>=AB173,\"G3\",\"\"))))))","v":""},7,4,"","",178]
[null,null,6,"",6,6,"Southampton AC",{"$f":"IF($F179=\"\",\"\",IF($F179>90,\"\",HLOOKUP($C179,declare,$B176,FALSE)))","v":"Emily Bonnett"},{"$f":"IF($F179=\"\",\"\",IF($F179>90,\"\",HLOOKUP($C179,declare,$B176+1,FALSE)))","v":"Becca Carozzi"},null,null,null,null,null,{"$f":"IF($F179=\"\",\"\",IF($F179>90,\"\",HLOOKUP($C179,declare,$B176+2,FALSE)))","v":"Karla Drew"},null,null,{"$f":"IF($F179=\"\",\"\",IF($F179>90,\"\",HLOOKUP($C179,declare,$B176+3,FALSE)))","v":"Emily Newton"},49.37,{"$f":"IF(S179=\"\",\"\",IF(AND(AC173=\"T\",S179<S178),\"X\",IF(AND(AC173=\"F\",S179>S178),\"X\",\"\")))","v":""},null,{"$f":"IF(AC173=\"T\",AF179,AG179)","v":"þ"},null,null,null,null,null,null,null,null,null,{"$f":"IF(S179=\"\",\"\",IF(AC173=\"F\",\"\",IF(AC173=\"T\",IF(S179<=Z173,\"þ\",IF(S179<=AA173,\"G2\",IF(S179<=AB173,\"G3\",\"\"))))))","v":"þ"},{"$f":"IF(S179=\"\",\"\",IF(AC173=\"T\",\"\",IF(AC173=\"F\",IF(S179>=Z173,\"þ\",IF(S179>=AA173,\"G2\",IF(S179>=AB173,\"G3\",\"\"))))))","v":""},6,3,"","",179]
[null,null,1,"",7,1,"Bedford & County AC",{"$f":"IF($F180=\"\",\"\",IF($F180>90,\"\",HLOOKUP($C180,declare,$B176,FALSE)))","v":"Emma Bailey"},{"$f":"IF($F180=\"\",\"\",IF($F180>90,\"\",HLOOKUP($C180,declare,$B176+1,FALSE)))","v":"Hannah Frith"},null,null,null,null,null,{"$f":"IF($F180=\"\",\"\",IF($F180>90,\"\",HLOOKUP($C180,declare,$B176+2,FALSE)))","v":"Lucy Spray"},null,null,{"$f":"IF($F180=\"\",\"\",IF($F180>90,\"\",HLOOKUP($C180,declare,$B176+3,FALSE)))","v":"Laura Duke"},52.08,{"$f":"IF(S180=\"\",\"\",IF(AND(AC173=\"T\",S180<S179),\"X\",IF(AND(AC173=\"F\",S180>S179),\"X\",\"\")))","v":""},null,{"$f":"IF(AC173=\"T\",AF180,AG180)","v":""},null,null,null,null,null,null,null,null,null,{"$f":"IF(S180=\"\",\"\",IF(AC173=\"F\",\"\",IF(AC173=\"T\",IF(S180<=Z173,\"þ\",IF(S180<=AA173,\"G2\",IF(S180<=AB173,\"G3\",\"\"))))))","v":""},{"$f":"IF(S180=\"\",\"\",IF(AC173=\"T\",\"\",IF(AC173=\"F\",IF(S180>=Z173,\"þ\",IF(S180>=AA173,\"G2\",IF(S180>=AB173,\"G3\",\"\"))))))","v":""},1,2,"","",180]
[null,null,5,"",8,5,"Shaftesbury Barnet H",{"$f":"IF($F181=\"\",\"\",IF($F181>90,\"\",HLOOKUP($C181,declare,$B176,FALSE)))","v":"Gerda Vaitkaityte"},{"$f":"IF($F181=\"\",\"\",IF($F181>90,\"\",HLOOKUP($C181,declare,$B176+1,FALSE)))","v":"Gaby Rowsell (U20)"},null,null,null,null,null,{"$f":"IF($F181=\"\",\"\",IF($F181>90,\"\",HLOOKUP($C181,declare,$B176+2,FALSE)))","v":"Chisom Nwachukwu (U20)"},null,null,{"$f":"IF($F181=\"\",\"\",IF($F181>90,\"\",HLOOKUP($C181,declare,$B176+3,FALSE)))","v":"Lucy Aukett"},53,{"$f":"IF(S181=\"\",\"\",IF(AND(AC173=\"T\",S181<S180),\"X\",IF(AND(AC173=\"F\",S181>S180),\"X\",\"\")))","v":""},null,{"$f":"IF(AC173=\"T\",AF181,AG181)","v":""},null,null,null,null,null,null,null,null,null,{"$f":"IF(S181=\"\",\"\",IF(AC173=\"F\",\"\",IF(AC173=\"T\",IF(S181<=Z173,\"þ\",IF(S181<=AA173,\"G2\",IF(S181<=AB173,\"G3\",\"\"))))))","v":""},{"$f":"IF(S181=\"\",\"\",IF(AC173=\"T\",\"\",IF(AC173=\"F\",IF(S181>=Z173,\"þ\",IF(S181>=AA173,\"G2\",IF(S181>=AB173,\"G3\",\"\"))))))","v":""},5,1,"","",181]
[null,null,null,null,null,null,null,null,null,null,null,null,null,null,null,null,null,null,null,null,null,null,null,null,null,null,null,null,null,null,null,null,null,null,null,null,null,182]
[null,null,null,null,{"$f":"VLOOKUP(A184,mens_handbook,3,FALSE)","v":"Women's 4x400m Relay"},null,null,null,null,null,null,null,null,null,null,null,null,null,null,null,null,null,null,{"$f":"IF($A184=\"\",\"\",VLOOKUP($A184,Handbook!$A$4:$V$24,21,FALSE))","v":"00:03:34.560"},{"$f":"IF($A184=\"\",\"\",VLOOKUP($A184,Handbook!$A$4:$V$24,22,FALSE))","v":"00:03:40.930"},{"$f":"IF($A184=\"\",\"\",VLOOKUP($A184,Handbook!$A$4:$W$24,23,FALSE))","v":"00:04:15"},{"$f":"IF($A184=\"\",\"\",VLOOKUP($A184,Handbook!$A$4:$X$24,24,FALSE))","v":"00:04:15"},{"$f":"IF($A184=\"\",\"\",VLOOKUP($A184,Handbook!$A$4:$Y$24,25,FALSE))","v":"00:04:15"},{"$f":"IF($A184=\"\",\"\",VLOOKUP($A184,Handbook!$A$4:$AH$24,34,FALSE))","v":"T"},null,null,null,null,null,null,null,null,183]
[10,null,{"$f":"IF(F184=\"\",\"\",IF(F184>10,F184/11,F184))","v":7},{"$f":"IF(P184=\"\",\"\",IF(P184>10,P184/11,P184))","v":""},1,7,{"$f":"IF($F184=\"\",\"\",IF($F184>90,VLOOKUP(F184,eventcodes,2,FALSE),VLOOKUP(C184,matchday,2,FALSE)))","v":"Swansea H"},{"$f":"IF($F184=\"\",\"\",IF($F184>90,\"\",HLOOKUP($C184,declare,$B186,FALSE)))","v":"Rebecca Williams"},{"$f":"IF($F184=\"\",\"\",IF($F184>90,\"\",HLOOKUP($C184,declare,$B186+1,FALSE)))","v":"Anwen Rees"},null,null,null,null,null,{"$f":"IF($F184=\"\",\"\",IF($F184>90,\"\",HLOOKUP($C184,declare,$B186+2,FALSE)))","v":"Megan Rogers"},null,null,{"$f":"IF($F184=\"\",\"\",IF($F184>90,\"\",HLOOKUP($C184,declare,$B186+3,FALSE)))","v":"Caryl Granville"},"00:03:51.020",null,null,{"$f":"IF(AC183=\"T\",AF184,AG184)","v":"þ"},null,{"$f":"IF(AC183=\"F\",\"\",IF(S184<X183,\"LR\",IF(S184=X183,\"=LR\",IF(S184<Y183,\"DR\",IF(S184=Y183,\"=DR\",\"\")))))","v":""},null,null,null,null,null,null,null,{"$f":"IF(S184=\"\",\"\",IF(AC183=\"F\",\"\",IF(AC183=\"T\",IF(S184<=Z183,\"þ\",IF(S184<=AA183,\"G2\",IF(S184<=AB183,\"G3\",\"\"))))))","v":"þ"},{"$f":"IF(S184=\"\",\"\",IF(AC183=\"T\",\"\",IF(AC183=\"F\",IF(S184>=Z183,\"þ\",IF(S184>=AA183,\"G2\",IF(S184>=AB183,\"G3\",\"\"))))))","v":""},{"$f":"C184","v":7},{"$f":"IF(F184=\"\",\"\",IF(LEFT(S184,1)=\"D\",0,VLOOKUP(E184,$AT$4:$AU$40,2,FALSE)))","v":9},{"$f":"D184","v":""},{"$f":"IF(P184=\"\",\"\",IF(LEFT(S184,1)=\"D\",0,VLOOKUP(O184,$AT$4:$AV$40,3,FALSE)))","v":""},184]
[null,{"$f":"VLOOKUP(A184,Handbook!$A$4:$AK$24,37,FALSE)","v":11},{"$f":"IF(F185=\"\",\"\",IF(F185>10,F185/11,F185))","v":6},{"$f":"IF(P185=\"\",\"\",IF(P185>10,P185/11,P185))","v":""},2,6,{"$f":"IF($F185=\"\",\"\",VLOOKUP(C185,matchday,2,FALSE))","v":"Southampton AC"},{"$f":"IF($F185=\"\",\"\",IF($F185>90,\"\",HLOOKUP($C185,declare,$B186,FALSE)))","v":"Millie Clifford"},{"$f":"IF($F185=\"\",\"\",IF($F185>90,\"\",HLOOKUP($C185,declare,$B186+1,FALSE)))","v":"Rhianna Parker-Simpson"},null,null,null,null,null,{"$f":"IF($F185=\"\",\"\",IF($F185>90,\"\",HLOOKUP($C185,declare,$B186+2,FALSE)))","v":"Jenny Beckingham"},null,null,{"$f":"IF($F185=\"\",\"\",IF($F185>90,\"\",HLOOKUP($C185,declare,$B186+3,FALSE)))","v":"Emily Bonnett"},"00:03:53.680",{"$f":"IF(S185=\"\",\"\",IF(AND(AC183=\"T\",S185<S184),\"X\",IF(AND(AC183=\"F\",S185>S184),\"X\",\"\")))","v":""},null,{"$f":"IF(AC183=\"T\",AF185,AG185)","v":"þ"},null,{"$f":"IF(AC183=\"T\",\"\",IF(S184>X183,\"LR\",IF(S184=X183,\"=LR\",IF(S184>Y183,\"DR\",IF(S184=Y183,\"=DR\",\"\")))))","v":""},null,null,null,null,null,null,null,{"$f":"IF(S185=\"\",\"\",IF(AC183=\"F\",\"\",IF(AC183=\"T\",IF(S185<=Z183,\"þ\",IF(S185<=AA183,\"G2\",IF(S185<=AB183,\"G3\",\"\"))))))","v":"þ"},{"$f":"IF(S185=\"\",\"\",IF(AC183=\"T\",\"\",IF(AC183=\"F\",IF(S185>=Z183,\"þ\",IF(S185>=AA183,\"G2\",IF(S185>=AB183,\"G3\",\"\"))))))","v":""},{"$f":"C185","v":6},7,{"$f":"D185","v":""},"",185]
[null,{"$f":"VLOOKUP(A184,declare,20,FALSE)","v":26},2,"",3,2,"Blackheath & Bromley H",{"$f":"IF($F186=\"\",\"\",IF($F186>90,\"\",HLOOKUP($C186,declare,$B186,FALSE)))","v":"Krystal Galley"},{"$f":"IF($F186=\"\",\"\",IF($F186>90,\"\",HLOOKUP($C186,declare,$B186+1,FALSE)))","v":"Amara Lalemi-Jacobs"},null,null,null,null,null,{"$f":"IF($F186=\"\",\"\",IF($F186>90,\"\",HLOOKUP($C186,declare,$B186+2,FALSE)))","v":"Megan Southwart"},null,null,{"$f":"IF($F186=\"\",\"\",IF($F186>90,\"\",HLOOKUP($C186,declare,$B186+3,FALSE)))","v":"Yimika Adewakun"},"00:03:53.820",{"$f":"IF(S186=\"\",\"\",IF(AND(AC183=\"T\",S186<S185),\"X\",IF(AND(AC183=\"F\",S186>S185),\"X\",\"\")))","v":""},null,{"$f":"IF(AC183=\"T\",AF186,AG186)","v":"þ"},null,null,null,null,null,null,null,null,null,{"$f":"IF(S186=\"\",\"\",IF(AC183=\"F\",\"\",IF(AC183=\"T\",IF(S186<=Z183,\"þ\",IF(S186<=AA183,\"G2\",IF(S186<=AB183,\"G3\",\"\"))))))","v":"þ"},{"$f":"IF(S186=\"\",\"\",IF(AC183=\"T\",\"\",IF(AC183=\"F\",IF(S186>=Z183,\"þ\",IF(S186>=AA183,\"G2\",IF(S186>=AB183,\"G3\",\"\"))))))","v":""},2,6,"","",186]
[null,null,3,"",4,3,"Marshall Milton Keynes AC",{"$f":"IF($F187=\"\",\"\",IF($F187>90,\"\",HLOOKUP($C187,declare,$B186,FALSE)))","v":"Sophie Wilkins"},{"$f":"IF($F187=\"\",\"\",IF($F187>90,\"\",HLOOKUP($C187,declare,$B186+1,FALSE)))","v":"Ellie Roche (U20)"},null,null,null,null,null,{"$f":"IF($F187=\"\",\"\",IF($F187>90,\"\",HLOOKUP($C187,declare,$B186+2,FALSE)))","v":"Joey Duck"},null,null,{"$f":"IF($F187=\"\",\"\",IF($F187>90,\"\",HLOOKUP($C187,declare,$B186+3,FALSE)))","v":"Kadi-Ann Thomas"},"00:03:57.580",{"$f":"IF(S187=\"\",\"\",IF(AND(AC183=\"T\",S187<S186),\"X\",IF(AND(AC183=\"F\",S187>S186),\"X\",\"\")))","v":""},null,{"$f":"IF(AC183=\"T\",AF187,AG187)","v":"þ"},null,null,null,null,null,null,null,null,null,{"$f":"IF(S187=\"\",\"\",IF(AC183=\"F\",\"\",IF(AC183=\"T\",IF(S187<=Z183,\"þ\",IF(S187<=AA183,\"G2\",IF(S187<=AB183,\"G3\",\"\"))))))","v":"þ"},{"$f":"IF(S187=\"\",\"\",IF(AC183=\"T\",\"\",IF(AC183=\"F\",IF(S187>=Z183,\"þ\",IF(S187>=AA183,\"G2\",IF(S187>=AB183,\"G3\",\"\"))))))","v":""},3,5,"","",187]
[null,null,4,"",5,4,"Newham & Essex Beagles AC",{"$f":"IF($F188=\"\",\"\",IF($F188>90,\"\",HLOOKUP($C188,declare,$B186,FALSE)))","v":"Chioma Matthews"},{"$f":"IF($F188=\"\",\"\",IF($F188>90,\"\",HLOOKUP($C188,declare,$B186+1,FALSE)))","v":"Kate Laidlow"},null,null,null,null,null,{"$f":"IF($F188=\"\",\"\",IF($F188>90,\"\",HLOOKUP($C188,declare,$B186+2,FALSE)))","v":"Susannah Banjo"},null,null,{"$f":"IF($F188=\"\",\"\",IF($F188>90,\"\",HLOOKUP($C188,declare,$B186+3,FALSE)))","v":"Tope Faith-Nuqa"},"00:03:59.480",{"$f":"IF(S188=\"\",\"\",IF(AND(AC183=\"T\",S188<S187),\"X\",IF(AND(AC183=\"F\",S188>S187),\"X\",\"\")))","v":""},null,{"$f":"IF(AC183=\"T\",AF188,AG188)","v":"þ"},null,null,null,null,null,null,null,null,null,{"$f":"IF(S188=\"\",\"\",IF(AC183=\"F\",\"\",IF(AC183=\"T\",IF(S188<=Z183,\"þ\",IF(S188<=AA183,\"G2\",IF(S188<=AB183,\"G3\",\"\"))))))","v":"þ"},{"$f":"IF(S188=\"\",\"\",IF(AC183=\"T\",\"\",IF(AC183=\"F\",IF(S188>=Z183,\"þ\",IF(S188>=AA183,\"G2\",IF(S188>=AB183,\"G3\",\"\"))))))","v":""},4,4,"","",188]
[null,null,8,"",6,8,"Thames Valley H",{"$f":"IF($F189=\"\",\"\",IF($F189>90,\"\",HLOOKUP($C189,declare,$B186,FALSE)))","v":"Phyllis Agbo"},{"$f":"IF($F189=\"\",\"\",IF($F189>90,\"\",HLOOKUP($C189,declare,$B186+1,FALSE)))","v":"Yvette Henry"},null,null,null,null,null,{"$f":"IF($F189=\"\",\"\",IF($F189>90,\"\",HLOOKUP($C189,declare,$B186+2,FALSE)))","v":"Cleopatra Moulon"},null,null,{"$f":"IF($F189=\"\",\"\",IF($F189>90,\"\",HLOOKUP($C189,declare,$B186+3,FALSE)))","v":"Ambwene Simukonda"},"00:04:03.870",{"$f":"IF(S189=\"\",\"\",IF(AND(AC183=\"T\",S189<S188),\"X\",IF(AND(AC183=\"F\",S189>S188),\"X\",\"\")))","v":""},null,{"$f":"IF(AC183=\"T\",AF189,AG189)","v":"þ"},null,null,null,null,null,null,null,null,null,{"$f":"IF(S189=\"\",\"\",IF(AC183=\"F\",\"\",IF(AC183=\"T\",IF(S189<=Z183,\"þ\",IF(S189<=AA183,\"G2\",IF(S189<=AB183,\"G3\",\"\"))))))","v":"þ"},{"$f":"IF(S189=\"\",\"\",IF(AC183=\"T\",\"\",IF(AC183=\"F\",IF(S189>=Z183,\"þ\",IF(S189>=AA183,\"G2\",IF(S189>=AB183,\"G3\",\"\"))))))","v":""},8,3,"","",189]
[null,null,5,"",7,5,"Shaftesbury Barnet H",{"$f":"IF($F190=\"\",\"\",IF($F190>90,\"\",HLOOKUP($C190,declare,$B186,FALSE)))","v":"Gerda Vaitkaityte"},{"$f":"IF($F190=\"\",\"\",IF($F190>90,\"\",HLOOKUP($C190,declare,$B186+1,FALSE)))","v":"Gaby Rowsell (U20)"},null,null,null,null,null,{"$f":"IF($F190=\"\",\"\",IF($F190>90,\"\",HLOOKUP($C190,declare,$B186+2,FALSE)))","v":"Lucy Aukett"},null,null,{"$f":"IF($F190=\"\",\"\",IF($F190>90,\"\",HLOOKUP($C190,declare,$B186+3,FALSE)))","v":"Amy Campbell"},"00:04:15.640",{"$f":"IF(S190=\"\",\"\",IF(AND(AC183=\"T\",S190<S189),\"X\",IF(AND(AC183=\"F\",S190>S189),\"X\",\"\")))","v":""},null,{"$f":"IF(AC183=\"T\",AF190,AG190)","v":""},null,null,null,null,null,null,null,null,null,{"$f":"IF(S190=\"\",\"\",IF(AC183=\"F\",\"\",IF(AC183=\"T\",IF(S190<=Z183,\"þ\",IF(S190<=AA183,\"G2\",IF(S190<=AB183,\"G3\",\"\"))))))","v":""},{"$f":"IF(S190=\"\",\"\",IF(AC183=\"T\",\"\",IF(AC183=\"F\",IF(S190>=Z183,\"þ\",IF(S190>=AA183,\"G2\",IF(S190>=AB183,\"G3\",\"\"))))))","v":""},5,2,"","",190]
[null,null,"","",8,null,"",{"$f":"IF($F191=\"\",\"\",IF($F191>90,\"\",HLOOKUP($C191,declare,$B186,FALSE)))","v":""},{"$f":"IF($F191=\"\",\"\",IF($F191>90,\"\",HLOOKUP($C191,declare,$B186+1,FALSE)))","v":""},null,null,null,null,null,{"$f":"IF($F191=\"\",\"\",IF($F191>90,\"\",HLOOKUP($C191,declare,$B186+2,FALSE)))","v":""},null,null,{"$f":"IF($F191=\"\",\"\",IF($F191>90,\"\",HLOOKUP($C191,declare,$B186+3,FALSE)))","v":""},null,{"$f":"IF(S191=\"\",\"\",IF(AND(AC183=\"T\",S191<S190),\"X\",IF(AND(AC183=\"F\",S191>S190),\"X\",\"\")))","v":""},null,{"$f":"IF(AC183=\"T\",AF191,AG191)","v":""},null,null,null,null,null,null,null,null,null,{"$f":"IF(S191=\"\",\"\",IF(AC183=\"F\",\"\",IF(AC183=\"T\",IF(S191<=Z183,\"þ\",IF(S191<=AA183,\"G2\",IF(S191<=AB183,\"G3\",\"\"))))))","v":""},{"$f":"IF(S191=\"\",\"\",IF(AC183=\"T\",\"\",IF(AC183=\"F\",IF(S191>=Z183,\"þ\",IF(S191>=AA183,\"G2\",IF(S191>=AB183,\"G3\",\"\"))))))","v":""},"","","","",191]
[]
[]
[null,null,null,null,null,"MATCH RESULT",null,"League Points","Match",null,null,null,null,null,null,"STANDINGS",null,"League Points","Match"]
[null,null,null,null,1,{"$f":"IF(Points!$U$24=0,\"\",HLOOKUP(E195,Points!$C$47:$R$53,2,FALSE))","v":"B&B"},null,{"$f":"IF(Points!$U$24=0,\"\",HLOOKUP(E195,Points!$C$47:$R$53,7,FALSE))","v":8},{"$f":"IF(Points!$U$24=0,\"\",HLOOKUP(E195,Points!$C$47:$R$53,5,FALSE))","v":224.00000000384094},null,null,null,null,null,1,{"$f":"IF(Points!$U$24=0,\"\",HLOOKUP(O195,Points!$B$55:$R$59,2,FALSE))","v":"B&B"},null,{"$f":"IF(Points!$U$24=0,\"\",HLOOKUP(O195,Points!$B$55:$R$59,3,FALSE))","v":22},{"$f":"IF(Points!$U$24=0,\"\",HLOOKUP(O195,Points!$B$55:$R$59,4,FALSE))","v":631.00000000384091}]
[null,null,null,null,2,{"$f":"IF(Points!$U$24=0,\"\",HLOOKUP(E196,Points!$C$47:$R$53,2,FALSE))","v":"SWA"},null,{"$f":"IF(Points!$U$24=0,\"\",HLOOKUP(E196,Points!$C$47:$R$53,7,FALSE))","v":7},{"$f":"IF(Points!$U$24=0,\"\",HLOOKUP(E196,Points!$C$47:$R$53,5,FALSE))","v":205.00000000174086},null,null,null,null,null,2,{"$f":"IF(Points!$U$24=0,\"\",HLOOKUP(O196,Points!$B$55:$R$59,2,FALSE))","v":"SWA"},null,{"$f":"IF(Points!$U$24=0,\"\",HLOOKUP(O196,Points!$B$55:$R$59,3,FALSE))","v":20},{"$f":"IF(Points!$U$24=0,\"\",HLOOKUP(O196,Points!$B$55:$R$59,4,FALSE))","v":597.00000000174089}]
[null,null,null,null,3,{"$f":"IF(Points!$U$24=0,\"\",HLOOKUP(E197,Points!$C$47:$R$53,2,FALSE))","v":"TVH"},null,{"$f":"IF(Points!$U$24=0,\"\",HLOOKUP(E197,Points!$C$47:$R$53,7,FALSE))","v":6},{"$f":"IF(Points!$U$24=0,\"\",HLOOKUP(E197,Points!$C$47:$R$53,5,FALSE))","v":188.00000000242954},null,null,null,null,null,3,{"$f":"IF(Points!$U$24=0,\"\",HLOOKUP(O197,Points!$B$55:$R$59,2,FALSE))","v":"TVH"},null,{"$f":"IF(Points!$U$24=0,\"\",HLOOKUP(O197,Points!$B$55:$R$59,3,FALSE))","v":20},{"$f":"IF(Points!$U$24=0,\"\",HLOOKUP(O197,Points!$B$55:$R$59,4,FALSE))","v":587.00000000242949}]
[null,null,null,null,4,{"$f":"IF(Points!$U$24=0,\"\",HLOOKUP(E198,Points!$C$47:$R$53,2,FALSE))","v":"STN"},null,{"$f":"IF(Points!$U$24=0,\"\",HLOOKUP(E198,Points!$C$47:$R$53,7,FALSE))","v":5},{"$f":"IF(Points!$U$24=0,\"\",HLOOKUP(E198,Points!$C$47:$R$53,5,FALSE))","v":182.00000000242741},null,null,null,null,null,4,{"$f":"IF(Points!$U$24=0,\"\",HLOOKUP(O198,Points!$B$55:$R$59,2,FALSE))","v":"SBH"},null,{"$f":"IF(Points!$U$24=0,\"\",HLOOKUP(O198,Points!$B$55:$R$59,3,FALSE))","v":15},{"$f":"IF(Points!$U$24=0,\"\",HLOOKUP(O198,Points!$B$55:$R$59,4,FALSE))","v":551.00000000012324}]
[null,null,null,null,5,{"$f":"IF(Points!$U$24=0,\"\",HLOOKUP(E199,Points!$C$47:$R$53,2,FALSE))","v":"SBH"},null,{"$f":"IF(Points!$U$24=0,\"\",HLOOKUP(E199,Points!$C$47:$R$53,7,FALSE))","v":4},{"$f":"IF(Points!$U$24=0,\"\",HLOOKUP(E199,Points!$C$47:$R$53,5,FALSE))","v":169.00000000012329},null,null,null,null,null,5,{"$f":"IF(Points!$U$24=0,\"\",HLOOKUP(O199,Points!$B$55:$R$59,2,FALSE))","v":"STN"},null,{"$f":"IF(Points!$U$24=0,\"\",HLOOKUP(O199,Points!$B$55:$R$59,3,FALSE))","v":13},{"$f":"IF(Points!$U$24=0,\"\",HLOOKUP(O199,Points!$B$55:$R$59,4,FALSE))","v":509.50000000242744}]
[null,null,null,null,6,{"$f":"IF(Points!$U$24=0,\"\",HLOOKUP(E200,Points!$C$47:$R$53,2,FALSE))","v":"MKN"},null,{"$f":"IF(Points!$U$24=0,\"\",HLOOKUP(E200,Points!$C$47:$R$53,7,FALSE))","v":3},{"$f":"IF(Points!$U$24=0,\"\",HLOOKUP(E200,Points!$C$47:$R$53,5,FALSE))","v":168.00000000238703},null,null,null,null,null,6,{"$f":"IF(Points!$U$24=0,\"\",HLOOKUP(O200,Points!$B$55:$R$59,2,FALSE))","v":"NEB"},null,{"$f":"IF(Points!$U$24=0,\"\",HLOOKUP(O200,Points!$B$55:$R$59,3,FALSE))","v":7},{"$f":"IF(Points!$U$24=0,\"\",HLOOKUP(O200,Points!$B$55:$R$59,4,FALSE))","v":401.00000000081195}]
[null,null,null,null,7,{"$f":"IF(Points!$U$24=0,\"\",HLOOKUP(E201,Points!$C$47:$R$53,2,FALSE))","v":"BFD"},null,{"$f":"IF(Points!$U$24=0,\"\",HLOOKUP(E201,Points!$C$47:$R$53,7,FALSE))","v":2},{"$f":"IF(Points!$U$24=0,\"\",HLOOKUP(E201,Points!$C$47:$R$53,5,FALSE))","v":126.00000000162608},null,null,null,null,null,7,{"$f":"IF(Points!$U$24=0,\"\",HLOOKUP(O201,Points!$B$55:$R$59,2,FALSE))","v":"BFD"},null,{"$f":"IF(Points!$U$24=0,\"\",HLOOKUP(O201,Points!$B$55:$R$59,3,FALSE))","v":6},{"$f":"IF(Points!$U$24=0,\"\",HLOOKUP(O201,Points!$B$55:$R$59,4,FALSE))","v":378.00000000162606}]
[null,null,null,null,8,{"$f":"IF(Points!$U$24=0,\"\",HLOOKUP(E202,Points!$C$47:$R$53,2,FALSE))","v":"NEB"},null,{"$f":"IF(Points!$U$24=0,\"\",HLOOKUP(E202,Points!$C$47:$R$53,7,FALSE))","v":1},{"$f":"IF(Points!$U$24=0,\"\",HLOOKUP(E202,Points!$C$47:$R$53,5,FALSE))","v":120.00000000081198},null,null,null,null,null,8,{"$f":"IF(Points!$U$24=0,\"\",HLOOKUP(O202,Points!$B$55:$R$59,2,FALSE))","v":"MKN"},null,{"$f":"IF(Points!$U$24=0,\"\",HLOOKUP(O202,Points!$B$55:$R$59,3,FALSE))","v":5},{"$f":"IF(Points!$U$24=0,\"\",HLOOKUP(O202,Points!$B$55:$R$59,4,FALSE))","v":401.50000000238703}]
[]
[11.05,10.050000000000001,0.01,2,{"$f":"CONCATENATE(VLOOKUP(A205,mens_handbook,3,FALSE),\"  \")","v":"100m Non Scoring  "},null,null,{"$f":"IF(A205=\"\",\"\",IF(VLOOKUP(A205,Handbook!$A$4:$AI$24,35,FALSE)=\"Y\",\"Wind=\",\"\"))","v":"Wind="},"-1.8",null,null,null,null,null,null,{"$f":"CONCATENATE(VLOOKUP(A206,mens_handbook,3,FALSE),\"  \")","v":"400m Non Scoring  "},{"$f":"CONCATENATE(VLOOKUP(N205,Handbook!$A$4:$C$24,3,FALSE),\" A\")","v":{"$error":"#N/A"}},null,null,null,null,null,null,{"$f":"IF($A205=\"\",\"\",VLOOKUP($A205,Handbook!$A$4:$V$24,21,FALSE))","v":11.1},{"$f":"IF($A205=\"\",\"\",VLOOKUP($A205,Handbook!$A$4:$V$24,22,FALSE))","v":11.1},{"$f":"IF($A205=\"\",\"\",VLOOKUP($A205,Handbook!$A$4:$W$24,23,FALSE))","v":13},{"$f":"IF($A205=\"\",\"\",VLOOKUP($A205,Handbook!$A$4:$X$24,24,FALSE))","v":13},{"$f":"IF($A205=\"\",\"\",VLOOKUP($A205,Handbook!$A$4:$Y$24,25,FALSE))","v":13},{"$f":"IF($A205=\"\",\"\",VLOOKUP($A205,Handbook!$A$4:$AH$24,34,FALSE))","v":"T"},null,null,null,null,null,null,null,null,3,null,null,null,null,null,null,null,null,"A","B"]
[19,null,{"$f":"IF(F205=\"\",\"\",IF(F205>10,F205/11,F205))","v":3.0909090909090908},{"$f":"IF(P205=\"\",\"\",IF(P205>10,P205/11,P205))","v":""},1,34,"Temi Erinoso",null,12.95,{"$f":"IF(I205=\"\",\"\",IF(AC204=\"T\",X205,X206))","v":""},null,{"$f":"IF(OR(F205=0,F205=\"\",I205=0,I205=\"\"),\"\",IF(I205>A204,0,INT(((B204-I205)*D204/C204)+250)))","v":0},{"$f":"IF(AC204=\"T\",AD205,AE205)","v":"þ"},null,1,null,null,null,null,null,{"$f":"IF(OR(P205=0,P205=\"\",S205=0,S205=\"\"),\"\",IF(S205>A204,0,INT(((B204-S205)*D204/C204)+250)))","v":""},{"$f":"IF(AC204=\"T\",AF205,AG205)","v":""},null,{"$f":"IF(AC204=\"F\",\"\",IF(I205<X204,\"LR\",IF(I205=X204,\"=LR\",IF(I205<Y204,\"DR\",IF(I205=Y204,\"=DR\",\"\")))))","v":""},null,null,null,null,null,{"$f":"IF(I205=\"\",\"\",IF(AC204=\"F\",\"\",IF(AC204=\"T\",IF(I205<=Z204,\"þ\",IF(I205<=AA204,\"G2\",IF(I205<=AB204,\"G3\",\"\"))))))","v":"þ"},{"$f":"IF(I205=\"\",\"\",IF(AC204=\"T\",\"\",IF(AC204=\"F\",IF(I205>=Z204,\"þ\",IF(I205>=AA204,\"G2\",IF(I205>=AB204,\"G3\",\"\"))))))","v":""},{"$f":"IF(S205=\"\",\"\",IF(AC204=\"F\",\"\",IF(AC204=\"T\",IF(S205<=Z204,\"þ\",IF(S205<=AA204,\"G2\",IF(S205<=AB204,\"G3\",\"\"))))))","v":""},{"$f":"IF(S205=\"\",\"\",IF(AC204=\"T\",\"\",IF(AC204=\"F\",IF(S205>=Z204,\"þ\",IF(S205>=AA204,\"G2\",IF(S205>=AB204,\"G3\",\"\"))))))","v":""},{"$f":"C205","v":3.0909090909090908},{"$f":"IF(F205=\"\",\"\",IF(LEFT(I205,1)=\"D\",0,VLOOKUP(E205,$AT$4:$AU$40,2,FALSE)))","v":9},{"$f":"D205","v":""},{"$f":"IF(P205=\"\",\"\",IF(LEFT(S205,1)=\"D\",0,VLOOKUP(O205,$AT$4:$AV$40,3,FALSE)))","v":""},4,null,{"$f":"'Match Day'!B206","v":0},null,null,null,null,null,"Posn","Points","Points"]
[20,{"$f":"VLOOKUP(A205,Handbook!$A$4:$AK$24,37,FALSE)","v":20},{"$f":"IF(F206=\"\",\"\",IF(F206>10,F206/11,F206))","v":3.1818181818181817},{"$f":"IF(P206=\"\",\"\",IF(P206>10,P206/11,P206))","v":""},2,35,"Paula Watson",null,13.5,{"$f":"IF(I206=\"\",\"\",IF(AND(AC204=\"T\",I206<I205),\"X\",IF(AND(AC204=\"F\",I206>I205),\"X\",\"\")))","v":""},null,{"$f":"IF(OR(F206=0,F206=\"\",I206=0,I206=\"\"),\"\",IF(I206>A204,0,INT(((B204-I206)*D204/C204)+250)))","v":0},{"$f":"IF(AC204=\"T\",AD206,AE206)","v":""},null,2,null,null,null,null,{"$f":"IF(S206=\"\",\"\",IF(AND(AC204=\"T\",S206<S205),\"X\",IF(AND(AC204=\"F\",S206>S205),\"X\",\"\")))","v":""},{"$f":"IF(OR(P206=0,P206=\"\",S206=0,S206=\"\"),\"\",IF(S206>A204,0,INT(((B204-S206)*D204/C204)+250)))","v":""},{"$f":"IF(AC204=\"T\",AF206,AG206)","v":""},null,{"$f":"IF(AC204=\"T\",\"\",IF(I205>X204,\"LR\",IF(I205=X204,\"=LR\",IF(I205>Y204,\"DR\",IF(I205=Y204,\"=DR\",\"\")))))","v":""},null,null,null,null,null,{"$f":"IF(I206=\"\",\"\",IF(AC204=\"F\",\"\",IF(AC204=\"T\",IF(I206<=Z204,\"þ\",IF(I206<=AA204,\"G2\",IF(I206<=AB204,\"G3\",\"\"))))))","v":""},{"$f":"IF(I206=\"\",\"\",IF(AC204=\"T\",\"\",IF(AC204=\"F\",IF(I206>=Z204,\"þ\",IF(I206>=AA204,\"G2\",IF(I206>=AB204,\"G3\",\"\"))))))","v":""},{"$f":"IF(S206=\"\",\"\",IF(AC204=\"F\",\"\",IF(AC204=\"T\",IF(S206<=Z204,\"þ\",IF(S206<=AA204,\"G2\",IF(S206<=AB204,\"G3\",\"\"))))))","v":""},{"$f":"IF(S206=\"\",\"\",IF(AC204=\"T\",\"\",IF(AC204=\"F\",IF(S206>=Z204,\"þ\",IF(S206>=AA204,\"G2\",IF(S206>=AB204,\"G3\",\"\"))))))","v":""},{"$f":"C206","v":3.1818181818181817},7,{"$f":"D206","v":""},"",5,null,{"$f":"'Match Day'!B208","v":0},null,null,null,null,null,1,9,7]
[null,{"$f":"VLOOKUP(A205,declare,20,FALSE)","v":20},"",{"$error":"#VALUE!"},3,null,null,null,null,{"$f":"IF(I207=\"\",\"\",IF(AND(AC204=\"T\",I207<I206),\"X\",IF(AND(AC204=\"F\",I207>I206),\"X\",\"\")))","v":""},null,{"$f":"IF(OR(F207=0,F207=\"\",I207=0,I207=\"\"),\"\",IF(I207>A204,0,INT(((B204-I207)*D204/C204)+250)))","v":""},{"$f":"IF(AC204=\"T\",AD207,AE207)","v":""},null,null,"Pole vault Non Scoring",{"$f":"CONCATENATE(VLOOKUP(N208,Handbook!$A$4:$C$24,3,FALSE),\" A\")","v":{"$error":"#N/A"}},null,null,{"$f":"IF(S207=\"\",\"\",IF(AND(AC204=\"T\",S207<S206),\"X\",IF(AND(AC204=\"F\",S207>S206),\"X\",\"\")))","v":""},{"$f":"IF(OR(P207=0,P207=\"\",S207=0,S207=\"\"),\"\",IF(S207>A204,0,INT(((B204-S207)*D204/C204)+250)))","v":""},{"$f":"IF(AC204=\"T\",AF207,AG207)","v":""},null,null,null,null,null,null,null,{"$f":"IF(I207=\"\",\"\",IF(AC204=\"F\",\"\",IF(AC204=\"T\",IF(I207<=Z204,\"þ\",IF(I207<=AA204,\"G2\",IF(I207<=AB204,\"G3\",\"\"))))))","v":""},{"$f":"IF(I207=\"\",\"\",IF(AC204=\"T\",\"\",IF(AC204=\"F\",IF(I207>=Z204,\"þ\",IF(I207>=AA204,\"G2\",IF(I207>=AB204,\"G3\",\"\"))))))","v":""},{"$f":"IF(S207=\"\",\"\",IF(AC204=\"F\",\"\",IF(AC204=\"T\",IF(S207<=Z204,\"þ\",IF(S207<=AA204,\"G2\",IF(S207<=AB204,\"G3\",\"\"))))))","v":""},{"$f":"IF(S207=\"\",\"\",IF(AC204=\"T\",\"\",IF(AC204=\"F\",IF(S207>=Z204,\"þ\",IF(S207>=AA204,\"G2\",IF(S207>=AB204,\"G3\",\"\"))))))","v":""},"","",{"$error":"#VALUE!"},{"$error":"#N/A"},6,null,{"$f":"'Match Day'!B210","v":0},null,null,null,null,null,2,7,5]
[null,null,"","",4,null,null,null,null,{"$f":"IF(I208=\"\",\"\",IF(AND(AC204=\"T\",I208<I207),\"X\",IF(AND(AC204=\"F\",I208>I207),\"X\",\"\")))","v":""},null,{"$f":"IF(OR(F208=0,F208=\"\",I208=0,I208=\"\"),\"\",IF(I208>A204,0,INT(((B204-I208)*D204/C204)+250)))","v":""},{"$f":"IF(AC204=\"T\",AD208,AE208)","v":""},null,1,null,"Christina Moore",null,null,{"$f":"IF(S208=\"\",\"\",IF(AND(AC204=\"T\",S208<S207),\"X\",IF(AND(AC204=\"F\",S208>S207),\"X\",\"\")))","v":""},{"$f":"IF(OR(P208=0,P208=\"\",S208=0,S208=\"\"),\"\",IF(S208>A204,0,INT(((B204-S208)*D204/C204)+250)))","v":""},{"$f":"IF(AC204=\"T\",AF208,AG208)","v":""},null,null,null,null,null,null,null,{"$f":"IF(I208=\"\",\"\",IF(AC204=\"F\",\"\",IF(AC204=\"T\",IF(I208<=Z204,\"þ\",IF(I208<=AA204,\"G2\",IF(I208<=AB204,\"G3\",\"\"))))))","v":""},{"$f":"IF(I208=\"\",\"\",IF(AC204=\"T\",\"\",IF(AC204=\"F\",IF(I208>=Z204,\"þ\",IF(I208>=AA204,\"G2\",IF(I208>=AB204,\"G3\",\"\"))))))","v":""},{"$f":"IF(S208=\"\",\"\",IF(AC204=\"F\",\"\",IF(AC204=\"T\",IF(S208<=Z204,\"þ\",IF(S208<=AA204,\"G2\",IF(S208<=AB204,\"G3\",\"\"))))))","v":""},{"$f":"IF(S208=\"\",\"\",IF(AC204=\"T\",\"\",IF(AC204=\"F\",IF(S208>=Z204,\"þ\",IF(S208>=AA204,\"G2\",IF(S208>=AB204,\"G3\",\"\"))))))","v":""},"","","","",7,null,{"$f":"'Match Day'!B212","v":0},null,null,null,null,null,3,6,4]
[null,null,"",null,5,null,null,null,null,{"$f":"IF(I209=\"\",\"\",IF(AND(AC204=\"T\",I209<I208),\"X\",IF(AND(AC204=\"F\",I209>I208),\"X\",\"\")))","v":""},null,{"$f":"IF(OR(F209=0,F209=\"\",I209=0,I209=\"\"),\"\",IF(I209>A204,0,INT(((B204-I209)*D204/C204)+250)))","v":""},{"$f":"IF(AC204=\"T\",AD209,AE209)","v":""},null,null,null,null,null,null,{"$f":"IF(S209=\"\",\"\",IF(AND(AC205=\"T\",S209<S208),\"X\",IF(AND(AC205=\"F\",S209>S208),\"X\",\"\")))","v":""},{"$f":"IF(OR(P209=0,P209=\"\",S209=0,S209=\"\"),\"\",IF(S209>A204,0,INT(((B204-S209)*D204/C204)+250)))","v":""},null,null,null,null,null,null,null,null,{"$f":"IF(I209=\"\",\"\",IF(AC204=\"F\",\"\",IF(AC204=\"T\",IF(I209<=Z204,\"þ\",IF(I209<=AA204,\"G2\",IF(I209<=AB204,\"G3\",\"\"))))))","v":""},{"$f":"IF(I209=\"\",\"\",IF(AC204=\"T\",\"\",IF(AC204=\"F\",IF(I209>=Z204,\"þ\",IF(I209>=AA204,\"G2\",IF(I209>=AB204,\"G3\",\"\"))))))","v":""},{"$f":"IF(#REF!=\"\",\"\",IF(AC204=\"F\",\"\",IF(AC204=\"T\",IF(#REF!<=Z204,\"þ\",IF(#REF!<=AA204,\"G2\",IF(#REF!<=AB204,\"G3\",\"\"))))))","v":{"$error":"#REF!"}},{"$f":"IF(#REF!=\"\",\"\",IF(AC204=\"T\",\"\",IF(AC204=\"F\",IF(#REF!>=Z204,\"þ\",IF(#REF!>=AA204,\"G2\",IF(#REF!>=AB204,\"G3\",\"\"))))))","v":{"$error":"#REF!"}},"","",0,{"$f":"IF(#REF!=\"\",\"\",IF(LEFT(#REF!,1)=\"D\",0,VLOOKUP(O209,$AT$4:$AV$40,3,FALSE)))","v":{"$error":"#REF!"}},8,null,{"$f":"'Match Day'!B214","v":0},null,null,null,null,null,4,5,3]
[null,null,"",{"$f":"IF(P209=\"\",\"\",IF(P209>10,P209/11,P209))","v":""},6,null,null,null,null,{"$f":"IF(I210=\"\",\"\",IF(AND(AC204=\"T\",I210<I209),\"X\",IF(AND(AC204=\"F\",I210>I209),\"X\",\"\")))","v":""},null,{"$f":"IF(OR(F210=0,F210=\"\",I210=0,I210=\"\"),\"\",IF(I210>A204,0,INT(((B204-I210)*D204/C204)+250)))","v":""},{"$f":"IF(AC204=\"T\",AD210,AE210)","v":""},null,null,null,null,null,null,{"$f":"IF(S210=\"\",\"\",IF(AND(AC206=\"T\",S210<S209),\"X\",IF(AND(AC206=\"F\",S210>S209),\"X\",\"\")))","v":""},{"$f":"IF(OR(P210=0,P210=\"\",S210=0,S210=\"\"),\"\",IF(S210>A204,0,INT(((B204-S210)*D204/C204)+250)))","v":""},{"$f":"IF(AC204=\"T\",AF210,AG210)","v":""},null,null,null,null,null,null,null,{"$f":"IF(I210=\"\",\"\",IF(AC204=\"F\",\"\",IF(AC204=\"T\",IF(I210<=Z204,\"þ\",IF(I210<=AA204,\"G2\",IF(I210<=AB204,\"G3\",\"\"))))))","v":""},{"$f":"IF(I210=\"\",\"\",IF(AC204=\"T\",\"\",IF(AC204=\"F\",IF(I210>=Z204,\"þ\",IF(I210>=AA204,\"G2\",IF(I210>=AB204,\"G3\",\"\"))))))","v":""},{"$f":"IF(S209=\"\",\"\",IF(AC204=\"F\",\"\",IF(AC204=\"T\",IF(S209<=Z204,\"þ\",IF(S209<=AA204,\"G2\",IF(S209<=AB204,\"G3\",\"\"))))))","v":""},{"$f":"IF(S209=\"\",\"\",IF(AC204=\"T\",\"\",IF(AC204=\"F\",IF(S209>=Z204,\"þ\",IF(S209>=AA204,\"G2\",IF(S209>=AB204,\"G3\",\"\"))))))","v":""},"","","",{"$f":"IF(P209=\"\",\"\",IF(LEFT(S209,1)=\"D\",0,VLOOKUP(O210,$AT$4:$AV$40,3,FALSE)))","v":""},9,null,{"$f":"'Match Day'!B216","v":0},null,null,null,null,null,5,4,2]
[null,null,"",{"$f":"IF(P210=\"\",\"\",IF(P210>10,P210/11,P210))","v":""},7,null,null,null,null,{"$f":"IF(I211=\"\",\"\",IF(AND(AC204=\"T\",I211<I210),\"X\",IF(AND(AC204=\"F\",I211>I210),\"X\",\"\")))","v":""},null,{"$f":"IF(OR(F211=0,F211=\"\",I211=0,I211=\"\"),\"\",IF(I211>A204,0,INT(((B204-I211)*D204/C204)+250)))","v":""},{"$f":"IF(AC204=\"T\",AD211,AE211)","v":""},null,null,null,null,null,null,{"$f":"IF(S210=\"\",\"\",IF(AND(AC204=\"T\",S210<S209),\"X\",IF(AND(AC204=\"F\",S210>S209),\"X\",\"\")))","v":""},{"$f":"IF(OR(P211=0,P211=\"\",S211=0,S211=\"\"),\"\",IF(S211>A204,0,INT(((B204-S211)*D204/C204)+250)))","v":""},{"$f":"IF(AC204=\"T\",AF211,AG211)","v":""},null,null,null,null,null,null,null,{"$f":"IF(I211=\"\",\"\",IF(AC204=\"F\",\"\",IF(AC204=\"T\",IF(I211<=Z204,\"þ\",IF(I211<=AA204,\"G2\",IF(I211<=AB204,\"G3\",\"\"))))))","v":""},{"$f":"IF(I211=\"\",\"\",IF(AC204=\"T\",\"\",IF(AC204=\"F\",IF(I211>=Z204,\"þ\",IF(I211>=AA204,\"G2\",IF(I211>=AB204,\"G3\",\"\"))))))","v":""},{"$f":"IF(S210=\"\",\"\",IF(AC204=\"F\",\"\",IF(AC204=\"T\",IF(S210<=Z204,\"þ\",IF(S210<=AA204,\"G2\",IF(S210<=AB204,\"G3\",\"\"))))))","v":""},{"$f":"IF(S210=\"\",\"\",IF(AC204=\"T\",\"\",IF(AC204=\"F\",IF(S210>=Z204,\"þ\",IF(S210>=AA204,\"G2\",IF(S210>=AB204,\"G3\",\"\"))))))","v":""},"","","",{"$f":"IF(P210=\"\",\"\",IF(LEFT(S210,1)=\"D\",0,VLOOKUP(O211,$AT$4:$AV$40,3,FALSE)))","v":""},10,null,{"$f":"'Match Day'!B218","v":0},null,null,null,null,null,6,3,1]
[null,null,"","",8,null,null,null,null,{"$f":"IF(I212=\"\",\"\",IF(AND(AC204=\"T\",I212<I211),\"X\",IF(AND(AC204=\"F\",I212>I211),\"X\",\"\")))","v":""},null,{"$f":"IF(OR(F212=0,F212=\"\",I212=0,I212=\"\"),\"\",IF(I212>A204,0,INT(((B204-I212)*D204/C204)+250)))","v":""},{"$f":"IF(AC204=\"T\",AD212,AE212)","v":""},null,null,null,null,null,null,{"$f":"IF(S212=\"\",\"\",IF(AND(AC204=\"T\",S212<S210),\"X\",IF(AND(AC204=\"F\",S212>S210),\"X\",\"\")))","v":""},{"$f":"IF(OR(P212=0,P212=\"\",S212=0,S212=\"\"),\"\",IF(S212>A204,0,INT(((B204-S212)*D204/C204)+250)))","v":""},{"$f":"IF(AC204=\"T\",AF212,AG212)","v":""},null,null,null,null,null,null,null,{"$f":"IF(I212=\"\",\"\",IF(AC204=\"F\",\"\",IF(AC204=\"T\",IF(I212<=Z204,\"þ\",IF(I212<=AA204,\"G2\",IF(I212<=AB204,\"G3\",\"\"))))))","v":""},{"$f":"IF(I212=\"\",\"\",IF(AC204=\"T\",\"\",IF(AC204=\"F\",IF(I212>=Z204,\"þ\",IF(I212>=AA204,\"G2\",IF(I212>=AB204,\"G3\",\"\"))))))","v":""},{"$f":"IF(S212=\"\",\"\",IF(AC204=\"F\",\"\",IF(AC204=\"T\",IF(S212<=Z204,\"þ\",IF(S212<=AA204,\"G2\",IF(S212<=AB204,\"G3\",\"\"))))))","v":""},{"$f":"IF(S212=\"\",\"\",IF(AC204=\"T\",\"\",IF(AC204=\"F\",IF(S212>=Z204,\"þ\",IF(S212>=AA204,\"G2\",IF(S212>=AB204,\"G3\",\"\"))))))","v":""},"","","","",11,null,{"$f":"'Match Day'!B220","v":0},null,null,null,null,null,7,0,0]
[]
[null,null,null,null,{"$f":"CONCATENATE(VLOOKUP(A215,mens_handbook,3,FALSE),\" Non Scoring\")","v":"Women's 100m Non Scoring"},null,null,{"$f":"IF(A215=\"\",\"\",IF(VLOOKUP(A215,Handbook!$A$4:$AI$24,35,FALSE)=\"Y\",\"Wind=\",\"\"))","v":"Wind="},null,null,null,null,null,null,null,null,null,null,null,null,null,null,null,{"$f":"IF($A215=\"\",\"\",VLOOKUP($A215,Handbook!$A$4:$V$24,21,FALSE))","v":11.1},{"$f":"IF($A215=\"\",\"\",VLOOKUP($A215,Handbook!$A$4:$V$24,22,FALSE))","v":11.1},{"$f":"IF($A215=\"\",\"\",VLOOKUP($A215,Handbook!$A$4:$W$24,23,FALSE))","v":13},{"$f":"IF($A215=\"\",\"\",VLOOKUP($A215,Handbook!$A$4:$X$24,24,FALSE))","v":13},{"$f":"IF($A215=\"\",\"\",VLOOKUP($A215,Handbook!$A$4:$Y$24,25,FALSE))","v":13},{"$f":"IF($A215=\"\",\"\",VLOOKUP($A215,Handbook!$A$4:$AH$24,34,FALSE))","v":"T"},null,null,null,null,null,null,null,null,3,null,null,null,null,null,null,null,null,"A","B"]
[3,null,{"$f":"IF(F215=\"\",\"\",IF(F215>10,F215/11,F215))","v":""},{"$f":"IF(P215=\"\",\"\",IF(P215>10,P215/11,P215))","v":""},1,null,null,null,null,{"$f":"IF(I215=\"\",\"\",IF(AC214=\"T\",X215,X216))","v":""},null,null,{"$f":"IF(AC214=\"T\",AD215,AE215)","v":""},null,null,null,null,null,null,null,null,null,null,{"$f":"IF(AC214=\"F\",\"\",IF(I215<X214,\"LR\",IF(I215=X214,\"=LR\",IF(I215<Y214,\"DR\",IF(I215=Y214,\"=DR\",\"\")))))","v":"LR"},null,null,null,null,null,{"$f":"IF(I215=\"\",\"\",IF(AC214=\"F\",\"\",IF(AC214=\"T\",IF(I215<=Z214,\"þ\",IF(I215<=AA214,\"G2\",IF(I215<=AB214,\"G3\",\"\"))))))","v":""},{"$f":"IF(I215=\"\",\"\",IF(AC214=\"T\",\"\",IF(AC214=\"F\",IF(I215>=Z214,\"þ\",IF(I215>=AA214,\"G2\",IF(I215>=AB214,\"G3\",\"\"))))))","v":""},{"$f":"IF(S215=\"\",\"\",IF(AC214=\"F\",\"\",IF(AC214=\"T\",IF(S215<=Z214,\"þ\",IF(S215<=AA214,\"G2\",IF(S215<=AB214,\"G3\",\"\"))))))","v":""},{"$f":"IF(S215=\"\",\"\",IF(AC214=\"T\",\"\",IF(AC214=\"F\",IF(S215>=Z214,\"þ\",IF(S215>=AA214,\"G2\",IF(S215>=AB214,\"G3\",\"\"))))))","v":""},{"$f":"C215","v":""},{"$f":"IF(F215=\"\",\"\",IF(LEFT(I215,1)=\"D\",0,VLOOKUP(E215,$AT$4:$AU$40,2,FALSE)))","v":""},{"$f":"D215","v":""},{"$f":"IF(P215=\"\",\"\",IF(LEFT(S215,1)=\"D\",0,VLOOKUP(O215,$AT$4:$AV$40,3,FALSE)))","v":""},4,null,{"$f":"'Match Day'!B216","v":0},null,null,null,null,null,"Posn","Points","Points"]
[null,{"$f":"VLOOKUP(A215,Handbook!$A$4:$AK$24,37,FALSE)","v":4},{"$f":"IF(F216=\"\",\"\",IF(F216>10,F216/11,F216))","v":""},{"$f":"IF(P216=\"\",\"\",IF(P216>10,P216/11,P216))","v":""},2,null,null,null,null,{"$f":"IF(I216=\"\",\"\",IF(AND(AC214=\"T\",I216<I215),\"X\",IF(AND(AC214=\"F\",I216>I215),\"X\",\"\")))","v":""},null,null,{"$f":"IF(AC214=\"T\",AD216,AE216)","v":""},null,null,null,null,null,null,null,null,null,null,{"$f":"IF(AC214=\"T\",\"\",IF(I215>X214,\"LR\",IF(I215=X214,\"=LR\",IF(I215>Y214,\"DR\",IF(I215=Y214,\"=DR\",\"\")))))","v":""},null,null,null,null,null,{"$f":"IF(I216=\"\",\"\",IF(AC214=\"F\",\"\",IF(AC214=\"T\",IF(I216<=Z214,\"þ\",IF(I216<=AA214,\"G2\",IF(I216<=AB214,\"G3\",\"\"))))))","v":""},{"$f":"IF(I216=\"\",\"\",IF(AC214=\"T\",\"\",IF(AC214=\"F\",IF(I216>=Z214,\"þ\",IF(I216>=AA214,\"G2\",IF(I216>=AB214,\"G3\",\"\"))))))","v":""},{"$f":"IF(S216=\"\",\"\",IF(AC214=\"F\",\"\",IF(AC214=\"T\",IF(S216<=Z214,\"þ\",IF(S216<=AA214,\"G2\",IF(S216<=AB214,\"G3\",\"\"))))))","v":""},{"$f":"IF(S216=\"\",\"\",IF(AC214=\"T\",\"\",IF(AC214=\"F\",IF(S216>=Z214,\"þ\",IF(S216>=AA214,\"G2\",IF(S216>=AB214,\"G3\",\"\"))))))","v":""},{"$f":"C216","v":""},"",{"$f":"D216","v":""},"",5,null,{"$f":"'Match Day'!B218","v":0},null,null,null,null,null,1,9,7]
[null,{"$f":"VLOOKUP(A215,declare,20,FALSE)","v":3},"","",3,null,null,null,null,{"$f":"IF(I217=\"\",\"\",IF(AND(AC214=\"T\",I217<I216),\"X\",IF(AND(AC214=\"F\",I217>I216),\"X\",\"\")))","v":""},null,null,{"$f":"IF(AC214=\"T\",AD217,AE217)","v":""},null,null,null,null,null,null,null,null,null,null,null,null,null,null,null,null,{"$f":"IF(I217=\"\",\"\",IF(AC214=\"F\",\"\",IF(AC214=\"T\",IF(I217<=Z214,\"þ\",IF(I217<=AA214,\"G2\",IF(I217<=AB214,\"G3\",\"\"))))))","v":""},{"$f":"IF(I217=\"\",\"\",IF(AC214=\"T\",\"\",IF(AC214=\"F\",IF(I217>=Z214,\"þ\",IF(I217>=AA214,\"G2\",IF(I217>=AB214,\"G3\",\"\"))))))","v":""},{"$f":"IF(S217=\"\",\"\",IF(AC214=\"F\",\"\",IF(AC214=\"T\",IF(S217<=Z214,\"þ\",IF(S217<=AA214,\"G2\",IF(S217<=AB214,\"G3\",\"\"))))))","v":""},{"$f":"IF(S217=\"\",\"\",IF(AC214=\"T\",\"\",IF(AC214=\"F\",IF(S217>=Z214,\"þ\",IF(S217>=AA214,\"G2\",IF(S217>=AB214,\"G3\",\"\"))))))","v":""},"","","","",6,null,{"$f":"'Match Day'!B220","v":0},null,null,null,null,null,2,7,5]
[null,null,"","",4,null,null,null,null,{"$f":"IF(I218=\"\",\"\",IF(AND(AC214=\"T\",I218<I217),\"X\",IF(AND(AC214=\"F\",I218>I217),\"X\",\"\")))","v":""},null,null,{"$f":"IF(AC214=\"T\",AD218,AE218)","v":""},null,null,null,null,null,null,null,null,null,null,null,null,null,null,null,null,{"$f":"IF(I218=\"\",\"\",IF(AC214=\"F\",\"\",IF(AC214=\"T\",IF(I218<=Z214,\"þ\",IF(I218<=AA214,\"G2\",IF(I218<=AB214,\"G3\",\"\"))))))","v":""},{"$f":"IF(I218=\"\",\"\",IF(AC214=\"T\",\"\",IF(AC214=\"F\",IF(I218>=Z214,\"þ\",IF(I218>=AA214,\"G2\",IF(I218>=AB214,\"G3\",\"\"))))))","v":""},{"$f":"IF(S218=\"\",\"\",IF(AC214=\"F\",\"\",IF(AC214=\"T\",IF(S218<=Z214,\"þ\",IF(S218<=AA214,\"G2\",IF(S218<=AB214,\"G3\",\"\"))))))","v":""},{"$f":"IF(S218=\"\",\"\",IF(AC214=\"T\",\"\",IF(AC214=\"F\",IF(S218>=Z214,\"þ\",IF(S218>=AA214,\"G2\",IF(S218>=AB214,\"G3\",\"\"))))))","v":""},"","","","",7,null,{"$f":"'Match Day'!B222","v":0},null,null,null,null,null,3,6,4]
[null,null,"","",5,null,null,null,null,{"$f":"IF(I219=\"\",\"\",IF(AND(AC214=\"T\",I219<I218),\"X\",IF(AND(AC214=\"F\",I219>I218),\"X\",\"\")))","v":""},null,null,{"$f":"IF(AC214=\"T\",AD219,AE219)","v":""},null,null,null,null,null,null,null,null,null,null,null,null,null,null,null,null,{"$f":"IF(I219=\"\",\"\",IF(AC214=\"F\",\"\",IF(AC214=\"T\",IF(I219<=Z214,\"þ\",IF(I219<=AA214,\"G2\",IF(I219<=AB214,\"G3\",\"\"))))))","v":""},{"$f":"IF(I219=\"\",\"\",IF(AC214=\"T\",\"\",IF(AC214=\"F\",IF(I219>=Z214,\"þ\",IF(I219>=AA214,\"G2\",IF(I219>=AB214,\"G3\",\"\"))))))","v":""},{"$f":"IF(S219=\"\",\"\",IF(AC214=\"F\",\"\",IF(AC214=\"T\",IF(S219<=Z214,\"þ\",IF(S219<=AA214,\"G2\",IF(S219<=AB214,\"G3\",\"\"))))))","v":""},{"$f":"IF(S219=\"\",\"\",IF(AC214=\"T\",\"\",IF(AC214=\"F\",IF(S219>=Z214,\"þ\",IF(S219>=AA214,\"G2\",IF(S219>=AB214,\"G3\",\"\"))))))","v":""},"","","","",8,null,{"$f":"'Match Day'!B224","v":0},null,null,null,null,null,4,5,3]
[null,null,"","",6,null,null,null,null,{"$f":"IF(I220=\"\",\"\",IF(AND(AC214=\"T\",I220<I219),\"X\",IF(AND(AC214=\"F\",I220>I219),\"X\",\"\")))","v":""},null,null,{"$f":"IF(AC214=\"T\",AD220,AE220)","v":""},null,null,null,null,null,null,null,null,null,null,null,null,null,null,null,null,{"$f":"IF(I220=\"\",\"\",IF(AC214=\"F\",\"\",IF(AC214=\"T\",IF(I220<=Z214,\"þ\",IF(I220<=AA214,\"G2\",IF(I220<=AB214,\"G3\",\"\"))))))","v":""},{"$f":"IF(I220=\"\",\"\",IF(AC214=\"T\",\"\",IF(AC214=\"F\",IF(I220>=Z214,\"þ\",IF(I220>=AA214,\"G2\",IF(I220>=AB214,\"G3\",\"\"))))))","v":""},{"$f":"IF(S220=\"\",\"\",IF(AC214=\"F\",\"\",IF(AC214=\"T\",IF(S220<=Z214,\"þ\",IF(S220<=AA214,\"G2\",IF(S220<=AB214,\"G3\",\"\"))))))","v":""},{"$f":"IF(S220=\"\",\"\",IF(AC214=\"T\",\"\",IF(AC214=\"F\",IF(S220>=Z214,\"þ\",IF(S220>=AA214,\"G2\",IF(S220>=AB214,\"G3\",\"\"))))))","v":""},"","","","",9,null,{"$f":"'Match Day'!B226","v":0},null,null,null,null,null,5,4,2]
[null,null,"","",7,null,null,null,null,{"$f":"IF(I221=\"\",\"\",IF(AND(AC214=\"T\",I221<I220),\"X\",IF(AND(AC214=\"F\",I221>I220),\"X\",\"\")))","v":""},null,null,{"$f":"IF(AC214=\"T\",AD221,AE221)","v":""},null,null,null,null,null,null,null,null,null,null,null,null,null,null,null,null,{"$f":"IF(I221=\"\",\"\",IF(AC214=\"F\",\"\",IF(AC214=\"T\",IF(I221<=Z214,\"þ\",IF(I221<=AA214,\"G2\",IF(I221<=AB214,\"G3\",\"\"))))))","v":""},{"$f":"IF(I221=\"\",\"\",IF(AC214=\"T\",\"\",IF(AC214=\"F\",IF(I221>=Z214,\"þ\",IF(I221>=AA214,\"G2\",IF(I221>=AB214,\"G3\",\"\"))))))","v":""},{"$f":"IF(S221=\"\",\"\",IF(AC214=\"F\",\"\",IF(AC214=\"T\",IF(S221<=Z214,\"þ\",IF(S221<=AA214,\"G2\",IF(S221<=AB214,\"G3\",\"\"))))))","v":""},{"$f":"IF(S221=\"\",\"\",IF(AC214=\"T\",\"\",IF(AC214=\"F\",IF(S221>=Z214,\"þ\",IF(S221>=AA214,\"G2\",IF(S221>=AB214,\"G3\",\"\"))))))","v":""},"","","","",10,null,{"$f":"'Match Day'!B228","v":0},null,null,null,null,null,6,3,1]
[null,null,"","",8,null,null,null,null,{"$f":"IF(I222=\"\",\"\",IF(AND(AC214=\"T\",I222<I221),\"X\",IF(AND(AC214=\"F\",I222>I221),\"X\",\"\")))","v":""},null,null,{"$f":"IF(AC214=\"T\",AD222,AE222)","v":""},null,null,null,null,null,null,null,null,null,null,null,null,null,null,null,null,{"$f":"IF(I222=\"\",\"\",IF(AC214=\"F\",\"\",IF(AC214=\"T\",IF(I222<=Z214,\"þ\",IF(I222<=AA214,\"G2\",IF(I222<=AB214,\"G3\",\"\"))))))","v":""},{"$f":"IF(I222=\"\",\"\",IF(AC214=\"T\",\"\",IF(AC214=\"F\",IF(I222>=Z214,\"þ\",IF(I222>=AA214,\"G2\",IF(I222>=AB214,\"G3\",\"\"))))))","v":""},{"$f":"IF(S222=\"\",\"\",IF(AC214=\"F\",\"\",IF(AC214=\"T\",IF(S222<=Z214,\"þ\",IF(S222<=AA214,\"G2\",IF(S222<=AB214,\"G3\",\"\"))))))","v":""},{"$f":"IF(S222=\"\",\"\",IF(AC214=\"T\",\"\",IF(AC214=\"F\",IF(S222>=Z214,\"þ\",IF(S222>=AA214,\"G2\",IF(S222>=AB214,\"G3\",\"\"))))))","v":""},"","","","",11,null,{"$f":"'Match Day'!B230","v":0},null,null,null,null,null,7,0,0]

{"sheet":"ResultsF","index":3,"n_rows":201,"n_cols":47,"rows_kept":201,"cut":false,"hidden":true,"merged":[[182,17,182,18],[178,13,178,15],[181,16,181,18],[0,31,0,34],[0,27,0,30],[0,16,0,18],[1,33,1,34],[1,14,1,15],[1,27,1,28],[173,13,173,15],[181,13,181,15],[0,38,1,41],[175,8,175,12],[172,17,172,18],[1,31,1,32],[131,8,131,12],[131,13,131,15],[131,16,131,18],[151,16,151,18],[1,29,1,30],[2,14,2,15],[12,14,12,15],[22,14,22,15],[32,14,32,15],[82,14,82,15],[121,13,121,15],[112,14,112,15],[111,16,111,18],[42,4,42,6],[62,4,62,6],[52,4,52,6],[72,4,72,6],[0,4,0,6],[1,4,1,7],[2,4,2,6],[12,4,12,6],[22,4,22,6],[32,4,32,6],[0,7,0,15],[42,14,42,15],[62,14,62,15],[72,14,72,15],[52,14,52,15],[162,4,162,6],[162,14,162,15],[132,14,132,15],[92,14,92,15],[122,4,122,6],[122,14,122,15],[111,13,111,15],[121,8,121,12],[111,8,111,12],[152,4,152,6],[112,4,112,6],[142,4,142,6],[82,4,82,6],[141,8,141,12],[92,4,92,6],[102,4,102,6],[102,14,102,15],[101,16,101,18],[101,13,101,15],[173,8,173,12],[171,16,171,18],[161,16,161,18],[171,8,171,12],[171,13,171,15],[152,14,152,15],[161,8,161,12],[161,13,161,15],[141,16,141,18],[141,13,141,15],[142,14,142,15],[151,8,151,12],[151,13,151,15],[121,16,121,18],[172,4,172,16],[101,8,101,12],[132,4,132,6],[176,8,176,12],[176,13,176,15],[177,8,177,12],[178,8,178,12],[180,13,180,15],[177,13,177,15],[175,13,175,15],[174,8,174,12],[174,13,174,15],[192,4,192,6],[192,13,192,15],[1,42,1,44],[187,8,187,12],[187,13,187,15],[190,8,190,12],[190,13,190,15],[188,8,188,12],[179,8,179,12],[189,8,189,12],[189,13,189,15],[185,8,185,12],[185,13,185,15],[186,8,186,12],[186,13,186,15],[188,13,188,15],[184,8,184,12],[184,13,184,15],[179,13,179,15],[183,8,183,12],[183,13,183,15],[180,8,180,12],[181,8,181,12],[182,4,182,16]]}
[null,null,null,null,"Home",null,null,{"$f":"'Match Day'!I4","v":"UK Womens League"},null,null,null,null,null,null,null,null,"Home",null,null,null,null,null,null,null,null,null,null,"Grades",null,null,null,"Points",null,null,null,null,null,null,"Enter Club Letter, Performance and any Wind Readings in the Yellow Boxes. Times for 800m and above should be entered as mm:ss.0 Otherwise use ss.0"]
[null,null,null,null,{"$f":"CONCATENATE('Match Day'!I8,\" \",'Match Day'!I10,\" - \",'Match Day'!I12)","v":"Division 1 Match 3 - Winchester"},null,null,null,"Perf","Record","Wind","AW",null,null,{"$f":"'Match Day'!I6","v":"Saturday, 6th August"},null,null,"Perf","Wind","AW","Prints","Record","Division","Grade 1","Grade 2","Grade 3","T/F","A String",null,"B String",null,"A String",null,"B String",null,"Row",null,"Validation",null,null,null,null,"Points"]
[null,null,null,null,{"$f":"CONCATENATE(VLOOKUP(A4,womens_handbook,3,FALSE),\" A\")","v":"Women's 100m A"},null,null,{"$f":"IF(A4=\"\",\"\",IF(VLOOKUP(A4,Handbook!$A$4:$AI$24,35,FALSE)=\"Y\",\"Wind=\",\"\"))","v":"Wind="},null,null,null,null,null,null,{"$f":"CONCATENATE(VLOOKUP(A4,womens_handbook,3,FALSE),\" B\")","v":"Women's 100m B"},{"$f":"CONCATENATE(VLOOKUP(M4,Handbook!$A$4:$C$24,3,FALSE),\" A\")","v":{"$error":"#N/A"}},{"$f":"H3","v":"Wind="},null,null,null,null,{"$f":"IF($A4=\"\",\"\",VLOOKUP($A4,Handbook!$A$26:$AK$46,21,FALSE))","v":11.1},{"$f":"IF($A4=\"\",\"\",VLOOKUP($A4,Handbook!$A$26:$AK$46,22,FALSE))","v":11.3},{"$f":"IF($A4=\"\",\"\",VLOOKUP($A4,Handbook!$A$26:$AK$46,23,FALSE))","v":13},{"$f":"IF($A4=\"\",\"\",VLOOKUP($A4,Handbook!$A$26:$AK$46,24,FALSE))","v":13},{"$f":"IF($A4=\"\",\"\",VLOOKUP($A4,Handbook!$A$26:$AK$46,25,FALSE))","v":13},{"$f":"IF($A4=\"\",\"\",VLOOKUP($A4,Handbook!$A$26:$AK$46,34,FALSE))","v":"T"},null,null,null,null,null,null,null,null,3,null,null,null,null,null,null,null,"A","B"]
[3,null,{"$f":"IF(F4=\"\",\"\",IF(F4>10,F4/11,F4))","v":""},{"$f":"IF(O4=\"\",\"\",IF(O4>10,O4/11,O4))","v":""},1,null,{"$f":"IF($F4=\"\",\"\",IF($F4>90,VLOOKUP(F4,eventcodes,2,FALSE),HLOOKUP(F4,womens_declare,B6,FALSE)))","v":""},{"$f":"IF($F4=\"\",\"\",IF($F4>90,\"\",VLOOKUP(C4,matchday,2,FALSE)))","v":""},null,{"$f":"IF(I4=\"\",\"\",IF(AA3=\"T\",V4,V5))","v":""},null,{"$f":"IF(AA3=\"T\",AB4,AC4)","v":""},null,1,null,{"$f":"IF($O4=\"\",\"\",HLOOKUP(O4,womens_declare,B6,FALSE))","v":""},{"$f":"IF($O4=\"\",\"\",VLOOKUP(D4,matchday,2,FALSE))","v":""},null,null,{"$f":"IF(AA3=\"T\",AD4,AE4)","v":""},null,{"$f":"IF(AA3=\"F\",\"\",IF(I4<V3,\"LR\",IF(I4=V3,\"=LR\",IF(I4<W3,\"DR\",IF(I4=W3,\"=DR\",\"\")))))","v":"LR"},null,null,null,null,null,{"$f":"IF(I4=\"\",\"\",IF(AA3=\"F\",\"\",IF(AA3=\"T\",IF(I4<=X3,\"þ\",IF(I4<=Y3,\"G2\",IF(I4<=Z3,\"G3\",\"\"))))))","v":""},{"$f":"IF(I4=\"\",\"\",IF(AA3=\"T\",\"\",IF(AA3=\"F\",IF(I4>=X3,\"þ\",IF(I4>=Y3,\"G2\",IF(I4>=Z3,\"G3\",\"\"))))))","v":""},{"$f":"IF(R4=\"\",\"\",IF(AA3=\"F\",\"\",IF(AA3=\"T\",IF(R4<=X3,\"þ\",IF(R4<=Y3,\"G2\",IF(R4<=Z3,\"G3\",\"\"))))))","v":""},{"$f":"IF(R4=\"\",\"\",IF(AA3=\"T\",\"\",IF(AA3=\"F\",IF(R4>=X3,\"þ\",IF(R4>=Y3,\"G2\",IF(R4>=Z3,\"G3\",\"\"))))))","v":""},{"$f":"C4","v":""},{"$f":"IF(F4=\"\",\"\",IF(LEFT(I4,1)=\"D\",0,VLOOKUP(E4,$AQ$4:$AR$40,2,FALSE)))","v":""},{"$f":"D4","v":""},{"$f":"IF(O4=\"\",\"\",IF(LEFT(R4,1)=\"D\",0,VLOOKUP(N4,$AQ$4:$AS$40,3,FALSE)))","v":""},4,null,{"$f":"'Match Day'!B4","v":1},null,null,null,null,"Posn","Points","Points"]
[null,{"$f":"VLOOKUP(A4,Handbook!$A$26:$AK$46,37,FALSE)","v":4},"","",2,null,{"$f":"IF($F5=\"\",\"\",HLOOKUP(F5,womens_declare,B6,FALSE))","v":""},{"$f":"IF($F5=\"\",\"\",VLOOKUP(C5,matchday,2,FALSE))","v":""},null,{"$f":"IF(I5=\"\",\"\",IF(AND(AA3=\"T\",I5<I4),\"X\",IF(AND(AA3=\"F\",I5>I4),\"X\",\"\")))","v":""},null,{"$f":"IF(AA3=\"T\",AB5,AC5)","v":""},null,2,null,{"$f":"IF($O5=\"\",\"\",HLOOKUP(O5,womens_declare,B6,FALSE))","v":""},"",null,{"$f":"IF(R5=\"\",\"\",IF(AND(AA3=\"T\",R5<R4),\"X\",IF(AND(AA3=\"F\",R5>R4),\"X\",\"\")))","v":""},{"$f":"IF(AA3=\"T\",AD5,AE5)","v":""},null,{"$f":"IF(AA3=\"T\",\"\",IF(I4>V3,\"LR\",IF(I4=V3,\"=LR\",IF(I4>W3,\"DR\",IF(I4=W3,\"=DR\",\"\")))))","v":""},null,null,null,null,null,{"$f":"IF(I5=\"\",\"\",IF(AA3=\"F\",\"\",IF(AA3=\"T\",IF(I5<=X3,\"þ\",IF(I5<=Y3,\"G2\",IF(I5<=Z3,\"G3\",\"\"))))))","v":""},{"$f":"IF(I5=\"\",\"\",IF(AA3=\"T\",\"\",IF(AA3=\"F\",IF(I5>=X3,\"þ\",IF(I5>=Y3,\"G2\",IF(I5>=Z3,\"G3\",\"\"))))))","v":""},{"$f":"IF(R5=\"\",\"\",IF(AA3=\"F\",\"\",IF(AA3=\"T\",IF(R5<=X3,\"þ\",IF(R5<=Y3,\"G2\",IF(R5<=Z3,\"G3\",\"\"))))))","v":""},{"$f":"IF(R5=\"\",\"\",IF(AA3=\"T\",\"\",IF(AA3=\"F\",IF(R5>=X3,\"þ\",IF(R5>=Y3,\"G2\",IF(R5>=Z3,\"G3\",\"\"))))))","v":""},"","","","",5,null,{"$f":"'Match Day'!B6","v":2},null,null,null,null,1,{"$f":"'Match Day'!C23","v":9},{"$f":"'Match Day'!D23","v":9}]
[null,{"$f":"VLOOKUP(A4,womens_declare,20,FALSE)","v":3},"","",3,null,{"$f":"IF($F6=\"\",\"\",HLOOKUP(F6,womens_declare,B6,FALSE))","v":""},"",null,{"$f":"IF(I6=\"\",\"\",IF(AND(AA3=\"T\",I6<I5),\"X\",IF(AND(AA3=\"F\",I6>I5),\"X\",\"\")))","v":""},null,{"$f":"IF(AA3=\"T\",AB6,AC6)","v":""},null,3,null,{"$f":"IF($O6=\"\",\"\",HLOOKUP(O6,womens_declare,B6,FALSE))","v":""},"",null,{"$f":"IF(R6=\"\",\"\",IF(AND(AA3=\"T\",R6<R5),\"X\",IF(AND(AA3=\"F\",R6>R5),\"X\",\"\")))","v":""},{"$f":"IF(AA3=\"T\",AD6,AE6)","v":""},null,null,null,null,null,null,null,{"$f":"IF(I6=\"\",\"\",IF(AA3=\"F\",\"\",IF(AA3=\"T\",IF(I6<=X3,\"þ\",IF(I6<=Y3,\"G2\",IF(I6<=Z3,\"G3\",\"\"))))))","v":""},{"$f":"IF(I6=\"\",\"\",IF(AA3=\"T\",\"\",IF(AA3=\"F\",IF(I6>=X3,\"þ\",IF(I6>=Y3,\"G2\",IF(I6>=Z3,\"G3\",\"\"))))))","v":""},{"$f":"IF(R6=\"\",\"\",IF(AA3=\"F\",\"\",IF(AA3=\"T\",IF(R6<=X3,\"þ\",IF(R6<=Y3,\"G2\",IF(R6<=Z3,\"G3\",\"\"))))))","v":""},{"$f":"IF(R6=\"\",\"\",IF(AA3=\"T\",\"\",IF(AA3=\"F\",IF(R6>=X3,\"þ\",IF(R6>=Y3,\"G2\",IF(R6>=Z3,\"G3\",\"\"))))))","v":""},"","","","",6,null,{"$f":"'Match Day'!B8","v":3},null,null,null,null,2,{"$f":"'Match Day'!C24","v":7},{"$f":"'Match Day'!D24","v":7}]
[null,null,"","",4,null,{"$f":"IF($F7=\"\",\"\",HLOOKUP(F7,womens_declare,B6,FALSE))","v":""},"",null,{"$f":"IF(I7=\"\",\"\",IF(AND(AA3=\"T\",I7<I6),\"X\",IF(AND(AA3=\"F\",I7>I6),\"X\",\"\")))","v":""},null,{"$f":"IF(AA3=\"T\",AB7,AC7)","v":""},null,4,null,{"$f":"IF($O7=\"\",\"\",HLOOKUP(O7,womens_declare,B6,FALSE))","v":""},"",null,{"$f":"IF(R7=\"\",\"\",IF(AND(AA3=\"T\",R7<R6),\"X\",IF(AND(AA3=\"F\",R7>R6),\"X\",\"\")))","v":""},{"$f":"IF(AA3=\"T\",AD7,AE7)","v":""},null,null,null,null,null,null,null,{"$f":"IF(I7=\"\",\"\",IF(AA3=\"F\",\"\",IF(AA3=\"T\",IF(I7<=X3,\"þ\",IF(I7<=Y3,\"G2\",IF(I7<=Z3,\"G3\",\"\"))))))","v":""},{"$f":"IF(I7=\"\",\"\",IF(AA3=\"T\",\"\",IF(AA3=\"F\",IF(I7>=X3,\"þ\",IF(I7>=Y3,\"G2\",IF(I7>=Z3,\"G3\",\"\"))))))","v":""},{"$f":"IF(R7=\"\",\"\",IF(AA3=\"F\",\"\",IF(AA3=\"T\",IF(R7<=X3,\"þ\",IF(R7<=Y3,\"G2\",IF(R7<=Z3,\"G3\",\"\"))))))","v":""},{"$f":"IF(R7=\"\",\"\",IF(AA3=\"T\",\"\",IF(AA3=\"F\",IF(R7>=X3,\"þ\",IF(R7>=Y3,\"G2\",IF(R7>=Z3,\"G3\",\"\"))))))","v":""},"","","","",7,null,{"$f":"'Match Day'!B10","v":4},null,null,null,null,3,{"$f":"'Match Day'!C25","v":6},{"$f":"'Match Day'!D25","v":6}]
[null,null,"","",5,null,{"$f":"IF($F8=\"\",\"\",HLOOKUP(F8,womens_declare,B6,FALSE))","v":""},"",null,{"$f":"IF(I8=\"\",\"\",IF(AND(AA3=\"T\",I8<I7),\"X\",IF(AND(AA3=\"F\",I8>I7),\"X\",\"\")))","v":""},null,{"$f":"IF(AA3=\"T\",AB8,AC8)","v":""},null,5,null,{"$f":"IF($O8=\"\",\"\",HLOOKUP(O8,womens_declare,B6,FALSE))","v":""},"",null,{"$f":"IF(R8=\"\",\"\",IF(AND(AA3=\"T\",R8<R7),\"X\",IF(AND(AA3=\"F\",R8>R7),\"X\",\"\")))","v":""},{"$f":"IF(AA3=\"T\",AD8,AE8)","v":""},null,null,null,null,null,null,null,{"$f":"IF(I8=\"\",\"\",IF(AA3=\"F\",\"\",IF(AA3=\"T\",IF(I8<=X3,\"þ\",IF(I8<=Y3,\"G2\",IF(I8<=Z3,\"G3\",\"\"))))))","v":""},{"$f":"IF(I8=\"\",\"\",IF(AA3=\"T\",\"\",IF(AA3=\"F\",IF(I8>=X3,\"þ\",IF(I8>=Y3,\"G2\",IF(I8>=Z3,\"G3\",\"\"))))))","v":""},{"$f":"IF(R8=\"\",\"\",IF(AA3=\"F\",\"\",IF(AA3=\"T\",IF(R8<=X3,\"þ\",IF(R8<=Y3,\"G2\",IF(R8<=Z3,\"G3\",\"\"))))))","v":""},{"$f":"IF(R8=\"\",\"\",IF(AA3=\"T\",\"\",IF(AA3=\"F\",IF(R8>=X3,\"þ\",IF(R8>=Y3,\"G2\",IF(R8>=Z3,\"G3\",\"\"))))))","v":""},"","","","",8,null,{"$f":"'Match Day'!B12","v":5},null,null,null,null,4,{"$f":"'Match Day'!C26","v":5},{"$f":"'Match Day'!D26","v":5}]
[null,null,"","",6,null,{"$f":"IF($F9=\"\",\"\",HLOOKUP(F9,womens_declare,B6,FALSE))","v":""},"",null,{"$f":"IF(I9=\"\",\"\",IF(AND(AA3=\"T\",I9<I8),\"X\",IF(AND(AA3=\"F\",I9>I8),\"X\",\"\")))","v":""},null,{"$f":"IF(AA3=\"T\",AB9,AC9)","v":""},null,6,null,{"$f":"IF($O9=\"\",\"\",HLOOKUP(O9,womens_declare,B6,FALSE))","v":""},"",null,{"$f":"IF(R9=\"\",\"\",IF(AND(AA3=\"T\",R9<R8),\"X\",IF(AND(AA3=\"F\",R9>R8),\"X\",\"\")))","v":""},{"$f":"IF(AA3=\"T\",AD9,AE9)","v":""},null,null,null,null,null,null,null,{"$f":"IF(I9=\"\",\"\",IF(AA3=\"F\",\"\",IF(AA3=\"T\",IF(I9<=X3,\"þ\",IF(I9<=Y3,\"G2\",IF(I9<=Z3,\"G3\",\"\"))))))","v":""},{"$f":"IF(I9=\"\",\"\",IF(AA3=\"T\",\"\",IF(AA3=\"F\",IF(I9>=X3,\"þ\",IF(I9>=Y3,\"G2\",IF(I9>=Z3,\"G3\",\"\"))))))","v":""},{"$f":"IF(R9=\"\",\"\",IF(AA3=\"F\",\"\",IF(AA3=\"T\",IF(R9<=X3,\"þ\",IF(R9<=Y3,\"G2\",IF(R9<=Z3,\"G3\",\"\"))))))","v":""},{"$f":"IF(R9=\"\",\"\",IF(AA3=\"T\",\"\",IF(AA3=\"F\",IF(R9>=X3,\"þ\",IF(R9>=Y3,\"G2\",IF(R9>=Z3,\"G3\",\"\"))))))","v":""},"","","","",9,null,{"$f":"'Match Day'!B14","v":6},null,null,null,null,5,{"$f":"'Match Day'!C27","v":4},{"$f":"'Match Day'!D27","v":4}]
[null,null,"","",7,null,{"$f":"IF($F10=\"\",\"\",HLOOKUP(F10,womens_declare,B6,FALSE))","v":""},"",null,{"$f":"IF(I10=\"\",\"\",IF(AND(AA3=\"T\",I10<I9),\"X\",IF(AND(AA3=\"F\",I10>I9),\"X\",\"\")))","v":""},null,{"$f":"IF(AA3=\"T\",AB10,AC10)","v":""},null,7,null,{"$f":"IF($O10=\"\",\"\",HLOOKUP(O10,womens_declare,B6,FALSE))","v":""},"",null,{"$f":"IF(R10=\"\",\"\",IF(AND(AA3=\"T\",R10<R9),\"X\",IF(AND(AA3=\"F\",R10>R9),\"X\",\"\")))","v":""},{"$f":"IF(AA3=\"T\",AD10,AE10)","v":""},null,null,null,null,null,null,null,{"$f":"IF(I10=\"\",\"\",IF(AA3=\"F\",\"\",IF(AA3=\"T\",IF(I10<=X3,\"þ\",IF(I10<=Y3,\"G2\",IF(I10<=Z3,\"G3\",\"\"))))))","v":""},{"$f":"IF(I10=\"\",\"\",IF(AA3=\"T\",\"\",IF(AA3=\"F\",IF(I10>=X3,\"þ\",IF(I10>=Y3,\"G2\",IF(I10>=Z3,\"G3\",\"\"))))))","v":""},{"$f":"IF(R10=\"\",\"\",IF(AA3=\"F\",\"\",IF(AA3=\"T\",IF(R10<=X3,\"þ\",IF(R10<=Y3,\"G2\",IF(R10<=Z3,\"G3\",\"\"))))))","v":""},{"$f":"IF(R10=\"\",\"\",IF(AA3=\"T\",\"\",IF(AA3=\"F\",IF(R10>=X3,\"þ\",IF(R10>=Y3,\"G2\",IF(R10>=Z3,\"G3\",\"\"))))))","v":""},"","","","",10,null,{"$f":"'Match Day'!B16","v":7},null,null,null,null,6,{"$f":"'Match Day'!C28","v":3},{"$f":"'Match Day'!D28","v":3}]
[null,null,"","",8,null,{"$f":"IF($F11=\"\",\"\",HLOOKUP(F11,womens_declare,B6,FALSE))","v":""},"",null,{"$f":"IF(I11=\"\",\"\",IF(AND(AA3=\"T\",I11<I10),\"X\",IF(AND(AA3=\"F\",I11>I10),\"X\",\"\")))","v":""},null,{"$f":"IF(AA3=\"T\",AB11,AC11)","v":""},null,8,null,{"$f":"IF($O11=\"\",\"\",HLOOKUP(O11,womens_declare,B6,FALSE))","v":""},"",null,{"$f":"IF(R11=\"\",\"\",IF(AND(AA3=\"T\",R11<R10),\"X\",IF(AND(AA3=\"F\",R11>R10),\"X\",\"\")))","v":""},{"$f":"IF(AA3=\"T\",AD11,AE11)","v":""},null,null,null,null,null,null,null,{"$f":"IF(I11=\"\",\"\",IF(AA3=\"F\",\"\",IF(AA3=\"T\",IF(I11<=X3,\"þ\",IF(I11<=Y3,\"G2\",IF(I11<=Z3,\"G3\",\"\"))))))","v":""},{"$f":"IF(I11=\"\",\"\",IF(AA3=\"T\",\"\",IF(AA3=\"F\",IF(I11>=X3,\"þ\",IF(I11>=Y3,\"G2\",IF(I11>=Z3,\"G3\",\"\"))))))","v":""},{"$f":"IF(R11=\"\",\"\",IF(AA3=\"F\",\"\",IF(AA3=\"T\",IF(R11<=X3,\"þ\",IF(R11<=Y3,\"G2\",IF(R11<=Z3,\"G3\",\"\"))))))","v":""},{"$f":"IF(R11=\"\",\"\",IF(AA3=\"T\",\"\",IF(AA3=\"F\",IF(R11>=X3,\"þ\",IF(R11>=Y3,\"G2\",IF(R11>=Z3,\"G3\",\"\"))))))","v":""},"","","","",11,null,{"$f":"'Match Day'!B18","v":8},null,null,null,null,7,{"$f":"'Match Day'!C29","v":2},{"$f":"'Match Day'!D29","v":2}]
[null,null,null,null,null,null,null,null,null,null,null,null,null,null,null,null,null,null,null,null,null,null,null,null,null,null,null,null,null,null,null,null,null,null,null,12,null,{"$f":"AL4*11","v":11},null,null,null,null,8,{"$f":"'Match Day'!C30","v":1},{"$f":"'Match Day'!D30","v":1},{"$f":"SUM(AR5:AR12)","v":37},{"$f":"SUM(AS5:AS12)","v":37}]
[null,null,null,null,{"$f":"CONCATENATE(VLOOKUP(A14,womens_handbook,3,FALSE),\" A\")","v":"Women's 200m A"},null,null,{"$f":"IF(A14=\"\",\"\",IF(VLOOKUP(A14,Handbook!$A$4:$AI$24,35,FALSE)=\"Y\",\"Wind=\",\"\"))","v":"Wind="},null,null,null,null,null,null,{"$f":"CONCATENATE(VLOOKUP(A14,womens_handbook,3,FALSE),\" B\")","v":"Women's 200m B"},{"$f":"CONCATENATE(VLOOKUP(M14,Handbook!$A$4:$C$24,3,FALSE),\" A\")","v":{"$error":"#N/A"}},{"$f":"H13","v":"Wind="},null,null,null,null,{"$f":"IF($A14=\"\",\"\",VLOOKUP($A14,Handbook!$A$26:$AK$46,21,FALSE))","v":23},{"$f":"IF($A14=\"\",\"\",VLOOKUP($A14,Handbook!$A$26:$AK$46,22,FALSE))","v":23.1},{"$f":"IF($A14=\"\",\"\",VLOOKUP($A14,Handbook!$A$26:$AK$46,23,FALSE))","v":27},{"$f":"IF($A14=\"\",\"\",VLOOKUP($A14,Handbook!$A$26:$AK$46,24,FALSE))","v":27},{"$f":"IF($A14=\"\",\"\",VLOOKUP($A14,Handbook!$A$26:$AK$46,25,FALSE))","v":27},{"$f":"IF($A14=\"\",\"\",VLOOKUP($A14,Handbook!$A$26:$AK$46,34,FALSE))","v":"T"},null,null,null,null,null,null,null,null,13,null,{"$f":"AL5*11","v":22},null,null,null,null,"1=",{"$f":"SUM($AR$5:AR6)/2","v":8},{"$f":"SUM($AS$5:AS6)/2","v":8}]
[7,null,{"$f":"IF(F14=\"\",\"\",IF(F14>10,F14/11,F14))","v":""},{"$f":"IF(O14=\"\",\"\",IF(O14>10,O14/11,O14))","v":""},1,null,{"$f":"IF($F14=\"\",\"\",IF($F14>90,VLOOKUP(F14,eventcodes,2,FALSE),HLOOKUP(F14,womens_declare,B16,FALSE)))","v":""},{"$f":"IF($F14=\"\",\"\",IF($F14>90,\"\",VLOOKUP(C14,matchday,2,FALSE)))","v":""},null,{"$f":"IF(I14=\"\",\"\",IF(AA13=\"T\",V14,V15))","v":""},null,{"$f":"IF(AA13=\"T\",AB14,AC14)","v":""},null,1,null,{"$f":"IF($O14=\"\",\"\",HLOOKUP(O14,womens_declare,B16,FALSE))","v":""},{"$f":"IF($O14=\"\",\"\",VLOOKUP(D14,matchday,2,FALSE))","v":""},null,null,{"$f":"IF(AA13=\"T\",AD14,AE14)","v":""},null,{"$f":"IF(AA13=\"F\",\"\",IF(I14<V13,\"LR\",IF(I14=V13,\"=LR\",IF(I14<W13,\"DR\",IF(I14=W13,\"=DR\",\"\")))))","v":"LR"},null,null,null,null,null,{"$f":"IF(I14=\"\",\"\",IF(AA13=\"F\",\"\",IF(AA13=\"T\",IF(I14<=X13,\"þ\",IF(I14<=Y13,\"G2\",IF(I14<=Z13,\"G3\",\"\"))))))","v":""},{"$f":"IF(I14=\"\",\"\",IF(AA13=\"T\",\"\",IF(AA13=\"F\",IF(I14>=X13,\"þ\",IF(I14>=Y13,\"G2\",IF(I14>=Z13,\"G3\",\"\"))))))","v":""},{"$f":"IF(R14=\"\",\"\",IF(AA13=\"F\",\"\",IF(AA13=\"T\",IF(R14<=X13,\"þ\",IF(R14<=Y13,\"G2\",IF(R14<=Z13,\"G3\",\"\"))))))","v":""},{"$f":"IF(R14=\"\",\"\",IF(AA13=\"T\",\"\",IF(AA13=\"F\",IF(R14>=X13,\"þ\",IF(R14>=Y13,\"G2\",IF(R14>=Z13,\"G3\",\"\"))))))","v":""},{"$f":"C14","v":""},{"$f":"IF(F14=\"\",\"\",IF(LEFT(I14,1)=\"D\",0,VLOOKUP(E14,$AQ$4:$AR$40,2,FALSE)))","v":""},{"$f":"D14","v":""},{"$f":"IF(O14=\"\",\"\",IF(LEFT(R14,1)=\"D\",0,VLOOKUP(N14,$AQ$4:$AS$40,3,FALSE)))","v":""},14,null,{"$f":"AL6*11","v":33},null,null,null,null,"1==",{"$f":"SUM($AR$5:AR7)/3","v":7.333333333333333},{"$f":"SUM($AS$5:AS7)/3","v":7.333333333333333}]
[null,{"$f":"VLOOKUP(A14,Handbook!$A$26:$AK$46,37,FALSE)","v":8},"","",2,null,{"$f":"IF($F15=\"\",\"\",HLOOKUP(F15,womens_declare,B16,FALSE))","v":""},{"$f":"IF($F15=\"\",\"\",VLOOKUP(C15,matchday,2,FALSE))","v":""},null,{"$f":"IF(I15=\"\",\"\",IF(AND(AA13=\"T\",I15<I14),\"X\",IF(AND(AA13=\"F\",I15>I14),\"X\",\"\")))","v":""},null,{"$f":"IF(AA13=\"T\",AB15,AC15)","v":""},null,2,null,{"$f":"IF($O15=\"\",\"\",HLOOKUP(O15,womens_declare,B16,FALSE))","v":""},"",null,{"$f":"IF(R15=\"\",\"\",IF(AND(AA13=\"T\",R15<R14),\"X\",IF(AND(AA13=\"F\",R15>R14),\"X\",\"\")))","v":""},{"$f":"IF(AA13=\"T\",AD15,AE15)","v":""},null,{"$f":"IF(AA13=\"T\",\"\",IF(I14>V13,\"LR\",IF(I14=V13,\"=LR\",IF(I14>W13,\"DR\",IF(I14=W13,\"=DR\",\"\")))))","v":""},null,null,null,null,null,{"$f":"IF(I15=\"\",\"\",IF(AA13=\"F\",\"\",IF(AA13=\"T\",IF(I15<=X13,\"þ\",IF(I15<=Y13,\"G2\",IF(I15<=Z13,\"G3\",\"\"))))))","v":""},{"$f":"IF(I15=\"\",\"\",IF(AA13=\"T\",\"\",IF(AA13=\"F\",IF(I15>=X13,\"þ\",IF(I15>=Y13,\"G2\",IF(I15>=Z13,\"G3\",\"\"))))))","v":""},{"$f":"IF(R15=\"\",\"\",IF(AA13=\"F\",\"\",IF(AA13=\"T\",IF(R15<=X13,\"þ\",IF(R15<=Y13,\"G2\",IF(R15<=Z13,\"G3\",\"\"))))))","v":""},{"$f":"IF(R15=\"\",\"\",IF(AA13=\"T\",\"\",IF(AA13=\"F\",IF(R15>=X13,\"þ\",IF(R15>=Y13,\"G2\",IF(R15>=Z13,\"G3\",\"\"))))))","v":""},"","","","",15,null,44,null,null,null,null,"1===",{"$f":"SUM($AR$5:AR8)/4","v":6.75},{"$f":"SUM($AS$5:AS8)/4","v":6.75}]
[null,{"$f":"VLOOKUP(A14,womens_declare,20,FALSE)","v":4},"","",3,null,{"$f":"IF($F16=\"\",\"\",HLOOKUP(F16,womens_declare,B16,FALSE))","v":""},"",null,{"$f":"IF(I16=\"\",\"\",IF(AND(AA13=\"T\",I16<I15),\"X\",IF(AND(AA13=\"F\",I16>I15),\"X\",\"\")))","v":""},null,{"$f":"IF(AA13=\"T\",AB16,AC16)","v":""},null,3,null,{"$f":"IF($O16=\"\",\"\",HLOOKUP(O16,womens_declare,B16,FALSE))","v":""},"",null,{"$f":"IF(R16=\"\",\"\",IF(AND(AA13=\"T\",R16<R15),\"X\",IF(AND(AA13=\"F\",R16>R15),\"X\",\"\")))","v":""},{"$f":"IF(AA13=\"T\",AD16,AE16)","v":""},null,null,null,null,null,null,null,{"$f":"IF(I16=\"\",\"\",IF(AA13=\"F\",\"\",IF(AA13=\"T\",IF(I16<=X13,\"þ\",IF(I16<=Y13,\"G2\",IF(I16<=Z13,\"G3\",\"\"))))))","v":""},{"$f":"IF(I16=\"\",\"\",IF(AA13=\"T\",\"\",IF(AA13=\"F\",IF(I16>=X13,\"þ\",IF(I16>=Y13,\"G2\",IF(I16>=Z13,\"G3\",\"\"))))))","v":""},{"$f":"IF(R16=\"\",\"\",IF(AA13=\"F\",\"\",IF(AA13=\"T\",IF(R16<=X13,\"þ\",IF(R16<=Y13,\"G2\",IF(R16<=Z13,\"G3\",\"\"))))))","v":""},{"$f":"IF(R16=\"\",\"\",IF(AA13=\"T\",\"\",IF(AA13=\"F\",IF(R16>=X13,\"þ\",IF(R16>=Y13,\"G2\",IF(R16>=Z13,\"G3\",\"\"))))))","v":""},"","","","",16,null,55,null,null,null,null,"1====",{"$f":"SUM($AR$5:AR9)/5","v":6.2},{"$f":"SUM($AS$5:AS9)/5","v":6.2}]
[null,null,"","",4,null,{"$f":"IF($F17=\"\",\"\",HLOOKUP(F17,womens_declare,B16,FALSE))","v":""},"",null,{"$f":"IF(I17=\"\",\"\",IF(AND(AA13=\"T\",I17<I16),\"X\",IF(AND(AA13=\"F\",I17>I16),\"X\",\"\")))","v":""},null,{"$f":"IF(AA13=\"T\",AB17,AC17)","v":""},null,4,null,{"$f":"IF($O17=\"\",\"\",HLOOKUP(O17,womens_declare,B16,FALSE))","v":""},"",null,{"$f":"IF(R17=\"\",\"\",IF(AND(AA13=\"T\",R17<R16),\"X\",IF(AND(AA13=\"F\",R17>R16),\"X\",\"\")))","v":""},{"$f":"IF(AA13=\"T\",AD17,AE17)","v":""},null,null,null,null,null,null,null,{"$f":"IF(I17=\"\",\"\",IF(AA13=\"F\",\"\",IF(AA13=\"T\",IF(I17<=X13,\"þ\",IF(I17<=Y13,\"G2\",IF(I17<=Z13,\"G3\",\"\"))))))","v":""},{"$f":"IF(I17=\"\",\"\",IF(AA13=\"T\",\"\",IF(AA13=\"F\",IF(I17>=X13,\"þ\",IF(I17>=Y13,\"G2\",IF(I17>=Z13,\"G3\",\"\"))))))","v":""},{"$f":"IF(R17=\"\",\"\",IF(AA13=\"F\",\"\",IF(AA13=\"T\",IF(R17<=X13,\"þ\",IF(R17<=Y13,\"G2\",IF(R17<=Z13,\"G3\",\"\"))))))","v":""},{"$f":"IF(R17=\"\",\"\",IF(AA13=\"T\",\"\",IF(AA13=\"F\",IF(R17>=X13,\"þ\",IF(R17>=Y13,\"G2\",IF(R17>=Z13,\"G3\",\"\"))))))","v":""},"","","","",17,null,66,null,null,null,null,"1=====",{"$f":"SUM($AR$5:AR10)/6","v":5.666666666666667},{"$f":"SUM($AS$5:AS10)/6","v":5.666666666666667}]
[null,null,"","",5,null,{"$f":"IF($F18=\"\",\"\",HLOOKUP(F18,womens_declare,B16,FALSE))","v":""},"",null,{"$f":"IF(I18=\"\",\"\",IF(AND(AA13=\"T\",I18<I17),\"X\",IF(AND(AA13=\"F\",I18>I17),\"X\",\"\")))","v":""},null,{"$f":"IF(AA13=\"T\",AB18,AC18)","v":""},null,5,null,{"$f":"IF($O18=\"\",\"\",HLOOKUP(O18,womens_declare,B16,FALSE))","v":""},"",null,{"$f":"IF(R18=\"\",\"\",IF(AND(AA13=\"T\",R18<R17),\"X\",IF(AND(AA13=\"F\",R18>R17),\"X\",\"\")))","v":""},{"$f":"IF(AA13=\"T\",AD18,AE18)","v":""},null,null,null,null,null,null,null,{"$f":"IF(I18=\"\",\"\",IF(AA13=\"F\",\"\",IF(AA13=\"T\",IF(I18<=X13,\"þ\",IF(I18<=Y13,\"G2\",IF(I18<=Z13,\"G3\",\"\"))))))","v":""},{"$f":"IF(I18=\"\",\"\",IF(AA13=\"T\",\"\",IF(AA13=\"F\",IF(I18>=X13,\"þ\",IF(I18>=Y13,\"G2\",IF(I18>=Z13,\"G3\",\"\"))))))","v":""},{"$f":"IF(R18=\"\",\"\",IF(AA13=\"F\",\"\",IF(AA13=\"T\",IF(R18<=X13,\"þ\",IF(R18<=Y13,\"G2\",IF(R18<=Z13,\"G3\",\"\"))))))","v":""},{"$f":"IF(R18=\"\",\"\",IF(AA13=\"T\",\"\",IF(AA13=\"F\",IF(R18>=X13,\"þ\",IF(R18>=Y13,\"G2\",IF(R18>=Z13,\"G3\",\"\"))))))","v":""},"","","","",18,null,77,null,null,null,null,"1======",{"$f":"SUM($AR$5:AR11)/7","v":5.1428571428571432},{"$f":"SUM($AS$5:AS11)/7","v":5.1428571428571432}]
[null,null,"","",6,null,{"$f":"IF($F19=\"\",\"\",HLOOKUP(F19,womens_declare,B16,FALSE))","v":""},"",null,{"$f":"IF(I19=\"\",\"\",IF(AND(AA13=\"T\",I19<I18),\"X\",IF(AND(AA13=\"F\",I19>I18),\"X\",\"\")))","v":""},null,{"$f":"IF(AA13=\"T\",AB19,AC19)","v":""},null,6,null,{"$f":"IF($O19=\"\",\"\",HLOOKUP(O19,womens_declare,B16,FALSE))","v":""},"",null,{"$f":"IF(R19=\"\",\"\",IF(AND(AA13=\"T\",R19<R18),\"X\",IF(AND(AA13=\"F\",R19>R18),\"X\",\"\")))","v":""},{"$f":"IF(AA13=\"T\",AD19,AE19)","v":""},null,null,null,null,null,null,null,{"$f":"IF(I19=\"\",\"\",IF(AA13=\"F\",\"\",IF(AA13=\"T\",IF(I19<=X13,\"þ\",IF(I19<=Y13,\"G2\",IF(I19<=Z13,\"G3\",\"\"))))))","v":""},{"$f":"IF(I19=\"\",\"\",IF(AA13=\"T\",\"\",IF(AA13=\"F\",IF(I19>=X13,\"þ\",IF(I19>=Y13,\"G2\",IF(I19>=Z13,\"G3\",\"\"))))))","v":""},{"$f":"IF(R19=\"\",\"\",IF(AA13=\"F\",\"\",IF(AA13=\"T\",IF(R19<=X13,\"þ\",IF(R19<=Y13,\"G2\",IF(R19<=Z13,\"G3\",\"\"))))))","v":""},{"$f":"IF(R19=\"\",\"\",IF(AA13=\"T\",\"\",IF(AA13=\"F\",IF(R19>=X13,\"þ\",IF(R19>=Y13,\"G2\",IF(R19>=Z13,\"G3\",\"\"))))))","v":""},"","","","",19,null,88,null,null,null,null,"1=======",{"$f":"SUM($AR$5:AR12)/8","v":4.625},{"$f":"SUM($AS$5:AS12)/8","v":4.625}]
[null,null,"","",7,null,{"$f":"IF($F20=\"\",\"\",HLOOKUP(F20,womens_declare,B16,FALSE))","v":""},"",null,{"$f":"IF(I20=\"\",\"\",IF(AND(AA13=\"T\",I20<I19),\"X\",IF(AND(AA13=\"F\",I20>I19),\"X\",\"\")))","v":""},null,{"$f":"IF(AA13=\"T\",AB20,AC20)","v":""},null,7,null,{"$f":"IF($O20=\"\",\"\",HLOOKUP(O20,womens_declare,B16,FALSE))","v":""},"",null,{"$f":"IF(R20=\"\",\"\",IF(AND(AA13=\"T\",R20<R19),\"X\",IF(AND(AA13=\"F\",R20>R19),\"X\",\"\")))","v":""},{"$f":"IF(AA13=\"T\",AD20,AE20)","v":""},null,null,null,null,null,null,null,{"$f":"IF(I20=\"\",\"\",IF(AA13=\"F\",\"\",IF(AA13=\"T\",IF(I20<=X13,\"þ\",IF(I20<=Y13,\"G2\",IF(I20<=Z13,\"G3\",\"\"))))))","v":""},{"$f":"IF(I20=\"\",\"\",IF(AA13=\"T\",\"\",IF(AA13=\"F\",IF(I20>=X13,\"þ\",IF(I20>=Y13,\"G2\",IF(I20>=Z13,\"G3\",\"\"))))))","v":""},{"$f":"IF(R20=\"\",\"\",IF(AA13=\"F\",\"\",IF(AA13=\"T\",IF(R20<=X13,\"þ\",IF(R20<=Y13,\"G2\",IF(R20<=Z13,\"G3\",\"\"))))))","v":""},{"$f":"IF(R20=\"\",\"\",IF(AA13=\"T\",\"\",IF(AA13=\"F\",IF(R20>=X13,\"þ\",IF(R20>=Y13,\"G2\",IF(R20>=Z13,\"G3\",\"\"))))))","v":""},"","","","",20,null,99,null,null,null,null,"2=",{"$f":"SUM($AR$6:AR7)/2","v":6.5},{"$f":"SUM($AS$6:AS7)/2","v":6.5}]
[null,null,"","",8,null,{"$f":"IF($F21=\"\",\"\",HLOOKUP(F21,womens_declare,B16,FALSE))","v":""},"",null,{"$f":"IF(I21=\"\",\"\",IF(AND(AA13=\"T\",I21<I20),\"X\",IF(AND(AA13=\"F\",I21>I20),\"X\",\"\")))","v":""},null,{"$f":"IF(AA13=\"T\",AB21,AC21)","v":""},null,8,null,{"$f":"IF($O21=\"\",\"\",HLOOKUP(O21,womens_declare,B16,FALSE))","v":""},"",null,{"$f":"IF(R21=\"\",\"\",IF(AND(AA13=\"T\",R21<R20),\"X\",IF(AND(AA13=\"F\",R21>R20),\"X\",\"\")))","v":""},{"$f":"IF(AA13=\"T\",AD21,AE21)","v":""},null,null,null,null,null,null,null,{"$f":"IF(I21=\"\",\"\",IF(AA13=\"F\",\"\",IF(AA13=\"T\",IF(I21<=X13,\"þ\",IF(I21<=Y13,\"G2\",IF(I21<=Z13,\"G3\",\"\"))))))","v":""},{"$f":"IF(I21=\"\",\"\",IF(AA13=\"T\",\"\",IF(AA13=\"F\",IF(I21>=X13,\"þ\",IF(I21>=Y13,\"G2\",IF(I21>=Z13,\"G3\",\"\"))))))","v":""},{"$f":"IF(R21=\"\",\"\",IF(AA13=\"F\",\"\",IF(AA13=\"T\",IF(R21<=X13,\"þ\",IF(R21<=Y13,\"G2\",IF(R21<=Z13,\"G3\",\"\"))))))","v":""},{"$f":"IF(R21=\"\",\"\",IF(AA13=\"T\",\"\",IF(AA13=\"F\",IF(R21>=X13,\"þ\",IF(R21>=Y13,\"G2\",IF(R21>=Z13,\"G3\",\"\"))))))","v":""},"","","","",21,null,97,null,null,null,null,"2==",{"$f":"SUM($AR$6:AR8)/3","v":6},{"$f":"SUM($AS$6:AS8)/3","v":6}]
[null,null,null,null,null,null,null,null,null,null,null,null,null,null,null,null,null,null,null,null,null,null,null,null,null,null,null,null,null,null,null,null,null,null,null,22,null,98,null,null,null,null,"2===",{"$f":"SUM($AR$6:AR9)/4","v":5.5},{"$f":"SUM($AS$6:AS9)/4","v":5.5}]
[null,null,null,null,{"$f":"CONCATENATE(VLOOKUP(A24,womens_handbook,3,FALSE),\" A\")","v":"Women's 400m A"},null,null,{"$f":"IF(A24=\"\",\"\",IF(VLOOKUP(A24,Handbook!$A$4:$AI$24,35,FALSE)=\"Y\",\"Wind=\",\"\"))","v":""},null,null,null,null,null,null,{"$f":"CONCATENATE(VLOOKUP(A24,womens_handbook,3,FALSE),\" B\")","v":"Women's 400m B"},null,{"$f":"H23","v":""},null,null,null,null,{"$f":"IF($A24=\"\",\"\",VLOOKUP($A24,Handbook!$A$26:$AK$46,21,FALSE))","v":51.7},{"$f":"IF($A24=\"\",\"\",VLOOKUP($A24,Handbook!$A$26:$AK$46,22,FALSE))","v":51.7},{"$f":"IF($A24=\"\",\"\",VLOOKUP($A24,Handbook!$A$26:$AK$46,23,FALSE))","v":62},{"$f":"IF($A24=\"\",\"\",VLOOKUP($A24,Handbook!$A$26:$AK$46,24,FALSE))","v":62},{"$f":"IF($A24=\"\",\"\",VLOOKUP($A24,Handbook!$A$26:$AK$46,25,FALSE))","v":62},{"$f":"IF($A24=\"\",\"\",VLOOKUP($A24,Handbook!$A$26:$AK$46,34,FALSE))","v":"T"},null,null,null,null,null,null,null,null,23,null,96,null,null,null,null,"2====",{"$f":"SUM($AR$6:AR10)/5","v":5},{"$f":"SUM($AS$6:AS10)/5","v":5}]
[4,null,{"$f":"IF(F24=\"\",\"\",IF(F24>10,F24/11,F24))","v":""},{"$f":"IF(O24=\"\",\"\",IF(O24>10,O24/11,O24))","v":""},1,null,{"$f":"IF($F24=\"\",\"\",IF($F24>90,VLOOKUP(F24,eventcodes,2,FALSE),HLOOKUP(F24,womens_declare,B26,FALSE)))","v":""},{"$f":"IF($F24=\"\",\"\",IF($F24>90,\"\",VLOOKUP(C24,matchday,2,FALSE)))","v":""},null,{"$f":"IF(I24=\"\",\"\",IF(AA23=\"T\",V24,V25))","v":""},null,{"$f":"IF(AA23=\"T\",AB24,AC24)","v":""},null,1,null,{"$f":"IF($O24=\"\",\"\",HLOOKUP(O24,womens_declare,B26,FALSE))","v":""},{"$f":"IF($O24=\"\",\"\",VLOOKUP(D24,matchday,2,FALSE))","v":""},null,null,{"$f":"IF(AA23=\"T\",AD24,AE24)","v":""},null,{"$f":"IF(AA23=\"F\",\"\",IF(I24<V23,\"LR\",IF(I24=V23,\"=LR\",IF(I24<W23,\"DR\",IF(I24=W23,\"=DR\",\"\")))))","v":"LR"},null,null,null,null,null,{"$f":"IF(I24=\"\",\"\",IF(AA23=\"F\",\"\",IF(AA23=\"T\",IF(I24<=X23,\"þ\",IF(I24<=Y23,\"G2\",IF(I24<=Z23,\"G3\",\"\"))))))","v":""},{"$f":"IF(I24=\"\",\"\",IF(AA23=\"T\",\"\",IF(AA23=\"F\",IF(I24>=X23,\"þ\",IF(I24>=Y23,\"G2\",IF(I24>=Z23,\"G3\",\"\"))))))","v":""},{"$f":"IF(R24=\"\",\"\",IF(AA23=\"F\",\"\",IF(AA23=\"T\",IF(R24<=X23,\"þ\",IF(R24<=Y23,\"G2\",IF(R24<=Z23,\"G3\",\"\"))))))","v":""},{"$f":"IF(R24=\"\",\"\",IF(AA23=\"T\",\"\",IF(AA23=\"F\",IF(R24>=X23,\"þ\",IF(R24>=Y23,\"G2\",IF(R24>=Z23,\"G3\",\"\"))))))","v":""},{"$f":"C24","v":""},{"$f":"IF(F24=\"\",\"\",IF(LEFT(I24,1)=\"D\",0,VLOOKUP(E24,$AQ$4:$AR$40,2,FALSE)))","v":""},{"$f":"D24","v":""},{"$f":"IF(O24=\"\",\"\",IF(LEFT(R24,1)=\"D\",0,VLOOKUP(N24,$AQ$4:$AS$40,3,FALSE)))","v":""},24,null,"Events Not Held Codes",null,null,null,null,"2=====",{"$f":"SUM($AR$6:AR11)/6","v":4.5},{"$f":"SUM($AS$6:AS11)/6","v":4.5}]
[null,{"$f":"VLOOKUP(A24,Handbook!$A$26:$AK$46,37,FALSE)","v":5},"","",2,null,{"$f":"IF($F25=\"\",\"\",HLOOKUP(F25,womens_declare,B26,FALSE))","v":""},{"$f":"IF($F25=\"\",\"\",VLOOKUP(C25,matchday,2,FALSE))","v":""},null,{"$f":"IF(I25=\"\",\"\",IF(AND(AA23=\"T\",I25<I24),\"X\",IF(AND(AA23=\"F\",I25>I24),\"X\",\"\")))","v":""},null,{"$f":"IF(AA23=\"T\",AB25,AC25)","v":""},null,2,null,{"$f":"IF($O25=\"\",\"\",HLOOKUP(O25,womens_declare,B26,FALSE))","v":""},"",null,{"$f":"IF(R25=\"\",\"\",IF(AND(AA23=\"T\",R25<R24),\"X\",IF(AND(AA23=\"F\",R25>R24),\"X\",\"\")))","v":""},{"$f":"IF(AA23=\"T\",AD25,AE25)","v":""},null,{"$f":"IF(AA23=\"T\",\"\",IF(I24>V23,\"LR\",IF(I24=V23,\"=LR\",IF(I24>W23,\"DR\",IF(I24=W23,\"=DR\",\"\")))))","v":""},null,null,null,null,null,{"$f":"IF(I25=\"\",\"\",IF(AA23=\"F\",\"\",IF(AA23=\"T\",IF(I25<=X23,\"þ\",IF(I25<=Y23,\"G2\",IF(I25<=Z23,\"G3\",\"\"))))))","v":""},{"$f":"IF(I25=\"\",\"\",IF(AA23=\"T\",\"\",IF(AA23=\"F\",IF(I25>=X23,\"þ\",IF(I25>=Y23,\"G2\",IF(I25>=Z23,\"G3\",\"\"))))))","v":""},{"$f":"IF(R25=\"\",\"\",IF(AA23=\"F\",\"\",IF(AA23=\"T\",IF(R25<=X23,\"þ\",IF(R25<=Y23,\"G2\",IF(R25<=Z23,\"G3\",\"\"))))))","v":""},{"$f":"IF(R25=\"\",\"\",IF(AA23=\"T\",\"\",IF(AA23=\"F\",IF(R25>=X23,\"þ\",IF(R25>=Y23,\"G2\",IF(R25>=Z23,\"G3\",\"\"))))))","v":""},"","","","",25,97,"Open Heights Not Cleared",null,null,null,null,"2======",{"$f":"SUM($AR$6:AR12)/7","v":4},{"$f":"SUM($AS$6:AS12)/7","v":4}]
[null,{"$f":"VLOOKUP(A24,womens_declare,20,FALSE)","v":5},"","",3,null,{"$f":"IF($F26=\"\",\"\",HLOOKUP(F26,womens_declare,B26,FALSE))","v":""},"",null,{"$f":"IF(I26=\"\",\"\",IF(AND(AA23=\"T\",I26<I25),\"X\",IF(AND(AA23=\"F\",I26>I25),\"X\",\"\")))","v":""},null,{"$f":"IF(AA23=\"T\",AB26,AC26)","v":""},null,3,null,{"$f":"IF($O26=\"\",\"\",HLOOKUP(O26,womens_declare,B26,FALSE))","v":""},"",null,{"$f":"IF(R26=\"\",\"\",IF(AND(AA23=\"T\",R26<R25),\"X\",IF(AND(AA23=\"F\",R26>R25),\"X\",\"\")))","v":""},{"$f":"IF(AA23=\"T\",AD26,AE26)","v":""},null,null,null,null,null,null,null,{"$f":"IF(I26=\"\",\"\",IF(AA23=\"F\",\"\",IF(AA23=\"T\",IF(I26<=X23,\"þ\",IF(I26<=Y23,\"G2\",IF(I26<=Z23,\"G3\",\"\"))))))","v":""},{"$f":"IF(I26=\"\",\"\",IF(AA23=\"T\",\"\",IF(AA23=\"F\",IF(I26>=X23,\"þ\",IF(I26>=Y23,\"G2\",IF(I26>=Z23,\"G3\",\"\"))))))","v":""},{"$f":"IF(R26=\"\",\"\",IF(AA23=\"F\",\"\",IF(AA23=\"T\",IF(R26<=X23,\"þ\",IF(R26<=Y23,\"G2\",IF(R26<=Z23,\"G3\",\"\"))))))","v":""},{"$f":"IF(R26=\"\",\"\",IF(AA23=\"T\",\"\",IF(AA23=\"F\",IF(R26>=X23,\"þ\",IF(R26>=Y23,\"G2\",IF(R26>=Z23,\"G3\",\"\"))))))","v":""},"","","","",26,98,"No Valid Performances",null,null,null,null,"3=",{"$f":"SUM($AR$7:AR8)/2","v":5.5},{"$f":"SUM($AS$7:AS8)/2","v":5.5}]
[null,null,"","",4,null,{"$f":"IF($F27=\"\",\"\",HLOOKUP(F27,womens_declare,B26,FALSE))","v":""},"",null,{"$f":"IF(I27=\"\",\"\",IF(AND(AA23=\"T\",I27<I26),\"X\",IF(AND(AA23=\"F\",I27>I26),\"X\",\"\")))","v":""},null,{"$f":"IF(AA23=\"T\",AB27,AC27)","v":""},null,4,null,{"$f":"IF($O27=\"\",\"\",HLOOKUP(O27,womens_declare,B26,FALSE))","v":""},"",null,{"$f":"IF(R27=\"\",\"\",IF(AND(AA23=\"T\",R27<R26),\"X\",IF(AND(AA23=\"F\",R27>R26),\"X\",\"\")))","v":""},{"$f":"IF(AA23=\"T\",AD27,AE27)","v":""},null,null,null,null,null,null,null,{"$f":"IF(I27=\"\",\"\",IF(AA23=\"F\",\"\",IF(AA23=\"T\",IF(I27<=X23,\"þ\",IF(I27<=Y23,\"G2\",IF(I27<=Z23,\"G3\",\"\"))))))","v":""},{"$f":"IF(I27=\"\",\"\",IF(AA23=\"T\",\"\",IF(AA23=\"F\",IF(I27>=X23,\"þ\",IF(I27>=Y23,\"G2\",IF(I27>=Z23,\"G3\",\"\"))))))","v":""},{"$f":"IF(R27=\"\",\"\",IF(AA23=\"F\",\"\",IF(AA23=\"T\",IF(R27<=X23,\"þ\",IF(R27<=Y23,\"G2\",IF(R27<=Z23,\"G3\",\"\"))))))","v":""},{"$f":"IF(R27=\"\",\"\",IF(AA23=\"T\",\"\",IF(AA23=\"F\",IF(R27>=X23,\"þ\",IF(R27>=Y23,\"G2\",IF(R27>=Z23,\"G3\",\"\"))))))","v":""},"","","","",27,99,"Event Cancelled",null,null,null,null,"3==",{"$f":"SUM($AR$7:AR9)/3","v":5},{"$f":"SUM($AS$7:AS9)/3","v":5}]
[null,null,"","",5,null,{"$f":"IF($F28=\"\",\"\",HLOOKUP(F28,womens_declare,B26,FALSE))","v":""},"",null,{"$f":"IF(I28=\"\",\"\",IF(AND(AA23=\"T\",I28<I27),\"X\",IF(AND(AA23=\"F\",I28>I27),\"X\",\"\")))","v":""},null,{"$f":"IF(AA23=\"T\",AB28,AC28)","v":""},null,5,null,{"$f":"IF($O28=\"\",\"\",HLOOKUP(O28,womens_declare,B26,FALSE))","v":""},"",null,{"$f":"IF(R28=\"\",\"\",IF(AND(AA23=\"T\",R28<R27),\"X\",IF(AND(AA23=\"F\",R28>R27),\"X\",\"\")))","v":""},{"$f":"IF(AA23=\"T\",AD28,AE28)","v":""},null,null,null,null,null,null,null,{"$f":"IF(I28=\"\",\"\",IF(AA23=\"F\",\"\",IF(AA23=\"T\",IF(I28<=X23,\"þ\",IF(I28<=Y23,\"G2\",IF(I28<=Z23,\"G3\",\"\"))))))","v":""},{"$f":"IF(I28=\"\",\"\",IF(AA23=\"T\",\"\",IF(AA23=\"F\",IF(I28>=X23,\"þ\",IF(I28>=Y23,\"G2\",IF(I28>=Z23,\"G3\",\"\"))))))","v":""},{"$f":"IF(R28=\"\",\"\",IF(AA23=\"F\",\"\",IF(AA23=\"T\",IF(R28<=X23,\"þ\",IF(R28<=Y23,\"G2\",IF(R28<=Z23,\"G3\",\"\"))))))","v":""},{"$f":"IF(R28=\"\",\"\",IF(AA23=\"T\",\"\",IF(AA23=\"F\",IF(R28>=X23,\"þ\",IF(R28>=Y23,\"G2\",IF(R28>=Z23,\"G3\",\"\"))))))","v":""},"","","","",28,96,"No Competitors Entered",null,null,null,null,"3===",{"$f":"SUM($AR$7:AR10)/4","v":4.5},{"$f":"SUM($AS$7:AS10)/4","v":4.5}]
[null,null,"","",6,null,{"$f":"IF($F29=\"\",\"\",HLOOKUP(F29,womens_declare,B26,FALSE))","v":""},"",null,{"$f":"IF(I29=\"\",\"\",IF(AND(AA23=\"T\",I29<I28),\"X\",IF(AND(AA23=\"F\",I29>I28),\"X\",\"\")))","v":""},null,{"$f":"IF(AA23=\"T\",AB29,AC29)","v":""},null,6,null,{"$f":"IF($O29=\"\",\"\",HLOOKUP(O29,womens_declare,B26,FALSE))","v":""},"",null,{"$f":"IF(R29=\"\",\"\",IF(AND(AA23=\"T\",R29<R28),\"X\",IF(AND(AA23=\"F\",R29>R28),\"X\",\"\")))","v":""},{"$f":"IF(AA23=\"T\",AD29,AE29)","v":""},null,null,null,null,null,null,null,{"$f":"IF(I29=\"\",\"\",IF(AA23=\"F\",\"\",IF(AA23=\"T\",IF(I29<=X23,\"þ\",IF(I29<=Y23,\"G2\",IF(I29<=Z23,\"G3\",\"\"))))))","v":""},{"$f":"IF(I29=\"\",\"\",IF(AA23=\"T\",\"\",IF(AA23=\"F\",IF(I29>=X23,\"þ\",IF(I29>=Y23,\"G2\",IF(I29>=Z23,\"G3\",\"\"))))))","v":""},{"$f":"IF(R29=\"\",\"\",IF(AA23=\"F\",\"\",IF(AA23=\"T\",IF(R29<=X23,\"þ\",IF(R29<=Y23,\"G2\",IF(R29<=Z23,\"G3\",\"\"))))))","v":""},{"$f":"IF(R29=\"\",\"\",IF(AA23=\"T\",\"\",IF(AA23=\"F\",IF(R29>=X23,\"þ\",IF(R29>=Y23,\"G2\",IF(R29>=Z23,\"G3\",\"\"))))))","v":""},"","","","",29,null,null,null,null,null,null,"3====",{"$f":"SUM($AR$7:AR11)/5","v":4},{"$f":"SUM($AS$7:AS11)/5","v":4}]
[null,null,"","",7,null,{"$f":"IF($F30=\"\",\"\",HLOOKUP(F30,womens_declare,B26,FALSE))","v":""},"",null,{"$f":"IF(I30=\"\",\"\",IF(AND(AA23=\"T\",I30<I29),\"X\",IF(AND(AA23=\"F\",I30>I29),\"X\",\"\")))","v":""},null,{"$f":"IF(AA23=\"T\",AB30,AC30)","v":""},null,7,null,{"$f":"IF($O30=\"\",\"\",HLOOKUP(O30,womens_declare,B26,FALSE))","v":""},"",null,{"$f":"IF(R30=\"\",\"\",IF(AND(AA23=\"T\",R30<R29),\"X\",IF(AND(AA23=\"F\",R30>R29),\"X\",\"\")))","v":""},{"$f":"IF(AA23=\"T\",AD30,AE30)","v":""},null,null,null,null,null,null,null,{"$f":"IF(I30=\"\",\"\",IF(AA23=\"F\",\"\",IF(AA23=\"T\",IF(I30<=X23,\"þ\",IF(I30<=Y23,\"G2\",IF(I30<=Z23,\"G3\",\"\"))))))","v":""},{"$f":"IF(I30=\"\",\"\",IF(AA23=\"T\",\"\",IF(AA23=\"F\",IF(I30>=X23,\"þ\",IF(I30>=Y23,\"G2\",IF(I30>=Z23,\"G3\",\"\"))))))","v":""},{"$f":"IF(R30=\"\",\"\",IF(AA23=\"F\",\"\",IF(AA23=\"T\",IF(R30<=X23,\"þ\",IF(R30<=Y23,\"G2\",IF(R30<=Z23,\"G3\",\"\"))))))","v":""},{"$f":"IF(R30=\"\",\"\",IF(AA23=\"T\",\"\",IF(AA23=\"F\",IF(R30>=X23,\"þ\",IF(R30>=Y23,\"G2\",IF(R30>=Z23,\"G3\",\"\"))))))","v":""},"","","","",30,null,null,null,null,null,null,"3=====",{"$f":"SUM($AR$7:AR12)/6","v":3.5},{"$f":"SUM($AS$7:AS12)/6","v":3.5}]
[null,null,"","",8,null,{"$f":"IF($F31=\"\",\"\",HLOOKUP(F31,womens_declare,B26,FALSE))","v":""},"",null,{"$f":"IF(I31=\"\",\"\",IF(AND(AA23=\"T\",I31<I30),\"X\",IF(AND(AA23=\"F\",I31>I30),\"X\",\"\")))","v":""},null,{"$f":"IF(AA23=\"T\",AB31,AC31)","v":""},null,8,null,{"$f":"IF($O31=\"\",\"\",HLOOKUP(O31,womens_declare,B26,FALSE))","v":""},"",null,{"$f":"IF(R31=\"\",\"\",IF(AND(AA23=\"T\",R31<R30),\"X\",IF(AND(AA23=\"F\",R31>R30),\"X\",\"\")))","v":""},{"$f":"IF(AA23=\"T\",AD31,AE31)","v":""},null,null,null,null,null,null,null,{"$f":"IF(I31=\"\",\"\",IF(AA23=\"F\",\"\",IF(AA23=\"T\",IF(I31<=X23,\"þ\",IF(I31<=Y23,\"G2\",IF(I31<=Z23,\"G3\",\"\"))))))","v":""},{"$f":"IF(I31=\"\",\"\",IF(AA23=\"T\",\"\",IF(AA23=\"F\",IF(I31>=X23,\"þ\",IF(I31>=Y23,\"G2\",IF(I31>=Z23,\"G3\",\"\"))))))","v":""},{"$f":"IF(R31=\"\",\"\",IF(AA23=\"F\",\"\",IF(AA23=\"T\",IF(R31<=X23,\"þ\",IF(R31<=Y23,\"G2\",IF(R31<=Z23,\"G3\",\"\"))))))","v":""},{"$f":"IF(R31=\"\",\"\",IF(AA23=\"T\",\"\",IF(AA23=\"F\",IF(R31>=X23,\"þ\",IF(R31>=Y23,\"G2\",IF(R31>=Z23,\"G3\",\"\"))))))","v":""},"","","","",31,null,null,null,null,null,null,"4=",{"$f":"SUM($AR$8:AR9)/2","v":4.5},{"$f":"SUM($AS$8:AS9)/2","v":4.5}]
[null,null,null,null,null,null,null,null,null,null,null,null,null,null,null,null,null,null,null,null,null,null,null,null,null,null,null,null,null,null,null,null,null,null,null,32,null,null,null,null,null,null,"4==",{"$f":"SUM($AR$8:AR10)/3","v":4},{"$f":"SUM($AS$8:AS10)/3","v":4}]
[null,null,null,null,{"$f":"CONCATENATE(VLOOKUP(A34,womens_handbook,3,FALSE),\" A\")","v":"Women's 800m A"},null,null,{"$f":"IF(A34=\"\",\"\",IF(VLOOKUP(A34,Handbook!$A$4:$AI$24,35,FALSE)=\"Y\",\"Wind=\",\"\"))","v":""},null,null,null,null,null,null,{"$f":"CONCATENATE(VLOOKUP(A34,womens_handbook,3,FALSE),\" B\")","v":"Women's 800m B"},{"$f":"CONCATENATE(VLOOKUP(M34,Handbook!$A$4:$C$24,3,FALSE),\" A\")","v":{"$error":"#N/A"}},{"$f":"H33","v":""},null,null,null,null,{"$f":"IF($A34=\"\",\"\",VLOOKUP($A34,Handbook!$A$26:$AK$46,21,FALSE))","v":"00:02:01.300"},{"$f":"IF($A34=\"\",\"\",VLOOKUP($A34,Handbook!$A$26:$AK$46,22,FALSE))","v":"00:02:01.300"},{"$f":"IF($A34=\"\",\"\",VLOOKUP($A34,Handbook!$A$26:$AK$46,23,FALSE))","v":"00:02:25"},{"$f":"IF($A34=\"\",\"\",VLOOKUP($A34,Handbook!$A$26:$AK$46,24,FALSE))","v":"00:02:25"},{"$f":"IF($A34=\"\",\"\",VLOOKUP($A34,Handbook!$A$26:$AK$46,25,FALSE))","v":"00:02:25"},{"$f":"IF($A34=\"\",\"\",VLOOKUP($A34,Handbook!$A$26:$AK$46,34,FALSE))","v":"T"},null,null,null,null,null,null,null,null,33,null,null,null,null,null,null,"4===",{"$f":"SUM($AR$8:AR11)/4","v":3.5},{"$f":"SUM($AS$8:AS11)/4","v":3.5}]
[2,null,{"$f":"IF(F34=\"\",\"\",IF(F34>10,F34/11,F34))","v":""},{"$f":"IF(O34=\"\",\"\",IF(O34>10,O34/11,O34))","v":""},1,null,{"$f":"IF($F34=\"\",\"\",IF($F34>90,VLOOKUP(F34,eventcodes,2,FALSE),HLOOKUP(F34,womens_declare,B36,FALSE)))","v":""},{"$f":"IF($F34=\"\",\"\",IF($F34>90,\"\",VLOOKUP(C34,matchday,2,FALSE)))","v":""},null,{"$f":"IF(I34=\"\",\"\",IF(AA33=\"T\",V34,V35))","v":""},null,{"$f":"IF(AA33=\"T\",AB34,AC34)","v":""},null,1,null,{"$f":"IF($O34=\"\",\"\",HLOOKUP(O34,womens_declare,B36,FALSE))","v":""},{"$f":"IF($O34=\"\",\"\",VLOOKUP(D34,matchday,2,FALSE))","v":""},null,null,{"$f":"IF(AA33=\"T\",AD34,AE34)","v":""},null,{"$f":"IF(AA33=\"F\",\"\",IF(I34<V33,\"LR\",IF(I34=V33,\"=LR\",IF(I34<W33,\"DR\",IF(I34=W33,\"=DR\",\"\")))))","v":"LR"},null,null,null,null,null,{"$f":"IF(I34=\"\",\"\",IF(AA33=\"F\",\"\",IF(AA33=\"T\",IF(I34<=X33,\"þ\",IF(I34<=Y33,\"G2\",IF(I34<=Z33,\"G3\",\"\"))))))","v":""},{"$f":"IF(I34=\"\",\"\",IF(AA33=\"T\",\"\",IF(AA33=\"F\",IF(I34>=X33,\"þ\",IF(I34>=Y33,\"G2\",IF(I34>=Z33,\"G3\",\"\"))))))","v":""},{"$f":"IF(R34=\"\",\"\",IF(AA33=\"F\",\"\",IF(AA33=\"T\",IF(R34<=X33,\"þ\",IF(R34<=Y33,\"G2\",IF(R34<=Z33,\"G3\",\"\"))))))","v":""},{"$f":"IF(R34=\"\",\"\",IF(AA33=\"T\",\"\",IF(AA33=\"F\",IF(R34>=X33,\"þ\",IF(R34>=Y33,\"G2\",IF(R34>=Z33,\"G3\",\"\"))))))","v":""},{"$f":"C34","v":""},{"$f":"IF(F34=\"\",\"\",IF(LEFT(I34,1)=\"D\",0,VLOOKUP(E34,$AQ$4:$AR$40,2,FALSE)))","v":""},{"$f":"D34","v":""},{"$f":"IF(O34=\"\",\"\",IF(LEFT(R34,1)=\"D\",0,VLOOKUP(N34,$AQ$4:$AS$40,3,FALSE)))","v":""},34,null,null,null,null,null,null,"4====",{"$f":"SUM($AR$8:AR12)/5","v":3},{"$f":"SUM($AS$8:AS12)/5","v":3}]
[null,{"$f":"VLOOKUP(A34,Handbook!$A$26:$AK$46,37,FALSE)","v":3},"","",2,null,{"$f":"IF($F35=\"\",\"\",HLOOKUP(F35,womens_declare,B36,FALSE))","v":""},{"$f":"IF($F35=\"\",\"\",VLOOKUP(C35,matchday,2,FALSE))","v":""},null,{"$f":"IF(I35=\"\",\"\",IF(AND(AA33=\"T\",I35<I34),\"X\",IF(AND(AA33=\"F\",I35>I34),\"X\",\"\")))","v":""},null,{"$f":"IF(AA33=\"T\",AB35,AC35)","v":""},null,2,null,{"$f":"IF($O35=\"\",\"\",HLOOKUP(O35,womens_declare,B36,FALSE))","v":""},"",null,{"$f":"IF(R35=\"\",\"\",IF(AND(AA33=\"T\",R35<R34),\"X\",IF(AND(AA33=\"F\",R35>R34),\"X\",\"\")))","v":""},{"$f":"IF(AA33=\"T\",AD35,AE35)","v":""},null,{"$f":"IF(AA33=\"T\",\"\",IF(I34>V33,\"LR\",IF(I34=V33,\"=LR\",IF(I34>W33,\"DR\",IF(I34=W33,\"=DR\",\"\")))))","v":""},null,null,null,null,null,{"$f":"IF(I35=\"\",\"\",IF(AA33=\"F\",\"\",IF(AA33=\"T\",IF(I35<=X33,\"þ\",IF(I35<=Y33,\"G2\",IF(I35<=Z33,\"G3\",\"\"))))))","v":""},{"$f":"IF(I35=\"\",\"\",IF(AA33=\"T\",\"\",IF(AA33=\"F\",IF(I35>=X33,\"þ\",IF(I35>=Y33,\"G2\",IF(I35>=Z33,\"G3\",\"\"))))))","v":""},{"$f":"IF(R35=\"\",\"\",IF(AA33=\"F\",\"\",IF(AA33=\"T\",IF(R35<=X33,\"þ\",IF(R35<=Y33,\"G2\",IF(R35<=Z33,\"G3\",\"\"))))))","v":""},{"$f":"IF(R35=\"\",\"\",IF(AA33=\"T\",\"\",IF(AA33=\"F\",IF(R35>=X33,\"þ\",IF(R35>=Y33,\"G2\",IF(R35>=Z33,\"G3\",\"\"))))))","v":""},"","","","",35,null,null,null,null,null,null,"5=",{"$f":"SUM($AR$9:AR10)/2","v":3.5},{"$f":"SUM($AS$9:AS10)/2","v":3.5}]
[null,{"$f":"VLOOKUP(A34,womens_declare,20,FALSE)","v":6},"","",3,null,{"$f":"IF($F36=\"\",\"\",HLOOKUP(F36,womens_declare,B36,FALSE))","v":""},"",null,{"$f":"IF(I36=\"\",\"\",IF(AND(AA33=\"T\",I36<I35),\"X\",IF(AND(AA33=\"F\",I36>I35),\"X\",\"\")))","v":""},null,{"$f":"IF(AA33=\"T\",AB36,AC36)","v":""},null,3,null,{"$f":"IF($O36=\"\",\"\",HLOOKUP(O36,womens_declare,B36,FALSE))","v":""},"",null,{"$f":"IF(R36=\"\",\"\",IF(AND(AA33=\"T\",R36<R35),\"X\",IF(AND(AA33=\"F\",R36>R35),\"X\",\"\")))","v":""},{"$f":"IF(AA33=\"T\",AD36,AE36)","v":""},null,null,null,null,null,null,null,{"$f":"IF(I36=\"\",\"\",IF(AA33=\"F\",\"\",IF(AA33=\"T\",IF(I36<=X33,\"þ\",IF(I36<=Y33,\"G2\",IF(I36<=Z33,\"G3\",\"\"))))))","v":""},{"$f":"IF(I36=\"\",\"\",IF(AA33=\"T\",\"\",IF(AA33=\"F\",IF(I36>=X33,\"þ\",IF(I36>=Y33,\"G2\",IF(I36>=Z33,\"G3\",\"\"))))))","v":""},{"$f":"IF(R36=\"\",\"\",IF(AA33=\"F\",\"\",IF(AA33=\"T\",IF(R36<=X33,\"þ\",IF(R36<=Y33,\"G2\",IF(R36<=Z33,\"G3\",\"\"))))))","v":""},{"$f":"IF(R36=\"\",\"\",IF(AA33=\"T\",\"\",IF(AA33=\"F\",IF(R36>=X33,\"þ\",IF(R36>=Y33,\"G2\",IF(R36>=Z33,\"G3\",\"\"))))))","v":""},"","","","",36,null,null,null,null,null,null,"5==",{"$f":"SUM($AR$9:AR11)/3","v":3},{"$f":"SUM($AS$9:AS11)/3","v":3}]
[null,null,"","",4,null,{"$f":"IF($F37=\"\",\"\",HLOOKUP(F37,womens_declare,B36,FALSE))","v":""},"",null,{"$f":"IF(I37=\"\",\"\",IF(AND(AA33=\"T\",I37<I36),\"X\",IF(AND(AA33=\"F\",I37>I36),\"X\",\"\")))","v":""},null,{"$f":"IF(AA33=\"T\",AB37,AC37)","v":""},null,4,null,{"$f":"IF($O37=\"\",\"\",HLOOKUP(O37,womens_declare,B36,FALSE))","v":""},"",null,{"$f":"IF(R37=\"\",\"\",IF(AND(AA33=\"T\",R37<R36),\"X\",IF(AND(AA33=\"F\",R37>R36),\"X\",\"\")))","v":""},{"$f":"IF(AA33=\"T\",AD37,AE37)","v":""},null,null,null,null,null,null,null,{"$f":"IF(I37=\"\",\"\",IF(AA33=\"F\",\"\",IF(AA33=\"T\",IF(I37<=X33,\"þ\",IF(I37<=Y33,\"G2\",IF(I37<=Z33,\"G3\",\"\"))))))","v":""},{"$f":"IF(I37=\"\",\"\",IF(AA33=\"T\",\"\",IF(AA33=\"F\",IF(I37>=X33,\"þ\",IF(I37>=Y33,\"G2\",IF(I37>=Z33,\"G3\",\"\"))))))","v":""},{"$f":"IF(R37=\"\",\"\",IF(AA33=\"F\",\"\",IF(AA33=\"T\",IF(R37<=X33,\"þ\",IF(R37<=Y33,\"G2\",IF(R37<=Z33,\"G3\",\"\"))))))","v":""},{"$f":"IF(R37=\"\",\"\",IF(AA33=\"T\",\"\",IF(AA33=\"F\",IF(R37>=X33,\"þ\",IF(R37>=Y33,\"G2\",IF(R37>=Z33,\"G3\",\"\"))))))","v":""},"","","","",37,null,null,null,null,null,null,"5===",{"$f":"SUM($AR$9:AR12)/4","v":2.5},{"$f":"SUM($AS$9:AS12)/4","v":2.5}]
[null,null,"","",5,null,{"$f":"IF($F38=\"\",\"\",HLOOKUP(F38,womens_declare,B36,FALSE))","v":""},"",null,{"$f":"IF(I38=\"\",\"\",IF(AND(AA33=\"T\",I38<I37),\"X\",IF(AND(AA33=\"F\",I38>I37),\"X\",\"\")))","v":""},null,{"$f":"IF(AA33=\"T\",AB38,AC38)","v":""},null,5,null,{"$f":"IF($O38=\"\",\"\",HLOOKUP(O38,womens_declare,B36,FALSE))","v":""},"",null,{"$f":"IF(R38=\"\",\"\",IF(AND(AA33=\"T\",R38<R37),\"X\",IF(AND(AA33=\"F\",R38>R37),\"X\",\"\")))","v":""},{"$f":"IF(AA33=\"T\",AD38,AE38)","v":""},null,null,null,null,null,null,null,{"$f":"IF(I38=\"\",\"\",IF(AA33=\"F\",\"\",IF(AA33=\"T\",IF(I38<=X33,\"þ\",IF(I38<=Y33,\"G2\",IF(I38<=Z33,\"G3\",\"\"))))))","v":""},{"$f":"IF(I38=\"\",\"\",IF(AA33=\"T\",\"\",IF(AA33=\"F\",IF(I38>=X33,\"þ\",IF(I38>=Y33,\"G2\",IF(I38>=Z33,\"G3\",\"\"))))))","v":""},{"$f":"IF(R38=\"\",\"\",IF(AA33=\"F\",\"\",IF(AA33=\"T\",IF(R38<=X33,\"þ\",IF(R38<=Y33,\"G2\",IF(R38<=Z33,\"G3\",\"\"))))))","v":""},{"$f":"IF(R38=\"\",\"\",IF(AA33=\"T\",\"\",IF(AA33=\"F\",IF(R38>=X33,\"þ\",IF(R38>=Y33,\"G2\",IF(R38>=Z33,\"G3\",\"\"))))))","v":""},"","","","",38,null,null,null,null,null,null,"6=",{"$f":"SUM($AR$10:AR11)/2","v":2.5},{"$f":"SUM($AS$10:AS11)/2","v":2.5}]
[null,null,"","",6,null,{"$f":"IF($F39=\"\",\"\",HLOOKUP(F39,womens_declare,B36,FALSE))","v":""},"",null,{"$f":"IF(I39=\"\",\"\",IF(AND(AA33=\"T\",I39<I38),\"X\",IF(AND(AA33=\"F\",I39>I38),\"X\",\"\")))","v":""},null,{"$f":"IF(AA33=\"T\",AB39,AC39)","v":""},null,6,null,{"$f":"IF($O39=\"\",\"\",HLOOKUP(O39,womens_declare,B36,FALSE))","v":""},"",null,{"$f":"IF(R39=\"\",\"\",IF(AND(AA33=\"T\",R39<R38),\"X\",IF(AND(AA33=\"F\",R39>R38),\"X\",\"\")))","v":""},{"$f":"IF(AA33=\"T\",AD39,AE39)","v":""},null,null,null,null,null,null,null,{"$f":"IF(I39=\"\",\"\",IF(AA33=\"F\",\"\",IF(AA33=\"T\",IF(I39<=X33,\"þ\",IF(I39<=Y33,\"G2\",IF(I39<=Z33,\"G3\",\"\"))))))","v":""},{"$f":"IF(I39=\"\",\"\",IF(AA33=\"T\",\"\",IF(AA33=\"F\",IF(I39>=X33,\"þ\",IF(I39>=Y33,\"G2\",IF(I39>=Z33,\"G3\",\"\"))))))","v":""},{"$f":"IF(R39=\"\",\"\",IF(AA33=\"F\",\"\",IF(AA33=\"T\",IF(R39<=X33,\"þ\",IF(R39<=Y33,\"G2\",IF(R39<=Z33,\"G3\",\"\"))))))","v":""},{"$f":"IF(R39=\"\",\"\",IF(AA33=\"T\",\"\",IF(AA33=\"F\",IF(R39>=X33,\"þ\",IF(R39>=Y33,\"G2\",IF(R39>=Z33,\"G3\",\"\"))))))","v":""},"","","","",39,null,null,null,null,null,null,"6==",{"$f":"SUM($AR$10:AR12)/3","v":2},{"$f":"SUM($AS$10:AS12)/3","v":2}]
[null,null,"","",7,null,{"$f":"IF($F40=\"\",\"\",HLOOKUP(F40,womens_declare,B36,FALSE))","v":""},"",null,{"$f":"IF(I40=\"\",\"\",IF(AND(AA33=\"T\",I40<I39),\"X\",IF(AND(AA33=\"F\",I40>I39),\"X\",\"\")))","v":""},null,{"$f":"IF(AA33=\"T\",AB40,AC40)","v":""},null,7,null,{"$f":"IF($O40=\"\",\"\",HLOOKUP(O40,womens_declare,B36,FALSE))","v":""},"",null,{"$f":"IF(R40=\"\",\"\",IF(AND(AA33=\"T\",R40<R39),\"X\",IF(AND(AA33=\"F\",R40>R39),\"X\",\"\")))","v":""},{"$f":"IF(AA33=\"T\",AD40,AE40)","v":""},null,null,null,null,null,null,null,{"$f":"IF(I40=\"\",\"\",IF(AA33=\"F\",\"\",IF(AA33=\"T\",IF(I40<=X33,\"þ\",IF(I40<=Y33,\"G2\",IF(I40<=Z33,\"G3\",\"\"))))))","v":""},{"$f":"IF(I40=\"\",\"\",IF(AA33=\"T\",\"\",IF(AA33=\"F\",IF(I40>=X33,\"þ\",IF(I40>=Y33,\"G2\",IF(I40>=Z33,\"G3\",\"\"))))))","v":""},{"$f":"IF(R40=\"\",\"\",IF(AA33=\"F\",\"\",IF(AA33=\"T\",IF(R40<=X33,\"þ\",IF(R40<=Y33,\"G2\",IF(R40<=Z33,\"G3\",\"\"))))))","v":""},{"$f":"IF(R40=\"\",\"\",IF(AA33=\"T\",\"\",IF(AA33=\"F\",IF(R40>=X33,\"þ\",IF(R40>=Y33,\"G2\",IF(R40>=Z33,\"G3\",\"\"))))))","v":""},"","","","",40,null,null,null,null,null,null,"7=",{"$f":"SUM($AR$11:AR12)/2","v":1.5},{"$f":"SUM($AS$11:AS12)/2","v":1.5}]
[null,null,"","",8,null,{"$f":"IF($F41=\"\",\"\",HLOOKUP(F41,womens_declare,B36,FALSE))","v":""},"",null,{"$f":"IF(I41=\"\",\"\",IF(AND(AA33=\"T\",I41<I40),\"X\",IF(AND(AA33=\"F\",I41>I40),\"X\",\"\")))","v":""},null,{"$f":"IF(AA33=\"T\",AB41,AC41)","v":""},null,8,null,{"$f":"IF($O41=\"\",\"\",HLOOKUP(O41,womens_declare,B36,FALSE))","v":""},"",null,{"$f":"IF(R41=\"\",\"\",IF(AND(AA33=\"T\",R41<R40),\"X\",IF(AND(AA33=\"F\",R41>R40),\"X\",\"\")))","v":""},{"$f":"IF(AA33=\"T\",AD41,AE41)","v":""},null,null,null,null,null,null,null,{"$f":"IF(I41=\"\",\"\",IF(AA33=\"F\",\"\",IF(AA33=\"T\",IF(I41<=X33,\"þ\",IF(I41<=Y33,\"G2\",IF(I41<=Z33,\"G3\",\"\"))))))","v":""},{"$f":"IF(I41=\"\",\"\",IF(AA33=\"T\",\"\",IF(AA33=\"F\",IF(I41>=X33,\"þ\",IF(I41>=Y33,\"G2\",IF(I41>=Z33,\"G3\",\"\"))))))","v":""},{"$f":"IF(R41=\"\",\"\",IF(AA33=\"F\",\"\",IF(AA33=\"T\",IF(R41<=X33,\"þ\",IF(R41<=Y33,\"G2\",IF(R41<=Z33,\"G3\",\"\"))))))","v":""},{"$f":"IF(R41=\"\",\"\",IF(AA33=\"T\",\"\",IF(AA33=\"F\",IF(R41>=X33,\"þ\",IF(R41>=Y33,\"G2\",IF(R41>=Z33,\"G3\",\"\"))))))","v":""},"","","","",41]
[null,null,null,null,null,null,null,null,null,null,null,null,null,null,null,null,null,null,null,null,null,null,null,null,null,null,null,null,null,null,null,null,null,null,null,42]
[null,null,null,null,{"$f":"CONCATENATE(VLOOKUP(A44,womens_handbook,3,FALSE),\" A\")","v":"Women's 1500m A"},null,null,{"$f":"IF(A44=\"\",\"\",IF(VLOOKUP(A44,Handbook!$A$4:$AI$24,35,FALSE)=\"Y\",\"Wind=\",\"\"))","v":""},null,null,null,null,null,null,{"$f":"CONCATENATE(VLOOKUP(A44,womens_handbook,3,FALSE),\" B\")","v":"Women's 1500m B"},{"$f":"CONCATENATE(VLOOKUP(M44,Handbook!$A$4:$C$24,3,FALSE),\" A\")","v":{"$error":"#N/A"}},{"$f":"H43","v":""},null,null,null,null,{"$f":"IF($A44=\"\",\"\",VLOOKUP($A44,Handbook!$A$26:$AK$46,21,FALSE))","v":"00:04:12.700"},{"$f":"IF($A44=\"\",\"\",VLOOKUP($A44,Handbook!$A$26:$AK$46,22,FALSE))","v":"00:04:17"},{"$f":"IF($A44=\"\",\"\",VLOOKUP($A44,Handbook!$A$26:$AK$46,23,FALSE))","v":"00:05:00"},{"$f":"IF($A44=\"\",\"\",VLOOKUP($A44,Handbook!$A$26:$AK$46,24,FALSE))","v":"00:05:00"},{"$f":"IF($A44=\"\",\"\",VLOOKUP($A44,Handbook!$A$26:$AK$46,25,FALSE))","v":"00:05:00"},{"$f":"IF($A44=\"\",\"\",VLOOKUP($A44,Handbook!$A$26:$AK$46,34,FALSE))","v":"T"},null,null,null,null,null,null,null,null,43]
[8,null,{"$f":"IF(F44=\"\",\"\",IF(F44>10,F44/11,F44))","v":""},{"$f":"IF(O44=\"\",\"\",IF(O44>10,O44/11,O44))","v":""},1,null,{"$f":"IF($F44=\"\",\"\",IF($F44>90,VLOOKUP(F44,eventcodes,2,FALSE),HLOOKUP(F44,womens_declare,B46,FALSE)))","v":""},{"$f":"IF($F44=\"\",\"\",IF($F44>90,\"\",VLOOKUP(C44,matchday,2,FALSE)))","v":""},null,{"$f":"IF(I44=\"\",\"\",IF(AA43=\"T\",V44,V45))","v":""},null,{"$f":"IF(AA43=\"T\",AB44,AC44)","v":""},null,1,null,{"$f":"IF($O44=\"\",\"\",HLOOKUP(O44,womens_declare,B46,FALSE))","v":""},{"$f":"IF($O44=\"\",\"\",VLOOKUP(D44,matchday,2,FALSE))","v":""},null,null,{"$f":"IF(AA43=\"T\",AD44,AE44)","v":""},null,{"$f":"IF(AA43=\"F\",\"\",IF(I44<V43,\"LR\",IF(I44=V43,\"=LR\",IF(I44<W43,\"DR\",IF(I44=W43,\"=DR\",\"\")))))","v":"LR"},null,null,null,null,null,{"$f":"IF(I44=\"\",\"\",IF(AA43=\"F\",\"\",IF(AA43=\"T\",IF(I44<=X43,\"þ\",IF(I44<=Y43,\"G2\",IF(I44<=Z43,\"G3\",\"\"))))))","v":""},{"$f":"IF(I44=\"\",\"\",IF(AA43=\"T\",\"\",IF(AA43=\"F\",IF(I44>=X43,\"þ\",IF(I44>=Y43,\"G2\",IF(I44>=Z43,\"G3\",\"\"))))))","v":""},{"$f":"IF(R44=\"\",\"\",IF(AA43=\"F\",\"\",IF(AA43=\"T\",IF(R44<=X43,\"þ\",IF(R44<=Y43,\"G2\",IF(R44<=Z43,\"G3\",\"\"))))))","v":""},{"$f":"IF(R44=\"\",\"\",IF(AA43=\"T\",\"\",IF(AA43=\"F\",IF(R44>=X43,\"þ\",IF(R44>=Y43,\"G2\",IF(R44>=Z43,\"G3\",\"\"))))))","v":""},{"$f":"C44","v":""},{"$f":"IF(F44=\"\",\"\",IF(LEFT(I44,1)=\"D\",0,VLOOKUP(E44,$AQ$4:$AR$40,2,FALSE)))","v":""},{"$f":"D44","v":""},{"$f":"IF(O44=\"\",\"\",IF(LEFT(R44,1)=\"D\",0,VLOOKUP(N44,$AQ$4:$AS$40,3,FALSE)))","v":""},44]
[null,{"$f":"VLOOKUP(A44,Handbook!$A$26:$AK$46,37,FALSE)","v":9},"","",2,null,{"$f":"IF($F45=\"\",\"\",HLOOKUP(F45,womens_declare,B46,FALSE))","v":""},{"$f":"IF($F45=\"\",\"\",VLOOKUP(C45,matchday,2,FALSE))","v":""},null,{"$f":"IF(I45=\"\",\"\",IF(AND(AA43=\"T\",I45<I44),\"X\",IF(AND(AA43=\"F\",I45>I44),\"X\",\"\")))","v":""},null,{"$f":"IF(AA43=\"T\",AB45,AC45)","v":""},null,2,null,{"$f":"IF($O45=\"\",\"\",HLOOKUP(O45,womens_declare,B46,FALSE))","v":""},"",null,{"$f":"IF(R45=\"\",\"\",IF(AND(AA43=\"T\",R45<R44),\"X\",IF(AND(AA43=\"F\",R45>R44),\"X\",\"\")))","v":""},{"$f":"IF(AA43=\"T\",AD45,AE45)","v":""},null,{"$f":"IF(AA43=\"T\",\"\",IF(I44>V43,\"LR\",IF(I44=V43,\"=LR\",IF(I44>W43,\"DR\",IF(I44=W43,\"=DR\",\"\")))))","v":""},null,null,null,null,null,{"$f":"IF(I45=\"\",\"\",IF(AA43=\"F\",\"\",IF(AA43=\"T\",IF(I45<=X43,\"þ\",IF(I45<=Y43,\"G2\",IF(I45<=Z43,\"G3\",\"\"))))))","v":""},{"$f":"IF(I45=\"\",\"\",IF(AA43=\"T\",\"\",IF(AA43=\"F\",IF(I45>=X43,\"þ\",IF(I45>=Y43,\"G2\",IF(I45>=Z43,\"G3\",\"\"))))))","v":""},{"$f":"IF(R45=\"\",\"\",IF(AA43=\"F\",\"\",IF(AA43=\"T\",IF(R45<=X43,\"þ\",IF(R45<=Y43,\"G2\",IF(R45<=Z43,\"G3\",\"\"))))))","v":""},{"$f":"IF(R45=\"\",\"\",IF(AA43=\"T\",\"\",IF(AA43=\"F\",IF(R45>=X43,\"þ\",IF(R45>=Y43,\"G2\",IF(R45>=Z43,\"G3\",\"\"))))))","v":""},"","","","",45]
[null,{"$f":"VLOOKUP(A44,womens_declare,20,FALSE)","v":7},"","",3,null,{"$f":"IF($F46=\"\",\"\",HLOOKUP(F46,womens_declare,B46,FALSE))","v":""},"",null,{"$f":"IF(I46=\"\",\"\",IF(AND(AA43=\"T\",I46<I45),\"X\",IF(AND(AA43=\"F\",I46>I45),\"X\",\"\")))","v":""},null,{"$f":"IF(AA43=\"T\",AB46,AC46)","v":""},null,3,null,{"$f":"IF($O46=\"\",\"\",HLOOKUP(O46,womens_declare,B46,FALSE))","v":""},"",null,{"$f":"IF(R46=\"\",\"\",IF(AND(AA43=\"T\",R46<R45),\"X\",IF(AND(AA43=\"F\",R46>R45),\"X\",\"\")))","v":""},{"$f":"IF(AA43=\"T\",AD46,AE46)","v":""},null,null,null,null,null,null,null,{"$f":"IF(I46=\"\",\"\",IF(AA43=\"F\",\"\",IF(AA43=\"T\",IF(I46<=X43,\"þ\",IF(I46<=Y43,\"G2\",IF(I46<=Z43,\"G3\",\"\"))))))","v":""},{"$f":"IF(I46=\"\",\"\",IF(AA43=\"T\",\"\",IF(AA43=\"F\",IF(I46>=X43,\"þ\",IF(I46>=Y43,\"G2\",IF(I46>=Z43,\"G3\",\"\"))))))","v":""},{"$f":"IF(R46=\"\",\"\",IF(AA43=\"F\",\"\",IF(AA43=\"T\",IF(R46<=X43,\"þ\",IF(R46<=Y43,\"G2\",IF(R46<=Z43,\"G3\",\"\"))))))","v":""},{"$f":"IF(R46=\"\",\"\",IF(AA43=\"T\",\"\",IF(AA43=\"F\",IF(R46>=X43,\"þ\",IF(R46>=Y43,\"G2\",IF(R46>=Z43,\"G3\",\"\"))))))","v":""},"","","","",46]
[null,null,"","",4,null,{"$f":"IF($F47=\"\",\"\",HLOOKUP(F47,womens_declare,B46,FALSE))","v":""},"",null,{"$f":"IF(I47=\"\",\"\",IF(AND(AA43=\"T\",I47<I46),\"X\",IF(AND(AA43=\"F\",I47>I46),\"X\",\"\")))","v":""},null,{"$f":"IF(AA43=\"T\",AB47,AC47)","v":""},null,4,null,{"$f":"IF($O47=\"\",\"\",HLOOKUP(O47,womens_declare,B46,FALSE))","v":""},"",null,{"$f":"IF(R47=\"\",\"\",IF(AND(AA43=\"T\",R47<R46),\"X\",IF(AND(AA43=\"F\",R47>R46),\"X\",\"\")))","v":""},{"$f":"IF(AA43=\"T\",AD47,AE47)","v":""},null,null,null,null,null,null,null,{"$f":"IF(I47=\"\",\"\",IF(AA43=\"F\",\"\",IF(AA43=\"T\",IF(I47<=X43,\"þ\",IF(I47<=Y43,\"G2\",IF(I47<=Z43,\"G3\",\"\"))))))","v":""},{"$f":"IF(I47=\"\",\"\",IF(AA43=\"T\",\"\",IF(AA43=\"F\",IF(I47>=X43,\"þ\",IF(I47>=Y43,\"G2\",IF(I47>=Z43,\"G3\",\"\"))))))","v":""},{"$f":"IF(R47=\"\",\"\",IF(AA43=\"F\",\"\",IF(AA43=\"T\",IF(R47<=X43,\"þ\",IF(R47<=Y43,\"G2\",IF(R47<=Z43,\"G3\",\"\"))))))","v":""},{"$f":"IF(R47=\"\",\"\",IF(AA43=\"T\",\"\",IF(AA43=\"F\",IF(R47>=X43,\"þ\",IF(R47>=Y43,\"G2\",IF(R47>=Z43,\"G3\",\"\"))))))","v":""},"","","","",47]
[null,null,"","",5,null,{"$f":"IF($F48=\"\",\"\",HLOOKUP(F48,womens_declare,B46,FALSE))","v":""},"",null,{"$f":"IF(I48=\"\",\"\",IF(AND(AA43=\"T\",I48<I47),\"X\",IF(AND(AA43=\"F\",I48>I47),\"X\",\"\")))","v":""},null,{"$f":"IF(AA43=\"T\",AB48,AC48)","v":""},null,5,null,{"$f":"IF($O48=\"\",\"\",HLOOKUP(O48,womens_declare,B46,FALSE))","v":""},"",null,{"$f":"IF(R48=\"\",\"\",IF(AND(AA43=\"T\",R48<R47),\"X\",IF(AND(AA43=\"F\",R48>R47),\"X\",\"\")))","v":""},{"$f":"IF(AA43=\"T\",AD48,AE48)","v":""},null,null,null,null,null,null,null,{"$f":"IF(I48=\"\",\"\",IF(AA43=\"F\",\"\",IF(AA43=\"T\",IF(I48<=X43,\"þ\",IF(I48<=Y43,\"G2\",IF(I48<=Z43,\"G3\",\"\"))))))","v":""},{"$f":"IF(I48=\"\",\"\",IF(AA43=\"T\",\"\",IF(AA43=\"F\",IF(I48>=X43,\"þ\",IF(I48>=Y43,\"G2\",IF(I48>=Z43,\"G3\",\"\"))))))","v":""},{"$f":"IF(R48=\"\",\"\",IF(AA43=\"F\",\"\",IF(AA43=\"T\",IF(R48<=X43,\"þ\",IF(R48<=Y43,\"G2\",IF(R48<=Z43,\"G3\",\"\"))))))","v":""},{"$f":"IF(R48=\"\",\"\",IF(AA43=\"T\",\"\",IF(AA43=\"F\",IF(R48>=X43,\"þ\",IF(R48>=Y43,\"G2\",IF(R48>=Z43,\"G3\",\"\"))))))","v":""},"","","","",48]
[null,null,"","",6,null,{"$f":"IF($F49=\"\",\"\",HLOOKUP(F49,womens_declare,B46,FALSE))","v":""},"",null,{"$f":"IF(I49=\"\",\"\",IF(AND(AA43=\"T\",I49<I48),\"X\",IF(AND(AA43=\"F\",I49>I48),\"X\",\"\")))","v":""},null,{"$f":"IF(AA43=\"T\",AB49,AC49)","v":""},null,6,null,{"$f":"IF($O49=\"\",\"\",HLOOKUP(O49,womens_declare,B46,FALSE))","v":""},"",null,{"$f":"IF(R49=\"\",\"\",IF(AND(AA43=\"T\",R49<R48),\"X\",IF(AND(AA43=\"F\",R49>R48),\"X\",\"\")))","v":""},{"$f":"IF(AA43=\"T\",AD49,AE49)","v":""},null,null,null,null,null,null,null,{"$f":"IF(I49=\"\",\"\",IF(AA43=\"F\",\"\",IF(AA43=\"T\",IF(I49<=X43,\"þ\",IF(I49<=Y43,\"G2\",IF(I49<=Z43,\"G3\",\"\"))))))","v":""},{"$f":"IF(I49=\"\",\"\",IF(AA43=\"T\",\"\",IF(AA43=\"F\",IF(I49>=X43,\"þ\",IF(I49>=Y43,\"G2\",IF(I49>=Z43,\"G3\",\"\"))))))","v":""},{"$f":"IF(R49=\"\",\"\",IF(AA43=\"F\",\"\",IF(AA43=\"T\",IF(R49<=X43,\"þ\",IF(R49<=Y43,\"G2\",IF(R49<=Z43,\"G3\",\"\"))))))","v":""},{"$f":"IF(R49=\"\",\"\",IF(AA43=\"T\",\"\",IF(AA43=\"F\",IF(R49>=X43,\"þ\",IF(R49>=Y43,\"G2\",IF(R49>=Z43,\"G3\",\"\"))))))","v":""},"","","","",49]
[null,null,"","",7,null,{"$f":"IF($F50=\"\",\"\",HLOOKUP(F50,womens_declare,B46,FALSE))","v":""},"",null,{"$f":"IF(I50=\"\",\"\",IF(AND(AA43=\"T\",I50<I49),\"X\",IF(AND(AA43=\"F\",I50>I49),\"X\",\"\")))","v":""},null,{"$f":"IF(AA43=\"T\",AB50,AC50)","v":""},null,7,null,{"$f":"IF($O50=\"\",\"\",HLOOKUP(O50,womens_declare,B46,FALSE))","v":""},"",null,{"$f":"IF(R50=\"\",\"\",IF(AND(AA43=\"T\",R50<R49),\"X\",IF(AND(AA43=\"F\",R50>R49),\"X\",\"\")))","v":""},{"$f":"IF(AA43=\"T\",AD50,AE50)","v":""},null,null,null,null,null,null,null,{"$f":"IF(I50=\"\",\"\",IF(AA43=\"F\",\"\",IF(AA43=\"T\",IF(I50<=X43,\"þ\",IF(I50<=Y43,\"G2\",IF(I50<=Z43,\"G3\",\"\"))))))","v":""},{"$f":"IF(I50=\"\",\"\",IF(AA43=\"T\",\"\",IF(AA43=\"F\",IF(I50>=X43,\"þ\",IF(I50>=Y43,\"G2\",IF(I50>=Z43,\"G3\",\"\"))))))","v":""},{"$f":"IF(R50=\"\",\"\",IF(AA43=\"F\",\"\",IF(AA43=\"T\",IF(R50<=X43,\"þ\",IF(R50<=Y43,\"G2\",IF(R50<=Z43,\"G3\",\"\"))))))","v":""},{"$f":"IF(R50=\"\",\"\",IF(AA43=\"T\",\"\",IF(AA43=\"F\",IF(R50>=X43,\"þ\",IF(R50>=Y43,\"G2\",IF(R50>=Z43,\"G3\",\"\"))))))","v":""},"","","","",50]
[null,null,"","",8,null,{"$f":"IF($F51=\"\",\"\",HLOOKUP(F51,womens_declare,B46,FALSE))","v":""},"",null,{"$f":"IF(I51=\"\",\"\",IF(AND(AA43=\"T\",I51<I50),\"X\",IF(AND(AA43=\"F\",I51>I50),\"X\",\"\")))","v":""},null,{"$f":"IF(AA43=\"T\",AB51,AC51)","v":""},null,8,null,{"$f":"IF($O51=\"\",\"\",HLOOKUP(O51,womens_declare,B46,FALSE))","v":""},"",null,{"$f":"IF(R51=\"\",\"\",IF(AND(AA43=\"T\",R51<R50),\"X\",IF(AND(AA43=\"F\",R51>R50),\"X\",\"\")))","v":""},{"$f":"IF(AA43=\"T\",AD51,AE51)","v":""},null,null,null,null,null,null,null,{"$f":"IF(I51=\"\",\"\",IF(AA43=\"F\",\"\",IF(AA43=\"T\",IF(I51<=X43,\"þ\",IF(I51<=Y43,\"G2\",IF(I51<=Z43,\"G3\",\"\"))))))","v":""},{"$f":"IF(I51=\"\",\"\",IF(AA43=\"T\",\"\",IF(AA43=\"F\",IF(I51>=X43,\"þ\",IF(I51>=Y43,\"G2\",IF(I51>=Z43,\"G3\",\"\"))))))","v":""},{"$f":"IF(R51=\"\",\"\",IF(AA43=\"F\",\"\",IF(AA43=\"T\",IF(R51<=X43,\"þ\",IF(R51<=Y43,\"G2\",IF(R51<=Z43,\"G3\",\"\"))))))","v":""},{"$f":"IF(R51=\"\",\"\",IF(AA43=\"T\",\"\",IF(AA43=\"F\",IF(R51>=X43,\"þ\",IF(R51>=Y43,\"G2\",IF(R51>=Z43,\"G3\",\"\"))))))","v":""},"","","","",51]
[null,null,null,null,null,null,null,null,null,null,null,null,null,null,null,null,null,null,null,null,null,null,null,null,null,null,null,null,null,null,null,null,null,null,null,52]
[null,null,null,null,{"$f":"CONCATENATE(VLOOKUP(A54,womens_handbook,3,FALSE),\" A\")","v":"Women's 3000m S/Chase A"},null,null,{"$f":"IF(A54=\"\",\"\",IF(VLOOKUP(A54,Handbook!$A$4:$AI$24,35,FALSE)=\"Y\",\"Wind=\",\"\"))","v":""},null,null,null,null,null,null,{"$f":"CONCATENATE(VLOOKUP(A54,womens_handbook,3,FALSE),\" B\")","v":"Women's 3000m S/Chase B"},null,{"$f":"H53","v":""},null,null,null,null,{"$f":"IF($A54=\"\",\"\",VLOOKUP($A54,Handbook!$A$26:$AK$46,21,FALSE))","v":"-"},{"$f":"IF($A54=\"\",\"\",VLOOKUP($A54,Handbook!$A$26:$AK$46,22,FALSE))","v":"-"},{"$f":"IF($A54=\"\",\"\",VLOOKUP($A54,Handbook!$A$26:$AK$46,23,FALSE))","v":"00:10:00"},{"$f":"IF($A54=\"\",\"\",VLOOKUP($A54,Handbook!$A$26:$AK$46,24,FALSE))","v":"00:10:00"},{"$f":"IF($A54=\"\",\"\",VLOOKUP($A54,Handbook!$A$26:$AK$46,25,FALSE))","v":"00:10:00"},{"$f":"IF($A54=\"\",\"\",VLOOKUP($A54,Handbook!$A$26:$AK$46,34,FALSE))","v":"T"},null,null,null,null,null,null,null,null,53]
[5,null,{"$f":"IF(F54=\"\",\"\",IF(F54>10,F54/11,F54))","v":""},{"$f":"IF(O54=\"\",\"\",IF(O54>10,O54/11,O54))","v":""},1,null,{"$f":"IF($F54=\"\",\"\",IF($F54>90,VLOOKUP(F54,eventcodes,2,FALSE),HLOOKUP(F54,womens_declare,B56,FALSE)))","v":""},{"$f":"IF($F54=\"\",\"\",IF($F54>90,\"\",VLOOKUP(C54,matchday,2,FALSE)))","v":""},null,{"$f":"IF(I54=\"\",\"\",IF(AA53=\"T\",V54,V55))","v":""},null,{"$f":"IF(AA53=\"T\",AB54,AC54)","v":""},null,1,null,{"$f":"IF($O54=\"\",\"\",HLOOKUP(O54,womens_declare,B56,FALSE))","v":""},{"$f":"IF($O54=\"\",\"\",VLOOKUP(D54,matchday,2,FALSE))","v":""},null,null,{"$f":"IF(AA53=\"T\",AD54,AE54)","v":""},null,{"$f":"IF(AA53=\"F\",\"\",IF(I54<V53,\"LR\",IF(I54=V53,\"=LR\",IF(I54<W53,\"DR\",IF(I54=W53,\"=DR\",\"\")))))","v":"LR"},null,null,null,null,null,{"$f":"IF(I54=\"\",\"\",IF(AA53=\"F\",\"\",IF(AA53=\"T\",IF(I54<=X53,\"þ\",IF(I54<=Y53,\"G2\",IF(I54<=Z53,\"G3\",\"\"))))))","v":""},{"$f":"IF(I54=\"\",\"\",IF(AA53=\"T\",\"\",IF(AA53=\"F\",IF(I54>=X53,\"þ\",IF(I54>=Y53,\"G2\",IF(I54>=Z53,\"G3\",\"\"))))))","v":""},{"$f":"IF(R54=\"\",\"\",IF(AA53=\"F\",\"\",IF(AA53=\"T\",IF(R54<=X53,\"þ\",IF(R54<=Y53,\"G2\",IF(R54<=Z53,\"G3\",\"\"))))))","v":""},{"$f":"IF(R54=\"\",\"\",IF(AA53=\"T\",\"\",IF(AA53=\"F\",IF(R54>=X53,\"þ\",IF(R54>=Y53,\"G2\",IF(R54>=Z53,\"G3\",\"\"))))))","v":""},{"$f":"C54","v":""},{"$f":"IF(F54=\"\",\"\",IF(LEFT(I54,1)=\"D\",0,VLOOKUP(E54,$AQ$4:$AR$40,2,FALSE)))","v":""},{"$f":"D54","v":""},{"$f":"IF(O54=\"\",\"\",IF(LEFT(R54,1)=\"D\",0,VLOOKUP(N54,$AQ$4:$AS$40,3,FALSE)))","v":""},54]
[null,{"$f":"VLOOKUP(A54,Handbook!$A$26:$AK$46,37,FALSE)","v":6},"","",2,null,{"$f":"IF($F55=\"\",\"\",HLOOKUP(F55,womens_declare,B56,FALSE))","v":""},{"$f":"IF($F55=\"\",\"\",VLOOKUP(C55,matchday,2,FALSE))","v":""},null,{"$f":"IF(I55=\"\",\"\",IF(AND(AA53=\"T\",I55<I54),\"X\",IF(AND(AA53=\"F\",I55>I54),\"X\",\"\")))","v":""},null,{"$f":"IF(AA53=\"T\",AB55,AC55)","v":""},null,2,null,{"$f":"IF($O55=\"\",\"\",HLOOKUP(O55,womens_declare,B56,FALSE))","v":""},"",null,{"$f":"IF(R55=\"\",\"\",IF(AND(AA53=\"T\",R55<R54),\"X\",IF(AND(AA53=\"F\",R55>R54),\"X\",\"\")))","v":""},{"$f":"IF(AA53=\"T\",AD55,AE55)","v":""},null,{"$f":"IF(AA53=\"T\",\"\",IF(I54>V53,\"LR\",IF(I54=V53,\"=LR\",IF(I54>W53,\"DR\",IF(I54=W53,\"=DR\",\"\")))))","v":""},null,null,null,null,null,{"$f":"IF(I55=\"\",\"\",IF(AA53=\"F\",\"\",IF(AA53=\"T\",IF(I55<=X53,\"þ\",IF(I55<=Y53,\"G2\",IF(I55<=Z53,\"G3\",\"\"))))))","v":""},{"$f":"IF(I55=\"\",\"\",IF(AA53=\"T\",\"\",IF(AA53=\"F\",IF(I55>=X53,\"þ\",IF(I55>=Y53,\"G2\",IF(I55>=Z53,\"G3\",\"\"))))))","v":""},{"$f":"IF(R55=\"\",\"\",IF(AA53=\"F\",\"\",IF(AA53=\"T\",IF(R55<=X53,\"þ\",IF(R55<=Y53,\"G2\",IF(R55<=Z53,\"G3\",\"\"))))))","v":""},{"$f":"IF(R55=\"\",\"\",IF(AA53=\"T\",\"\",IF(AA53=\"F\",IF(R55>=X53,\"þ\",IF(R55>=Y53,\"G2\",IF(R55>=Z53,\"G3\",\"\"))))))","v":""},"","","","",55]
[null,{"$f":"VLOOKUP(A54,womens_declare,20,FALSE)","v":8},"","",3,null,{"$f":"IF($F56=\"\",\"\",HLOOKUP(F56,womens_declare,B56,FALSE))","v":""},"",null,{"$f":"IF(I56=\"\",\"\",IF(AND(AA53=\"T\",I56<I55),\"X\",IF(AND(AA53=\"F\",I56>I55),\"X\",\"\")))","v":""},null,{"$f":"IF(AA53=\"T\",AB56,AC56)","v":""},null,3,null,{"$f":"IF($O56=\"\",\"\",HLOOKUP(O56,womens_declare,B56,FALSE))","v":""},"",null,{"$f":"IF(R56=\"\",\"\",IF(AND(AA53=\"T\",R56<R55),\"X\",IF(AND(AA53=\"F\",R56>R55),\"X\",\"\")))","v":""},{"$f":"IF(AA53=\"T\",AD56,AE56)","v":""},null,null,null,null,null,null,null,{"$f":"IF(I56=\"\",\"\",IF(AA53=\"F\",\"\",IF(AA53=\"T\",IF(I56<=X53,\"þ\",IF(I56<=Y53,\"G2\",IF(I56<=Z53,\"G3\",\"\"))))))","v":""},{"$f":"IF(I56=\"\",\"\",IF(AA53=\"T\",\"\",IF(AA53=\"F\",IF(I56>=X53,\"þ\",IF(I56>=Y53,\"G2\",IF(I56>=Z53,\"G3\",\"\"))))))","v":""},{"$f":"IF(R56=\"\",\"\",IF(AA53=\"F\",\"\",IF(AA53=\"T\",IF(R56<=X53,\"þ\",IF(R56<=Y53,\"G2\",IF(R56<=Z53,\"G3\",\"\"))))))","v":""},{"$f":"IF(R56=\"\",\"\",IF(AA53=\"T\",\"\",IF(AA53=\"F\",IF(R56>=X53,\"þ\",IF(R56>=Y53,\"G2\",IF(R56>=Z53,\"G3\",\"\"))))))","v":""},"","","","",56]
[null,null,"","",4,null,{"$f":"IF($F57=\"\",\"\",HLOOKUP(F57,womens_declare,B56,FALSE))","v":""},"",null,{"$f":"IF(I57=\"\",\"\",IF(AND(AA53=\"T\",I57<I56),\"X\",IF(AND(AA53=\"F\",I57>I56),\"X\",\"\")))","v":""},null,{"$f":"IF(AA53=\"T\",AB57,AC57)","v":""},null,4,null,{"$f":"IF($O57=\"\",\"\",HLOOKUP(O57,womens_declare,B56,FALSE))","v":""},"",null,{"$f":"IF(R57=\"\",\"\",IF(AND(AA53=\"T\",R57<R56),\"X\",IF(AND(AA53=\"F\",R57>R56),\"X\",\"\")))","v":""},{"$f":"IF(AA53=\"T\",AD57,AE57)","v":""},null,null,null,null,null,null,null,{"$f":"IF(I57=\"\",\"\",IF(AA53=\"F\",\"\",IF(AA53=\"T\",IF(I57<=X53,\"þ\",IF(I57<=Y53,\"G2\",IF(I57<=Z53,\"G3\",\"\"))))))","v":""},{"$f":"IF(I57=\"\",\"\",IF(AA53=\"T\",\"\",IF(AA53=\"F\",IF(I57>=X53,\"þ\",IF(I57>=Y53,\"G2\",IF(I57>=Z53,\"G3\",\"\"))))))","v":""},{"$f":"IF(R57=\"\",\"\",IF(AA53=\"F\",\"\",IF(AA53=\"T\",IF(R57<=X53,\"þ\",IF(R57<=Y53,\"G2\",IF(R57<=Z53,\"G3\",\"\"))))))","v":""},{"$f":"IF(R57=\"\",\"\",IF(AA53=\"T\",\"\",IF(AA53=\"F\",IF(R57>=X53,\"þ\",IF(R57>=Y53,\"G2\",IF(R57>=Z53,\"G3\",\"\"))))))","v":""},"","","","",57]
[null,null,"","",5,null,{"$f":"IF($F58=\"\",\"\",HLOOKUP(F58,womens_declare,B56,FALSE))","v":""},"",null,{"$f":"IF(I58=\"\",\"\",IF(AND(AA53=\"T\",I58<I57),\"X\",IF(AND(AA53=\"F\",I58>I57),\"X\",\"\")))","v":""},null,{"$f":"IF(AA53=\"T\",AB58,AC58)","v":""},null,5,null,{"$f":"IF($O58=\"\",\"\",HLOOKUP(O58,womens_declare,B56,FALSE))","v":""},"",null,{"$f":"IF(R58=\"\",\"\",IF(AND(AA53=\"T\",R58<R57),\"X\",IF(AND(AA53=\"F\",R58>R57),\"X\",\"\")))","v":""},{"$f":"IF(AA53=\"T\",AD58,AE58)","v":""},null,null,null,null,null,null,null,{"$f":"IF(I58=\"\",\"\",IF(AA53=\"F\",\"\",IF(AA53=\"T\",IF(I58<=X53,\"þ\",IF(I58<=Y53,\"G2\",IF(I58<=Z53,\"G3\",\"\"))))))","v":""},{"$f":"IF(I58=\"\",\"\",IF(AA53=\"T\",\"\",IF(AA53=\"F\",IF(I58>=X53,\"þ\",IF(I58>=Y53,\"G2\",IF(I58>=Z53,\"G3\",\"\"))))))","v":""},{"$f":"IF(R58=\"\",\"\",IF(AA53=\"F\",\"\",IF(AA53=\"T\",IF(R58<=X53,\"þ\",IF(R58<=Y53,\"G2\",IF(R58<=Z53,\"G3\",\"\"))))))","v":""},{"$f":"IF(R58=\"\",\"\",IF(AA53=\"T\",\"\",IF(AA53=\"F\",IF(R58>=X53,\"þ\",IF(R58>=Y53,\"G2\",IF(R58>=Z53,\"G3\",\"\"))))))","v":""},"","","","",58]
[null,null,"","",6,null,{"$f":"IF($F59=\"\",\"\",HLOOKUP(F59,womens_declare,B56,FALSE))","v":""},"",null,{"$f":"IF(I59=\"\",\"\",IF(AND(AA53=\"T\",I59<I58),\"X\",IF(AND(AA53=\"F\",I59>I58),\"X\",\"\")))","v":""},null,{"$f":"IF(AA53=\"T\",AB59,AC59)","v":""},null,6,null,{"$f":"IF($O59=\"\",\"\",HLOOKUP(O59,womens_declare,B56,FALSE))","v":""},"",null,{"$f":"IF(R59=\"\",\"\",IF(AND(AA53=\"T\",R59<R58),\"X\",IF(AND(AA53=\"F\",R59>R58),\"X\",\"\")))","v":""},{"$f":"IF(AA53=\"T\",AD59,AE59)","v":""},null,null,null,null,null,null,null,{"$f":"IF(I59=\"\",\"\",IF(AA53=\"F\",\"\",IF(AA53=\"T\",IF(I59<=X53,\"þ\",IF(I59<=Y53,\"G2\",IF(I59<=Z53,\"G3\",\"\"))))))","v":""},{"$f":"IF(I59=\"\",\"\",IF(AA53=\"T\",\"\",IF(AA53=\"F\",IF(I59>=X53,\"þ\",IF(I59>=Y53,\"G2\",IF(I59>=Z53,\"G3\",\"\"))))))","v":""},{"$f":"IF(R59=\"\",\"\",IF(AA53=\"F\",\"\",IF(AA53=\"T\",IF(R59<=X53,\"þ\",IF(R59<=Y53,\"G2\",IF(R59<=Z53,\"G3\",\"\"))))))","v":""},{"$f":"IF(R59=\"\",\"\",IF(AA53=\"T\",\"\",IF(AA53=\"F\",IF(R59>=X53,\"þ\",IF(R59>=Y53,\"G2\",IF(R59>=Z53,\"G3\",\"\"))))))","v":""},"","","","",59]
[null,null,"","",7,null,{"$f":"IF($F60=\"\",\"\",HLOOKUP(F60,womens_declare,B56,FALSE))","v":""},"",null,{"$f":"IF(I60=\"\",\"\",IF(AND(AA53=\"T\",I60<I59),\"X\",IF(AND(AA53=\"F\",I60>I59),\"X\",\"\")))","v":""},null,{"$f":"IF(AA53=\"T\",AB60,AC60)","v":""},null,7,null,{"$f":"IF($O60=\"\",\"\",HLOOKUP(O60,womens_declare,B56,FALSE))","v":""},"",null,{"$f":"IF(R60=\"\",\"\",IF(AND(AA53=\"T\",R60<R59),\"X\",IF(AND(AA53=\"F\",R60>R59),\"X\",\"\")))","v":""},{"$f":"IF(AA53=\"T\",AD60,AE60)","v":""},null,null,null,null,null,null,null,{"$f":"IF(I60=\"\",\"\",IF(AA53=\"F\",\"\",IF(AA53=\"T\",IF(I60<=X53,\"þ\",IF(I60<=Y53,\"G2\",IF(I60<=Z53,\"G3\",\"\"))))))","v":""},{"$f":"IF(I60=\"\",\"\",IF(AA53=\"T\",\"\",IF(AA53=\"F\",IF(I60>=X53,\"þ\",IF(I60>=Y53,\"G2\",IF(I60>=Z53,\"G3\",\"\"))))))","v":""},{"$f":"IF(R60=\"\",\"\",IF(AA53=\"F\",\"\",IF(AA53=\"T\",IF(R60<=X53,\"þ\",IF(R60<=Y53,\"G2\",IF(R60<=Z53,\"G3\",\"\"))))))","v":""},{"$f":"IF(R60=\"\",\"\",IF(AA53=\"T\",\"\",IF(AA53=\"F\",IF(R60>=X53,\"þ\",IF(R60>=Y53,\"G2\",IF(R60>=Z53,\"G3\",\"\"))))))","v":""},"","","","",60]
[null,null,"","",8,null,{"$f":"IF($F61=\"\",\"\",HLOOKUP(F61,womens_declare,B56,FALSE))","v":""},"",null,{"$f":"IF(I61=\"\",\"\",IF(AND(AA53=\"T\",I61<I60),\"X\",IF(AND(AA53=\"F\",I61>I60),\"X\",\"\")))","v":""},null,{"$f":"IF(AA53=\"T\",AB61,AC61)","v":""},null,8,null,{"$f":"IF($O61=\"\",\"\",HLOOKUP(O61,womens_declare,B56,FALSE))","v":""},"",null,{"$f":"IF(R61=\"\",\"\",IF(AND(AA53=\"T\",R61<R60),\"X\",IF(AND(AA53=\"F\",R61>R60),\"X\",\"\")))","v":""},{"$f":"IF(AA53=\"T\",AD61,AE61)","v":""},null,null,null,null,null,null,null,{"$f":"IF(I61=\"\",\"\",IF(AA53=\"F\",\"\",IF(AA53=\"T\",IF(I61<=X53,\"þ\",IF(I61<=Y53,\"G2\",IF(I61<=Z53,\"G3\",\"\"))))))","v":""},{"$f":"IF(I61=\"\",\"\",IF(AA53=\"T\",\"\",IF(AA53=\"F\",IF(I61>=X53,\"þ\",IF(I61>=Y53,\"G2\",IF(I61>=Z53,\"G3\",\"\"))))))","v":""},{"$f":"IF(R61=\"\",\"\",IF(AA53=\"F\",\"\",IF(AA53=\"T\",IF(R61<=X53,\"þ\",IF(R61<=Y53,\"G2\",IF(R61<=Z53,\"G3\",\"\"))))))","v":""},{"$f":"IF(R61=\"\",\"\",IF(AA53=\"T\",\"\",IF(AA53=\"F\",IF(R61>=X53,\"þ\",IF(R61>=Y53,\"G2\",IF(R61>=Z53,\"G3\",\"\"))))))","v":""},"","","","",61]
[null,null,null,null,null,null,null,null,null,null,null,null,null,null,null,null,null,null,null,null,null,null,null,null,null,null,null,null,null,null,null,null,null,null,null,62]
[null,null,null,null,{"$f":"CONCATENATE(VLOOKUP(A64,womens_handbook,3,FALSE),\" A\")","v":"Women's 3000m A"},null,null,{"$f":"IF(A64=\"\",\"\",IF(VLOOKUP(A64,Handbook!$A$4:$AI$24,35,FALSE)=\"Y\",\"Wind=\",\"\"))","v":""},null,null,null,null,null,null,{"$f":"CONCATENATE(VLOOKUP(A64,womens_handbook,3,FALSE),\" B\")","v":"Women's 3000m B"},{"$f":"CONCATENATE(VLOOKUP(M64,Handbook!$A$4:$C$24,3,FALSE),\" A\")","v":{"$error":"#N/A"}},{"$f":"H63","v":""},null,null,null,null,{"$f":"IF($A64=\"\",\"\",VLOOKUP($A64,Handbook!$A$26:$AK$46,21,FALSE))","v":"00:09:04.900"},{"$f":"IF($A64=\"\",\"\",VLOOKUP($A64,Handbook!$A$26:$AK$46,22,FALSE))","v":"00:09:04.900"},{"$f":"IF($A64=\"\",\"\",VLOOKUP($A64,Handbook!$A$26:$AK$46,23,FALSE))","v":"00:11:00"},{"$f":"IF($A64=\"\",\"\",VLOOKUP($A64,Handbook!$A$26:$AK$46,24,FALSE))","v":"00:11:00"},{"$f":"IF($A64=\"\",\"\",VLOOKUP($A64,Handbook!$A$26:$AK$46,25,FALSE))","v":"00:11:00"},{"$f":"IF($A64=\"\",\"\",VLOOKUP($A64,Handbook!$A$26:$AK$46,34,FALSE))","v":"T"},null,null,null,null,null,null,null,null,63]
[21,null,{"$f":"IF(F64=\"\",\"\",IF(F64>10,F64/11,F64))","v":""},{"$f":"IF(O64=\"\",\"\",IF(O64>10,O64/11,O64))","v":""},1,null,{"$f":"IF($F64=\"\",\"\",IF($F64>90,VLOOKUP(F64,eventcodes,2,FALSE),HLOOKUP(F64,womens_declare,B66,FALSE)))","v":""},{"$f":"IF($F64=\"\",\"\",IF($F64>90,\"\",VLOOKUP(C64,matchday,2,FALSE)))","v":""},null,{"$f":"IF(I64=\"\",\"\",IF(AA63=\"T\",V64,V65))","v":""},null,{"$f":"IF(AA63=\"T\",AB64,AC64)","v":""},null,1,null,{"$f":"IF($O64=\"\",\"\",HLOOKUP(O64,womens_declare,B66,FALSE))","v":""},{"$f":"IF($O64=\"\",\"\",VLOOKUP(D64,matchday,2,FALSE))","v":""},null,null,{"$f":"IF(AA63=\"T\",AD64,AE64)","v":""},null,{"$f":"IF(AA63=\"F\",\"\",IF(I64<V63,\"LR\",IF(I64=V63,\"=LR\",IF(I64<W63,\"DR\",IF(I64=W63,\"=DR\",\"\")))))","v":"LR"},null,null,null,null,null,{"$f":"IF(I64=\"\",\"\",IF(AA63=\"F\",\"\",IF(AA63=\"T\",IF(I64<=X63,\"þ\",IF(I64<=Y63,\"G2\",IF(I64<=Z63,\"G3\",\"\"))))))","v":""},{"$f":"IF(I64=\"\",\"\",IF(AA63=\"T\",\"\",IF(AA63=\"F\",IF(I64>=X63,\"þ\",IF(I64>=Y63,\"G2\",IF(I64>=Z63,\"G3\",\"\"))))))","v":""},{"$f":"IF(R64=\"\",\"\",IF(AA63=\"F\",\"\",IF(AA63=\"T\",IF(R64<=X63,\"þ\",IF(R64<=Y63,\"G2\",IF(R64<=Z63,\"G3\",\"\"))))))","v":""},{"$f":"IF(R64=\"\",\"\",IF(AA63=\"T\",\"\",IF(AA63=\"F\",IF(R64>=X63,\"þ\",IF(R64>=Y63,\"G2\",IF(R64>=Z63,\"G3\",\"\"))))))","v":""},{"$f":"C64","v":""},{"$f":"IF(F64=\"\",\"\",IF(LEFT(I64,1)=\"D\",0,VLOOKUP(E64,$AQ$4:$AR$40,2,FALSE)))","v":""},{"$f":"D64","v":""},{"$f":"IF(O64=\"\",\"\",IF(LEFT(R64,1)=\"D\",0,VLOOKUP(N64,$AQ$4:$AS$40,3,FALSE)))","v":""},64]
[null,{"$f":"VLOOKUP(A64,Handbook!$A$26:$AK$46,37,FALSE)","v":22},"","",2,null,{"$f":"IF($F65=\"\",\"\",HLOOKUP(F65,womens_declare,B66,FALSE))","v":""},{"$f":"IF($F65=\"\",\"\",VLOOKUP(C65,matchday,2,FALSE))","v":""},null,{"$f":"IF(I65=\"\",\"\",IF(AND(AA63=\"T\",I65<I64),\"X\",IF(AND(AA63=\"F\",I65>I64),\"X\",\"\")))","v":""},null,{"$f":"IF(AA63=\"T\",AB65,AC65)","v":""},null,2,null,{"$f":"IF($O65=\"\",\"\",HLOOKUP(O65,womens_declare,B66,FALSE))","v":""},"",null,{"$f":"IF(R65=\"\",\"\",IF(AND(AA63=\"T\",R65<R64),\"X\",IF(AND(AA63=\"F\",R65>R64),\"X\",\"\")))","v":""},{"$f":"IF(AA63=\"T\",AD65,AE65)","v":""},null,{"$f":"IF(AA63=\"T\",\"\",IF(I64>V63,\"LR\",IF(I64=V63,\"=LR\",IF(I64>W63,\"DR\",IF(I64=W63,\"=DR\",\"\")))))","v":""},null,null,null,null,null,{"$f":"IF(I65=\"\",\"\",IF(AA63=\"F\",\"\",IF(AA63=\"T\",IF(I65<=X63,\"þ\",IF(I65<=Y63,\"G2\",IF(I65<=Z63,\"G3\",\"\"))))))","v":""},{"$f":"IF(I65=\"\",\"\",IF(AA63=\"T\",\"\",IF(AA63=\"F\",IF(I65>=X63,\"þ\",IF(I65>=Y63,\"G2\",IF(I65>=Z63,\"G3\",\"\"))))))","v":""},{"$f":"IF(R65=\"\",\"\",IF(AA63=\"F\",\"\",IF(AA63=\"T\",IF(R65<=X63,\"þ\",IF(R65<=Y63,\"G2\",IF(R65<=Z63,\"G3\",\"\"))))))","v":""},{"$f":"IF(R65=\"\",\"\",IF(AA63=\"T\",\"\",IF(AA63=\"F\",IF(R65>=X63,\"þ\",IF(R65>=Y63,\"G2\",IF(R65>=Z63,\"G3\",\"\"))))))","v":""},"","","","",65]
[null,{"$f":"VLOOKUP(A64,womens_declare,20,FALSE)","v":9},"","",3,null,{"$f":"IF($F66=\"\",\"\",HLOOKUP(F66,womens_declare,B66,FALSE))","v":""},"",null,{"$f":"IF(I66=\"\",\"\",IF(AND(AA63=\"T\",I66<I65),\"X\",IF(AND(AA63=\"F\",I66>I65),\"X\",\"\")))","v":""},null,{"$f":"IF(AA63=\"T\",AB66,AC66)","v":""},null,3,null,{"$f":"IF($O66=\"\",\"\",HLOOKUP(O66,womens_declare,B66,FALSE))","v":""},"",null,{"$f":"IF(R66=\"\",\"\",IF(AND(AA63=\"T\",R66<R65),\"X\",IF(AND(AA63=\"F\",R66>R65),\"X\",\"\")))","v":""},{"$f":"IF(AA63=\"T\",AD66,AE66)","v":""},null,null,null,null,null,null,null,{"$f":"IF(I66=\"\",\"\",IF(AA63=\"F\",\"\",IF(AA63=\"T\",IF(I66<=X63,\"þ\",IF(I66<=Y63,\"G2\",IF(I66<=Z63,\"G3\",\"\"))))))","v":""},{"$f":"IF(I66=\"\",\"\",IF(AA63=\"T\",\"\",IF(AA63=\"F\",IF(I66>=X63,\"þ\",IF(I66>=Y63,\"G2\",IF(I66>=Z63,\"G3\",\"\"))))))","v":""},{"$f":"IF(R66=\"\",\"\",IF(AA63=\"F\",\"\",IF(AA63=\"T\",IF(R66<=X63,\"þ\",IF(R66<=Y63,\"G2\",IF(R66<=Z63,\"G3\",\"\"))))))","v":""},{"$f":"IF(R66=\"\",\"\",IF(AA63=\"T\",\"\",IF(AA63=\"F\",IF(R66>=X63,\"þ\",IF(R66>=Y63,\"G2\",IF(R66>=Z63,\"G3\",\"\"))))))","v":""},"","","","",66]
[null,null,"","",4,null,{"$f":"IF($F67=\"\",\"\",HLOOKUP(F67,womens_declare,B66,FALSE))","v":""},"",null,{"$f":"IF(I67=\"\",\"\",IF(AND(AA63=\"T\",I67<I66),\"X\",IF(AND(AA63=\"F\",I67>I66),\"X\",\"\")))","v":""},null,{"$f":"IF(AA63=\"T\",AB67,AC67)","v":""},null,4,null,{"$f":"IF($O67=\"\",\"\",HLOOKUP(O67,womens_declare,B66,FALSE))","v":""},"",null,{"$f":"IF(R67=\"\",\"\",IF(AND(AA63=\"T\",R67<R66),\"X\",IF(AND(AA63=\"F\",R67>R66),\"X\",\"\")))","v":""},{"$f":"IF(AA63=\"T\",AD67,AE67)","v":""},null,null,null,null,null,null,null,{"$f":"IF(I67=\"\",\"\",IF(AA63=\"F\",\"\",IF(AA63=\"T\",IF(I67<=X63,\"þ\",IF(I67<=Y63,\"G2\",IF(I67<=Z63,\"G3\",\"\"))))))","v":""},{"$f":"IF(I67=\"\",\"\",IF(AA63=\"T\",\"\",IF(AA63=\"F\",IF(I67>=X63,\"þ\",IF(I67>=Y63,\"G2\",IF(I67>=Z63,\"G3\",\"\"))))))","v":""},{"$f":"IF(R67=\"\",\"\",IF(AA63=\"F\",\"\",IF(AA63=\"T\",IF(R67<=X63,\"þ\",IF(R67<=Y63,\"G2\",IF(R67<=Z63,\"G3\",\"\"))))))","v":""},{"$f":"IF(R67=\"\",\"\",IF(AA63=\"T\",\"\",IF(AA63=\"F\",IF(R67>=X63,\"þ\",IF(R67>=Y63,\"G2\",IF(R67>=Z63,\"G3\",\"\"))))))","v":""},"","","","",67]
[null,null,"","",5,null,{"$f":"IF($F68=\"\",\"\",HLOOKUP(F68,womens_declare,B66,FALSE))","v":""},"",null,{"$f":"IF(I68=\"\",\"\",IF(AND(AA63=\"T\",I68<I67),\"X\",IF(AND(AA63=\"F\",I68>I67),\"X\",\"\")))","v":""},null,{"$f":"IF(AA63=\"T\",AB68,AC68)","v":""},null,5,null,{"$f":"IF($O68=\"\",\"\",HLOOKUP(O68,womens_declare,B66,FALSE))","v":""},"",null,{"$f":"IF(R68=\"\",\"\",IF(AND(AA63=\"T\",R68<R67),\"X\",IF(AND(AA63=\"F\",R68>R67),\"X\",\"\")))","v":""},{"$f":"IF(AA63=\"T\",AD68,AE68)","v":""},null,null,null,null,null,null,null,{"$f":"IF(I68=\"\",\"\",IF(AA63=\"F\",\"\",IF(AA63=\"T\",IF(I68<=X63,\"þ\",IF(I68<=Y63,\"G2\",IF(I68<=Z63,\"G3\",\"\"))))))","v":""},{"$f":"IF(I68=\"\",\"\",IF(AA63=\"T\",\"\",IF(AA63=\"F\",IF(I68>=X63,\"þ\",IF(I68>=Y63,\"G2\",IF(I68>=Z63,\"G3\",\"\"))))))","v":""},{"$f":"IF(R68=\"\",\"\",IF(AA63=\"F\",\"\",IF(AA63=\"T\",IF(R68<=X63,\"þ\",IF(R68<=Y63,\"G2\",IF(R68<=Z63,\"G3\",\"\"))))))","v":""},{"$f":"IF(R68=\"\",\"\",IF(AA63=\"T\",\"\",IF(AA63=\"F\",IF(R68>=X63,\"þ\",IF(R68>=Y63,\"G2\",IF(R68>=Z63,\"G3\",\"\"))))))","v":""},"","","","",68]
[null,null,"","",6,null,{"$f":"IF($F69=\"\",\"\",HLOOKUP(F69,womens_declare,B66,FALSE))","v":""},"",null,{"$f":"IF(I69=\"\",\"\",IF(AND(AA63=\"T\",I69<I68),\"X\",IF(AND(AA63=\"F\",I69>I68),\"X\",\"\")))","v":""},null,{"$f":"IF(AA63=\"T\",AB69,AC69)","v":""},null,6,null,{"$f":"IF($O69=\"\",\"\",HLOOKUP(O69,womens_declare,B66,FALSE))","v":""},"",null,{"$f":"IF(R69=\"\",\"\",IF(AND(AA63=\"T\",R69<R68),\"X\",IF(AND(AA63=\"F\",R69>R68),\"X\",\"\")))","v":""},{"$f":"IF(AA63=\"T\",AD69,AE69)","v":""},null,null,null,null,null,null,null,{"$f":"IF(I69=\"\",\"\",IF(AA63=\"F\",\"\",IF(AA63=\"T\",IF(I69<=X63,\"þ\",IF(I69<=Y63,\"G2\",IF(I69<=Z63,\"G3\",\"\"))))))","v":""},{"$f":"IF(I69=\"\",\"\",IF(AA63=\"T\",\"\",IF(AA63=\"F\",IF(I69>=X63,\"þ\",IF(I69>=Y63,\"G2\",IF(I69>=Z63,\"G3\",\"\"))))))","v":""},{"$f":"IF(R69=\"\",\"\",IF(AA63=\"F\",\"\",IF(AA63=\"T\",IF(R69<=X63,\"þ\",IF(R69<=Y63,\"G2\",IF(R69<=Z63,\"G3\",\"\"))))))","v":""},{"$f":"IF(R69=\"\",\"\",IF(AA63=\"T\",\"\",IF(AA63=\"F\",IF(R69>=X63,\"þ\",IF(R69>=Y63,\"G2\",IF(R69>=Z63,\"G3\",\"\"))))))","v":""},"","","","",69]
[null,null,"","",7,null,{"$f":"IF($F70=\"\",\"\",HLOOKUP(F70,womens_declare,B66,FALSE))","v":""},"",null,{"$f":"IF(I70=\"\",\"\",IF(AND(AA63=\"T\",I70<I69),\"X\",IF(AND(AA63=\"F\",I70>I69),\"X\",\"\")))","v":""},null,{"$f":"IF(AA63=\"T\",AB70,AC70)","v":""},null,7,null,{"$f":"IF($O70=\"\",\"\",HLOOKUP(O70,womens_declare,B66,FALSE))","v":""},"",null,{"$f":"IF(R70=\"\",\"\",IF(AND(AA63=\"T\",R70<R69),\"X\",IF(AND(AA63=\"F\",R70>R69),\"X\",\"\")))","v":""},{"$f":"IF(AA63=\"T\",AD70,AE70)","v":""},null,null,null,null,null,null,null,{"$f":"IF(I70=\"\",\"\",IF(AA63=\"F\",\"\",IF(AA63=\"T\",IF(I70<=X63,\"þ\",IF(I70<=Y63,\"G2\",IF(I70<=Z63,\"G3\",\"\"))))))","v":""},{"$f":"IF(I70=\"\",\"\",IF(AA63=\"T\",\"\",IF(AA63=\"F\",IF(I70>=X63,\"þ\",IF(I70>=Y63,\"G2\",IF(I70>=Z63,\"G3\",\"\"))))))","v":""},{"$f":"IF(R70=\"\",\"\",IF(AA63=\"F\",\"\",IF(AA63=\"T\",IF(R70<=X63,\"þ\",IF(R70<=Y63,\"G2\",IF(R70<=Z63,\"G3\",\"\"))))))","v":""},{"$f":"IF(R70=\"\",\"\",IF(AA63=\"T\",\"\",IF(AA63=\"F\",IF(R70>=X63,\"þ\",IF(R70>=Y63,\"G2\",IF(R70>=Z63,\"G3\",\"\"))))))","v":""},"","","","",70]
[null,null,"","",8,null,{"$f":"IF($F71=\"\",\"\",HLOOKUP(F71,womens_declare,B66,FALSE))","v":""},"",null,{"$f":"IF(I71=\"\",\"\",IF(AND(AA63=\"T\",I71<I70),\"X\",IF(AND(AA63=\"F\",I71>I70),\"X\",\"\")))","v":""},null,{"$f":"IF(AA63=\"T\",AB71,AC71)","v":""},null,8,null,{"$f":"IF($O71=\"\",\"\",HLOOKUP(O71,womens_declare,B66,FALSE))","v":""},"",null,{"$f":"IF(R71=\"\",\"\",IF(AND(AA63=\"T\",R71<R70),\"X\",IF(AND(AA63=\"F\",R71>R70),\"X\",\"\")))","v":""},{"$f":"IF(AA63=\"T\",AD71,AE71)","v":""},null,null,null,null,null,null,null,{"$f":"IF(I71=\"\",\"\",IF(AA63=\"F\",\"\",IF(AA63=\"T\",IF(I71<=X63,\"þ\",IF(I71<=Y63,\"G2\",IF(I71<=Z63,\"G3\",\"\"))))))","v":""},{"$f":"IF(I71=\"\",\"\",IF(AA63=\"T\",\"\",IF(AA63=\"F\",IF(I71>=X63,\"þ\",IF(I71>=Y63,\"G2\",IF(I71>=Z63,\"G3\",\"\"))))))","v":""},{"$f":"IF(R71=\"\",\"\",IF(AA63=\"F\",\"\",IF(AA63=\"T\",IF(R71<=X63,\"þ\",IF(R71<=Y63,\"G2\",IF(R71<=Z63,\"G3\",\"\"))))))","v":""},{"$f":"IF(R71=\"\",\"\",IF(AA63=\"T\",\"\",IF(AA63=\"F\",IF(R71>=X63,\"þ\",IF(R71>=Y63,\"G2\",IF(R71>=Z63,\"G3\",\"\"))))))","v":""},"","","","",71]
[null,null,null,null,null,null,null,null,null,null,null,null,null,null,null,null,null,null,null,null,null,null,null,null,null,null,null,null,null,null,null,null,null,null,null,72]
[null,null,null,null,{"$f":"CONCATENATE(VLOOKUP(A74,womens_handbook,3,FALSE),\" A\")","v":"Women's 400m Hurdles A"},null,null,{"$f":"IF(A74=\"\",\"\",IF(VLOOKUP(A74,Handbook!$A$4:$AI$24,35,FALSE)=\"Y\",\"Wind=\",\"\"))","v":""},null,null,null,null,null,null,{"$f":"CONCATENATE(VLOOKUP(A74,womens_handbook,3,FALSE),\" B\")","v":"Women's 400m Hurdles B"},{"$f":"CONCATENATE(VLOOKUP(M74,Handbook!$A$4:$C$24,3,FALSE),\" A\")","v":{"$error":"#N/A"}},{"$f":"H73","v":""},null,null,null,null,{"$f":"IF($A74=\"\",\"\",VLOOKUP($A74,Handbook!$A$26:$AK$46,21,FALSE))","v":56.5},{"$f":"IF($A74=\"\",\"\",VLOOKUP($A74,Handbook!$A$26:$AK$46,22,FALSE))","v":56.8},{"$f":"IF($A74=\"\",\"\",VLOOKUP($A74,Handbook!$A$26:$AK$46,23,FALSE))","v":70},{"$f":"IF($A74=\"\",\"\",VLOOKUP($A74,Handbook!$A$26:$AK$46,24,FALSE))","v":70},{"$f":"IF($A74=\"\",\"\",VLOOKUP($A74,Handbook!$A$26:$AK$46,25,FALSE))","v":70},{"$f":"IF($A74=\"\",\"\",VLOOKUP($A74,Handbook!$A$26:$AK$46,34,FALSE))","v":"T"},null,null,null,null,null,null,null,null,73]
[1,null,{"$f":"IF(F74=\"\",\"\",IF(F74>10,F74/11,F74))","v":""},{"$f":"IF(O74=\"\",\"\",IF(O74>10,O74/11,O74))","v":""},1,null,{"$f":"IF($F74=\"\",\"\",IF($F74>90,VLOOKUP(F74,eventcodes,2,FALSE),HLOOKUP(F74,womens_declare,B76,FALSE)))","v":""},{"$f":"IF($F74=\"\",\"\",IF($F74>90,\"\",VLOOKUP(C74,matchday,2,FALSE)))","v":""},null,{"$f":"IF(I74=\"\",\"\",IF(AA73=\"T\",V74,V75))","v":""},null,{"$f":"IF(AA73=\"T\",AB74,AC74)","v":""},null,1,null,{"$f":"IF($O74=\"\",\"\",HLOOKUP(O74,womens_declare,B76,FALSE))","v":""},{"$f":"IF($O74=\"\",\"\",VLOOKUP(D74,matchday,2,FALSE))","v":""},null,null,{"$f":"IF(AA73=\"T\",AD74,AE74)","v":""},null,{"$f":"IF(AA73=\"F\",\"\",IF(I74<V73,\"LR\",IF(I74=V73,\"=LR\",IF(I74<W73,\"DR\",IF(I74=W73,\"=DR\",\"\")))))","v":"LR"},null,null,null,null,null,{"$f":"IF(I74=\"\",\"\",IF(AA73=\"F\",\"\",IF(AA73=\"T\",IF(I74<=X73,\"þ\",IF(I74<=Y73,\"G2\",IF(I74<=Z73,\"G3\",\"\"))))))","v":""},{"$f":"IF(I74=\"\",\"\",IF(AA73=\"T\",\"\",IF(AA73=\"F\",IF(I74>=X73,\"þ\",IF(I74>=Y73,\"G2\",IF(I74>=Z73,\"G3\",\"\"))))))","v":""},{"$f":"IF(R74=\"\",\"\",IF(AA73=\"F\",\"\",IF(AA73=\"T\",IF(R74<=X73,\"þ\",IF(R74<=Y73,\"G2\",IF(R74<=Z73,\"G3\",\"\"))))))","v":""},{"$f":"IF(R74=\"\",\"\",IF(AA73=\"T\",\"\",IF(AA73=\"F\",IF(R74>=X73,\"þ\",IF(R74>=Y73,\"G2\",IF(R74>=Z73,\"G3\",\"\"))))))","v":""},{"$f":"C74","v":""},{"$f":"IF(F74=\"\",\"\",IF(LEFT(I74,1)=\"D\",0,VLOOKUP(E74,$AQ$4:$AR$40,2,FALSE)))","v":""},{"$f":"D74","v":""},{"$f":"IF(O74=\"\",\"\",IF(LEFT(R74,1)=\"D\",0,VLOOKUP(N74,$AQ$4:$AS$40,3,FALSE)))","v":""},74]
[null,{"$f":"VLOOKUP(A74,Handbook!$A$26:$AK$46,37,FALSE)","v":2},"","",2,null,{"$f":"IF($F75=\"\",\"\",HLOOKUP(F75,womens_declare,B76,FALSE))","v":""},{"$f":"IF($F75=\"\",\"\",VLOOKUP(C75,matchday,2,FALSE))","v":""},null,{"$f":"IF(I75=\"\",\"\",IF(AND(AA73=\"T\",I75<I74),\"X\",IF(AND(AA73=\"F\",I75>I74),\"X\",\"\")))","v":""},null,{"$f":"IF(AA73=\"T\",AB75,AC75)","v":""},null,2,null,{"$f":"IF($O75=\"\",\"\",HLOOKUP(O75,womens_declare,B76,FALSE))","v":""},"",null,{"$f":"IF(R75=\"\",\"\",IF(AND(AA73=\"T\",R75<R74),\"X\",IF(AND(AA73=\"F\",R75>R74),\"X\",\"\")))","v":""},{"$f":"IF(AA73=\"T\",AD75,AE75)","v":""},null,{"$f":"IF(AA73=\"T\",\"\",IF(I74>V73,\"LR\",IF(I74=V73,\"=LR\",IF(I74>W73,\"DR\",IF(I74=W73,\"=DR\",\"\")))))","v":""},null,null,null,null,null,{"$f":"IF(I75=\"\",\"\",IF(AA73=\"F\",\"\",IF(AA73=\"T\",IF(I75<=X73,\"þ\",IF(I75<=Y73,\"G2\",IF(I75<=Z73,\"G3\",\"\"))))))","v":""},{"$f":"IF(I75=\"\",\"\",IF(AA73=\"T\",\"\",IF(AA73=\"F\",IF(I75>=X73,\"þ\",IF(I75>=Y73,\"G2\",IF(I75>=Z73,\"G3\",\"\"))))))","v":""},{"$f":"IF(R75=\"\",\"\",IF(AA73=\"F\",\"\",IF(AA73=\"T\",IF(R75<=X73,\"þ\",IF(R75<=Y73,\"G2\",IF(R75<=Z73,\"G3\",\"\"))))))","v":""},{"$f":"IF(R75=\"\",\"\",IF(AA73=\"T\",\"\",IF(AA73=\"F\",IF(R75>=X73,\"þ\",IF(R75>=Y73,\"G2\",IF(R75>=Z73,\"G3\",\"\"))))))","v":""},"","","","",75]
[null,{"$f":"VLOOKUP(A74,womens_declare,20,FALSE)","v":10},"","",3,null,{"$f":"IF($F76=\"\",\"\",HLOOKUP(F76,womens_declare,B76,FALSE))","v":""},"",null,{"$f":"IF(I76=\"\",\"\",IF(AND(AA73=\"T\",I76<I75),\"X\",IF(AND(AA73=\"F\",I76>I75),\"X\",\"\")))","v":""},null,{"$f":"IF(AA73=\"T\",AB76,AC76)","v":""},null,3,null,{"$f":"IF($O76=\"\",\"\",HLOOKUP(O76,womens_declare,B76,FALSE))","v":""},"",null,{"$f":"IF(R76=\"\",\"\",IF(AND(AA73=\"T\",R76<R75),\"X\",IF(AND(AA73=\"F\",R76>R75),\"X\",\"\")))","v":""},{"$f":"IF(AA73=\"T\",AD76,AE76)","v":""},null,null,null,null,null,null,null,{"$f":"IF(I76=\"\",\"\",IF(AA73=\"F\",\"\",IF(AA73=\"T\",IF(I76<=X73,\"þ\",IF(I76<=Y73,\"G2\",IF(I76<=Z73,\"G3\",\"\"))))))","v":""},{"$f":"IF(I76=\"\",\"\",IF(AA73=\"T\",\"\",IF(AA73=\"F\",IF(I76>=X73,\"þ\",IF(I76>=Y73,\"G2\",IF(I76>=Z73,\"G3\",\"\"))))))","v":""},{"$f":"IF(R76=\"\",\"\",IF(AA73=\"F\",\"\",IF(AA73=\"T\",IF(R76<=X73,\"þ\",IF(R76<=Y73,\"G2\",IF(R76<=Z73,\"G3\",\"\"))))))","v":""},{"$f":"IF(R76=\"\",\"\",IF(AA73=\"T\",\"\",IF(AA73=\"F\",IF(R76>=X73,\"þ\",IF(R76>=Y73,\"G2\",IF(R76>=Z73,\"G3\",\"\"))))))","v":""},"","","","",76]
[null,null,"","",4,null,{"$f":"IF($F77=\"\",\"\",HLOOKUP(F77,womens_declare,B76,FALSE))","v":""},"",null,{"$f":"IF(I77=\"\",\"\",IF(AND(AA73=\"T\",I77<I76),\"X\",IF(AND(AA73=\"F\",I77>I76),\"X\",\"\")))","v":""},null,{"$f":"IF(AA73=\"T\",AB77,AC77)","v":""},null,4,null,{"$f":"IF($O77=\"\",\"\",HLOOKUP(O77,womens_declare,B76,FALSE))","v":""},"",null,{"$f":"IF(R77=\"\",\"\",IF(AND(AA73=\"T\",R77<R76),\"X\",IF(AND(AA73=\"F\",R77>R76),\"X\",\"\")))","v":""},{"$f":"IF(AA73=\"T\",AD77,AE77)","v":""},null,null,null,null,null,null,null,{"$f":"IF(I77=\"\",\"\",IF(AA73=\"F\",\"\",IF(AA73=\"T\",IF(I77<=X73,\"þ\",IF(I77<=Y73,\"G2\",IF(I77<=Z73,\"G3\",\"\"))))))","v":""},{"$f":"IF(I77=\"\",\"\",IF(AA73=\"T\",\"\",IF(AA73=\"F\",IF(I77>=X73,\"þ\",IF(I77>=Y73,\"G2\",IF(I77>=Z73,\"G3\",\"\"))))))","v":""},{"$f":"IF(R77=\"\",\"\",IF(AA73=\"F\",\"\",IF(AA73=\"T\",IF(R77<=X73,\"þ\",IF(R77<=Y73,\"G2\",IF(R77<=Z73,\"G3\",\"\"))))))","v":""},{"$f":"IF(R77=\"\",\"\",IF(AA73=\"T\",\"\",IF(AA73=\"F\",IF(R77>=X73,\"þ\",IF(R77>=Y73,\"G2\",IF(R77>=Z73,\"G3\",\"\"))))))","v":""},"","","","",77]
[null,null,"","",5,null,{"$f":"IF($F78=\"\",\"\",HLOOKUP(F78,womens_declare,B76,FALSE))","v":""},"",null,{"$f":"IF(I78=\"\",\"\",IF(AND(AA73=\"T\",I78<I77),\"X\",IF(AND(AA73=\"F\",I78>I77),\"X\",\"\")))","v":""},null,{"$f":"IF(AA73=\"T\",AB78,AC78)","v":""},null,5,null,{"$f":"IF($O78=\"\",\"\",HLOOKUP(O78,womens_declare,B76,FALSE))","v":""},"",null,{"$f":"IF(R78=\"\",\"\",IF(AND(AA73=\"T\",R78<R77),\"X\",IF(AND(AA73=\"F\",R78>R77),\"X\",\"\")))","v":""},{"$f":"IF(AA73=\"T\",AD78,AE78)","v":""},null,null,null,null,null,null,null,{"$f":"IF(I78=\"\",\"\",IF(AA73=\"F\",\"\",IF(AA73=\"T\",IF(I78<=X73,\"þ\",IF(I78<=Y73,\"G2\",IF(I78<=Z73,\"G3\",\"\"))))))","v":""},{"$f":"IF(I78=\"\",\"\",IF(AA73=\"T\",\"\",IF(AA73=\"F\",IF(I78>=X73,\"þ\",IF(I78>=Y73,\"G2\",IF(I78>=Z73,\"G3\",\"\"))))))","v":""},{"$f":"IF(R78=\"\",\"\",IF(AA73=\"F\",\"\",IF(AA73=\"T\",IF(R78<=X73,\"þ\",IF(R78<=Y73,\"G2\",IF(R78<=Z73,\"G3\",\"\"))))))","v":""},{"$f":"IF(R78=\"\",\"\",IF(AA73=\"T\",\"\",IF(AA73=\"F\",IF(R78>=X73,\"þ\",IF(R78>=Y73,\"G2\",IF(R78>=Z73,\"G3\",\"\"))))))","v":""},"","","","",78]
[null,null,"","",6,null,{"$f":"IF($F79=\"\",\"\",HLOOKUP(F79,womens_declare,B76,FALSE))","v":""},"",null,{"$f":"IF(I79=\"\",\"\",IF(AND(AA73=\"T\",I79<I78),\"X\",IF(AND(AA73=\"F\",I79>I78),\"X\",\"\")))","v":""},null,{"$f":"IF(AA73=\"T\",AB79,AC79)","v":""},null,6,null,{"$f":"IF($O79=\"\",\"\",HLOOKUP(O79,womens_declare,B76,FALSE))","v":""},"",null,{"$f":"IF(R79=\"\",\"\",IF(AND(AA73=\"T\",R79<R78),\"X\",IF(AND(AA73=\"F\",R79>R78),\"X\",\"\")))","v":""},{"$f":"IF(AA73=\"T\",AD79,AE79)","v":""},null,null,null,null,null,null,null,{"$f":"IF(I79=\"\",\"\",IF(AA73=\"F\",\"\",IF(AA73=\"T\",IF(I79<=X73,\"þ\",IF(I79<=Y73,\"G2\",IF(I79<=Z73,\"G3\",\"\"))))))","v":""},{"$f":"IF(I79=\"\",\"\",IF(AA73=\"T\",\"\",IF(AA73=\"F\",IF(I79>=X73,\"þ\",IF(I79>=Y73,\"G2\",IF(I79>=Z73,\"G3\",\"\"))))))","v":""},{"$f":"IF(R79=\"\",\"\",IF(AA73=\"F\",\"\",IF(AA73=\"T\",IF(R79<=X73,\"þ\",IF(R79<=Y73,\"G2\",IF(R79<=Z73,\"G3\",\"\"))))))","v":""},{"$f":"IF(R79=\"\",\"\",IF(AA73=\"T\",\"\",IF(AA73=\"F\",IF(R79>=X73,\"þ\",IF(R79>=Y73,\"G2\",IF(R79>=Z73,\"G3\",\"\"))))))","v":""},"","","","",79]
[null,null,"","",7,null,{"$f":"IF($F80=\"\",\"\",HLOOKUP(F80,womens_declare,B76,FALSE))","v":""},"",null,{"$f":"IF(I80=\"\",\"\",IF(AND(AA73=\"T\",I80<I79),\"X\",IF(AND(AA73=\"F\",I80>I79),\"X\",\"\")))","v":""},null,{"$f":"IF(AA73=\"T\",AB80,AC80)","v":""},null,7,null,{"$f":"IF($O80=\"\",\"\",HLOOKUP(O80,womens_declare,B76,FALSE))","v":""},"",null,{"$f":"IF(R80=\"\",\"\",IF(AND(AA73=\"T\",R80<R79),\"X\",IF(AND(AA73=\"F\",R80>R79),\"X\",\"\")))","v":""},{"$f":"IF(AA73=\"T\",AD80,AE80)","v":""},null,null,null,null,null,null,null,{"$f":"IF(I80=\"\",\"\",IF(AA73=\"F\",\"\",IF(AA73=\"T\",IF(I80<=X73,\"þ\",IF(I80<=Y73,\"G2\",IF(I80<=Z73,\"G3\",\"\"))))))","v":""},{"$f":"IF(I80=\"\",\"\",IF(AA73=\"T\",\"\",IF(AA73=\"F\",IF(I80>=X73,\"þ\",IF(I80>=Y73,\"G2\",IF(I80>=Z73,\"G3\",\"\"))))))","v":""},{"$f":"IF(R80=\"\",\"\",IF(AA73=\"F\",\"\",IF(AA73=\"T\",IF(R80<=X73,\"þ\",IF(R80<=Y73,\"G2\",IF(R80<=Z73,\"G3\",\"\"))))))","v":""},{"$f":"IF(R80=\"\",\"\",IF(AA73=\"T\",\"\",IF(AA73=\"F\",IF(R80>=X73,\"þ\",IF(R80>=Y73,\"G2\",IF(R80>=Z73,\"G3\",\"\"))))))","v":""},"","","","",80]
[null,null,"","",8,null,{"$f":"IF($F81=\"\",\"\",HLOOKUP(F81,womens_declare,B76,FALSE))","v":""},"",null,{"$f":"IF(I81=\"\",\"\",IF(AND(AA73=\"T\",I81<I80),\"X\",IF(AND(AA73=\"F\",I81>I80),\"X\",\"\")))","v":""},null,{"$f":"IF(AA73=\"T\",AB81,AC81)","v":""},null,8,null,{"$f":"IF($O81=\"\",\"\",HLOOKUP(O81,womens_declare,B76,FALSE))","v":""},"",null,{"$f":"IF(R81=\"\",\"\",IF(AND(AA73=\"T\",R81<R80),\"X\",IF(AND(AA73=\"F\",R81>R80),\"X\",\"\")))","v":""},{"$f":"IF(AA73=\"T\",AD81,AE81)","v":""},null,null,null,null,null,null,null,{"$f":"IF(I81=\"\",\"\",IF(AA73=\"F\",\"\",IF(AA73=\"T\",IF(I81<=X73,\"þ\",IF(I81<=Y73,\"G2\",IF(I81<=Z73,\"G3\",\"\"))))))","v":""},{"$f":"IF(I81=\"\",\"\",IF(AA73=\"T\",\"\",IF(AA73=\"F\",IF(I81>=X73,\"þ\",IF(I81>=Y73,\"G2\",IF(I81>=Z73,\"G3\",\"\"))))))","v":""},{"$f":"IF(R81=\"\",\"\",IF(AA73=\"F\",\"\",IF(AA73=\"T\",IF(R81<=X73,\"þ\",IF(R81<=Y73,\"G2\",IF(R81<=Z73,\"G3\",\"\"))))))","v":""},{"$f":"IF(R81=\"\",\"\",IF(AA73=\"T\",\"\",IF(AA73=\"F\",IF(R81>=X73,\"þ\",IF(R81>=Y73,\"G2\",IF(R81>=Z73,\"G3\",\"\"))))))","v":""},"","","","",81]
[null,null,null,null,null,null,null,null,null,null,null,null,null,null,null,null,null,null,null,null,null,null,null,null,null,null,null,null,null,null,null,null,null,null,null,82]
[null,null,null,null,{"$f":"CONCATENATE(VLOOKUP(A84,womens_handbook,3,FALSE),\" A\")","v":"Women's 100m Hurdles A"},null,null,{"$f":"IF(A84=\"\",\"\",IF(VLOOKUP(A84,Handbook!$A$4:$AI$24,35,FALSE)=\"Y\",\"Wind=\",\"\"))","v":"Wind="},null,null,null,null,null,null,{"$f":"CONCATENATE(VLOOKUP(A84,womens_handbook,3,FALSE),\" B\")","v":"Women's 100m Hurdles B"},null,{"$f":"H83","v":"Wind="},null,null,null,null,{"$f":"IF($A84=\"\",\"\",VLOOKUP($A84,Handbook!$A$26:$AK$46,21,FALSE))","v":13.1},{"$f":"IF($A84=\"\",\"\",VLOOKUP($A84,Handbook!$A$26:$AK$46,22,FALSE))","v":13.1},{"$f":"IF($A84=\"\",\"\",VLOOKUP($A84,Handbook!$A$26:$AK$46,23,FALSE))","v":16.5},{"$f":"IF($A84=\"\",\"\",VLOOKUP($A84,Handbook!$A$26:$AK$46,24,FALSE))","v":16.5},{"$f":"IF($A84=\"\",\"\",VLOOKUP($A84,Handbook!$A$26:$AK$46,25,FALSE))","v":16.5},{"$f":"IF($A84=\"\",\"\",VLOOKUP($A84,Handbook!$A$26:$AK$46,34,FALSE))","v":"T"},null,null,null,null,null,null,null,null,83]
[6,null,{"$f":"IF(F84=\"\",\"\",IF(F84>10,F84/11,F84))","v":""},{"$f":"IF(O84=\"\",\"\",IF(O84>10,O84/11,O84))","v":""},1,null,{"$f":"IF($F84=\"\",\"\",IF($F84>90,VLOOKUP(F84,eventcodes,2,FALSE),HLOOKUP(F84,womens_declare,B86,FALSE)))","v":""},{"$f":"IF($F84=\"\",\"\",IF($F84>90,\"\",VLOOKUP(C84,matchday,2,FALSE)))","v":""},null,{"$f":"IF(I84=\"\",\"\",IF(AA83=\"T\",V84,V85))","v":""},null,{"$f":"IF(AA83=\"T\",AB84,AC84)","v":""},null,1,null,{"$f":"IF($O84=\"\",\"\",HLOOKUP(O84,womens_declare,B86,FALSE))","v":""},{"$f":"IF($O84=\"\",\"\",VLOOKUP(D84,matchday,2,FALSE))","v":""},null,null,{"$f":"IF(AA83=\"T\",AD84,AE84)","v":""},null,{"$f":"IF(AA83=\"F\",\"\",IF(I84<V83,\"LR\",IF(I84=V83,\"=LR\",IF(I84<W83,\"DR\",IF(I84=W83,\"=DR\",\"\")))))","v":"LR"},null,null,null,null,null,{"$f":"IF(I84=\"\",\"\",IF(AA83=\"F\",\"\",IF(AA83=\"T\",IF(I84<=X83,\"þ\",IF(I84<=Y83,\"G2\",IF(I84<=Z83,\"G3\",\"\"))))))","v":""},{"$f":"IF(I84=\"\",\"\",IF(AA83=\"T\",\"\",IF(AA83=\"F\",IF(I84>=X83,\"þ\",IF(I84>=Y83,\"G2\",IF(I84>=Z83,\"G3\",\"\"))))))","v":""},{"$f":"IF(R84=\"\",\"\",IF(AA83=\"F\",\"\",IF(AA83=\"T\",IF(R84<=X83,\"þ\",IF(R84<=Y83,\"G2\",IF(R84<=Z83,\"G3\",\"\"))))))","v":""},{"$f":"IF(R84=\"\",\"\",IF(AA83=\"T\",\"\",IF(AA83=\"F\",IF(R84>=X83,\"þ\",IF(R84>=Y83,\"G2\",IF(R84>=Z83,\"G3\",\"\"))))))","v":""},{"$f":"C84","v":""},{"$f":"IF(F84=\"\",\"\",IF(LEFT(I84,1)=\"D\",0,VLOOKUP(E84,$AQ$4:$AR$40,2,FALSE)))","v":""},{"$f":"D84","v":""},{"$f":"IF(O84=\"\",\"\",IF(LEFT(R84,1)=\"D\",0,VLOOKUP(N84,$AQ$4:$AS$40,3,FALSE)))","v":""},84]
[null,{"$f":"VLOOKUP(A84,Handbook!$A$26:$AK$46,37,FALSE)","v":7},"","",2,null,{"$f":"IF($F85=\"\",\"\",HLOOKUP(F85,womens_declare,B86,FALSE))","v":""},{"$f":"IF($F85=\"\",\"\",VLOOKUP(C85,matchday,2,FALSE))","v":""},null,{"$f":"IF(I85=\"\",\"\",IF(AND(AA83=\"T\",I85<I84),\"X\",IF(AND(AA83=\"F\",I85>I84),\"X\",\"\")))","v":""},null,{"$f":"IF(AA83=\"T\",AB85,AC85)","v":""},null,2,null,{"$f":"IF($O85=\"\",\"\",HLOOKUP(O85,womens_declare,B86,FALSE))","v":""},"",null,{"$f":"IF(R85=\"\",\"\",IF(AND(AA83=\"T\",R85<R84),\"X\",IF(AND(AA83=\"F\",R85>R84),\"X\",\"\")))","v":""},{"$f":"IF(AA83=\"T\",AD85,AE85)","v":""},null,{"$f":"IF(AA83=\"T\",\"\",IF(I84>V83,\"LR\",IF(I84=V83,\"=LR\",IF(I84>W83,\"DR\",IF(I84=W83,\"=DR\",\"\")))))","v":""},null,null,null,null,null,{"$f":"IF(I85=\"\",\"\",IF(AA83=\"F\",\"\",IF(AA83=\"T\",IF(I85<=X83,\"þ\",IF(I85<=Y83,\"G2\",IF(I85<=Z83,\"G3\",\"\"))))))","v":""},{"$f":"IF(I85=\"\",\"\",IF(AA83=\"T\",\"\",IF(AA83=\"F\",IF(I85>=X83,\"þ\",IF(I85>=Y83,\"G2\",IF(I85>=Z83,\"G3\",\"\"))))))","v":""},{"$f":"IF(R85=\"\",\"\",IF(AA83=\"F\",\"\",IF(AA83=\"T\",IF(R85<=X83,\"þ\",IF(R85<=Y83,\"G2\",IF(R85<=Z83,\"G3\",\"\"))))))","v":""},{"$f":"IF(R85=\"\",\"\",IF(AA83=\"T\",\"\",IF(AA83=\"F\",IF(R85>=X83,\"þ\",IF(R85>=Y83,\"G2\",IF(R85>=Z83,\"G3\",\"\"))))))","v":""},"","","","",85]
[null,{"$f":"VLOOKUP(A84,womens_declare,20,FALSE)","v":11},"","",3,null,{"$f":"IF($F86=\"\",\"\",HLOOKUP(F86,womens_declare,B86,FALSE))","v":""},"",null,{"$f":"IF(I86=\"\",\"\",IF(AND(AA83=\"T\",I86<I85),\"X\",IF(AND(AA83=\"F\",I86>I85),\"X\",\"\")))","v":""},null,{"$f":"IF(AA83=\"T\",AB86,AC86)","v":""},null,3,null,{"$f":"IF($O86=\"\",\"\",HLOOKUP(O86,womens_declare,B86,FALSE))","v":""},"",null,{"$f":"IF(R86=\"\",\"\",IF(AND(AA83=\"T\",R86<R85),\"X\",IF(AND(AA83=\"F\",R86>R85),\"X\",\"\")))","v":""},{"$f":"IF(AA83=\"T\",AD86,AE86)","v":""},null,null,null,null,null,null,null,{"$f":"IF(I86=\"\",\"\",IF(AA83=\"F\",\"\",IF(AA83=\"T\",IF(I86<=X83,\"þ\",IF(I86<=Y83,\"G2\",IF(I86<=Z83,\"G3\",\"\"))))))","v":""},{"$f":"IF(I86=\"\",\"\",IF(AA83=\"T\",\"\",IF(AA83=\"F\",IF(I86>=X83,\"þ\",IF(I86>=Y83,\"G2\",IF(I86>=Z83,\"G3\",\"\"))))))","v":""},{"$f":"IF(R86=\"\",\"\",IF(AA83=\"F\",\"\",IF(AA83=\"T\",IF(R86<=X83,\"þ\",IF(R86<=Y83,\"G2\",IF(R86<=Z83,\"G3\",\"\"))))))","v":""},{"$f":"IF(R86=\"\",\"\",IF(AA83=\"T\",\"\",IF(AA83=\"F\",IF(R86>=X83,\"þ\",IF(R86>=Y83,\"G2\",IF(R86>=Z83,\"G3\",\"\"))))))","v":""},"","","","",86]
[null,null,"","",4,null,{"$f":"IF($F87=\"\",\"\",HLOOKUP(F87,womens_declare,B86,FALSE))","v":""},"",null,{"$f":"IF(I87=\"\",\"\",IF(AND(AA83=\"T\",I87<I86),\"X\",IF(AND(AA83=\"F\",I87>I86),\"X\",\"\")))","v":""},null,{"$f":"IF(AA83=\"T\",AB87,AC87)","v":""},null,4,null,{"$f":"IF($O87=\"\",\"\",HLOOKUP(O87,womens_declare,B86,FALSE))","v":""},"",null,{"$f":"IF(R87=\"\",\"\",IF(AND(AA83=\"T\",R87<R86),\"X\",IF(AND(AA83=\"F\",R87>R86),\"X\",\"\")))","v":""},{"$f":"IF(AA83=\"T\",AD87,AE87)","v":""},null,null,null,null,null,null,null,{"$f":"IF(I87=\"\",\"\",IF(AA83=\"F\",\"\",IF(AA83=\"T\",IF(I87<=X83,\"þ\",IF(I87<=Y83,\"G2\",IF(I87<=Z83,\"G3\",\"\"))))))","v":""},{"$f":"IF(I87=\"\",\"\",IF(AA83=\"T\",\"\",IF(AA83=\"F\",IF(I87>=X83,\"þ\",IF(I87>=Y83,\"G2\",IF(I87>=Z83,\"G3\",\"\"))))))","v":""},{"$f":"IF(R87=\"\",\"\",IF(AA83=\"F\",\"\",IF(AA83=\"T\",IF(R87<=X83,\"þ\",IF(R87<=Y83,\"G2\",IF(R87<=Z83,\"G3\",\"\"))))))","v":""},{"$f":"IF(R87=\"\",\"\",IF(AA83=\"T\",\"\",IF(AA83=\"F\",IF(R87>=X83,\"þ\",IF(R87>=Y83,\"G2\",IF(R87>=Z83,\"G3\",\"\"))))))","v":""},"","","","",87]
[null,null,"","",5,null,{"$f":"IF($F88=\"\",\"\",HLOOKUP(F88,womens_declare,B86,FALSE))","v":""},"",null,{"$f":"IF(I88=\"\",\"\",IF(AND(AA83=\"T\",I88<I87),\"X\",IF(AND(AA83=\"F\",I88>I87),\"X\",\"\")))","v":""},null,{"$f":"IF(AA83=\"T\",AB88,AC88)","v":""},null,5,null,{"$f":"IF($O88=\"\",\"\",HLOOKUP(O88,womens_declare,B86,FALSE))","v":""},"",null,{"$f":"IF(R88=\"\",\"\",IF(AND(AA83=\"T\",R88<R87),\"X\",IF(AND(AA83=\"F\",R88>R87),\"X\",\"\")))","v":""},{"$f":"IF(AA83=\"T\",AD88,AE88)","v":""},null,null,null,null,null,null,null,{"$f":"IF(I88=\"\",\"\",IF(AA83=\"F\",\"\",IF(AA83=\"T\",IF(I88<=X83,\"þ\",IF(I88<=Y83,\"G2\",IF(I88<=Z83,\"G3\",\"\"))))))","v":""},{"$f":"IF(I88=\"\",\"\",IF(AA83=\"T\",\"\",IF(AA83=\"F\",IF(I88>=X83,\"þ\",IF(I88>=Y83,\"G2\",IF(I88>=Z83,\"G3\",\"\"))))))","v":""},{"$f":"IF(R88=\"\",\"\",IF(AA83=\"F\",\"\",IF(AA83=\"T\",IF(R88<=X83,\"þ\",IF(R88<=Y83,\"G2\",IF(R88<=Z83,\"G3\",\"\"))))))","v":""},{"$f":"IF(R88=\"\",\"\",IF(AA83=\"T\",\"\",IF(AA83=\"F\",IF(R88>=X83,\"þ\",IF(R88>=Y83,\"G2\",IF(R88>=Z83,\"G3\",\"\"))))))","v":""},"","","","",88]
[null,null,"","",6,null,{"$f":"IF($F89=\"\",\"\",HLOOKUP(F89,womens_declare,B86,FALSE))","v":""},"",null,{"$f":"IF(I89=\"\",\"\",IF(AND(AA83=\"T\",I89<I88),\"X\",IF(AND(AA83=\"F\",I89>I88),\"X\",\"\")))","v":""},null,{"$f":"IF(AA83=\"T\",AB89,AC89)","v":""},null,6,null,{"$f":"IF($O89=\"\",\"\",HLOOKUP(O89,womens_declare,B86,FALSE))","v":""},"",null,{"$f":"IF(R89=\"\",\"\",IF(AND(AA83=\"T\",R89<R88),\"X\",IF(AND(AA83=\"F\",R89>R88),\"X\",\"\")))","v":""},{"$f":"IF(AA83=\"T\",AD89,AE89)","v":""},null,null,null,null,null,null,null,{"$f":"IF(I89=\"\",\"\",IF(AA83=\"F\",\"\",IF(AA83=\"T\",IF(I89<=X83,\"þ\",IF(I89<=Y83,\"G2\",IF(I89<=Z83,\"G3\",\"\"))))))","v":""},{"$f":"IF(I89=\"\",\"\",IF(AA83=\"T\",\"\",IF(AA83=\"F\",IF(I89>=X83,\"þ\",IF(I89>=Y83,\"G2\",IF(I89>=Z83,\"G3\",\"\"))))))","v":""},{"$f":"IF(R89=\"\",\"\",IF(AA83=\"F\",\"\",IF(AA83=\"T\",IF(R89<=X83,\"þ\",IF(R89<=Y83,\"G2\",IF(R89<=Z83,\"G3\",\"\"))))))","v":""},{"$f":"IF(R89=\"\",\"\",IF(AA83=\"T\",\"\",IF(AA83=\"F\",IF(R89>=X83,\"þ\",IF(R89>=Y83,\"G2\",IF(R89>=Z83,\"G3\",\"\"))))))","v":""},"","","","",89]
[null,null,"","",7,null,{"$f":"IF($F90=\"\",\"\",HLOOKUP(F90,womens_declare,B86,FALSE))","v":""},"",null,{"$f":"IF(I90=\"\",\"\",IF(AND(AA83=\"T\",I90<I89),\"X\",IF(AND(AA83=\"F\",I90>I89),\"X\",\"\")))","v":""},null,{"$f":"IF(AA83=\"T\",AB90,AC90)","v":""},null,7,null,{"$f":"IF($O90=\"\",\"\",HLOOKUP(O90,womens_declare,B86,FALSE))","v":""},"",null,{"$f":"IF(R90=\"\",\"\",IF(AND(AA83=\"T\",R90<R89),\"X\",IF(AND(AA83=\"F\",R90>R89),\"X\",\"\")))","v":""},{"$f":"IF(AA83=\"T\",AD90,AE90)","v":""},null,null,null,null,null,null,null,{"$f":"IF(I90=\"\",\"\",IF(AA83=\"F\",\"\",IF(AA83=\"T\",IF(I90<=X83,\"þ\",IF(I90<=Y83,\"G2\",IF(I90<=Z83,\"G3\",\"\"))))))","v":""},{"$f":"IF(I90=\"\",\"\",IF(AA83=\"T\",\"\",IF(AA83=\"F\",IF(I90>=X83,\"þ\",IF(I90>=Y83,\"G2\",IF(I90>=Z83,\"G3\",\"\"))))))","v":""},{"$f":"IF(R90=\"\",\"\",IF(AA83=\"F\",\"\",IF(AA83=\"T\",IF(R90<=X83,\"þ\",IF(R90<=Y83,\"G2\",IF(R90<=Z83,\"G3\",\"\"))))))","v":""},{"$f":"IF(R90=\"\",\"\",IF(AA83=\"T\",\"\",IF(AA83=\"F\",IF(R90>=X83,\"þ\",IF(R90>=Y83,\"G2\",IF(R90>=Z83,\"G3\",\"\"))))))","v":""},"","","","",90]
[null,null,"","",8,null,{"$f":"IF($F91=\"\",\"\",HLOOKUP(F91,womens_declare,B86,FALSE))","v":""},"",null,{"$f":"IF(I91=\"\",\"\",IF(AND(AA83=\"T\",I91<I90),\"X\",IF(AND(AA83=\"F\",I91>I90),\"X\",\"\")))","v":""},null,{"$f":"IF(AA83=\"T\",AB91,AC91)","v":""},null,8,null,{"$f":"IF($O91=\"\",\"\",HLOOKUP(O91,womens_declare,B86,FALSE))","v":""},"",null,{"$f":"IF(R91=\"\",\"\",IF(AND(AA83=\"T\",R91<R90),\"X\",IF(AND(AA83=\"F\",R91>R90),\"X\",\"\")))","v":""},{"$f":"IF(AA83=\"T\",AD91,AE91)","v":""},null,null,null,null,null,null,null,{"$f":"IF(I91=\"\",\"\",IF(AA83=\"F\",\"\",IF(AA83=\"T\",IF(I91<=X83,\"þ\",IF(I91<=Y83,\"G2\",IF(I91<=Z83,\"G3\",\"\"))))))","v":""},{"$f":"IF(I91=\"\",\"\",IF(AA83=\"T\",\"\",IF(AA83=\"F\",IF(I91>=X83,\"þ\",IF(I91>=Y83,\"G2\",IF(I91>=Z83,\"G3\",\"\"))))))","v":""},{"$f":"IF(R91=\"\",\"\",IF(AA83=\"F\",\"\",IF(AA83=\"T\",IF(R91<=X83,\"þ\",IF(R91<=Y83,\"G2\",IF(R91<=Z83,\"G3\",\"\"))))))","v":""},{"$f":"IF(R91=\"\",\"\",IF(AA83=\"T\",\"\",IF(AA83=\"F\",IF(R91>=X83,\"þ\",IF(R91>=Y83,\"G2\",IF(R91>=Z83,\"G3\",\"\"))))))","v":""},"","","","",91]
[null,null,null,null,null,null,null,null,null,null,null,null,null,null,null,null,null,null,null,null,null,null,null,null,null,null,null,null,null,null,null,null,null,null,null,92]
[null,null,{"$f":"VLOOKUP(A94,Handbook!$A$4:$AK$24,36,FALSE)","v":"D"},null,{"$f":"CONCATENATE(VLOOKUP(A94,womens_handbook,3,FALSE),\" A\")","v":"Women's Hammer A"},null,null,{"$f":"IF(A94=\"\",\"\",IF(VLOOKUP(A94,Handbook!$A$4:$AI$24,35,FALSE)=\"Y\",\"Wind=\",\"\"))","v":""},null,null,null,null,null,null,{"$f":"CONCATENATE(VLOOKUP(A94,womens_handbook,3,FALSE),\" B\")","v":"Women's Hammer B"},null,{"$f":"H93","v":""},{"$f":"IF(I93=\"\",\"\",I93)","v":""},null,null,null,{"$f":"IF($A94=\"\",\"\",VLOOKUP($A94,Handbook!$A$26:$AK$46,21,FALSE))","v":67.94},{"$f":"IF($A94=\"\",\"\",VLOOKUP($A94,Handbook!$A$26:$AK$46,22,FALSE))","v":67.94},{"$f":"IF($A94=\"\",\"\",VLOOKUP($A94,Handbook!$A$26:$AK$46,23,FALSE))","v":30},{"$f":"IF($A94=\"\",\"\",VLOOKUP($A94,Handbook!$A$26:$AK$46,24,FALSE))","v":30},{"$f":"IF($A94=\"\",\"\",VLOOKUP($A94,Handbook!$A$26:$AK$46,25,FALSE))","v":30},{"$f":"IF($A94=\"\",\"\",VLOOKUP($A94,Handbook!$A$26:$AK$46,34,FALSE))","v":"F"},null,null,null,null,null,null,null,null,93]
[11,null,{"$f":"IF(F94=\"\",\"\",IF(F94>10,F94/11,F94))","v":""},{"$f":"IF(O94=\"\",\"\",IF(O94>10,O94/11,O94))","v":""},{"$f":"'Womens Hammer'!$E$26","v":1},{"$f":"IF('Womens Hammer'!$I$26=0,\"\",'Womens Hammer'!$F$26)","v":""},{"$f":"IF(OR($F94=\"\",$F94=0),\"\",IF($F94>90,VLOOKUP(F94,eventcodes,2,FALSE),HLOOKUP(F94,womens_declare,B96,FALSE)))","v":""},{"$f":"IF(OR($F94=\"\",$F94=0),\"\",IF($F94>90,\"\",VLOOKUP(C94,matchday,2,FALSE)))","v":""},{"$f":"IF('Womens Hammer'!$I$26=0,\"\",'Womens Hammer'!$I$26)","v":""},{"$f":"IF(I94=\"\",\"\",IF(AA93=\"T\",V94,V95))","v":""},null,{"$f":"IF(AA93=\"T\",AB94,AC94)","v":""},null,{"$f":"'Womens Hammer'!$K$26","v":1},{"$f":"IF('Womens Hammer'!$I$26=0,\"\",'Womens Hammer'!$L$26)","v":""},{"$f":"IF(OR($O94=\"\",$O94=0),\"\",HLOOKUP(O94,womens_declare,B96,FALSE))","v":""},{"$f":"IF(OR($O94=\"\",$O94=0),\"\",VLOOKUP(D94,matchday,2,FALSE))","v":""},{"$f":"IF('Womens Hammer'!$I$26=0,\"\",'Womens Hammer'!$U$26)","v":""},null,{"$f":"IF(AA93=\"T\",AD94,AE94)","v":""},null,{"$f":"IF(AA93=\"F\",\"\",IF(I94<V93,\"LR\",IF(I94=V93,\"=LR\",IF(I94<W93,\"DR\",IF(I94=W93,\"=DR\",\"\")))))","v":""},null,null,null,null,null,{"$f":"IF(I94=\"\",\"\",IF(AA93=\"F\",\"\",IF(AA93=\"T\",IF(I94<=X93,\"þ\",IF(I94<=Y93,\"G2\",IF(I94<=Z93,\"G3\",\"\"))))))","v":""},{"$f":"IF(I94=\"\",\"\",IF(AA93=\"T\",\"\",IF(AA93=\"F\",IF(I94>=X93,\"þ\",IF(I94>=Y93,\"G2\",IF(I94>=Z93,\"G3\",\"\"))))))","v":""},{"$f":"IF(R94=\"\",\"\",IF(AA93=\"F\",\"\",IF(AA93=\"T\",IF(R94<=X93,\"þ\",IF(R94<=Y93,\"G2\",IF(R94<=Z93,\"G3\",\"\"))))))","v":""},{"$f":"IF(R94=\"\",\"\",IF(AA93=\"T\",\"\",IF(AA93=\"F\",IF(R94>=X93,\"þ\",IF(R94>=Y93,\"G2\",IF(R94>=Z93,\"G3\",\"\"))))))","v":""},{"$f":"C94","v":""},{"$f":"IF(F94=\"\",\"\",IF(LEFT(I94,1)=\"D\",0,VLOOKUP(E94,$AQ$4:$AR$40,2,FALSE)))","v":""},{"$f":"D94","v":""},{"$f":"IF(O94=\"\",\"\",IF(LEFT(R94,1)=\"D\",0,VLOOKUP(N94,$AQ$4:$AS$40,3,FALSE)))","v":""},94]
[null,{"$f":"VLOOKUP(A94,Handbook!$A$4:$AK$24,37,FALSE)","v":12},{"$f":"IF(F95=\"\",\"\",IF(F95>10,F95/11,F95))","v":""},{"$f":"IF(O95=\"\",\"\",IF(O95>10,O95/11,O95))","v":""},{"$f":"'Womens Hammer'!$E$27","v":2},{"$f":"IF('Womens Hammer'!$I$26=0,\"\",'Womens Hammer'!$F$27)","v":""},{"$f":"IF(OR($F95=\"\",$F95=0),\"\",IF($F95>90,VLOOKUP(F95,eventcodes,2,FALSE),HLOOKUP(F95,womens_declare,B96,FALSE)))","v":""},"",{"$f":"IF('Womens Hammer'!$I$26=0,\"\",'Womens Hammer'!$I$27)","v":""},null,null,{"$f":"IF(AA93=\"T\",AB95,AC95)","v":""},null,{"$f":"'Womens Hammer'!$K$27","v":2},{"$f":"IF('Womens Hammer'!$I$26=0,\"\",'Womens Hammer'!$L$27)","v":""},{"$f":"IF(OR($O95=\"\",$O95=0),\"\",HLOOKUP(O95,womens_declare,B96,FALSE))","v":""},"",{"$f":"IF('Womens Hammer'!$I$26=0,\"\",'Womens Hammer'!$U$27)","v":""},null,{"$f":"IF(AA93=\"T\",AD95,AE95)","v":""},null,{"$f":"IF(AA93=\"T\",\"\",IF(I94>V93,\"LR\",IF(I94=V93,\"=LR\",IF(I94>W93,\"DR\",IF(I94=W93,\"=DR\",\"\")))))","v":"LR"},null,null,null,null,null,{"$f":"IF(I95=\"\",\"\",IF(AA93=\"F\",\"\",IF(AA93=\"T\",IF(I95<=X93,\"þ\",IF(I95<=Y93,\"G2\",IF(I95<=Z93,\"G3\",\"\"))))))","v":""},{"$f":"IF(I95=\"\",\"\",IF(AA93=\"T\",\"\",IF(AA93=\"F\",IF(I95>=X93,\"þ\",IF(I95>=Y93,\"G2\",IF(I95>=Z93,\"G3\",\"\"))))))","v":""},{"$f":"IF(R95=\"\",\"\",IF(AA93=\"F\",\"\",IF(AA93=\"T\",IF(R95<=X93,\"þ\",IF(R95<=Y93,\"G2\",IF(R95<=Z93,\"G3\",\"\"))))))","v":""},{"$f":"IF(R95=\"\",\"\",IF(AA93=\"T\",\"\",IF(AA93=\"F\",IF(R95>=X93,\"þ\",IF(R95>=Y93,\"G2\",IF(R95>=Z93,\"G3\",\"\"))))))","v":""},"","","","",95]
[null,{"$f":"VLOOKUP(A94,Declarations!$A$3:$T$31,20,FALSE)","v":12},"","",{"$f":"'Womens Hammer'!$E$28","v":3},{"$f":"IF('Womens Hammer'!$I$26=0,\"\",'Womens Hammer'!$F$28)","v":""},{"$f":"IF(OR($F96=\"\",$F96=0),\"\",IF($F96>90,VLOOKUP(F96,eventcodes,2,FALSE),HLOOKUP(F96,womens_declare,B96,FALSE)))","v":""},"",{"$f":"IF('Womens Hammer'!$I$26=0,\"\",'Womens Hammer'!$I$28)","v":""},null,null,{"$f":"IF(AA93=\"T\",AB96,AC96)","v":""},null,{"$f":"'Womens Hammer'!$K$28","v":3},{"$f":"IF('Womens Hammer'!$I$26=0,\"\",'Womens Hammer'!$L$28)","v":""},{"$f":"IF(OR($O96=\"\",$O96=0),\"\",HLOOKUP(O96,womens_declare,B96,FALSE))","v":""},"",{"$f":"IF('Womens Hammer'!$I$26=0,\"\",'Womens Hammer'!$U$28)","v":""},null,{"$f":"IF(AA93=\"T\",AD96,AE96)","v":""},null,null,null,null,null,null,null,{"$f":"IF(I96=\"\",\"\",IF(AA93=\"F\",\"\",IF(AA93=\"T\",IF(I96<=X93,\"þ\",IF(I96<=Y93,\"G2\",IF(I96<=Z93,\"G3\",\"\"))))))","v":""},{"$f":"IF(I96=\"\",\"\",IF(AA93=\"T\",\"\",IF(AA93=\"F\",IF(I96>=X93,\"þ\",IF(I96>=Y93,\"G2\",IF(I96>=Z93,\"G3\",\"\"))))))","v":""},{"$f":"IF(R96=\"\",\"\",IF(AA93=\"F\",\"\",IF(AA93=\"T\",IF(R96<=X93,\"þ\",IF(R96<=Y93,\"G2\",IF(R96<=Z93,\"G3\",\"\"))))))","v":""},{"$f":"IF(R96=\"\",\"\",IF(AA93=\"T\",\"\",IF(AA93=\"F\",IF(R96>=X93,\"þ\",IF(R96>=Y93,\"G2\",IF(R96>=Z93,\"G3\",\"\"))))))","v":""},"","","","",96]
[null,null,"","",{"$f":"'Womens Hammer'!$E$29","v":4},{"$f":"IF('Womens Hammer'!$I$26=0,\"\",'Womens Hammer'!$F$29)","v":""},{"$f":"IF(OR($F97=\"\",$F97=0),\"\",IF($F97>90,VLOOKUP(F97,eventcodes,2,FALSE),HLOOKUP(F97,womens_declare,B96,FALSE)))","v":""},"",{"$f":"IF('Womens Hammer'!$I$26=0,\"\",'Womens Hammer'!$I$29)","v":""},null,null,{"$f":"IF(AA93=\"T\",AB97,AC97)","v":""},null,{"$f":"'Womens Hammer'!$K$29","v":4},{"$f":"IF('Womens Hammer'!$I$26=0,\"\",'Womens Hammer'!$L$29)","v":""},{"$f":"IF(OR($O97=\"\",$O97=0),\"\",HLOOKUP(O97,womens_declare,B96,FALSE))","v":""},"",{"$f":"IF('Womens Hammer'!$I$26=0,\"\",'Womens Hammer'!$U$29)","v":""},null,{"$f":"IF(AA93=\"T\",AD97,AE97)","v":""},null,null,null,null,null,null,null,{"$f":"IF(I97=\"\",\"\",IF(AA93=\"F\",\"\",IF(AA93=\"T\",IF(I97<=X93,\"þ\",IF(I97<=Y93,\"G2\",IF(I97<=Z93,\"G3\",\"\"))))))","v":""},{"$f":"IF(I97=\"\",\"\",IF(AA93=\"T\",\"\",IF(AA93=\"F\",IF(I97>=X93,\"þ\",IF(I97>=Y93,\"G2\",IF(I97>=Z93,\"G3\",\"\"))))))","v":""},{"$f":"IF(R97=\"\",\"\",IF(AA93=\"F\",\"\",IF(AA93=\"T\",IF(R97<=X93,\"þ\",IF(R97<=Y93,\"G2\",IF(R97<=Z93,\"G3\",\"\"))))))","v":""},{"$f":"IF(R97=\"\",\"\",IF(AA93=\"T\",\"\",IF(AA93=\"F\",IF(R97>=X93,\"þ\",IF(R97>=Y93,\"G2\",IF(R97>=Z93,\"G3\",\"\"))))))","v":""},"","","","",97]
[null,null,"","",{"$f":"'Womens Hammer'!$E$30","v":5},{"$f":"IF('Womens Hammer'!$I$26=0,\"\",'Womens Hammer'!$F$30)","v":""},{"$f":"IF(OR($F98=\"\",$F98=0),\"\",IF($F98>90,VLOOKUP(F98,eventcodes,2,FALSE),HLOOKUP(F98,womens_declare,B96,FALSE)))","v":""},"",{"$f":"IF('Womens Hammer'!$I$26=0,\"\",'Womens Hammer'!$I$30)","v":""},null,null,{"$f":"IF(AA93=\"T\",AB98,AC98)","v":""},null,{"$f":"'Womens Hammer'!$K$30","v":5},{"$f":"IF('Womens Hammer'!$I$26=0,\"\",'Womens Hammer'!$L$30)","v":""},{"$f":"IF(OR($O98=\"\",$O98=0),\"\",HLOOKUP(O98,womens_declare,B96,FALSE))","v":""},"",{"$f":"IF('Womens Hammer'!$I$26=0,\"\",'Womens Hammer'!$U$30)","v":""},null,{"$f":"IF(AA93=\"T\",AD98,AE98)","v":""},null,null,null,null,null,null,null,{"$f":"IF(I98=\"\",\"\",IF(AA93=\"F\",\"\",IF(AA93=\"T\",IF(I98<=X93,\"þ\",IF(I98<=Y93,\"G2\",IF(I98<=Z93,\"G3\",\"\"))))))","v":""},{"$f":"IF(I98=\"\",\"\",IF(AA93=\"T\",\"\",IF(AA93=\"F\",IF(I98>=X93,\"þ\",IF(I98>=Y93,\"G2\",IF(I98>=Z93,\"G3\",\"\"))))))","v":""},{"$f":"IF(R98=\"\",\"\",IF(AA93=\"F\",\"\",IF(AA93=\"T\",IF(R98<=X93,\"þ\",IF(R98<=Y93,\"G2\",IF(R98<=Z93,\"G3\",\"\"))))))","v":""},{"$f":"IF(R98=\"\",\"\",IF(AA93=\"T\",\"\",IF(AA93=\"F\",IF(R98>=X93,\"þ\",IF(R98>=Y93,\"G2\",IF(R98>=Z93,\"G3\",\"\"))))))","v":""},"","","","",98]
[null,null,"","",{"$f":"'Womens Hammer'!$E$31","v":6},{"$f":"IF('Womens Hammer'!$I$26=0,\"\",'Womens Hammer'!$F$31)","v":""},{"$f":"IF(OR($F99=\"\",$F99=0),\"\",IF($F99>90,VLOOKUP(F99,eventcodes,2,FALSE),HLOOKUP(F99,womens_declare,B96,FALSE)))","v":""},"",{"$f":"IF('Womens Hammer'!$I$26=0,\"\",'Womens Hammer'!$I$31)","v":""},null,null,{"$f":"IF(AA93=\"T\",AB99,AC99)","v":""},null,{"$f":"'Womens Hammer'!$K$31","v":6},{"$f":"IF('Womens Hammer'!$I$26=0,\"\",'Womens Hammer'!$L$31)","v":""},{"$f":"IF(OR($O99=\"\",$O99=0),\"\",HLOOKUP(O99,womens_declare,B96,FALSE))","v":""},"",{"$f":"IF('Womens Hammer'!$I$26=0,\"\",'Womens Hammer'!$U$31)","v":""},null,{"$f":"IF(AA93=\"T\",AD99,AE99)","v":""},null,null,null,null,null,null,null,{"$f":"IF(I99=\"\",\"\",IF(AA93=\"F\",\"\",IF(AA93=\"T\",IF(I99<=X93,\"þ\",IF(I99<=Y93,\"G2\",IF(I99<=Z93,\"G3\",\"\"))))))","v":""},{"$f":"IF(I99=\"\",\"\",IF(AA93=\"T\",\"\",IF(AA93=\"F\",IF(I99>=X93,\"þ\",IF(I99>=Y93,\"G2\",IF(I99>=Z93,\"G3\",\"\"))))))","v":""},{"$f":"IF(R99=\"\",\"\",IF(AA93=\"F\",\"\",IF(AA93=\"T\",IF(R99<=X93,\"þ\",IF(R99<=Y93,\"G2\",IF(R99<=Z93,\"G3\",\"\"))))))","v":""},{"$f":"IF(R99=\"\",\"\",IF(AA93=\"T\",\"\",IF(AA93=\"F\",IF(R99>=X93,\"þ\",IF(R99>=Y93,\"G2\",IF(R99>=Z93,\"G3\",\"\"))))))","v":""},"","","","",99]
[null,null,"","",{"$f":"'Womens Hammer'!$E$32","v":7},{"$f":"IF('Womens Hammer'!$I$26=0,\"\",'Womens Hammer'!$F$32)","v":""},{"$f":"IF(OR($F100=\"\",$F100=0),\"\",IF($F100>90,VLOOKUP(F100,eventcodes,2,FALSE),HLOOKUP(F100,womens_declare,B96,FALSE)))","v":""},"",{"$f":"IF('Womens Hammer'!$I$26=0,\"\",'Womens Hammer'!$I$32)","v":""},null,null,{"$f":"IF(AA93=\"T\",AB100,AC100)","v":""},null,{"$f":"'Womens Hammer'!$K$32","v":7},{"$f":"IF('Womens Hammer'!$I$26=0,\"\",'Womens Hammer'!$L$32)","v":""},{"$f":"IF(OR($O100=\"\",$O100=0),\"\",HLOOKUP(O100,womens_declare,B96,FALSE))","v":""},"",{"$f":"IF('Womens Hammer'!$I$26=0,\"\",'Womens Hammer'!$U$32)","v":""},null,{"$f":"IF(AA93=\"T\",AD100,AE100)","v":""},null,null,null,null,null,null,null,{"$f":"IF(I100=\"\",\"\",IF(AA93=\"F\",\"\",IF(AA93=\"T\",IF(I100<=X93,\"þ\",IF(I100<=Y93,\"G2\",IF(I100<=Z93,\"G3\",\"\"))))))","v":""},{"$f":"IF(I100=\"\",\"\",IF(AA93=\"T\",\"\",IF(AA93=\"F\",IF(I100>=X93,\"þ\",IF(I100>=Y93,\"G2\",IF(I100>=Z93,\"G3\",\"\"))))))","v":""},{"$f":"IF(R100=\"\",\"\",IF(AA93=\"F\",\"\",IF(AA93=\"T\",IF(R100<=X93,\"þ\",IF(R100<=Y93,\"G2\",IF(R100<=Z93,\"G3\",\"\"))))))","v":""},{"$f":"IF(R100=\"\",\"\",IF(AA93=\"T\",\"\",IF(AA93=\"F\",IF(R100>=X93,\"þ\",IF(R100>=Y93,\"G2\",IF(R100>=Z93,\"G3\",\"\"))))))","v":""},"","","","",100]
[null,null,"","",{"$f":"'Womens Hammer'!$E$33","v":8},{"$f":"IF('Womens Hammer'!$I$26=0,\"\",'Womens Hammer'!$F$33)","v":""},{"$f":"IF(OR($F101=\"\",$F101=0),\"\",IF($F101>90,VLOOKUP(F101,eventcodes,2,FALSE),HLOOKUP(F101,womens_declare,B96,FALSE)))","v":""},"",{"$f":"IF('Womens Hammer'!$I$26=0,\"\",'Womens Hammer'!$I$33)","v":""},null,null,{"$f":"IF(AA93=\"T\",AB101,AC101)","v":""},null,{"$f":"'Womens Hammer'!$K$33","v":8},{"$f":"IF('Womens Hammer'!$I$26=0,\"\",'Womens Hammer'!$L$33)","v":""},{"$f":"IF(OR($O101=\"\",$O101=0),\"\",HLOOKUP(O101,womens_declare,B96,FALSE))","v":""},"",{"$f":"IF('Womens Hammer'!$I$26=0,\"\",'Womens Hammer'!$U$33)","v":""},null,{"$f":"IF(AA93=\"T\",AD101,AE101)","v":""},null,null,null,null,null,null,null,{"$f":"IF(I101=\"\",\"\",IF(AA93=\"F\",\"\",IF(AA93=\"T\",IF(I101<=X93,\"þ\",IF(I101<=Y93,\"G2\",IF(I101<=Z93,\"G3\",\"\"))))))","v":""},{"$f":"IF(I101=\"\",\"\",IF(AA93=\"T\",\"\",IF(AA93=\"F\",IF(I101>=X93,\"þ\",IF(I101>=Y93,\"G2\",IF(I101>=Z93,\"G3\",\"\"))))))","v":""},{"$f":"IF(R101=\"\",\"\",IF(AA93=\"F\",\"\",IF(AA93=\"T\",IF(R101<=X93,\"þ\",IF(R101<=Y93,\"G2\",IF(R101<=Z93,\"G3\",\"\"))))))","v":""},{"$f":"IF(R101=\"\",\"\",IF(AA93=\"T\",\"\",IF(AA93=\"F\",IF(R101>=X93,\"þ\",IF(R101>=Y93,\"G2\",IF(R101>=Z93,\"G3\",\"\"))))))","v":""},"","","","",101]
[null,null,null,null,null,null,null,null,null,null,null,null,null,null,null,null,null,null,null,null,null,null,null,null,null,null,null,null,null,null,null,null,null,null,null,102]
[null,null,{"$f":"VLOOKUP(A104,Handbook!$A$4:$AK$24,36,FALSE)","v":"D"},null,{"$f":"CONCATENATE(VLOOKUP(A104,womens_handbook,3,FALSE),\" A\")","v":"Women's Discus A"},null,null,{"$f":"IF(A104=\"\",\"\",IF(VLOOKUP(A104,Handbook!$A$4:$AI$24,35,FALSE)=\"Y\",\"Wind=\",\"\"))","v":""},null,null,null,null,null,null,{"$f":"CONCATENATE(VLOOKUP(A104,womens_handbook,3,FALSE),\" B\")","v":"Women's Discus B"},null,{"$f":"H103","v":""},{"$f":"IF(I103=\"\",\"\",I103)","v":""},null,null,null,{"$f":"IF($A104=\"\",\"\",VLOOKUP($A104,Handbook!$A$26:$AK$46,21,FALSE))","v":62.18},{"$f":"IF($A104=\"\",\"\",VLOOKUP($A104,Handbook!$A$26:$AK$46,22,FALSE))","v":62.18},{"$f":"IF($A104=\"\",\"\",VLOOKUP($A104,Handbook!$A$26:$AK$46,23,FALSE))","v":30},{"$f":"IF($A104=\"\",\"\",VLOOKUP($A104,Handbook!$A$26:$AK$46,24,FALSE))","v":30},{"$f":"IF($A104=\"\",\"\",VLOOKUP($A104,Handbook!$A$26:$AK$46,25,FALSE))","v":30},{"$f":"IF($A104=\"\",\"\",VLOOKUP($A104,Handbook!$A$26:$AK$46,34,FALSE))","v":"F"},null,null,null,null,null,null,null,null,103]
[15,null,{"$f":"IF(F104=\"\",\"\",IF(F104>10,F104/11,F104))","v":""},{"$f":"IF(O104=\"\",\"\",IF(O104>10,O104/11,O104))","v":""},{"$f":"'Womens Discus'!$E$26","v":1},{"$f":"IF('Womens Discus'!$I$26=0,\"\",'Womens Discus'!$F$26)","v":""},{"$f":"IF(OR($F104=\"\",$F104=0),\"\",IF($F104>90,VLOOKUP(F104,eventcodes,2,FALSE),HLOOKUP(F104,womens_declare,B106,FALSE)))","v":""},{"$f":"IF(OR($F104=\"\",$F104=0),\"\",IF($F104>90,\"\",VLOOKUP(C104,matchday,2,FALSE)))","v":""},{"$f":"IF('Womens Discus'!$I$26=0,\"\",'Womens Discus'!$I$26)","v":""},{"$f":"IF(I104=\"\",\"\",IF(AA103=\"T\",V104,V105))","v":""},null,{"$f":"IF(AA103=\"T\",AB104,AC104)","v":""},null,{"$f":"'Womens Discus'!$K$26","v":1},{"$f":"IF('Womens Discus'!$I$26=0,\"\",'Womens Discus'!$L$26)","v":""},{"$f":"IF(OR($O104=\"\",$O104=0),\"\",HLOOKUP(O104,womens_declare,B106,FALSE))","v":""},{"$f":"IF(OR($O104=\"\",$O104=0),\"\",VLOOKUP(D104,matchday,2,FALSE))","v":""},{"$f":"IF('Womens Discus'!$I$26=0,\"\",'Womens Discus'!$U$26)","v":""},null,{"$f":"IF(AA103=\"T\",AD104,AE104)","v":""},null,{"$f":"IF(AA103=\"F\",\"\",IF(I104<V103,\"LR\",IF(I104=V103,\"=LR\",IF(I104<W103,\"DR\",IF(I104=W103,\"=DR\",\"\")))))","v":""},null,null,null,null,null,{"$f":"IF(I104=\"\",\"\",IF(AA103=\"F\",\"\",IF(AA103=\"T\",IF(I104<=X103,\"þ\",IF(I104<=Y103,\"G2\",IF(I104<=Z103,\"G3\",\"\"))))))","v":""},{"$f":"IF(I104=\"\",\"\",IF(AA103=\"T\",\"\",IF(AA103=\"F\",IF(I104>=X103,\"þ\",IF(I104>=Y103,\"G2\",IF(I104>=Z103,\"G3\",\"\"))))))","v":""},{"$f":"IF(R104=\"\",\"\",IF(AA103=\"F\",\"\",IF(AA103=\"T\",IF(R104<=X103,\"þ\",IF(R104<=Y103,\"G2\",IF(R104<=Z103,\"G3\",\"\"))))))","v":""},{"$f":"IF(R104=\"\",\"\",IF(AA103=\"T\",\"\",IF(AA103=\"F\",IF(R104>=X103,\"þ\",IF(R104>=Y103,\"G2\",IF(R104>=Z103,\"G3\",\"\"))))))","v":""},{"$f":"C104","v":""},{"$f":"IF(F104=\"\",\"\",IF(LEFT(I104,1)=\"D\",0,VLOOKUP(E104,$AQ$4:$AR$40,2,FALSE)))","v":""},{"$f":"D104","v":""},{"$f":"IF(O104=\"\",\"\",IF(LEFT(R104,1)=\"D\",0,VLOOKUP(N104,$AQ$4:$AS$40,3,FALSE)))","v":""},104]
[null,{"$f":"VLOOKUP(A104,Handbook!$A$4:$AK$24,37,FALSE)","v":16},{"$f":"IF(F105=\"\",\"\",IF(F105>10,F105/11,F105))","v":""},{"$f":"IF(O105=\"\",\"\",IF(O105>10,O105/11,O105))","v":""},{"$f":"'Womens Discus'!$E$27","v":2},{"$f":"IF('Womens Discus'!$I$26=0,\"\",'Womens Discus'!$F$27)","v":""},{"$f":"IF(OR($F105=\"\",$F105=0),\"\",IF($F105>90,VLOOKUP(F105,eventcodes,2,FALSE),HLOOKUP(F105,womens_declare,B106,FALSE)))","v":""},"",{"$f":"IF('Womens Discus'!$I$26=0,\"\",'Womens Discus'!$I$27)","v":""},null,null,{"$f":"IF(AA103=\"T\",AB105,AC105)","v":""},null,{"$f":"'Womens Discus'!$K$27","v":2},{"$f":"IF('Womens Discus'!$I$26=0,\"\",'Womens Discus'!$L$27)","v":""},{"$f":"IF(OR($O105=\"\",$O105=0),\"\",HLOOKUP(O105,womens_declare,B106,FALSE))","v":""},"",{"$f":"IF('Womens Discus'!$I$26=0,\"\",'Womens Discus'!$U$27)","v":""},null,{"$f":"IF(AA103=\"T\",AD105,AE105)","v":""},null,{"$f":"IF(AA103=\"T\",\"\",IF(I104>V103,\"LR\",IF(I104=V103,\"=LR\",IF(I104>W103,\"DR\",IF(I104=W103,\"=DR\",\"\")))))","v":"LR"},null,null,null,null,null,{"$f":"IF(I105=\"\",\"\",IF(AA103=\"F\",\"\",IF(AA103=\"T\",IF(I105<=X103,\"þ\",IF(I105<=Y103,\"G2\",IF(I105<=Z103,\"G3\",\"\"))))))","v":""},{"$f":"IF(I105=\"\",\"\",IF(AA103=\"T\",\"\",IF(AA103=\"F\",IF(I105>=X103,\"þ\",IF(I105>=Y103,\"G2\",IF(I105>=Z103,\"G3\",\"\"))))))","v":""},{"$f":"IF(R105=\"\",\"\",IF(AA103=\"F\",\"\",IF(AA103=\"T\",IF(R105<=X103,\"þ\",IF(R105<=Y103,\"G2\",IF(R105<=Z103,\"G3\",\"\"))))))","v":""},{"$f":"IF(R105=\"\",\"\",IF(AA103=\"T\",\"\",IF(AA103=\"F\",IF(R105>=X103,\"þ\",IF(R105>=Y103,\"G2\",IF(R105>=Z103,\"G3\",\"\"))))))","v":""},"","","","",105]
[null,{"$f":"VLOOKUP(A104,Declarations!$A$3:$T$31,20,FALSE)","v":16},"","",{"$f":"'Womens Discus'!$E$28","v":3},{"$f":"IF('Womens Discus'!$I$26=0,\"\",'Womens Discus'!$F$28)","v":""},{"$f":"IF(OR($F106=\"\",$F106=0),\"\",IF($F106>90,VLOOKUP(F106,eventcodes,2,FALSE),HLOOKUP(F106,womens_declare,B106,FALSE)))","v":""},"",{"$f":"IF('Womens Discus'!$I$26=0,\"\",'Womens Discus'!$I$28)","v":""},null,null,{"$f":"IF(AA103=\"T\",AB106,AC106)","v":""},null,{"$f":"'Womens Discus'!$K$28","v":3},{"$f":"IF('Womens Discus'!$I$26=0,\"\",'Womens Discus'!$L$28)","v":""},{"$f":"IF(OR($O106=\"\",$O106=0),\"\",HLOOKUP(O106,womens_declare,B106,FALSE))","v":""},"",{"$f":"IF('Womens Discus'!$I$26=0,\"\",'Womens Discus'!$U$28)","v":""},null,{"$f":"IF(AA103=\"T\",AD106,AE106)","v":""},null,null,null,null,null,null,null,{"$f":"IF(I106=\"\",\"\",IF(AA103=\"F\",\"\",IF(AA103=\"T\",IF(I106<=X103,\"þ\",IF(I106<=Y103,\"G2\",IF(I106<=Z103,\"G3\",\"\"))))))","v":""},{"$f":"IF(I106=\"\",\"\",IF(AA103=\"T\",\"\",IF(AA103=\"F\",IF(I106>=X103,\"þ\",IF(I106>=Y103,\"G2\",IF(I106>=Z103,\"G3\",\"\"))))))","v":""},{"$f":"IF(R106=\"\",\"\",IF(AA103=\"F\",\"\",IF(AA103=\"T\",IF(R106<=X103,\"þ\",IF(R106<=Y103,\"G2\",IF(R106<=Z103,\"G3\",\"\"))))))","v":""},{"$f":"IF(R106=\"\",\"\",IF(AA103=\"T\",\"\",IF(AA103=\"F\",IF(R106>=X103,\"þ\",IF(R106>=Y103,\"G2\",IF(R106>=Z103,\"G3\",\"\"))))))","v":""},"","","","",106]
[null,null,"","",{"$f":"'Womens Discus'!$E$29","v":4},{"$f":"IF('Womens Discus'!$I$26=0,\"\",'Womens Discus'!$F$29)","v":""},{"$f":"IF(OR($F107=\"\",$F107=0),\"\",IF($F107>90,VLOOKUP(F107,eventcodes,2,FALSE),HLOOKUP(F107,womens_declare,B106,FALSE)))","v":""},"",{"$f":"IF('Womens Discus'!$I$26=0,\"\",'Womens Discus'!$I$29)","v":""},null,null,{"$f":"IF(AA103=\"T\",AB107,AC107)","v":""},null,{"$f":"'Womens Discus'!$K$29","v":4},{"$f":"IF('Womens Discus'!$I$26=0,\"\",'Womens Discus'!$L$29)","v":""},{"$f":"IF(OR($O107=\"\",$O107=0),\"\",HLOOKUP(O107,womens_declare,B106,FALSE))","v":""},"",{"$f":"IF('Womens Discus'!$I$26=0,\"\",'Womens Discus'!$U$29)","v":""},null,{"$f":"IF(AA103=\"T\",AD107,AE107)","v":""},null,null,null,null,null,null,null,{"$f":"IF(I107=\"\",\"\",IF(AA103=\"F\",\"\",IF(AA103=\"T\",IF(I107<=X103,\"þ\",IF(I107<=Y103,\"G2\",IF(I107<=Z103,\"G3\",\"\"))))))","v":""},{"$f":"IF(I107=\"\",\"\",IF(AA103=\"T\",\"\",IF(AA103=\"F\",IF(I107>=X103,\"þ\",IF(I107>=Y103,\"G2\",IF(I107>=Z103,\"G3\",\"\"))))))","v":""},{"$f":"IF(R107=\"\",\"\",IF(AA103=\"F\",\"\",IF(AA103=\"T\",IF(R107<=X103,\"þ\",IF(R107<=Y103,\"G2\",IF(R107<=Z103,\"G3\",\"\"))))))","v":""},{"$f":"IF(R107=\"\",\"\",IF(AA103=\"T\",\"\",IF(AA103=\"F\",IF(R107>=X103,\"þ\",IF(R107>=Y103,\"G2\",IF(R107>=Z103,\"G3\",\"\"))))))","v":""},"","","","",107]
[null,null,"","",{"$f":"'Womens Discus'!$E$30","v":5},{"$f":"IF('Womens Discus'!$I$26=0,\"\",'Womens Discus'!$F$30)","v":""},{"$f":"IF(OR($F108=\"\",$F108=0),\"\",IF($F108>90,VLOOKUP(F108,eventcodes,2,FALSE),HLOOKUP(F108,womens_declare,B106,FALSE)))","v":""},"",{"$f":"IF('Womens Discus'!$I$26=0,\"\",'Womens Discus'!$I$30)","v":""},null,null,{"$f":"IF(AA103=\"T\",AB108,AC108)","v":""},null,{"$f":"'Womens Discus'!$K$30","v":5},{"$f":"IF('Womens Discus'!$I$26=0,\"\",'Womens Discus'!$L$30)","v":""},{"$f":"IF(OR($O108=\"\",$O108=0),\"\",HLOOKUP(O108,womens_declare,B106,FALSE))","v":""},"",{"$f":"IF('Womens Discus'!$I$26=0,\"\",'Womens Discus'!$U$30)","v":""},null,{"$f":"IF(AA103=\"T\",AD108,AE108)","v":""},null,null,null,null,null,null,null,{"$f":"IF(I108=\"\",\"\",IF(AA103=\"F\",\"\",IF(AA103=\"T\",IF(I108<=X103,\"þ\",IF(I108<=Y103,\"G2\",IF(I108<=Z103,\"G3\",\"\"))))))","v":""},{"$f":"IF(I108=\"\",\"\",IF(AA103=\"T\",\"\",IF(AA103=\"F\",IF(I108>=X103,\"þ\",IF(I108>=Y103,\"G2\",IF(I108>=Z103,\"G3\",\"\"))))))","v":""},{"$f":"IF(R108=\"\",\"\",IF(AA103=\"F\",\"\",IF(AA103=\"T\",IF(R108<=X103,\"þ\",IF(R108<=Y103,\"G2\",IF(R108<=Z103,\"G3\",\"\"))))))","v":""},{"$f":"IF(R108=\"\",\"\",IF(AA103=\"T\",\"\",IF(AA103=\"F\",IF(R108>=X103,\"þ\",IF(R108>=Y103,\"G2\",IF(R108>=Z103,\"G3\",\"\"))))))","v":""},"","","","",108]
[null,null,"","",{"$f":"'Womens Discus'!$E$31","v":6},{"$f":"IF('Womens Discus'!$I$26=0,\"\",'Womens Discus'!$F$31)","v":""},{"$f":"IF(OR($F109=\"\",$F109=0),\"\",IF($F109>90,VLOOKUP(F109,eventcodes,2,FALSE),HLOOKUP(F109,womens_declare,B106,FALSE)))","v":""},"",{"$f":"IF('Womens Discus'!$I$26=0,\"\",'Womens Discus'!$I$31)","v":""},null,null,{"$f":"IF(AA103=\"T\",AB109,AC109)","v":""},null,{"$f":"'Womens Discus'!$K$31","v":6},{"$f":"IF('Womens Discus'!$I$26=0,\"\",'Womens Discus'!$L$31)","v":""},{"$f":"IF(OR($O109=\"\",$O109=0),\"\",HLOOKUP(O109,womens_declare,B106,FALSE))","v":""},"",{"$f":"IF('Womens Discus'!$I$26=0,\"\",'Womens Discus'!$U$31)","v":""},null,{"$f":"IF(AA103=\"T\",AD109,AE109)","v":""},null,null,null,null,null,null,null,{"$f":"IF(I109=\"\",\"\",IF(AA103=\"F\",\"\",IF(AA103=\"T\",IF(I109<=X103,\"þ\",IF(I109<=Y103,\"G2\",IF(I109<=Z103,\"G3\",\"\"))))))","v":""},{"$f":"IF(I109=\"\",\"\",IF(AA103=\"T\",\"\",IF(AA103=\"F\",IF(I109>=X103,\"þ\",IF(I109>=Y103,\"G2\",IF(I109>=Z103,\"G3\",\"\"))))))","v":""},{"$f":"IF(R109=\"\",\"\",IF(AA103=\"F\",\"\",IF(AA103=\"T\",IF(R109<=X103,\"þ\",IF(R109<=Y103,\"G2\",IF(R109<=Z103,\"G3\",\"\"))))))","v":""},{"$f":"IF(R109=\"\",\"\",IF(AA103=\"T\",\"\",IF(AA103=\"F\",IF(R109>=X103,\"þ\",IF(R109>=Y103,\"G2\",IF(R109>=Z103,\"G3\",\"\"))))))","v":""},"","","","",109]
[null,null,"","",{"$f":"'Womens Discus'!$E$32","v":7},{"$f":"IF('Womens Discus'!$I$26=0,\"\",'Womens Discus'!$F$32)","v":""},{"$f":"IF(OR($F110=\"\",$F110=0),\"\",IF($F110>90,VLOOKUP(F110,eventcodes,2,FALSE),HLOOKUP(F110,womens_declare,B106,FALSE)))","v":""},"",{"$f":"IF('Womens Discus'!$I$26=0,\"\",'Womens Discus'!$I$32)","v":""},null,null,{"$f":"IF(AA103=\"T\",AB110,AC110)","v":""},null,{"$f":"'Womens Discus'!$K$32","v":7},{"$f":"IF('Womens Discus'!$I$26=0,\"\",'Womens Discus'!$L$32)","v":""},{"$f":"IF(OR($O110=\"\",$O110=0),\"\",HLOOKUP(O110,womens_declare,B106,FALSE))","v":""},"",{"$f":"IF('Womens Discus'!$I$26=0,\"\",'Womens Discus'!$U$32)","v":""},null,{"$f":"IF(AA103=\"T\",AD110,AE110)","v":""},null,null,null,null,null,null,null,{"$f":"IF(I110=\"\",\"\",IF(AA103=\"F\",\"\",IF(AA103=\"T\",IF(I110<=X103,\"þ\",IF(I110<=Y103,\"G2\",IF(I110<=Z103,\"G3\",\"\"))))))","v":""},{"$f":"IF(I110=\"\",\"\",IF(AA103=\"T\",\"\",IF(AA103=\"F\",IF(I110>=X103,\"þ\",IF(I110>=Y103,\"G2\",IF(I110>=Z103,\"G3\",\"\"))))))","v":""},{"$f":"IF(R110=\"\",\"\",IF(AA103=\"F\",\"\",IF(AA103=\"T\",IF(R110<=X103,\"þ\",IF(R110<=Y103,\"G2\",IF(R110<=Z103,\"G3\",\"\"))))))","v":""},{"$f":"IF(R110=\"\",\"\",IF(AA103=\"T\",\"\",IF(AA103=\"F\",IF(R110>=X103,\"þ\",IF(R110>=Y103,\"G2\",IF(R110>=Z103,\"G3\",\"\"))))))","v":""},"","","","",110]
[null,null,"","",{"$f":"'Womens Discus'!$E$33","v":8},{"$f":"IF('Womens Discus'!$I$26=0,\"\",'Womens Discus'!$F$33)","v":""},{"$f":"IF(OR($F111=\"\",$F111=0),\"\",IF($F111>90,VLOOKUP(F111,eventcodes,2,FALSE),HLOOKUP(F111,womens_declare,B106,FALSE)))","v":""},"",{"$f":"IF('Womens Discus'!$I$26=0,\"\",'Womens Discus'!$I$33)","v":""},null,null,{"$f":"IF(AA103=\"T\",AB111,AC111)","v":""},null,{"$f":"'Womens Discus'!$K$33","v":8},{"$f":"IF('Womens Discus'!$I$26=0,\"\",'Womens Discus'!$L$33)","v":""},{"$f":"IF(OR($O111=\"\",$O111=0),\"\",HLOOKUP(O111,womens_declare,B106,FALSE))","v":""},"",{"$f":"IF('Womens Discus'!$I$26=0,\"\",'Womens Discus'!$U$33)","v":""},null,{"$f":"IF(AA103=\"T\",AD111,AE111)","v":""},null,null,null,null,null,null,null,{"$f":"IF(I111=\"\",\"\",IF(AA103=\"F\",\"\",IF(AA103=\"T\",IF(I111<=X103,\"þ\",IF(I111<=Y103,\"G2\",IF(I111<=Z103,\"G3\",\"\"))))))","v":""},{"$f":"IF(I111=\"\",\"\",IF(AA103=\"T\",\"\",IF(AA103=\"F\",IF(I111>=X103,\"þ\",IF(I111>=Y103,\"G2\",IF(I111>=Z103,\"G3\",\"\"))))))","v":""},{"$f":"IF(R111=\"\",\"\",IF(AA103=\"F\",\"\",IF(AA103=\"T\",IF(R111<=X103,\"þ\",IF(R111<=Y103,\"G2\",IF(R111<=Z103,\"G3\",\"\"))))))","v":""},{"$f":"IF(R111=\"\",\"\",IF(AA103=\"T\",\"\",IF(AA103=\"F\",IF(R111>=X103,\"þ\",IF(R111>=Y103,\"G2\",IF(R111>=Z103,\"G3\",\"\"))))))","v":""},"","","","",111]
[null,null,null,null,null,null,null,null,null,null,null,null,null,null,null,null,null,null,null,null,null,null,null,null,null,null,null,null,null,null,null,null,null,null,null,112]
[null,null,{"$f":"VLOOKUP(A114,Handbook!$A$4:$AK$24,36,FALSE)","v":"D"},null,{"$f":"CONCATENATE(VLOOKUP(A114,womens_handbook,3,FALSE),\" A\")","v":"Women's Javelin A"},null,null,{"$f":"IF(A114=\"\",\"\",IF(VLOOKUP(A114,Handbook!$A$4:$AI$24,35,FALSE)=\"Y\",\"Wind=\",\"\"))","v":""},null,null,null,null,null,null,{"$f":"CONCATENATE(VLOOKUP(A114,womens_handbook,3,FALSE),\" B\")","v":"Women's Javelin B"},null,{"$f":"H113","v":""},{"$f":"IF(I113=\"\",\"\",I113)","v":""},null,null,null,{"$f":"IF($A114=\"\",\"\",VLOOKUP($A114,Handbook!$A$26:$AK$46,21,FALSE))","v":57.99},{"$f":"IF($A114=\"\",\"\",VLOOKUP($A114,Handbook!$A$26:$AK$46,22,FALSE))","v":57.99},{"$f":"IF($A114=\"\",\"\",VLOOKUP($A114,Handbook!$A$26:$AK$46,23,FALSE))","v":30},{"$f":"IF($A114=\"\",\"\",VLOOKUP($A114,Handbook!$A$26:$AK$46,24,FALSE))","v":30},{"$f":"IF($A114=\"\",\"\",VLOOKUP($A114,Handbook!$A$26:$AK$46,25,FALSE))","v":30},{"$f":"IF($A114=\"\",\"\",VLOOKUP($A114,Handbook!$A$26:$AK$46,34,FALSE))","v":"F"},null,null,null,null,null,null,null,null,113]
[18,null,{"$f":"IF(F114=\"\",\"\",IF(F114>10,F114/11,F114))","v":""},{"$f":"IF(O114=\"\",\"\",IF(O114>10,O114/11,O114))","v":""},{"$f":"'Womens Javelin'!$E$26","v":1},{"$f":"IF('Womens Javelin'!$I$26=0,\"\",'Womens Javelin'!$F$26)","v":""},{"$f":"IF(OR($F114=\"\",$F114=0),\"\",IF($F114>90,VLOOKUP(F114,eventcodes,2,FALSE),HLOOKUP(F114,womens_declare,B116,FALSE)))","v":""},{"$f":"IF(OR($F114=\"\",$F114=0),\"\",IF($F114>90,\"\",VLOOKUP(C114,matchday,2,FALSE)))","v":""},{"$f":"IF('Womens Javelin'!$I$26=0,\"\",'Womens Javelin'!$I$26)","v":""},{"$f":"IF(I114=\"\",\"\",IF(AA113=\"T\",V114,V115))","v":""},null,{"$f":"IF(AA113=\"T\",AB114,AC114)","v":""},null,{"$f":"'Womens Javelin'!$K$26","v":1},{"$f":"IF('Womens Javelin'!$I$26=0,\"\",'Womens Javelin'!$L$26)","v":""},{"$f":"IF(OR($O114=\"\",$O114=0),\"\",HLOOKUP(O114,womens_declare,B116,FALSE))","v":""},{"$f":"IF(OR($O114=\"\",$O114=0),\"\",VLOOKUP(D114,matchday,2,FALSE))","v":""},{"$f":"IF('Womens Javelin'!$I$26=0,\"\",'Womens Javelin'!$U$26)","v":""},null,{"$f":"IF(AA113=\"T\",AD114,AE114)","v":""},null,{"$f":"IF(AA113=\"F\",\"\",IF(I114<V113,\"LR\",IF(I114=V113,\"=LR\",IF(I114<W113,\"DR\",IF(I114=W113,\"=DR\",\"\")))))","v":""},null,null,null,null,null,{"$f":"IF(I114=\"\",\"\",IF(AA113=\"F\",\"\",IF(AA113=\"T\",IF(I114<=X113,\"þ\",IF(I114<=Y113,\"G2\",IF(I114<=Z113,\"G3\",\"\"))))))","v":""},{"$f":"IF(I114=\"\",\"\",IF(AA113=\"T\",\"\",IF(AA113=\"F\",IF(I114>=X113,\"þ\",IF(I114>=Y113,\"G2\",IF(I114>=Z113,\"G3\",\"\"))))))","v":""},{"$f":"IF(R114=\"\",\"\",IF(AA113=\"F\",\"\",IF(AA113=\"T\",IF(R114<=X113,\"þ\",IF(R114<=Y113,\"G2\",IF(R114<=Z113,\"G3\",\"\"))))))","v":""},{"$f":"IF(R114=\"\",\"\",IF(AA113=\"T\",\"\",IF(AA113=\"F\",IF(R114>=X113,\"þ\",IF(R114>=Y113,\"G2\",IF(R114>=Z113,\"G3\",\"\"))))))","v":""},{"$f":"C114","v":""},{"$f":"IF(F114=\"\",\"\",IF(LEFT(I114,1)=\"D\",0,VLOOKUP(E114,$AQ$4:$AR$40,2,FALSE)))","v":""},{"$f":"D114","v":""},{"$f":"IF(O114=\"\",\"\",IF(LEFT(R114,1)=\"D\",0,VLOOKUP(N114,$AQ$4:$AS$40,3,FALSE)))","v":""},114]
[null,{"$f":"VLOOKUP(A114,Handbook!$A$4:$AK$24,37,FALSE)","v":19},{"$f":"IF(F115=\"\",\"\",IF(F115>10,F115/11,F115))","v":""},{"$f":"IF(O115=\"\",\"\",IF(O115>10,O115/11,O115))","v":""},{"$f":"'Womens Javelin'!$E$27","v":2},{"$f":"IF('Womens Javelin'!$I$26=0,\"\",'Womens Javelin'!$F$27)","v":""},{"$f":"IF(OR($F115=\"\",$F115=0),\"\",IF($F115>90,VLOOKUP(F115,eventcodes,2,FALSE),HLOOKUP(F115,womens_declare,B116,FALSE)))","v":""},"",{"$f":"IF('Womens Javelin'!$I$26=0,\"\",'Womens Javelin'!$I$27)","v":""},null,null,{"$f":"IF(AA113=\"T\",AB115,AC115)","v":""},null,{"$f":"'Womens Javelin'!$K$27","v":2},{"$f":"IF('Womens Javelin'!$I$26=0,\"\",'Womens Javelin'!$L$27)","v":""},{"$f":"IF(OR($O115=\"\",$O115=0),\"\",HLOOKUP(O115,womens_declare,B116,FALSE))","v":""},"",{"$f":"IF('Womens Javelin'!$I$26=0,\"\",'Womens Javelin'!$U$27)","v":""},null,{"$f":"IF(AA113=\"T\",AD115,AE115)","v":""},null,{"$f":"IF(AA113=\"T\",\"\",IF(I114>V113,\"LR\",IF(I114=V113,\"=LR\",IF(I114>W113,\"DR\",IF(I114=W113,\"=DR\",\"\")))))","v":"LR"},null,null,null,null,null,{"$f":"IF(I115=\"\",\"\",IF(AA113=\"F\",\"\",IF(AA113=\"T\",IF(I115<=X113,\"þ\",IF(I115<=Y113,\"G2\",IF(I115<=Z113,\"G3\",\"\"))))))","v":""},{"$f":"IF(I115=\"\",\"\",IF(AA113=\"T\",\"\",IF(AA113=\"F\",IF(I115>=X113,\"þ\",IF(I115>=Y113,\"G2\",IF(I115>=Z113,\"G3\",\"\"))))))","v":""},{"$f":"IF(R115=\"\",\"\",IF(AA113=\"F\",\"\",IF(AA113=\"T\",IF(R115<=X113,\"þ\",IF(R115<=Y113,\"G2\",IF(R115<=Z113,\"G3\",\"\"))))))","v":""},{"$f":"IF(R115=\"\",\"\",IF(AA113=\"T\",\"\",IF(AA113=\"F\",IF(R115>=X113,\"þ\",IF(R115>=Y113,\"G2\",IF(R115>=Z113,\"G3\",\"\"))))))","v":""},"","","","",115]
[null,{"$f":"VLOOKUP(A114,Declarations!$A$3:$T$31,20,FALSE)","v":19},"","",{"$f":"'Womens Javelin'!$E$28","v":3},{"$f":"IF('Womens Javelin'!$I$26=0,\"\",'Womens Javelin'!$F$28)","v":""},{"$f":"IF(OR($F116=\"\",$F116=0),\"\",IF($F116>90,VLOOKUP(F116,eventcodes,2,FALSE),HLOOKUP(F116,womens_declare,B116,FALSE)))","v":""},"",{"$f":"IF('Womens Javelin'!$I$26=0,\"\",'Womens Javelin'!$I$28)","v":""},null,null,{"$f":"IF(AA113=\"T\",AB116,AC116)","v":""},null,{"$f":"'Womens Javelin'!$K$28","v":3},{"$f":"IF('Womens Javelin'!$I$26=0,\"\",'Womens Javelin'!$L$28)","v":""},{"$f":"IF(OR($O116=\"\",$O116=0),\"\",HLOOKUP(O116,womens_declare,B116,FALSE))","v":""},"",{"$f":"IF('Womens Javelin'!$I$26=0,\"\",'Womens Javelin'!$U$28)","v":""},null,{"$f":"IF(AA113=\"T\",AD116,AE116)","v":""},null,null,null,null,null,null,null,{"$f":"IF(I116=\"\",\"\",IF(AA113=\"F\",\"\",IF(AA113=\"T\",IF(I116<=X113,\"þ\",IF(I116<=Y113,\"G2\",IF(I116<=Z113,\"G3\",\"\"))))))","v":""},{"$f":"IF(I116=\"\",\"\",IF(AA113=\"T\",\"\",IF(AA113=\"F\",IF(I116>=X113,\"þ\",IF(I116>=Y113,\"G2\",IF(I116>=Z113,\"G3\",\"\"))))))","v":""},{"$f":"IF(R116=\"\",\"\",IF(AA113=\"F\",\"\",IF(AA113=\"T\",IF(R116<=X113,\"þ\",IF(R116<=Y113,\"G2\",IF(R116<=Z113,\"G3\",\"\"))))))","v":""},{"$f":"IF(R116=\"\",\"\",IF(AA113=\"T\",\"\",IF(AA113=\"F\",IF(R116>=X113,\"þ\",IF(R116>=Y113,\"G2\",IF(R116>=Z113,\"G3\",\"\"))))))","v":""},"","","","",116]
[null,null,"","",{"$f":"'Womens Javelin'!$E$29","v":4},{"$f":"IF('Womens Javelin'!$I$26=0,\"\",'Womens Javelin'!$F$29)","v":""},{"$f":"IF(OR($F117=\"\",$F117=0),\"\",IF($F117>90,VLOOKUP(F117,eventcodes,2,FALSE),HLOOKUP(F117,womens_declare,B116,FALSE)))","v":""},"",{"$f":"IF('Womens Javelin'!$I$26=0,\"\",'Womens Javelin'!$I$29)","v":""},null,null,{"$f":"IF(AA113=\"T\",AB117,AC117)","v":""},null,{"$f":"'Womens Javelin'!$K$29","v":4},{"$f":"IF('Womens Javelin'!$I$26=0,\"\",'Womens Javelin'!$L$29)","v":""},{"$f":"IF(OR($O117=\"\",$O117=0),\"\",HLOOKUP(O117,womens_declare,B116,FALSE))","v":""},"",{"$f":"IF('Womens Javelin'!$I$26=0,\"\",'Womens Javelin'!$U$29)","v":""},null,{"$f":"IF(AA113=\"T\",AD117,AE117)","v":""},null,null,null,null,null,null,null,{"$f":"IF(I117=\"\",\"\",IF(AA113=\"F\",\"\",IF(AA113=\"T\",IF(I117<=X113,\"þ\",IF(I117<=Y113,\"G2\",IF(I117<=Z113,\"G3\",\"\"))))))","v":""},{"$f":"IF(I117=\"\",\"\",IF(AA113=\"T\",\"\",IF(AA113=\"F\",IF(I117>=X113,\"þ\",IF(I117>=Y113,\"G2\",IF(I117>=Z113,\"G3\",\"\"))))))","v":""},{"$f":"IF(R117=\"\",\"\",IF(AA113=\"F\",\"\",IF(AA113=\"T\",IF(R117<=X113,\"þ\",IF(R117<=Y113,\"G2\",IF(R117<=Z113,\"G3\",\"\"))))))","v":""},{"$f":"IF(R117=\"\",\"\",IF(AA113=\"T\",\"\",IF(AA113=\"F\",IF(R117>=X113,\"þ\",IF(R117>=Y113,\"G2\",IF(R117>=Z113,\"G3\",\"\"))))))","v":""},"","","","",117]
[null,null,"","",{"$f":"'Womens Javelin'!$E$30","v":5},{"$f":"IF('Womens Javelin'!$I$26=0,\"\",'Womens Javelin'!$F$30)","v":""},{"$f":"IF(OR($F118=\"\",$F118=0),\"\",IF($F118>90,VLOOKUP(F118,eventcodes,2,FALSE),HLOOKUP(F118,womens_declare,B116,FALSE)))","v":""},"",{"$f":"IF('Womens Javelin'!$I$26=0,\"\",'Womens Javelin'!$I$30)","v":""},null,null,{"$f":"IF(AA113=\"T\",AB118,AC118)","v":""},null,{"$f":"'Womens Javelin'!$K$30","v":5},{"$f":"IF('Womens Javelin'!$I$26=0,\"\",'Womens Javelin'!$L$30)","v":""},{"$f":"IF(OR($O118=\"\",$O118=0),\"\",HLOOKUP(O118,womens_declare,B116,FALSE))","v":""},"",{"$f":"IF('Womens Javelin'!$I$26=0,\"\",'Womens Javelin'!$U$30)","v":""},null,{"$f":"IF(AA113=\"T\",AD118,AE118)","v":""},null,null,null,null,null,null,null,{"$f":"IF(I118=\"\",\"\",IF(AA113=\"F\",\"\",IF(AA113=\"T\",IF(I118<=X113,\"þ\",IF(I118<=Y113,\"G2\",IF(I118<=Z113,\"G3\",\"\"))))))","v":""},{"$f":"IF(I118=\"\",\"\",IF(AA113=\"T\",\"\",IF(AA113=\"F\",IF(I118>=X113,\"þ\",IF(I118>=Y113,\"G2\",IF(I118>=Z113,\"G3\",\"\"))))))","v":""},{"$f":"IF(R118=\"\",\"\",IF(AA113=\"F\",\"\",IF(AA113=\"T\",IF(R118<=X113,\"þ\",IF(R118<=Y113,\"G2\",IF(R118<=Z113,\"G3\",\"\"))))))","v":""},{"$f":"IF(R118=\"\",\"\",IF(AA113=\"T\",\"\",IF(AA113=\"F\",IF(R118>=X113,\"þ\",IF(R118>=Y113,\"G2\",IF(R118>=Z113,\"G3\",\"\"))))))","v":""},"","","","",118]
[null,null,"","",{"$f":"'Womens Javelin'!$E$31","v":6},{"$f":"IF('Womens Javelin'!$I$26=0,\"\",'Womens Javelin'!$F$31)","v":""},{"$f":"IF(OR($F119=\"\",$F119=0),\"\",IF($F119>90,VLOOKUP(F119,eventcodes,2,FALSE),HLOOKUP(F119,womens_declare,B116,FALSE)))","v":""},"",{"$f":"IF('Womens Javelin'!$I$26=0,\"\",'Womens Javelin'!$I$31)","v":""},null,null,{"$f":"IF(AA113=\"T\",AB119,AC119)","v":""},null,{"$f":"'Womens Javelin'!$K$31","v":6},{"$f":"IF('Womens Javelin'!$I$26=0,\"\",'Womens Javelin'!$L$31)","v":""},{"$f":"IF(OR($O119=\"\",$O119=0),\"\",HLOOKUP(O119,womens_declare,B116,FALSE))","v":""},"",{"$f":"IF('Womens Javelin'!$I$26=0,\"\",'Womens Javelin'!$U$31)","v":""},null,{"$f":"IF(AA113=\"T\",AD119,AE119)","v":""},null,null,null,null,null,null,null,{"$f":"IF(I119=\"\",\"\",IF(AA113=\"F\",\"\",IF(AA113=\"T\",IF(I119<=X113,\"þ\",IF(I119<=Y113,\"G2\",IF(I119<=Z113,\"G3\",\"\"))))))","v":""},{"$f":"IF(I119=\"\",\"\",IF(AA113=\"T\",\"\",IF(AA113=\"F\",IF(I119>=X113,\"þ\",IF(I119>=Y113,\"G2\",IF(I119>=Z113,\"G3\",\"\"))))))","v":""},{"$f":"IF(R119=\"\",\"\",IF(AA113=\"F\",\"\",IF(AA113=\"T\",IF(R119<=X113,\"þ\",IF(R119<=Y113,\"G2\",IF(R119<=Z113,\"G3\",\"\"))))))","v":""},{"$f":"IF(R119=\"\",\"\",IF(AA113=\"T\",\"\",IF(AA113=\"F\",IF(R119>=X113,\"þ\",IF(R119>=Y113,\"G2\",IF(R119>=Z113,\"G3\",\"\"))))))","v":""},"","","","",119]
[null,null,"","",{"$f":"'Womens Javelin'!$E$32","v":7},{"$f":"IF('Womens Javelin'!$I$26=0,\"\",'Womens Javelin'!$F$32)","v":""},{"$f":"IF(OR($F120=\"\",$F120=0),\"\",IF($F120>90,VLOOKUP(F120,eventcodes,2,FALSE),HLOOKUP(F120,womens_declare,B116,FALSE)))","v":""},"",{"$f":"IF('Womens Javelin'!$I$26=0,\"\",'Womens Javelin'!$I$32)","v":""},null,null,{"$f":"IF(AA113=\"T\",AB120,AC120)","v":""},null,{"$f":"'Womens Javelin'!$K$32","v":7},{"$f":"IF('Womens Javelin'!$I$26=0,\"\",'Womens Javelin'!$L$32)","v":""},{"$f":"IF(OR($O120=\"\",$O120=0),\"\",HLOOKUP(O120,womens_declare,B116,FALSE))","v":""},"",{"$f":"IF('Womens Javelin'!$I$26=0,\"\",'Womens Javelin'!$U$32)","v":""},null,{"$f":"IF(AA113=\"T\",AD120,AE120)","v":""},null,null,null,null,null,null,null,{"$f":"IF(I120=\"\",\"\",IF(AA113=\"F\",\"\",IF(AA113=\"T\",IF(I120<=X113,\"þ\",IF(I120<=Y113,\"G2\",IF(I120<=Z113,\"G3\",\"\"))))))","v":""},{"$f":"IF(I120=\"\",\"\",IF(AA113=\"T\",\"\",IF(AA113=\"F\",IF(I120>=X113,\"þ\",IF(I120>=Y113,\"G2\",IF(I120>=Z113,\"G3\",\"\"))))))","v":""},{"$f":"IF(R120=\"\",\"\",IF(AA113=\"F\",\"\",IF(AA113=\"T\",IF(R120<=X113,\"þ\",IF(R120<=Y113,\"G2\",IF(R120<=Z113,\"G3\",\"\"))))))","v":""},{"$f":"IF(R120=\"\",\"\",IF(AA113=\"T\",\"\",IF(AA113=\"F\",IF(R120>=X113,\"þ\",IF(R120>=Y113,\"G2\",IF(R120>=Z113,\"G3\",\"\"))))))","v":""},"","","","",120]
[null,null,"","",{"$f":"'Womens Javelin'!$E$33","v":8},{"$f":"IF('Womens Javelin'!$I$26=0,\"\",'Womens Javelin'!$F$33)","v":""},{"$f":"IF(OR($F121=\"\",$F121=0),\"\",IF($F121>90,VLOOKUP(F121,eventcodes,2,FALSE),HLOOKUP(F121,womens_declare,B116,FALSE)))","v":""},"",{"$f":"IF('Womens Javelin'!$I$26=0,\"\",'Womens Javelin'!$I$33)","v":""},null,null,{"$f":"IF(AA113=\"T\",AB121,AC121)","v":""},null,{"$f":"'Womens Javelin'!$K$33","v":8},{"$f":"IF('Womens Javelin'!$I$26=0,\"\",'Womens Javelin'!$L$33)","v":""},{"$f":"IF(OR($O121=\"\",$O121=0),\"\",HLOOKUP(O121,womens_declare,B116,FALSE))","v":""},"",{"$f":"IF('Womens Javelin'!$I$26=0,\"\",'Womens Javelin'!$U$33)","v":""},null,{"$f":"IF(AA113=\"T\",AD121,AE121)","v":""},null,null,null,null,null,null,null,{"$f":"IF(I121=\"\",\"\",IF(AA113=\"F\",\"\",IF(AA113=\"T\",IF(I121<=X113,\"þ\",IF(I121<=Y113,\"G2\",IF(I121<=Z113,\"G3\",\"\"))))))","v":""},{"$f":"IF(I121=\"\",\"\",IF(AA113=\"T\",\"\",IF(AA113=\"F\",IF(I121>=X113,\"þ\",IF(I121>=Y113,\"G2\",IF(I121>=Z113,\"G3\",\"\"))))))","v":""},{"$f":"IF(R121=\"\",\"\",IF(AA113=\"F\",\"\",IF(AA113=\"T\",IF(R121<=X113,\"þ\",IF(R121<=Y113,\"G2\",IF(R121<=Z113,\"G3\",\"\"))))))","v":""},{"$f":"IF(R121=\"\",\"\",IF(AA113=\"T\",\"\",IF(AA113=\"F\",IF(R121>=X113,\"þ\",IF(R121>=Y113,\"G2\",IF(R121>=Z113,\"G3\",\"\"))))))","v":""},"","","","",121]
[null,null,null,null,null,null,null,null,null,null,null,null,null,null,null,null,null,null,null,null,null,null,null,null,null,null,null,null,null,null,null,null,null,null,null,122]
[null,null,{"$f":"VLOOKUP(A124,Handbook!$A$4:$AK$24,36,FALSE)","v":"D"},null,{"$f":"CONCATENATE(VLOOKUP(A124,womens_handbook,3,FALSE),\" A\")","v":"Women's Shot Putt A"},null,null,{"$f":"IF(A124=\"\",\"\",IF(VLOOKUP(A124,Handbook!$A$4:$AI$24,35,FALSE)=\"Y\",\"Wind=\",\"\"))","v":""},null,null,null,null,null,null,{"$f":"CONCATENATE(VLOOKUP(A124,womens_handbook,3,FALSE),\" B\")","v":"Women's Shot Putt B"},null,{"$f":"H123","v":""},{"$f":"IF(I123=\"\",\"\",I123)","v":""},null,null,null,{"$f":"IF($A124=\"\",\"\",VLOOKUP($A124,Handbook!$A$26:$AK$46,21,FALSE))","v":18.88},{"$f":"IF($A124=\"\",\"\",VLOOKUP($A124,Handbook!$A$26:$AK$46,22,FALSE))","v":18.14},{"$f":"IF($A124=\"\",\"\",VLOOKUP($A124,Handbook!$A$26:$AK$46,23,FALSE))","v":10},{"$f":"IF($A124=\"\",\"\",VLOOKUP($A124,Handbook!$A$26:$AK$46,24,FALSE))","v":10},{"$f":"IF($A124=\"\",\"\",VLOOKUP($A124,Handbook!$A$26:$AK$46,25,FALSE))","v":10},{"$f":"IF($A124=\"\",\"\",VLOOKUP($A124,Handbook!$A$26:$AK$46,34,FALSE))","v":"F"},null,null,null,null,null,null,null,null,123]
[17,null,{"$f":"IF(F124=\"\",\"\",IF(F124>10,F124/11,F124))","v":""},{"$f":"IF(O124=\"\",\"\",IF(O124>10,O124/11,O124))","v":""},{"$f":"'Womens Shot'!$E$26","v":1},{"$f":"IF('Womens Shot'!$I$26=0,\"\",'Womens Shot'!$F$26)","v":""},{"$f":"IF(OR($F124=\"\",$F124=0),\"\",IF($F124>90,VLOOKUP(F124,eventcodes,2,FALSE),HLOOKUP(F124,womens_declare,B126,FALSE)))","v":""},{"$f":"IF(OR($F124=\"\",$F124=0),\"\",IF($F124>90,\"\",VLOOKUP(C124,matchday,2,FALSE)))","v":""},{"$f":"IF('Womens Shot'!$I$26=0,\"\",'Womens Shot'!$I$26)","v":""},{"$f":"IF(I124=\"\",\"\",IF(AA123=\"T\",V124,V125))","v":""},null,{"$f":"IF(AA123=\"T\",AB124,AC124)","v":""},null,{"$f":"'Womens Shot'!$K$26","v":1},{"$f":"IF('Womens Shot'!$I$26=0,\"\",'Womens Shot'!$L$26)","v":""},{"$f":"IF(OR($O124=\"\",$O124=0),\"\",HLOOKUP(O124,womens_declare,B126,FALSE))","v":""},{"$f":"IF(OR($O124=\"\",$O124=0),\"\",VLOOKUP(D124,matchday,2,FALSE))","v":""},{"$f":"IF('Womens Shot'!$I$26=0,\"\",'Womens Shot'!$U$26)","v":""},null,{"$f":"IF(AA123=\"T\",AD124,AE124)","v":""},null,{"$f":"IF(AA123=\"F\",\"\",IF(I124<V123,\"LR\",IF(I124=V123,\"=LR\",IF(I124<W123,\"DR\",IF(I124=W123,\"=DR\",\"\")))))","v":""},null,null,null,null,null,{"$f":"IF(I124=\"\",\"\",IF(AA123=\"F\",\"\",IF(AA123=\"T\",IF(I124<=X123,\"þ\",IF(I124<=Y123,\"G2\",IF(I124<=Z123,\"G3\",\"\"))))))","v":""},{"$f":"IF(I124=\"\",\"\",IF(AA123=\"T\",\"\",IF(AA123=\"F\",IF(I124>=X123,\"þ\",IF(I124>=Y123,\"G2\",IF(I124>=Z123,\"G3\",\"\"))))))","v":""},{"$f":"IF(R124=\"\",\"\",IF(AA123=\"F\",\"\",IF(AA123=\"T\",IF(R124<=X123,\"þ\",IF(R124<=Y123,\"G2\",IF(R124<=Z123,\"G3\",\"\"))))))","v":""},{"$f":"IF(R124=\"\",\"\",IF(AA123=\"T\",\"\",IF(AA123=\"F\",IF(R124>=X123,\"þ\",IF(R124>=Y123,\"G2\",IF(R124>=Z123,\"G3\",\"\"))))))","v":""},{"$f":"C124","v":""},{"$f":"IF(F124=\"\",\"\",IF(LEFT(I124,1)=\"D\",0,VLOOKUP(E124,$AQ$4:$AR$40,2,FALSE)))","v":""},{"$f":"D124","v":""},{"$f":"IF(O124=\"\",\"\",IF(LEFT(R124,1)=\"D\",0,VLOOKUP(N124,$AQ$4:$AS$40,3,FALSE)))","v":""},124]
[null,{"$f":"VLOOKUP(A124,Handbook!$A$4:$AK$24,37,FALSE)","v":18},{"$f":"IF(F125=\"\",\"\",IF(F125>10,F125/11,F125))","v":""},{"$f":"IF(O125=\"\",\"\",IF(O125>10,O125/11,O125))","v":""},{"$f":"'Womens Shot'!$E$27","v":2},{"$f":"IF('Womens Shot'!$I$26=0,\"\",'Womens Shot'!$F$27)","v":""},{"$f":"IF(OR($F125=\"\",$F125=0),\"\",IF($F125>90,VLOOKUP(F125,eventcodes,2,FALSE),HLOOKUP(F125,womens_declare,B126,FALSE)))","v":""},"",{"$f":"IF('Womens Shot'!$I$26=0,\"\",'Womens Shot'!$I$27)","v":""},null,null,{"$f":"IF(AA123=\"T\",AB125,AC125)","v":""},null,{"$f":"'Womens Shot'!$K$27","v":2},{"$f":"IF('Womens Shot'!$I$26=0,\"\",'Womens Shot'!$L$27)","v":""},{"$f":"IF(OR($O125=\"\",$O125=0),\"\",HLOOKUP(O125,womens_declare,B126,FALSE))","v":""},"",{"$f":"IF('Womens Shot'!$I$26=0,\"\",'Womens Shot'!$U$27)","v":""},null,{"$f":"IF(AA123=\"T\",AD125,AE125)","v":""},null,{"$f":"IF(AA123=\"T\",\"\",IF(I124>V123,\"LR\",IF(I124=V123,\"=LR\",IF(I124>W123,\"DR\",IF(I124=W123,\"=DR\",\"\")))))","v":"LR"},null,null,null,null,null,{"$f":"IF(I125=\"\",\"\",IF(AA123=\"F\",\"\",IF(AA123=\"T\",IF(I125<=X123,\"þ\",IF(I125<=Y123,\"G2\",IF(I125<=Z123,\"G3\",\"\"))))))","v":""},{"$f":"IF(I125=\"\",\"\",IF(AA123=\"T\",\"\",IF(AA123=\"F\",IF(I125>=X123,\"þ\",IF(I125>=Y123,\"G2\",IF(I125>=Z123,\"G3\",\"\"))))))","v":""},{"$f":"IF(R125=\"\",\"\",IF(AA123=\"F\",\"\",IF(AA123=\"T\",IF(R125<=X123,\"þ\",IF(R125<=Y123,\"G2\",IF(R125<=Z123,\"G3\",\"\"))))))","v":""},{"$f":"IF(R125=\"\",\"\",IF(AA123=\"T\",\"\",IF(AA123=\"F\",IF(R125>=X123,\"þ\",IF(R125>=Y123,\"G2\",IF(R125>=Z123,\"G3\",\"\"))))))","v":""},"","","","",125]
[null,{"$f":"VLOOKUP(A124,Declarations!$A$3:$T$31,20,FALSE)","v":18},"","",{"$f":"'Womens Shot'!$E$28","v":3},{"$f":"IF('Womens Shot'!$I$26=0,\"\",'Womens Shot'!$F$28)","v":""},{"$f":"IF(OR($F126=\"\",$F126=0),\"\",IF($F126>90,VLOOKUP(F126,eventcodes,2,FALSE),HLOOKUP(F126,womens_declare,B126,FALSE)))","v":""},"",{"$f":"IF('Womens Shot'!$I$26=0,\"\",'Womens Shot'!$I$28)","v":""},null,null,{"$f":"IF(AA123=\"T\",AB126,AC126)","v":""},null,{"$f":"'Womens Shot'!$K$28","v":3},{"$f":"IF('Womens Shot'!$I$26=0,\"\",'Womens Shot'!$L$28)","v":""},{"$f":"IF(OR($O126=\"\",$O126=0),\"\",HLOOKUP(O126,womens_declare,B126,FALSE))","v":""},"",{"$f":"IF('Womens Shot'!$I$26=0,\"\",'Womens Shot'!$U$28)","v":""},null,{"$f":"IF(AA123=\"T\",AD126,AE126)","v":""},null,null,null,null,null,null,null,{"$f":"IF(I126=\"\",\"\",IF(AA123=\"F\",\"\",IF(AA123=\"T\",IF(I126<=X123,\"þ\",IF(I126<=Y123,\"G2\",IF(I126<=Z123,\"G3\",\"\"))))))","v":""},{"$f":"IF(I126=\"\",\"\",IF(AA123=\"T\",\"\",IF(AA123=\"F\",IF(I126>=X123,\"þ\",IF(I126>=Y123,\"G2\",IF(I126>=Z123,\"G3\",\"\"))))))","v":""},{"$f":"IF(R126=\"\",\"\",IF(AA123=\"F\",\"\",IF(AA123=\"T\",IF(R126<=X123,\"þ\",IF(R126<=Y123,\"G2\",IF(R126<=Z123,\"G3\",\"\"))))))","v":""},{"$f":"IF(R126=\"\",\"\",IF(AA123=\"T\",\"\",IF(AA123=\"F\",IF(R126>=X123,\"þ\",IF(R126>=Y123,\"G2\",IF(R126>=Z123,\"G3\",\"\"))))))","v":""},"","","","",126]
[null,null,"","",{"$f":"'Womens Shot'!$E$29","v":4},{"$f":"IF('Womens Shot'!$I$26=0,\"\",'Womens Shot'!$F$29)","v":""},{"$f":"IF(OR($F127=\"\",$F127=0),\"\",IF($F127>90,VLOOKUP(F127,eventcodes,2,FALSE),HLOOKUP(F127,womens_declare,B126,FALSE)))","v":""},"",{"$f":"IF('Womens Shot'!$I$26=0,\"\",'Womens Shot'!$I$29)","v":""},null,null,{"$f":"IF(AA123=\"T\",AB127,AC127)","v":""},null,{"$f":"'Womens Shot'!$K$29","v":4},{"$f":"IF('Womens Shot'!$I$26=0,\"\",'Womens Shot'!$L$29)","v":""},{"$f":"IF(OR($O127=\"\",$O127=0),\"\",HLOOKUP(O127,womens_declare,B126,FALSE))","v":""},"",{"$f":"IF('Womens Shot'!$I$26=0,\"\",'Womens Shot'!$U$29)","v":""},null,{"$f":"IF(AA123=\"T\",AD127,AE127)","v":""},null,null,null,null,null,null,null,{"$f":"IF(I127=\"\",\"\",IF(AA123=\"F\",\"\",IF(AA123=\"T\",IF(I127<=X123,\"þ\",IF(I127<=Y123,\"G2\",IF(I127<=Z123,\"G3\",\"\"))))))","v":""},{"$f":"IF(I127=\"\",\"\",IF(AA123=\"T\",\"\",IF(AA123=\"F\",IF(I127>=X123,\"þ\",IF(I127>=Y123,\"G2\",IF(I127>=Z123,\"G3\",\"\"))))))","v":""},{"$f":"IF(R127=\"\",\"\",IF(AA123=\"F\",\"\",IF(AA123=\"T\",IF(R127<=X123,\"þ\",IF(R127<=Y123,\"G2\",IF(R127<=Z123,\"G3\",\"\"))))))","v":""},{"$f":"IF(R127=\"\",\"\",IF(AA123=\"T\",\"\",IF(AA123=\"F\",IF(R127>=X123,\"þ\",IF(R127>=Y123,\"G2\",IF(R127>=Z123,\"G3\",\"\"))))))","v":""},"","","","",127]
[null,null,"","",{"$f":"'Womens Shot'!$E$30","v":5},{"$f":"IF('Womens Shot'!$I$26=0,\"\",'Womens Shot'!$F$30)","v":""},{"$f":"IF(OR($F128=\"\",$F128=0),\"\",IF($F128>90,VLOOKUP(F128,eventcodes,2,FALSE),HLOOKUP(F128,womens_declare,B126,FALSE)))","v":""},"",{"$f":"IF('Womens Shot'!$I$26=0,\"\",'Womens Shot'!$I$30)","v":""},null,null,{"$f":"IF(AA123=\"T\",AB128,AC128)","v":""},null,{"$f":"'Womens Shot'!$K$30","v":5},{"$f":"IF('Womens Shot'!$I$26=0,\"\",'Womens Shot'!$L$30)","v":""},{"$f":"IF(OR($O128=\"\",$O128=0),\"\",HLOOKUP(O128,womens_declare,B126,FALSE))","v":""},"",{"$f":"IF('Womens Shot'!$I$26=0,\"\",'Womens Shot'!$U$30)","v":""},null,{"$f":"IF(AA123=\"T\",AD128,AE128)","v":""},null,null,null,null,null,null,null,{"$f":"IF(I128=\"\",\"\",IF(AA123=\"F\",\"\",IF(AA123=\"T\",IF(I128<=X123,\"þ\",IF(I128<=Y123,\"G2\",IF(I128<=Z123,\"G3\",\"\"))))))","v":""},{"$f":"IF(I128=\"\",\"\",IF(AA123=\"T\",\"\",IF(AA123=\"F\",IF(I128>=X123,\"þ\",IF(I128>=Y123,\"G2\",IF(I128>=Z123,\"G3\",\"\"))))))","v":""},{"$f":"IF(R128=\"\",\"\",IF(AA123=\"F\",\"\",IF(AA123=\"T\",IF(R128<=X123,\"þ\",IF(R128<=Y123,\"G2\",IF(R128<=Z123,\"G3\",\"\"))))))","v":""},{"$f":"IF(R128=\"\",\"\",IF(AA123=\"T\",\"\",IF(AA123=\"F\",IF(R128>=X123,\"þ\",IF(R128>=Y123,\"G2\",IF(R128>=Z123,\"G3\",\"\"))))))","v":""},"","","","",128]
[null,null,"","",{"$f":"'Womens Shot'!$E$31","v":6},{"$f":"IF('Womens Shot'!$I$26=0,\"\",'Womens Shot'!$F$31)","v":""},{"$f":"IF(OR($F129=\"\",$F129=0),\"\",IF($F129>90,VLOOKUP(F129,eventcodes,2,FALSE),HLOOKUP(F129,womens_declare,B126,FALSE)))","v":""},"",{"$f":"IF('Womens Shot'!$I$26=0,\"\",'Womens Shot'!$I$31)","v":""},null,null,{"$f":"IF(AA123=\"T\",AB129,AC129)","v":""},null,{"$f":"'Womens Shot'!$K$31","v":6},{"$f":"IF('Womens Shot'!$I$26=0,\"\",'Womens Shot'!$L$31)","v":""},{"$f":"IF(OR($O129=\"\",$O129=0),\"\",HLOOKUP(O129,womens_declare,B126,FALSE))","v":""},"",{"$f":"IF('Womens Shot'!$I$26=0,\"\",'Womens Shot'!$U$31)","v":""},null,{"$f":"IF(AA123=\"T\",AD129,AE129)","v":""},null,null,null,null,null,null,null,{"$f":"IF(I129=\"\",\"\",IF(AA123=\"F\",\"\",IF(AA123=\"T\",IF(I129<=X123,\"þ\",IF(I129<=Y123,\"G2\",IF(I129<=Z123,\"G3\",\"\"))))))","v":""},{"$f":"IF(I129=\"\",\"\",IF(AA123=\"T\",\"\",IF(AA123=\"F\",IF(I129>=X123,\"þ\",IF(I129>=Y123,\"G2\",IF(I129>=Z123,\"G3\",\"\"))))))","v":""},{"$f":"IF(R129=\"\",\"\",IF(AA123=\"F\",\"\",IF(AA123=\"T\",IF(R129<=X123,\"þ\",IF(R129<=Y123,\"G2\",IF(R129<=Z123,\"G3\",\"\"))))))","v":""},{"$f":"IF(R129=\"\",\"\",IF(AA123=\"T\",\"\",IF(AA123=\"F\",IF(R129>=X123,\"þ\",IF(R129>=Y123,\"G2\",IF(R129>=Z123,\"G3\",\"\"))))))","v":""},"","","","",129]
[null,null,"","",{"$f":"'Womens Shot'!$E$32","v":7},{"$f":"IF('Womens Shot'!$I$26=0,\"\",'Womens Shot'!$F$32)","v":""},{"$f":"IF(OR($F130=\"\",$F130=0),\"\",IF($F130>90,VLOOKUP(F130,eventcodes,2,FALSE),HLOOKUP(F130,womens_declare,B126,FALSE)))","v":""},"",{"$f":"IF('Womens Shot'!$I$26=0,\"\",'Womens Shot'!$I$32)","v":""},null,null,{"$f":"IF(AA123=\"T\",AB130,AC130)","v":""},null,{"$f":"'Womens Shot'!$K$32","v":7},{"$f":"IF('Womens Shot'!$I$26=0,\"\",'Womens Shot'!$L$32)","v":""},{"$f":"IF(OR($O130=\"\",$O130=0),\"\",HLOOKUP(O130,womens_declare,B126,FALSE))","v":""},"",{"$f":"IF('Womens Shot'!$I$26=0,\"\",'Womens Shot'!$U$32)","v":""},null,{"$f":"IF(AA123=\"T\",AD130,AE130)","v":""},null,null,null,null,null,null,null,{"$f":"IF(I130=\"\",\"\",IF(AA123=\"F\",\"\",IF(AA123=\"T\",IF(I130<=X123,\"þ\",IF(I130<=Y123,\"G2\",IF(I130<=Z123,\"G3\",\"\"))))))","v":""},{"$f":"IF(I130=\"\",\"\",IF(AA123=\"T\",\"\",IF(AA123=\"F\",IF(I130>=X123,\"þ\",IF(I130>=Y123,\"G2\",IF(I130>=Z123,\"G3\",\"\"))))))","v":""},{"$f":"IF(R130=\"\",\"\",IF(AA123=\"F\",\"\",IF(AA123=\"T\",IF(R130<=X123,\"þ\",IF(R130<=Y123,\"G2\",IF(R130<=Z123,\"G3\",\"\"))))))","v":""},{"$f":"IF(R130=\"\",\"\",IF(AA123=\"T\",\"\",IF(AA123=\"F\",IF(R130>=X123,\"þ\",IF(R130>=Y123,\"G2\",IF(R130>=Z123,\"G3\",\"\"))))))","v":""},"","","","",130]
[null,null,"","",{"$f":"'Womens Shot'!$E$33","v":8},{"$f":"IF('Womens Shot'!$I$26=0,\"\",'Womens Shot'!$F$33)","v":""},{"$f":"IF(OR($F131=\"\",$F131=0),\"\",IF($F131>90,VLOOKUP(F131,eventcodes,2,FALSE),HLOOKUP(F131,womens_declare,B126,FALSE)))","v":""},"",{"$f":"IF('Womens Shot'!$I$26=0,\"\",'Womens Shot'!$I$33)","v":""},null,null,{"$f":"IF(AA123=\"T\",AB131,AC131)","v":""},null,{"$f":"'Womens Shot'!$K$33","v":8},{"$f":"IF('Womens Shot'!$I$26=0,\"\",'Womens Shot'!$L$33)","v":""},{"$f":"IF(OR($O131=\"\",$O131=0),\"\",HLOOKUP(O131,womens_declare,B126,FALSE))","v":""},"",{"$f":"IF('Womens Shot'!$I$26=0,\"\",'Womens Shot'!$U$33)","v":""},null,{"$f":"IF(AA123=\"T\",AD131,AE131)","v":""},null,null,null,null,null,null,null,{"$f":"IF(I131=\"\",\"\",IF(AA123=\"F\",\"\",IF(AA123=\"T\",IF(I131<=X123,\"þ\",IF(I131<=Y123,\"G2\",IF(I131<=Z123,\"G3\",\"\"))))))","v":""},{"$f":"IF(I131=\"\",\"\",IF(AA123=\"T\",\"\",IF(AA123=\"F\",IF(I131>=X123,\"þ\",IF(I131>=Y123,\"G2\",IF(I131>=Z123,\"G3\",\"\"))))))","v":""},{"$f":"IF(R131=\"\",\"\",IF(AA123=\"F\",\"\",IF(AA123=\"T\",IF(R131<=X123,\"þ\",IF(R131<=Y123,\"G2\",IF(R131<=Z123,\"G3\",\"\"))))))","v":""},{"$f":"IF(R131=\"\",\"\",IF(AA123=\"T\",\"\",IF(AA123=\"F\",IF(R131>=X123,\"þ\",IF(R131>=Y123,\"G2\",IF(R131>=Z123,\"G3\",\"\"))))))","v":""},"","","","",131]
[null,null,null,null,null,null,null,null,null,null,null,null,null,null,null,null,null,null,null,null,null,null,null,null,null,null,null,null,null,null,null,null,null,null,null,132]
[null,null,{"$f":"VLOOKUP(A134,Handbook!$A$4:$AK$24,36,FALSE)","v":"D"},null,{"$f":"CONCATENATE(VLOOKUP(A134,womens_handbook,3,FALSE),\" A\")","v":"Women's Long Jump A"},null,null,{"$f":"IF(A134=\"\",\"\",IF(VLOOKUP(A134,Handbook!$A$4:$AI$24,35,FALSE)=\"Y\",\"Wind=\",\"\"))","v":""},null,null,null,null,null,null,{"$f":"CONCATENATE(VLOOKUP(A134,womens_handbook,3,FALSE),\" B\")","v":"Women's Long Jump B"},null,{"$f":"H133","v":""},{"$f":"IF(I133=\"\",\"\",I133)","v":""},null,null,null,{"$f":"IF($A134=\"\",\"\",VLOOKUP($A134,Handbook!$A$26:$AK$46,21,FALSE))","v":6.69},{"$f":"IF($A134=\"\",\"\",VLOOKUP($A134,Handbook!$A$26:$AK$46,22,FALSE))","v":6.56},{"$f":"IF($A134=\"\",\"\",VLOOKUP($A134,Handbook!$A$26:$AK$46,23,FALSE))","v":5},{"$f":"IF($A134=\"\",\"\",VLOOKUP($A134,Handbook!$A$26:$AK$46,24,FALSE))","v":5},{"$f":"IF($A134=\"\",\"\",VLOOKUP($A134,Handbook!$A$26:$AK$46,25,FALSE))","v":5},{"$f":"IF($A134=\"\",\"\",VLOOKUP($A134,Handbook!$A$26:$AK$46,34,FALSE))","v":"F"},null,null,null,null,null,null,null,null,133]
[13,null,{"$f":"IF(F134=\"\",\"\",IF(F134>10,F134/11,F134))","v":""},{"$f":"IF(O134=\"\",\"\",IF(O134>10,O134/11,O134))","v":""},{"$f":"'Womens LJ'!$E$26","v":1},{"$f":"IF('Womens LJ'!$I$26=0,\"\",'Womens LJ'!$F$26)","v":""},{"$f":"IF(OR($F134=\"\",$F134=0),\"\",IF($F134>90,VLOOKUP(F134,eventcodes,2,FALSE),HLOOKUP(F134,womens_declare,B136,FALSE)))","v":""},{"$f":"IF(OR($F134=\"\",$F134=0),\"\",IF($F134>90,\"\",VLOOKUP(C134,matchday,2,FALSE)))","v":""},{"$f":"IF('Womens LJ'!$I$26=0,\"\",'Womens LJ'!$I$26)","v":""},{"$f":"IF(I134=\"\",\"\",IF(AA133=\"T\",V134,V135))","v":""},null,{"$f":"IF(AA133=\"T\",AB134,AC134)","v":""},null,{"$f":"'Womens LJ'!$K$26","v":1},{"$f":"IF('Womens LJ'!$I$26=0,\"\",'Womens LJ'!$L$26)","v":""},{"$f":"IF(OR($O134=\"\",$O134=0),\"\",HLOOKUP(O134,womens_declare,B136,FALSE))","v":""},{"$f":"IF(OR($O134=\"\",$O134=0),\"\",VLOOKUP(D134,matchday,2,FALSE))","v":""},{"$f":"IF('Womens LJ'!$I$26=0,\"\",'Womens LJ'!$U$26)","v":""},null,{"$f":"IF(AA133=\"T\",AD134,AE134)","v":""},null,{"$f":"IF(AA133=\"F\",\"\",IF(I134<V133,\"LR\",IF(I134=V133,\"=LR\",IF(I134<W133,\"DR\",IF(I134=W133,\"=DR\",\"\")))))","v":""},null,null,null,null,null,{"$f":"IF(I134=\"\",\"\",IF(AA133=\"F\",\"\",IF(AA133=\"T\",IF(I134<=X133,\"þ\",IF(I134<=Y133,\"G2\",IF(I134<=Z133,\"G3\",\"\"))))))","v":""},{"$f":"IF(I134=\"\",\"\",IF(AA133=\"T\",\"\",IF(AA133=\"F\",IF(I134>=X133,\"þ\",IF(I134>=Y133,\"G2\",IF(I134>=Z133,\"G3\",\"\"))))))","v":""},{"$f":"IF(R134=\"\",\"\",IF(AA133=\"F\",\"\",IF(AA133=\"T\",IF(R134<=X133,\"þ\",IF(R134<=Y133,\"G2\",IF(R134<=Z133,\"G3\",\"\"))))))","v":""},{"$f":"IF(R134=\"\",\"\",IF(AA133=\"T\",\"\",IF(AA133=\"F\",IF(R134>=X133,\"þ\",IF(R134>=Y133,\"G2\",IF(R134>=Z133,\"G3\",\"\"))))))","v":""},{"$f":"C134","v":""},{"$f":"IF(F134=\"\",\"\",IF(LEFT(I134,1)=\"D\",0,VLOOKUP(E134,$AQ$4:$AR$40,2,FALSE)))","v":""},{"$f":"D134","v":""},{"$f":"IF(O134=\"\",\"\",IF(LEFT(R134,1)=\"D\",0,VLOOKUP(N134,$AQ$4:$AS$40,3,FALSE)))","v":""},134]
[null,{"$f":"VLOOKUP(A134,Handbook!$A$4:$AK$24,37,FALSE)","v":14},{"$f":"IF(F135=\"\",\"\",IF(F135>10,F135/11,F135))","v":""},{"$f":"IF(O135=\"\",\"\",IF(O135>10,O135/11,O135))","v":""},{"$f":"'Womens LJ'!$E$27","v":2},{"$f":"IF('Womens LJ'!$I$26=0,\"\",'Womens LJ'!$F$27)","v":""},{"$f":"IF(OR($F135=\"\",$F135=0),\"\",IF($F135>90,VLOOKUP(F135,eventcodes,2,FALSE),HLOOKUP(F135,womens_declare,B136,FALSE)))","v":""},"",{"$f":"IF('Womens LJ'!$I$26=0,\"\",'Womens LJ'!$I$27)","v":""},null,null,{"$f":"IF(AA133=\"T\",AB135,AC135)","v":""},null,{"$f":"'Womens LJ'!$K$27","v":2},{"$f":"IF('Womens LJ'!$I$26=0,\"\",'Womens LJ'!$L$27)","v":""},{"$f":"IF(OR($O135=\"\",$O135=0),\"\",HLOOKUP(O135,womens_declare,B136,FALSE))","v":""},"",{"$f":"IF('Womens LJ'!$I$26=0,\"\",'Womens LJ'!$U$27)","v":""},null,{"$f":"IF(AA133=\"T\",AD135,AE135)","v":""},null,{"$f":"IF(AA133=\"T\",\"\",IF(I134>V133,\"LR\",IF(I134=V133,\"=LR\",IF(I134>W133,\"DR\",IF(I134=W133,\"=DR\",\"\")))))","v":"LR"},null,null,null,null,null,{"$f":"IF(I135=\"\",\"\",IF(AA133=\"F\",\"\",IF(AA133=\"T\",IF(I135<=X133,\"þ\",IF(I135<=Y133,\"G2\",IF(I135<=Z133,\"G3\",\"\"))))))","v":""},{"$f":"IF(I135=\"\",\"\",IF(AA133=\"T\",\"\",IF(AA133=\"F\",IF(I135>=X133,\"þ\",IF(I135>=Y133,\"G2\",IF(I135>=Z133,\"G3\",\"\"))))))","v":""},{"$f":"IF(R135=\"\",\"\",IF(AA133=\"F\",\"\",IF(AA133=\"T\",IF(R135<=X133,\"þ\",IF(R135<=Y133,\"G2\",IF(R135<=Z133,\"G3\",\"\"))))))","v":""},{"$f":"IF(R135=\"\",\"\",IF(AA133=\"T\",\"\",IF(AA133=\"F\",IF(R135>=X133,\"þ\",IF(R135>=Y133,\"G2\",IF(R135>=Z133,\"G3\",\"\"))))))","v":""},"","","","",135]
[null,{"$f":"VLOOKUP(A134,Declarations!$A$3:$T$31,20,FALSE)","v":14},"","",{"$f":"'Womens LJ'!$E$28","v":3},{"$f":"IF('Womens LJ'!$I$26=0,\"\",'Womens LJ'!$F$28)","v":""},{"$f":"IF(OR($F136=\"\",$F136=0),\"\",IF($F136>90,VLOOKUP(F136,eventcodes,2,FALSE),HLOOKUP(F136,womens_declare,B136,FALSE)))","v":""},"",{"$f":"IF('Womens LJ'!$I$26=0,\"\",'Womens LJ'!$I$28)","v":""},null,null,{"$f":"IF(AA133=\"T\",AB136,AC136)","v":""},null,{"$f":"'Womens LJ'!$K$28","v":3},{"$f":"IF('Womens LJ'!$I$26=0,\"\",'Womens LJ'!$L$28)","v":""},{"$f":"IF(OR($O136=\"\",$O136=0),\"\",HLOOKUP(O136,womens_declare,B136,FALSE))","v":""},"",{"$f":"IF('Womens LJ'!$I$26=0,\"\",'Womens LJ'!$U$28)","v":""},null,{"$f":"IF(AA133=\"T\",AD136,AE136)","v":""},null,null,null,null,null,null,null,{"$f":"IF(I136=\"\",\"\",IF(AA133=\"F\",\"\",IF(AA133=\"T\",IF(I136<=X133,\"þ\",IF(I136<=Y133,\"G2\",IF(I136<=Z133,\"G3\",\"\"))))))","v":""},{"$f":"IF(I136=\"\",\"\",IF(AA133=\"T\",\"\",IF(AA133=\"F\",IF(I136>=X133,\"þ\",IF(I136>=Y133,\"G2\",IF(I136>=Z133,\"G3\",\"\"))))))","v":""},{"$f":"IF(R136=\"\",\"\",IF(AA133=\"F\",\"\",IF(AA133=\"T\",IF(R136<=X133,\"þ\",IF(R136<=Y133,\"G2\",IF(R136<=Z133,\"G3\",\"\"))))))","v":""},{"$f":"IF(R136=\"\",\"\",IF(AA133=\"T\",\"\",IF(AA133=\"F\",IF(R136>=X133,\"þ\",IF(R136>=Y133,\"G2\",IF(R136>=Z133,\"G3\",\"\"))))))","v":""},"","","","",136]
[null,null,"","",{"$f":"'Womens LJ'!$E$29","v":4},{"$f":"IF('Womens LJ'!$I$26=0,\"\",'Womens LJ'!$F$29)","v":""},{"$f":"IF(OR($F137=\"\",$F137=0),\"\",IF($F137>90,VLOOKUP(F137,eventcodes,2,FALSE),HLOOKUP(F137,womens_declare,B136,FALSE)))","v":""},"",{"$f":"IF('Womens LJ'!$I$26=0,\"\",'Womens LJ'!$I$29)","v":""},null,null,{"$f":"IF(AA133=\"T\",AB137,AC137)","v":""},null,{"$f":"'Womens LJ'!$K$29","v":4},{"$f":"IF('Womens LJ'!$I$26=0,\"\",'Womens LJ'!$L$29)","v":""},{"$f":"IF(OR($O137=\"\",$O137=0),\"\",HLOOKUP(O137,womens_declare,B136,FALSE))","v":""},"",{"$f":"IF('Womens LJ'!$I$26=0,\"\",'Womens LJ'!$U$29)","v":""},null,{"$f":"IF(AA133=\"T\",AD137,AE137)","v":""},null,null,null,null,null,null,null,{"$f":"IF(I137=\"\",\"\",IF(AA133=\"F\",\"\",IF(AA133=\"T\",IF(I137<=X133,\"þ\",IF(I137<=Y133,\"G2\",IF(I137<=Z133,\"G3\",\"\"))))))","v":""},{"$f":"IF(I137=\"\",\"\",IF(AA133=\"T\",\"\",IF(AA133=\"F\",IF(I137>=X133,\"þ\",IF(I137>=Y133,\"G2\",IF(I137>=Z133,\"G3\",\"\"))))))","v":""},{"$f":"IF(R137=\"\",\"\",IF(AA133=\"F\",\"\",IF(AA133=\"T\",IF(R137<=X133,\"þ\",IF(R137<=Y133,\"G2\",IF(R137<=Z133,\"G3\",\"\"))))))","v":""},{"$f":"IF(R137=\"\",\"\",IF(AA133=\"T\",\"\",IF(AA133=\"F\",IF(R137>=X133,\"þ\",IF(R137>=Y133,\"G2\",IF(R137>=Z133,\"G3\",\"\"))))))","v":""},"","","","",137]
[null,null,"","",{"$f":"'Womens LJ'!$E$30","v":5},{"$f":"IF('Womens LJ'!$I$26=0,\"\",'Womens LJ'!$F$30)","v":""},{"$f":"IF(OR($F138=\"\",$F138=0),\"\",IF($F138>90,VLOOKUP(F138,eventcodes,2,FALSE),HLOOKUP(F138,womens_declare,B136,FALSE)))","v":""},"",{"$f":"IF('Womens LJ'!$I$26=0,\"\",'Womens LJ'!$I$30)","v":""},null,null,{"$f":"IF(AA133=\"T\",AB138,AC138)","v":""},null,{"$f":"'Womens LJ'!$K$30","v":5},{"$f":"IF('Womens LJ'!$I$26=0,\"\",'Womens LJ'!$L$30)","v":""},{"$f":"IF(OR($O138=\"\",$O138=0),\"\",HLOOKUP(O138,womens_declare,B136,FALSE))","v":""},"",{"$f":"IF('Womens LJ'!$I$26=0,\"\",'Womens LJ'!$U$30)","v":""},null,{"$f":"IF(AA133=\"T\",AD138,AE138)","v":""},null,null,null,null,null,null,null,{"$f":"IF(I138=\"\",\"\",IF(AA133=\"F\",\"\",IF(AA133=\"T\",IF(I138<=X133,\"þ\",IF(I138<=Y133,\"G2\",IF(I138<=Z133,\"G3\",\"\"))))))","v":""},{"$f":"IF(I138=\"\",\"\",IF(AA133=\"T\",\"\",IF(AA133=\"F\",IF(I138>=X133,\"þ\",IF(I138>=Y133,\"G2\",IF(I138>=Z133,\"G3\",\"\"))))))","v":""},{"$f":"IF(R138=\"\",\"\",IF(AA133=\"F\",\"\",IF(AA133=\"T\",IF(R138<=X133,\"þ\",IF(R138<=Y133,\"G2\",IF(R138<=Z133,\"G3\",\"\"))))))","v":""},{"$f":"IF(R138=\"\",\"\",IF(AA133=\"T\",\"\",IF(AA133=\"F\",IF(R138>=X133,\"þ\",IF(R138>=Y133,\"G2\",IF(R138>=Z133,\"G3\",\"\"))))))","v":""},"","","","",138]
[null,null,"","",{"$f":"'Womens LJ'!$E$31","v":6},{"$f":"IF('Womens LJ'!$I$26=0,\"\",'Womens LJ'!$F$31)","v":""},{"$f":"IF(OR($F139=\"\",$F139=0),\"\",IF($F139>90,VLOOKUP(F139,eventcodes,2,FALSE),HLOOKUP(F139,womens_declare,B136,FALSE)))","v":""},"",{"$f":"IF('Womens LJ'!$I$26=0,\"\",'Womens LJ'!$I$31)","v":""},null,null,{"$f":"IF(AA133=\"T\",AB139,AC139)","v":""},null,{"$f":"'Womens LJ'!$K$31","v":6},{"$f":"IF('Womens LJ'!$I$26=0,\"\",'Womens LJ'!$L$31)","v":""},{"$f":"IF(OR($O139=\"\",$O139=0),\"\",HLOOKUP(O139,womens_declare,B136,FALSE))","v":""},"",{"$f":"IF('Womens LJ'!$I$26=0,\"\",'Womens LJ'!$U$31)","v":""},null,{"$f":"IF(AA133=\"T\",AD139,AE139)","v":""},null,null,null,null,null,null,null,{"$f":"IF(I139=\"\",\"\",IF(AA133=\"F\",\"\",IF(AA133=\"T\",IF(I139<=X133,\"þ\",IF(I139<=Y133,\"G2\",IF(I139<=Z133,\"G3\",\"\"))))))","v":""},{"$f":"IF(I139=\"\",\"\",IF(AA133=\"T\",\"\",IF(AA133=\"F\",IF(I139>=X133,\"þ\",IF(I139>=Y133,\"G2\",IF(I139>=Z133,\"G3\",\"\"))))))","v":""},{"$f":"IF(R139=\"\",\"\",IF(AA133=\"F\",\"\",IF(AA133=\"T\",IF(R139<=X133,\"þ\",IF(R139<=Y133,\"G2\",IF(R139<=Z133,\"G3\",\"\"))))))","v":""},{"$f":"IF(R139=\"\",\"\",IF(AA133=\"T\",\"\",IF(AA133=\"F\",IF(R139>=X133,\"þ\",IF(R139>=Y133,\"G2\",IF(R139>=Z133,\"G3\",\"\"))))))","v":""},"","","","",139]
[null,null,"","",{"$f":"'Womens LJ'!$E$32","v":7},{"$f":"IF('Womens LJ'!$I$26=0,\"\",'Womens LJ'!$F$32)","v":""},{"$f":"IF(OR($F140=\"\",$F140=0),\"\",IF($F140>90,VLOOKUP(F140,eventcodes,2,FALSE),HLOOKUP(F140,womens_declare,B136,FALSE)))","v":""},"",{"$f":"IF('Womens LJ'!$I$26=0,\"\",'Womens LJ'!$I$32)","v":""},null,null,{"$f":"IF(AA133=\"T\",AB140,AC140)","v":""},null,{"$f":"'Womens LJ'!$K$32","v":7},{"$f":"IF('Womens LJ'!$I$26=0,\"\",'Womens LJ'!$L$32)","v":""},{"$f":"IF(OR($O140=\"\",$O140=0),\"\",HLOOKUP(O140,womens_declare,B136,FALSE))","v":""},"",{"$f":"IF('Womens LJ'!$I$26=0,\"\",'Womens LJ'!$U$32)","v":""},null,{"$f":"IF(AA133=\"T\",AD140,AE140)","v":""},null,null,null,null,null,null,null,{"$f":"IF(I140=\"\",\"\",IF(AA133=\"F\",\"\",IF(AA133=\"T\",IF(I140<=X133,\"þ\",IF(I140<=Y133,\"G2\",IF(I140<=Z133,\"G3\",\"\"))))))","v":""},{"$f":"IF(I140=\"\",\"\",IF(AA133=\"T\",\"\",IF(AA133=\"F\",IF(I140>=X133,\"þ\",IF(I140>=Y133,\"G2\",IF(I140>=Z133,\"G3\",\"\"))))))","v":""},{"$f":"IF(R140=\"\",\"\",IF(AA133=\"F\",\"\",IF(AA133=\"T\",IF(R140<=X133,\"þ\",IF(R140<=Y133,\"G2\",IF(R140<=Z133,\"G3\",\"\"))))))","v":""},{"$f":"IF(R140=\"\",\"\",IF(AA133=\"T\",\"\",IF(AA133=\"F\",IF(R140>=X133,\"þ\",IF(R140>=Y133,\"G2\",IF(R140>=Z133,\"G3\",\"\"))))))","v":""},"","","","",140]
[null,null,"","",{"$f":"'Womens LJ'!$E$33","v":8},{"$f":"IF('Womens LJ'!$I$26=0,\"\",'Womens LJ'!$F$33)","v":""},{"$f":"IF(OR($F141=\"\",$F141=0),\"\",IF($F141>90,VLOOKUP(F141,eventcodes,2,FALSE),HLOOKUP(F141,womens_declare,B136,FALSE)))","v":""},"",{"$f":"IF('Womens LJ'!$I$26=0,\"\",'Womens LJ'!$I$33)","v":""},null,null,{"$f":"IF(AA133=\"T\",AB141,AC141)","v":""},null,{"$f":"'Womens LJ'!$K$33","v":8},{"$f":"IF('Womens LJ'!$I$26=0,\"\",'Womens LJ'!$L$33)","v":""},{"$f":"IF(OR($O141=\"\",$O141=0),\"\",HLOOKUP(O141,womens_declare,B136,FALSE))","v":""},"",{"$f":"IF('Womens LJ'!$I$26=0,\"\",'Womens LJ'!$U$33)","v":""},null,{"$f":"IF(AA133=\"T\",AD141,AE141)","v":""},null,null,null,null,null,null,null,{"$f":"IF(I141=\"\",\"\",IF(AA133=\"F\",\"\",IF(AA133=\"T\",IF(I141<=X133,\"þ\",IF(I141<=Y133,\"G2\",IF(I141<=Z133,\"G3\",\"\"))))))","v":""},{"$f":"IF(I141=\"\",\"\",IF(AA133=\"T\",\"\",IF(AA133=\"F\",IF(I141>=X133,\"þ\",IF(I141>=Y133,\"G2\",IF(I141>=Z133,\"G3\",\"\"))))))","v":""},{"$f":"IF(R141=\"\",\"\",IF(AA133=\"F\",\"\",IF(AA133=\"T\",IF(R141<=X133,\"þ\",IF(R141<=Y133,\"G2\",IF(R141<=Z133,\"G3\",\"\"))))))","v":""},{"$f":"IF(R141=\"\",\"\",IF(AA133=\"T\",\"\",IF(AA133=\"F\",IF(R141>=X133,\"þ\",IF(R141>=Y133,\"G2\",IF(R141>=Z133,\"G3\",\"\"))))))","v":""},"","","","",141]
[null,null,null,null,null,null,null,null,null,null,null,null,null,null,null,null,null,null,null,null,null,null,null,null,null,null,null,null,null,null,null,null,null,null,null,142]
[null,null,{"$f":"VLOOKUP(A144,Handbook!$A$4:$AK$24,36,FALSE)","v":"D"},null,{"$f":"CONCATENATE(VLOOKUP(A144,womens_handbook,3,FALSE),\" A\")","v":"Women's Triple Jump A"},null,null,{"$f":"IF(A144=\"\",\"\",IF(VLOOKUP(A144,Handbook!$A$4:$AI$24,35,FALSE)=\"Y\",\"Wind=\",\"\"))","v":""},null,null,null,null,null,null,{"$f":"CONCATENATE(VLOOKUP(A144,womens_handbook,3,FALSE),\" B\")","v":"Women's Triple Jump B"},null,{"$f":"H143","v":""},{"$f":"IF(I143=\"\",\"\",I143)","v":""},null,null,null,{"$f":"IF($A144=\"\",\"\",VLOOKUP($A144,Handbook!$A$26:$AK$46,21,FALSE))","v":14.16},{"$f":"IF($A144=\"\",\"\",VLOOKUP($A144,Handbook!$A$26:$AK$46,22,FALSE))","v":14.16},{"$f":"IF($A144=\"\",\"\",VLOOKUP($A144,Handbook!$A$26:$AK$46,23,FALSE))","v":10},{"$f":"IF($A144=\"\",\"\",VLOOKUP($A144,Handbook!$A$26:$AK$46,24,FALSE))","v":10},{"$f":"IF($A144=\"\",\"\",VLOOKUP($A144,Handbook!$A$26:$AK$46,25,FALSE))","v":10},{"$f":"IF($A144=\"\",\"\",VLOOKUP($A144,Handbook!$A$26:$AK$46,34,FALSE))","v":"F"},null,null,null,null,null,null,null,null,143]
[16,null,{"$f":"IF(F144=\"\",\"\",IF(F144>10,F144/11,F144))","v":""},{"$f":"IF(O144=\"\",\"\",IF(O144>10,O144/11,O144))","v":""},{"$f":"'Womens TJ'!$E$26","v":1},{"$f":"IF('Womens TJ'!$I$26=0,\"\",'Womens TJ'!$F$26)","v":""},{"$f":"IF(OR($F144=\"\",$F144=0),\"\",IF($F144>90,VLOOKUP(F144,eventcodes,2,FALSE),HLOOKUP(F144,womens_declare,B146,FALSE)))","v":""},{"$f":"IF(OR($F144=\"\",$F144=0),\"\",IF($F144>90,\"\",VLOOKUP(C144,matchday,2,FALSE)))","v":""},{"$f":"IF('Womens TJ'!$I$26=0,\"\",'Womens TJ'!$I$26)","v":""},{"$f":"IF(I144=\"\",\"\",IF(AA143=\"T\",V144,V145))","v":""},null,{"$f":"IF(AA143=\"T\",AB144,AC144)","v":""},null,{"$f":"'Womens TJ'!$K$26","v":1},{"$f":"IF('Womens TJ'!$I$26=0,\"\",'Womens TJ'!$L$26)","v":""},{"$f":"IF(OR($O144=\"\",$O144=0),\"\",HLOOKUP(O144,womens_declare,B146,FALSE))","v":""},{"$f":"IF(OR($O144=\"\",$O144=0),\"\",VLOOKUP(D144,matchday,2,FALSE))","v":""},{"$f":"IF('Womens TJ'!$I$26=0,\"\",'Womens TJ'!$U$26)","v":""},null,{"$f":"IF(AA143=\"T\",AD144,AE144)","v":""},null,{"$f":"IF(AA143=\"F\",\"\",IF(I144<V143,\"LR\",IF(I144=V143,\"=LR\",IF(I144<W143,\"DR\",IF(I144=W143,\"=DR\",\"\")))))","v":""},null,null,null,null,null,{"$f":"IF(I144=\"\",\"\",IF(AA143=\"F\",\"\",IF(AA143=\"T\",IF(I144<=X143,\"þ\",IF(I144<=Y143,\"G2\",IF(I144<=Z143,\"G3\",\"\"))))))","v":""},{"$f":"IF(I144=\"\",\"\",IF(AA143=\"T\",\"\",IF(AA143=\"F\",IF(I144>=X143,\"þ\",IF(I144>=Y143,\"G2\",IF(I144>=Z143,\"G3\",\"\"))))))","v":""},{"$f":"IF(R144=\"\",\"\",IF(AA143=\"F\",\"\",IF(AA143=\"T\",IF(R144<=X143,\"þ\",IF(R144<=Y143,\"G2\",IF(R144<=Z143,\"G3\",\"\"))))))","v":""},{"$f":"IF(R144=\"\",\"\",IF(AA143=\"T\",\"\",IF(AA143=\"F\",IF(R144>=X143,\"þ\",IF(R144>=Y143,\"G2\",IF(R144>=Z143,\"G3\",\"\"))))))","v":""},{"$f":"C144","v":""},{"$f":"IF(F144=\"\",\"\",IF(LEFT(I144,1)=\"D\",0,VLOOKUP(E144,$AQ$4:$AR$40,2,FALSE)))","v":""},{"$f":"D144","v":""},{"$f":"IF(O144=\"\",\"\",IF(LEFT(R144,1)=\"D\",0,VLOOKUP(N144,$AQ$4:$AS$40,3,FALSE)))","v":""},144]
[null,{"$f":"VLOOKUP(A144,Handbook!$A$4:$AK$24,37,FALSE)","v":17},{"$f":"IF(F145=\"\",\"\",IF(F145>10,F145/11,F145))","v":""},{"$f":"IF(O145=\"\",\"\",IF(O145>10,O145/11,O145))","v":""},{"$f":"'Womens TJ'!$E$27","v":2},{"$f":"IF('Womens TJ'!$I$26=0,\"\",'Womens TJ'!$F$27)","v":""},{"$f":"IF(OR($F145=\"\",$F145=0),\"\",IF($F145>90,VLOOKUP(F145,eventcodes,2,FALSE),HLOOKUP(F145,womens_declare,B146,FALSE)))","v":""},"",{"$f":"IF('Womens TJ'!$I$26=0,\"\",'Womens TJ'!$I$27)","v":""},null,null,{"$f":"IF(AA143=\"T\",AB145,AC145)","v":""},null,{"$f":"'Womens TJ'!$K$27","v":2},{"$f":"IF('Womens TJ'!$I$26=0,\"\",'Womens TJ'!$L$27)","v":""},{"$f":"IF(OR($O145=\"\",$O145=0),\"\",HLOOKUP(O145,womens_declare,B146,FALSE))","v":""},"",{"$f":"IF('Womens TJ'!$I$26=0,\"\",'Womens TJ'!$U$27)","v":""},null,{"$f":"IF(AA143=\"T\",AD145,AE145)","v":""},null,{"$f":"IF(AA143=\"T\",\"\",IF(I144>V143,\"LR\",IF(I144=V143,\"=LR\",IF(I144>W143,\"DR\",IF(I144=W143,\"=DR\",\"\")))))","v":"LR"},null,null,null,null,null,{"$f":"IF(I145=\"\",\"\",IF(AA143=\"F\",\"\",IF(AA143=\"T\",IF(I145<=X143,\"þ\",IF(I145<=Y143,\"G2\",IF(I145<=Z143,\"G3\",\"\"))))))","v":""},{"$f":"IF(I145=\"\",\"\",IF(AA143=\"T\",\"\",IF(AA143=\"F\",IF(I145>=X143,\"þ\",IF(I145>=Y143,\"G2\",IF(I145>=Z143,\"G3\",\"\"))))))","v":""},{"$f":"IF(R145=\"\",\"\",IF(AA143=\"F\",\"\",IF(AA143=\"T\",IF(R145<=X143,\"þ\",IF(R145<=Y143,\"G2\",IF(R145<=Z143,\"G3\",\"\"))))))","v":""},{"$f":"IF(R145=\"\",\"\",IF(AA143=\"T\",\"\",IF(AA143=\"F\",IF(R145>=X143,\"þ\",IF(R145>=Y143,\"G2\",IF(R145>=Z143,\"G3\",\"\"))))))","v":""},"","","","",145]
[null,{"$f":"VLOOKUP(A144,Declarations!$A$3:$T$31,20,FALSE)","v":17},"","",{"$f":"'Womens TJ'!$E$28","v":3},{"$f":"IF('Womens TJ'!$I$26=0,\"\",'Womens TJ'!$F$28)","v":""},{"$f":"IF(OR($F146=\"\",$F146=0),\"\",IF($F146>90,VLOOKUP(F146,eventcodes,2,FALSE),HLOOKUP(F146,womens_declare,B146,FALSE)))","v":""},"",{"$f":"IF('Womens TJ'!$I$26=0,\"\",'Womens TJ'!$I$28)","v":""},null,null,{"$f":"IF(AA143=\"T\",AB146,AC146)","v":""},null,{"$f":"'Womens TJ'!$K$28","v":3},{"$f":"IF('Womens TJ'!$I$26=0,\"\",'Womens TJ'!$L$28)","v":""},{"$f":"IF(OR($O146=\"\",$O146=0),\"\",HLOOKUP(O146,womens_declare,B146,FALSE))","v":""},"",{"$f":"IF('Womens TJ'!$I$26=0,\"\",'Womens TJ'!$U$28)","v":""},null,{"$f":"IF(AA143=\"T\",AD146,AE146)","v":""},null,null,null,null,null,null,null,{"$f":"IF(I146=\"\",\"\",IF(AA143=\"F\",\"\",IF(AA143=\"T\",IF(I146<=X143,\"þ\",IF(I146<=Y143,\"G2\",IF(I146<=Z143,\"G3\",\"\"))))))","v":""},{"$f":"IF(I146=\"\",\"\",IF(AA143=\"T\",\"\",IF(AA143=\"F\",IF(I146>=X143,\"þ\",IF(I146>=Y143,\"G2\",IF(I146>=Z143,\"G3\",\"\"))))))","v":""},{"$f":"IF(R146=\"\",\"\",IF(AA143=\"F\",\"\",IF(AA143=\"T\",IF(R146<=X143,\"þ\",IF(R146<=Y143,\"G2\",IF(R146<=Z143,\"G3\",\"\"))))))","v":""},{"$f":"IF(R146=\"\",\"\",IF(AA143=\"T\",\"\",IF(AA143=\"F\",IF(R146>=X143,\"þ\",IF(R146>=Y143,\"G2\",IF(R146>=Z143,\"G3\",\"\"))))))","v":""},"","","","",146]
[null,null,"","",{"$f":"'Womens TJ'!$E$29","v":4},{"$f":"IF('Womens TJ'!$I$26=0,\"\",'Womens TJ'!$F$29)","v":""},{"$f":"IF(OR($F147=\"\",$F147=0),\"\",IF($F147>90,VLOOKUP(F147,eventcodes,2,FALSE),HLOOKUP(F147,womens_declare,B146,FALSE)))","v":""},"",{"$f":"IF('Womens TJ'!$I$26=0,\"\",'Womens TJ'!$I$29)","v":""},null,null,{"$f":"IF(AA143=\"T\",AB147,AC147)","v":""},null,{"$f":"'Womens TJ'!$K$29","v":4},{"$f":"IF('Womens TJ'!$I$26=0,\"\",'Womens TJ'!$L$29)","v":""},{"$f":"IF(OR($O147=\"\",$O147=0),\"\",HLOOKUP(O147,womens_declare,B146,FALSE))","v":""},"",{"$f":"IF('Womens TJ'!$I$26=0,\"\",'Womens TJ'!$U$29)","v":""},null,{"$f":"IF(AA143=\"T\",AD147,AE147)","v":""},null,null,null,null,null,null,null,{"$f":"IF(I147=\"\",\"\",IF(AA143=\"F\",\"\",IF(AA143=\"T\",IF(I147<=X143,\"þ\",IF(I147<=Y143,\"G2\",IF(I147<=Z143,\"G3\",\"\"))))))","v":""},{"$f":"IF(I147=\"\",\"\",IF(AA143=\"T\",\"\",IF(AA143=\"F\",IF(I147>=X143,\"þ\",IF(I147>=Y143,\"G2\",IF(I147>=Z143,\"G3\",\"\"))))))","v":""},{"$f":"IF(R147=\"\",\"\",IF(AA143=\"F\",\"\",IF(AA143=\"T\",IF(R147<=X143,\"þ\",IF(R147<=Y143,\"G2\",IF(R147<=Z143,\"G3\",\"\"))))))","v":""},{"$f":"IF(R147=\"\",\"\",IF(AA143=\"T\",\"\",IF(AA143=\"F\",IF(R147>=X143,\"þ\",IF(R147>=Y143,\"G2\",IF(R147>=Z143,\"G3\",\"\"))))))","v":""},"","","","",147]
[null,null,"","",{"$f":"'Womens TJ'!$E$30","v":5},{"$f":"IF('Womens TJ'!$I$26=0,\"\",'Womens TJ'!$F$30)","v":""},{"$f":"IF(OR($F148=\"\",$F148=0),\"\",IF($F148>90,VLOOKUP(F148,eventcodes,2,FALSE),HLOOKUP(F148,womens_declare,B146,FALSE)))","v":""},"",{"$f":"IF('Womens TJ'!$I$26=0,\"\",'Womens TJ'!$I$30)","v":""},null,null,{"$f":"IF(AA143=\"T\",AB148,AC148)","v":""},null,{"$f":"'Womens TJ'!$K$30","v":5},{"$f":"IF('Womens TJ'!$I$26=0,\"\",'Womens TJ'!$L$30)","v":""},{"$f":"IF(OR($O148=\"\",$O148=0),\"\",HLOOKUP(O148,womens_declare,B146,FALSE))","v":""},"",{"$f":"IF('Womens TJ'!$I$26=0,\"\",'Womens TJ'!$U$30)","v":""},null,{"$f":"IF(AA143=\"T\",AD148,AE148)","v":""},null,null,null,null,null,null,null,{"$f":"IF(I148=\"\",\"\",IF(AA143=\"F\",\"\",IF(AA143=\"T\",IF(I148<=X143,\"þ\",IF(I148<=Y143,\"G2\",IF(I148<=Z143,\"G3\",\"\"))))))","v":""},{"$f":"IF(I148=\"\",\"\",IF(AA143=\"T\",\"\",IF(AA143=\"F\",IF(I148>=X143,\"þ\",IF(I148>=Y143,\"G2\",IF(I148>=Z143,\"G3\",\"\"))))))","v":""},{"$f":"IF(R148=\"\",\"\",IF(AA143=\"F\",\"\",IF(AA143=\"T\",IF(R148<=X143,\"þ\",IF(R148<=Y143,\"G2\",IF(R148<=Z143,\"G3\",\"\"))))))","v":""},{"$f":"IF(R148=\"\",\"\",IF(AA143=\"T\",\"\",IF(AA143=\"F\",IF(R148>=X143,\"þ\",IF(R148>=Y143,\"G2\",IF(R148>=Z143,\"G3\",\"\"))))))","v":""},"","","","",148]
[null,null,"","",{"$f":"'Womens TJ'!$E$31","v":6},{"$f":"IF('Womens TJ'!$I$26=0,\"\",'Womens TJ'!$F$31)","v":""},{"$f":"IF(OR($F149=\"\",$F149=0),\"\",IF($F149>90,VLOOKUP(F149,eventcodes,2,FALSE),HLOOKUP(F149,womens_declare,B146,FALSE)))","v":""},"",{"$f":"IF('Womens TJ'!$I$26=0,\"\",'Womens TJ'!$I$31)","v":""},null,null,{"$f":"IF(AA143=\"T\",AB149,AC149)","v":""},null,{"$f":"'Womens TJ'!$K$31","v":6},{"$f":"IF('Womens TJ'!$I$26=0,\"\",'Womens TJ'!$L$31)","v":""},{"$f":"IF(OR($O149=\"\",$O149=0),\"\",HLOOKUP(O149,womens_declare,B146,FALSE))","v":""},"",{"$f":"IF('Womens TJ'!$I$26=0,\"\",'Womens TJ'!$U$31)","v":""},null,{"$f":"IF(AA143=\"T\",AD149,AE149)","v":""},null,null,null,null,null,null,null,{"$f":"IF(I149=\"\",\"\",IF(AA143=\"F\",\"\",IF(AA143=\"T\",IF(I149<=X143,\"þ\",IF(I149<=Y143,\"G2\",IF(I149<=Z143,\"G3\",\"\"))))))","v":""},{"$f":"IF(I149=\"\",\"\",IF(AA143=\"T\",\"\",IF(AA143=\"F\",IF(I149>=X143,\"þ\",IF(I149>=Y143,\"G2\",IF(I149>=Z143,\"G3\",\"\"))))))","v":""},{"$f":"IF(R149=\"\",\"\",IF(AA143=\"F\",\"\",IF(AA143=\"T\",IF(R149<=X143,\"þ\",IF(R149<=Y143,\"G2\",IF(R149<=Z143,\"G3\",\"\"))))))","v":""},{"$f":"IF(R149=\"\",\"\",IF(AA143=\"T\",\"\",IF(AA143=\"F\",IF(R149>=X143,\"þ\",IF(R149>=Y143,\"G2\",IF(R149>=Z143,\"G3\",\"\"))))))","v":""},"","","","",149]
[null,null,"","",{"$f":"'Womens TJ'!$E$32","v":7},{"$f":"IF('Womens TJ'!$I$26=0,\"\",'Womens TJ'!$F$32)","v":""},{"$f":"IF(OR($F150=\"\",$F150=0),\"\",IF($F150>90,VLOOKUP(F150,eventcodes,2,FALSE),HLOOKUP(F150,womens_declare,B146,FALSE)))","v":""},"",{"$f":"IF('Womens TJ'!$I$26=0,\"\",'Womens TJ'!$I$32)","v":""},null,null,{"$f":"IF(AA143=\"T\",AB150,AC150)","v":""},null,{"$f":"'Womens TJ'!$K$32","v":7},{"$f":"IF('Womens TJ'!$I$26=0,\"\",'Womens TJ'!$L$32)","v":""},{"$f":"IF(OR($O150=\"\",$O150=0),\"\",HLOOKUP(O150,womens_declare,B146,FALSE))","v":""},"",{"$f":"IF('Womens TJ'!$I$26=0,\"\",'Womens TJ'!$U$32)","v":""},null,{"$f":"IF(AA143=\"T\",AD150,AE150)","v":""},null,null,null,null,null,null,null,{"$f":"IF(I150=\"\",\"\",IF(AA143=\"F\",\"\",IF(AA143=\"T\",IF(I150<=X143,\"þ\",IF(I150<=Y143,\"G2\",IF(I150<=Z143,\"G3\",\"\"))))))","v":""},{"$f":"IF(I150=\"\",\"\",IF(AA143=\"T\",\"\",IF(AA143=\"F\",IF(I150>=X143,\"þ\",IF(I150>=Y143,\"G2\",IF(I150>=Z143,\"G3\",\"\"))))))","v":""},{"$f":"IF(R150=\"\",\"\",IF(AA143=\"F\",\"\",IF(AA143=\"T\",IF(R150<=X143,\"þ\",IF(R150<=Y143,\"G2\",IF(R150<=Z143,\"G3\",\"\"))))))","v":""},{"$f":"IF(R150=\"\",\"\",IF(AA143=\"T\",\"\",IF(AA143=\"F\",IF(R150>=X143,\"þ\",IF(R150>=Y143,\"G2\",IF(R150>=Z143,\"G3\",\"\"))))))","v":""},"","","","",150]
[null,null,"","",{"$f":"'Womens TJ'!$E$33","v":8},{"$f":"IF('Womens TJ'!$I$26=0,\"\",'Womens TJ'!$F$33)","v":""},{"$f":"IF(OR($F151=\"\",$F151=0),\"\",IF($F151>90,VLOOKUP(F151,eventcodes,2,FALSE),HLOOKUP(F151,womens_declare,B146,FALSE)))","v":""},"",{"$f":"IF('Womens TJ'!$I$26=0,\"\",'Womens TJ'!$I$33)","v":""},null,null,{"$f":"IF(AA143=\"T\",AB151,AC151)","v":""},null,{"$f":"'Womens TJ'!$K$33","v":8},{"$f":"IF('Womens TJ'!$I$26=0,\"\",'Womens TJ'!$L$33)","v":""},{"$f":"IF(OR($O151=\"\",$O151=0),\"\",HLOOKUP(O151,womens_declare,B146,FALSE))","v":""},"",{"$f":"IF('Womens TJ'!$I$26=0,\"\",'Womens TJ'!$U$33)","v":""},null,{"$f":"IF(AA143=\"T\",AD151,AE151)","v":""},null,null,null,null,null,null,null,{"$f":"IF(I151=\"\",\"\",IF(AA143=\"F\",\"\",IF(AA143=\"T\",IF(I151<=X143,\"þ\",IF(I151<=Y143,\"G2\",IF(I151<=Z143,\"G3\",\"\"))))))","v":""},{"$f":"IF(I151=\"\",\"\",IF(AA143=\"T\",\"\",IF(AA143=\"F\",IF(I151>=X143,\"þ\",IF(I151>=Y143,\"G2\",IF(I151>=Z143,\"G3\",\"\"))))))","v":""},{"$f":"IF(R151=\"\",\"\",IF(AA143=\"F\",\"\",IF(AA143=\"T\",IF(R151<=X143,\"þ\",IF(R151<=Y143,\"G2\",IF(R151<=Z143,\"G3\",\"\"))))))","v":""},{"$f":"IF(R151=\"\",\"\",IF(AA143=\"T\",\"\",IF(AA143=\"F\",IF(R151>=X143,\"þ\",IF(R151>=Y143,\"G2\",IF(R151>=Z143,\"G3\",\"\"))))))","v":""},"","","","",151]
[null,null,null,null,null,null,null,null,null,null,null,null,null,null,null,null,null,null,null,null,null,null,null,null,null,null,null,null,null,null,null,null,null,null,null,152]
[null,null,{"$f":"VLOOKUP(A154,Handbook!$A$26:$AK$46,36,FALSE)","v":"H"},null,{"$f":"CONCATENATE(VLOOKUP(A154,womens_handbook,3,FALSE),\" A\")","v":"Women's High Jump A"},null,null,{"$f":"IF(A154=\"\",\"\",IF(VLOOKUP(A154,Handbook!$A$4:$AI$24,35,FALSE)=\"Y\",\"Wind=\",\"\"))","v":""},null,null,null,null,null,null,{"$f":"CONCATENATE(VLOOKUP(A154,womens_handbook,3,FALSE),\" B\")","v":"Women's High Jump B"},null,{"$f":"H153","v":""},{"$f":"IF(I153=\"\",\"\",I153)","v":""},null,null,null,{"$f":"IF($A154=\"\",\"\",VLOOKUP($A154,Handbook!$A$26:$AK$46,21,FALSE))","v":1.91},{"$f":"IF($A154=\"\",\"\",VLOOKUP($A154,Handbook!$A$26:$AK$46,22,FALSE))","v":1.9},{"$f":"IF($A154=\"\",\"\",VLOOKUP($A154,Handbook!$A$26:$AK$46,23,FALSE))","v":1.55},{"$f":"IF($A154=\"\",\"\",VLOOKUP($A154,Handbook!$A$26:$AK$46,24,FALSE))","v":1.55},{"$f":"IF($A154=\"\",\"\",VLOOKUP($A154,Handbook!$A$26:$AK$46,25,FALSE))","v":1.55},{"$f":"IF($A154=\"\",\"\",VLOOKUP($A154,Handbook!$A$26:$AK$46,34,FALSE))","v":"F"},null,null,null,null,null,null,null,null,153]
[14,null,{"$f":"IF(F154=\"\",\"\",IF(F154>10,F154/11,F154))","v":""},{"$f":"IF(O154=\"\",\"\",IF(O154>10,O154/11,O154))","v":""},{"$f":"'Womens HJ'!$E26","v":""},{"$f":"IF('Womens HJ'!$I$26=0,\"\",'Womens HJ'!$F26)","v":""},{"$f":"IF($F154=\"\",\"\",IF($F154>90,VLOOKUP(F154,eventcodes,2,FALSE),HLOOKUP(F154,womens_declare,B156,FALSE)))","v":""},{"$f":"IF($F154=\"\",\"\",IF($F154>90,\"\",VLOOKUP(C154,matchday,2,FALSE)))","v":""},{"$f":"IF('Womens HJ'!$I$26=0,\"\",'Womens HJ'!$I26)","v":""},{"$f":"IF(I154=\"\",\"\",IF(AA153=\"T\",V154,V155))","v":""},null,{"$f":"IF(AA153=\"T\",AB154,AC154)","v":""},null,{"$f":"'Womens HJ'!$K26","v":""},{"$f":"IF('Womens HJ'!$I$26=0,\"\",'Womens HJ'!$M26)","v":""},{"$f":"IF($O154=\"\",\"\",HLOOKUP(O154,womens_declare,B156,FALSE))","v":""},{"$f":"IF($O154=\"\",\"\",VLOOKUP(D154,matchday,2,FALSE))","v":""},{"$f":"IF('Womens HJ'!$I$26=0,\"\",'Womens HJ'!$AA26)","v":""},null,{"$f":"IF(AA153=\"T\",AD154,AE154)","v":""},null,{"$f":"IF(AA153=\"F\",\"\",IF(I154<V153,\"LR\",IF(I154=V153,\"=LR\",IF(I154<W153,\"DR\",IF(I154=W153,\"=DR\",\"\")))))","v":""},null,null,null,null,null,{"$f":"IF(I154=\"\",\"\",IF(AA153=\"F\",\"\",IF(AA153=\"T\",IF(I154<=X153,\"þ\",IF(I154<=Y153,\"G2\",IF(I154<=Z153,\"G3\",\"\"))))))","v":""},{"$f":"IF(I154=\"\",\"\",IF(AA153=\"T\",\"\",IF(AA153=\"F\",IF(I154>=X153,\"þ\",IF(I154>=Y153,\"G2\",IF(I154>=Z153,\"G3\",\"\"))))))","v":""},{"$f":"IF(R154=\"\",\"\",IF(AA153=\"F\",\"\",IF(AA153=\"T\",IF(R154<=X153,\"þ\",IF(R154<=Y153,\"G2\",IF(R154<=Z153,\"G3\",\"\"))))))","v":""},{"$f":"IF(R154=\"\",\"\",IF(AA153=\"T\",\"\",IF(AA153=\"F\",IF(R154>=X153,\"þ\",IF(R154>=Y153,\"G2\",IF(R154>=Z153,\"G3\",\"\"))))))","v":""},{"$f":"C154","v":""},{"$f":"IF(F154=\"\",\"\",IF(LEFT(I154,1)=\"D\",0,VLOOKUP(E154,$AQ$4:$AR$40,2,FALSE)))","v":""},{"$f":"D154","v":""},{"$f":"IF(O154=\"\",\"\",IF(LEFT(R154,1)=\"D\",0,VLOOKUP(N154,$AQ$4:$AS$40,3,FALSE)))","v":""},154]
[null,{"$f":"VLOOKUP(A154,Handbook!$A$26:$AK$46,37,FALSE)","v":15},"","",{"$f":"'Womens HJ'!$E27","v":""},{"$f":"IF('Womens HJ'!$I$26=0,\"\",'Womens HJ'!$F27)","v":""},{"$f":"IF($F155=\"\",\"\",HLOOKUP(F155,womens_declare,B156,FALSE))","v":""},{"$f":"IF($F155=\"\",\"\",VLOOKUP(C155,matchday,2,FALSE))","v":""},{"$f":"IF('Womens HJ'!$I$26=0,\"\",'Womens HJ'!$I27)","v":""},null,null,{"$f":"IF(AA153=\"T\",AB155,AC155)","v":""},null,{"$f":"'Womens HJ'!$K27","v":""},{"$f":"IF('Womens HJ'!$I$26=0,\"\",'Womens HJ'!$M27)","v":""},{"$f":"IF($O155=\"\",\"\",HLOOKUP(O155,womens_declare,B156,FALSE))","v":""},"",{"$f":"IF('Womens HJ'!$I$26=0,\"\",'Womens HJ'!$AA27)","v":""},null,{"$f":"IF(AA153=\"T\",AD155,AE155)","v":""},null,{"$f":"IF(AA153=\"T\",\"\",IF(I154>V153,\"LR\",IF(I154=V153,\"=LR\",IF(I154>W153,\"DR\",IF(I154=W153,\"=DR\",\"\")))))","v":"LR"},null,null,null,null,null,{"$f":"IF(I155=\"\",\"\",IF(AA153=\"F\",\"\",IF(AA153=\"T\",IF(I155<=X153,\"þ\",IF(I155<=Y153,\"G2\",IF(I155<=Z153,\"G3\",\"\"))))))","v":""},{"$f":"IF(I155=\"\",\"\",IF(AA153=\"T\",\"\",IF(AA153=\"F\",IF(I155>=X153,\"þ\",IF(I155>=Y153,\"G2\",IF(I155>=Z153,\"G3\",\"\"))))))","v":""},{"$f":"IF(R155=\"\",\"\",IF(AA153=\"F\",\"\",IF(AA153=\"T\",IF(R155<=X153,\"þ\",IF(R155<=Y153,\"G2\",IF(R155<=Z153,\"G3\",\"\"))))))","v":""},{"$f":"IF(R155=\"\",\"\",IF(AA153=\"T\",\"\",IF(AA153=\"F\",IF(R155>=X153,\"þ\",IF(R155>=Y153,\"G2\",IF(R155>=Z153,\"G3\",\"\"))))))","v":""},"","","","",155]
[null,{"$f":"VLOOKUP(A154,womens_declare,20,FALSE)","v":15},"","",{"$f":"'Womens HJ'!$E28","v":""},{"$f":"IF('Womens HJ'!$I$26=0,\"\",'Womens HJ'!$F28)","v":""},{"$f":"IF($F156=\"\",\"\",HLOOKUP(F156,womens_declare,B156,FALSE))","v":""},"",{"$f":"IF('Womens HJ'!$I$26=0,\"\",'Womens HJ'!$I28)","v":""},null,null,{"$f":"IF(AA153=\"T\",AB156,AC156)","v":""},null,{"$f":"'Womens HJ'!$K28","v":""},{"$f":"IF('Womens HJ'!$I$26=0,\"\",'Womens HJ'!$M28)","v":""},{"$f":"IF($O156=\"\",\"\",HLOOKUP(O156,womens_declare,B156,FALSE))","v":""},"",{"$f":"IF('Womens HJ'!$I$26=0,\"\",'Womens HJ'!$AA28)","v":""},null,{"$f":"IF(AA153=\"T\",AD156,AE156)","v":""},null,null,null,null,null,null,null,{"$f":"IF(I156=\"\",\"\",IF(AA153=\"F\",\"\",IF(AA153=\"T\",IF(I156<=X153,\"þ\",IF(I156<=Y153,\"G2\",IF(I156<=Z153,\"G3\",\"\"))))))","v":""},{"$f":"IF(I156=\"\",\"\",IF(AA153=\"T\",\"\",IF(AA153=\"F\",IF(I156>=X153,\"þ\",IF(I156>=Y153,\"G2\",IF(I156>=Z153,\"G3\",\"\"))))))","v":""},{"$f":"IF(R156=\"\",\"\",IF(AA153=\"F\",\"\",IF(AA153=\"T\",IF(R156<=X153,\"þ\",IF(R156<=Y153,\"G2\",IF(R156<=Z153,\"G3\",\"\"))))))","v":""},{"$f":"IF(R156=\"\",\"\",IF(AA153=\"T\",\"\",IF(AA153=\"F\",IF(R156>=X153,\"þ\",IF(R156>=Y153,\"G2\",IF(R156>=Z153,\"G3\",\"\"))))))","v":""},"","","","",156]
[null,null,"","",{"$f":"'Womens HJ'!$E29","v":""},{"$f":"IF('Womens HJ'!$I$26=0,\"\",'Womens HJ'!$F29)","v":""},{"$f":"IF($F157=\"\",\"\",HLOOKUP(F157,womens_declare,B156,FALSE))","v":""},"",{"$f":"IF('Womens HJ'!$I$26=0,\"\",'Womens HJ'!$I29)","v":""},null,null,{"$f":"IF(AA153=\"T\",AB157,AC157)","v":""},null,{"$f":"'Womens HJ'!$K29","v":""},{"$f":"IF('Womens HJ'!$I$26=0,\"\",'Womens HJ'!$M29)","v":""},{"$f":"IF($O157=\"\",\"\",HLOOKUP(O157,womens_declare,B156,FALSE))","v":""},"",{"$f":"IF('Womens HJ'!$I$26=0,\"\",'Womens HJ'!$AA29)","v":""},null,{"$f":"IF(AA153=\"T\",AD157,AE157)","v":""},null,null,null,null,null,null,null,{"$f":"IF(I157=\"\",\"\",IF(AA153=\"F\",\"\",IF(AA153=\"T\",IF(I157<=X153,\"þ\",IF(I157<=Y153,\"G2\",IF(I157<=Z153,\"G3\",\"\"))))))","v":""},{"$f":"IF(I157=\"\",\"\",IF(AA153=\"T\",\"\",IF(AA153=\"F\",IF(I157>=X153,\"þ\",IF(I157>=Y153,\"G2\",IF(I157>=Z153,\"G3\",\"\"))))))","v":""},{"$f":"IF(R157=\"\",\"\",IF(AA153=\"F\",\"\",IF(AA153=\"T\",IF(R157<=X153,\"þ\",IF(R157<=Y153,\"G2\",IF(R157<=Z153,\"G3\",\"\"))))))","v":""},{"$f":"IF(R157=\"\",\"\",IF(AA153=\"T\",\"\",IF(AA153=\"F\",IF(R157>=X153,\"þ\",IF(R157>=Y153,\"G2\",IF(R157>=Z153,\"G3\",\"\"))))))","v":""},"","","","",157]
[null,null,"","",{"$f":"'Womens HJ'!$E30","v":""},{"$f":"IF('Womens HJ'!$I$26=0,\"\",'Womens HJ'!$F30)","v":""},{"$f":"IF($F158=\"\",\"\",HLOOKUP(F158,womens_declare,B156,FALSE))","v":""},"",{"$f":"IF('Womens HJ'!$I$26=0,\"\",'Womens HJ'!$I30)","v":""},null,null,{"$f":"IF(AA153=\"T\",AB158,AC158)","v":""},null,{"$f":"'Womens HJ'!$K30","v":""},{"$f":"IF('Womens HJ'!$I$26=0,\"\",'Womens HJ'!$M30)","v":""},{"$f":"IF($O158=\"\",\"\",HLOOKUP(O158,womens_declare,B156,FALSE))","v":""},"",{"$f":"IF('Womens HJ'!$I$26=0,\"\",'Womens HJ'!$AA30)","v":""},null,{"$f":"IF(AA153=\"T\",AD158,AE158)","v":""},null,null,null,null,null,null,null,{"$f":"IF(I158=\"\",\"\",IF(AA153=\"F\",\"\",IF(AA153=\"T\",IF(I158<=X153,\"þ\",IF(I158<=Y153,\"G2\",IF(I158<=Z153,\"G3\",\"\"))))))","v":""},{"$f":"IF(I158=\"\",\"\",IF(AA153=\"T\",\"\",IF(AA153=\"F\",IF(I158>=X153,\"þ\",IF(I158>=Y153,\"G2\",IF(I158>=Z153,\"G3\",\"\"))))))","v":""},{"$f":"IF(R158=\"\",\"\",IF(AA153=\"F\",\"\",IF(AA153=\"T\",IF(R158<=X153,\"þ\",IF(R158<=Y153,\"G2\",IF(R158<=Z153,\"G3\",\"\"))))))","v":""},{"$f":"IF(R158=\"\",\"\",IF(AA153=\"T\",\"\",IF(AA153=\"F\",IF(R158>=X153,\"þ\",IF(R158>=Y153,\"G2\",IF(R158>=Z153,\"G3\",\"\"))))))","v":""},"","","","",158]
[null,null,"","",{"$f":"'Womens HJ'!$E31","v":""},{"$f":"IF('Womens HJ'!$I$26=0,\"\",'Womens HJ'!$F31)","v":""},{"$f":"IF($F159=\"\",\"\",HLOOKUP(F159,womens_declare,B156,FALSE))","v":""},"",{"$f":"IF('Womens HJ'!$I$26=0,\"\",'Womens HJ'!$I31)","v":""},null,null,{"$f":"IF(AA153=\"T\",AB159,AC159)","v":""},null,{"$f":"'Womens HJ'!$K31","v":""},{"$f":"IF('Womens HJ'!$I$26=0,\"\",'Womens HJ'!$M31)","v":""},{"$f":"IF($O159=\"\",\"\",HLOOKUP(O159,womens_declare,B156,FALSE))","v":""},"",{"$f":"IF('Womens HJ'!$I$26=0,\"\",'Womens HJ'!$AA31)","v":""},null,{"$f":"IF(AA153=\"T\",AD159,AE159)","v":""},null,null,null,null,null,null,null,{"$f":"IF(I159=\"\",\"\",IF(AA153=\"F\",\"\",IF(AA153=\"T\",IF(I159<=X153,\"þ\",IF(I159<=Y153,\"G2\",IF(I159<=Z153,\"G3\",\"\"))))))","v":""},{"$f":"IF(I159=\"\",\"\",IF(AA153=\"T\",\"\",IF(AA153=\"F\",IF(I159>=X153,\"þ\",IF(I159>=Y153,\"G2\",IF(I159>=Z153,\"G3\",\"\"))))))","v":""},{"$f":"IF(R159=\"\",\"\",IF(AA153=\"F\",\"\",IF(AA153=\"T\",IF(R159<=X153,\"þ\",IF(R159<=Y153,\"G2\",IF(R159<=Z153,\"G3\",\"\"))))))","v":""},{"$f":"IF(R159=\"\",\"\",IF(AA153=\"T\",\"\",IF(AA153=\"F\",IF(R159>=X153,\"þ\",IF(R159>=Y153,\"G2\",IF(R159>=Z153,\"G3\",\"\"))))))","v":""},"","","","",159]
[null,null,"","",{"$f":"'Womens HJ'!$E32","v":""},{"$f":"IF('Womens HJ'!$I$26=0,\"\",'Womens HJ'!$F32)","v":""},{"$f":"IF($F160=\"\",\"\",HLOOKUP(F160,womens_declare,B156,FALSE))","v":""},"",{"$f":"IF('Womens HJ'!$I$26=0,\"\",'Womens HJ'!$I32)","v":""},null,null,{"$f":"IF(AA153=\"T\",AB160,AC160)","v":""},null,{"$f":"'Womens HJ'!$K32","v":""},{"$f":"IF('Womens HJ'!$I$26=0,\"\",'Womens HJ'!$M32)","v":""},{"$f":"IF($O160=\"\",\"\",HLOOKUP(O160,womens_declare,B156,FALSE))","v":""},"",{"$f":"IF('Womens HJ'!$I$26=0,\"\",'Womens HJ'!$AA32)","v":""},null,{"$f":"IF(AA153=\"T\",AD160,AE160)","v":""},null,null,null,null,null,null,null,{"$f":"IF(I160=\"\",\"\",IF(AA153=\"F\",\"\",IF(AA153=\"T\",IF(I160<=X153,\"þ\",IF(I160<=Y153,\"G2\",IF(I160<=Z153,\"G3\",\"\"))))))","v":""},{"$f":"IF(I160=\"\",\"\",IF(AA153=\"T\",\"\",IF(AA153=\"F\",IF(I160>=X153,\"þ\",IF(I160>=Y153,\"G2\",IF(I160>=Z153,\"G3\",\"\"))))))","v":""},{"$f":"IF(R160=\"\",\"\",IF(AA153=\"F\",\"\",IF(AA153=\"T\",IF(R160<=X153,\"þ\",IF(R160<=Y153,\"G2\",IF(R160<=Z153,\"G3\",\"\"))))))","v":""},{"$f":"IF(R160=\"\",\"\",IF(AA153=\"T\",\"\",IF(AA153=\"F\",IF(R160>=X153,\"þ\",IF(R160>=Y153,\"G2\",IF(R160>=Z153,\"G3\",\"\"))))))","v":""},"","","","",160]
[null,null,"","",{"$f":"'Womens HJ'!$E33","v":""},{"$f":"IF('Womens HJ'!$I$26=0,\"\",'Womens HJ'!$F33)","v":""},{"$f":"IF($F161=\"\",\"\",HLOOKUP(F161,womens_declare,B156,FALSE))","v":""},"",{"$f":"IF('Womens HJ'!$I$26=0,\"\",'Womens HJ'!$I33)","v":""},null,null,{"$f":"IF(AA153=\"T\",AB161,AC161)","v":""},null,{"$f":"'Womens HJ'!$K33","v":""},{"$f":"IF('Womens HJ'!$I$26=0,\"\",'Womens HJ'!$M33)","v":""},{"$f":"IF($O161=\"\",\"\",HLOOKUP(O161,womens_declare,B156,FALSE))","v":""},"",{"$f":"IF('Womens HJ'!$I$26=0,\"\",'Womens HJ'!$AA33)","v":""},null,{"$f":"IF(AA153=\"T\",AD161,AE161)","v":""},null,null,null,null,null,null,null,{"$f":"IF(I161=\"\",\"\",IF(AA153=\"F\",\"\",IF(AA153=\"T\",IF(I161<=X153,\"þ\",IF(I161<=Y153,\"G2\",IF(I161<=Z153,\"G3\",\"\"))))))","v":""},{"$f":"IF(I161=\"\",\"\",IF(AA153=\"T\",\"\",IF(AA153=\"F\",IF(I161>=X153,\"þ\",IF(I161>=Y153,\"G2\",IF(I161>=Z153,\"G3\",\"\"))))))","v":""},{"$f":"IF(R161=\"\",\"\",IF(AA153=\"F\",\"\",IF(AA153=\"T\",IF(R161<=X153,\"þ\",IF(R161<=Y153,\"G2\",IF(R161<=Z153,\"G3\",\"\"))))))","v":""},{"$f":"IF(R161=\"\",\"\",IF(AA153=\"T\",\"\",IF(AA153=\"F\",IF(R161>=X153,\"þ\",IF(R161>=Y153,\"G2\",IF(R161>=Z153,\"G3\",\"\"))))))","v":""},"","","","",161]
[null,null,null,null,null,null,null,null,null,null,null,null,null,null,null,null,null,null,null,null,null,null,null,null,null,null,null,null,null,null,null,null,null,null,null,162]
[null,null,{"$f":"VLOOKUP(A164,Handbook!$A$26:$AK$46,36,FALSE)","v":"H"},null,{"$f":"CONCATENATE(VLOOKUP(A164,womens_handbook,3,FALSE),\" A\")","v":"Women's Pole Vault A"},null,null,{"$f":"IF(A164=\"\",\"\",IF(VLOOKUP(A164,Handbook!$A$4:$AI$24,35,FALSE)=\"Y\",\"Wind=\",\"\"))","v":""},null,null,null,null,null,null,{"$f":"CONCATENATE(VLOOKUP(A164,womens_handbook,3,FALSE),\" B\")","v":"Women's Pole Vault B"},null,{"$f":"H163","v":""},{"$f":"IF(I163=\"\",\"\",I163)","v":""},null,null,null,{"$f":"IF($A164=\"\",\"\",VLOOKUP($A164,Handbook!$A$26:$AK$46,21,FALSE))","v":4.2},{"$f":"IF($A164=\"\",\"\",VLOOKUP($A164,Handbook!$A$26:$AK$46,22,FALSE))","v":4.2},{"$f":"IF($A164=\"\",\"\",VLOOKUP($A164,Handbook!$A$26:$AK$46,23,FALSE))","v":2.25},{"$f":"IF($A164=\"\",\"\",VLOOKUP($A164,Handbook!$A$26:$AK$46,24,FALSE))","v":2.25},{"$f":"IF($A164=\"\",\"\",VLOOKUP($A164,Handbook!$A$26:$AK$46,25,FALSE))","v":2.25},{"$f":"IF($A164=\"\",\"\",VLOOKUP($A164,Handbook!$A$26:$AK$46,34,FALSE))","v":"F"},null,null,null,null,null,null,null,null,163]
[12,null,{"$f":"IF(F164=\"\",\"\",IF(F164>10,F164/11,F164))","v":""},{"$f":"IF(O164=\"\",\"\",IF(O164>10,O164/11,O164))","v":""},{"$f":"'Womens PV'!$E26","v":""},{"$f":"IF('Womens PV'!$I$26=0,\"\",'Womens PV'!$F26)","v":""},{"$f":"IF($F164=\"\",\"\",IF($F164>90,VLOOKUP(F164,eventcodes,2,FALSE),HLOOKUP(F164,womens_declare,B166,FALSE)))","v":""},{"$f":"IF($F164=\"\",\"\",IF($F164>90,\"\",VLOOKUP(C164,matchday,2,FALSE)))","v":""},{"$f":"IF('Womens PV'!$I$26=0,\"\",'Womens PV'!$I26)","v":""},{"$f":"IF(I164=\"\",\"\",IF(AA163=\"T\",V164,V165))","v":""},null,{"$f":"IF(AA163=\"T\",AB164,AC164)","v":""},null,{"$f":"'Womens PV'!$K26","v":""},{"$f":"IF('Womens PV'!$I$26=0,\"\",'Womens PV'!$M26)","v":""},{"$f":"IF($O164=\"\",\"\",HLOOKUP(O164,womens_declare,B166,FALSE))","v":""},{"$f":"IF($O164=\"\",\"\",VLOOKUP(D164,matchday,2,FALSE))","v":""},{"$f":"IF('Womens PV'!$I$26=0,\"\",'Womens PV'!$AA26)","v":""},null,{"$f":"IF(AA163=\"T\",AD164,AE164)","v":""},null,{"$f":"IF(AA163=\"F\",\"\",IF(I164<V163,\"LR\",IF(I164=V163,\"=LR\",IF(I164<W163,\"DR\",IF(I164=W163,\"=DR\",\"\")))))","v":""},null,null,null,null,null,{"$f":"IF(I164=\"\",\"\",IF(AA163=\"F\",\"\",IF(AA163=\"T\",IF(I164<=X163,\"þ\",IF(I164<=Y163,\"G2\",IF(I164<=Z163,\"G3\",\"\"))))))","v":""},{"$f":"IF(I164=\"\",\"\",IF(AA163=\"T\",\"\",IF(AA163=\"F\",IF(I164>=X163,\"þ\",IF(I164>=Y163,\"G2\",IF(I164>=Z163,\"G3\",\"\"))))))","v":""},{"$f":"IF(R164=\"\",\"\",IF(AA163=\"F\",\"\",IF(AA163=\"T\",IF(R164<=X163,\"þ\",IF(R164<=Y163,\"G2\",IF(R164<=Z163,\"G3\",\"\"))))))","v":""},{"$f":"IF(R164=\"\",\"\",IF(AA163=\"T\",\"\",IF(AA163=\"F\",IF(R164>=X163,\"þ\",IF(R164>=Y163,\"G2\",IF(R164>=Z163,\"G3\",\"\"))))))","v":""},{"$f":"C164","v":""},{"$f":"IF(F164=\"\",\"\",IF(LEFT(I164,1)=\"D\",0,VLOOKUP(E164,$AQ$4:$AR$40,2,FALSE)))","v":""},{"$f":"D164","v":""},{"$f":"IF(O164=\"\",\"\",IF(LEFT(R164,1)=\"D\",0,VLOOKUP(N164,$AQ$4:$AS$40,3,FALSE)))","v":""},164]
[null,{"$f":"VLOOKUP(A164,Handbook!$A$26:$AK$46,37,FALSE)","v":13},"","",{"$f":"'Womens PV'!$E27","v":""},{"$f":"IF('Womens PV'!$I$26=0,\"\",'Womens PV'!$F27)","v":""},{"$f":"IF($F165=\"\",\"\",HLOOKUP(F165,womens_declare,B166,FALSE))","v":""},{"$f":"IF($F165=\"\",\"\",VLOOKUP(C165,matchday,2,FALSE))","v":""},{"$f":"IF('Womens PV'!$I$26=0,\"\",'Womens PV'!$I27)","v":""},null,null,{"$f":"IF(AA163=\"T\",AB165,AC165)","v":""},null,{"$f":"'Womens PV'!$K27","v":""},{"$f":"IF('Womens PV'!$I$26=0,\"\",'Womens PV'!$M27)","v":""},{"$f":"IF($O165=\"\",\"\",HLOOKUP(O165,womens_declare,B166,FALSE))","v":""},"",{"$f":"IF('Womens PV'!$I$26=0,\"\",'Womens PV'!$AA27)","v":""},null,{"$f":"IF(AA163=\"T\",AD165,AE165)","v":""},null,{"$f":"IF(AA163=\"T\",\"\",IF(I164>V163,\"LR\",IF(I164=V163,\"=LR\",IF(I164>W163,\"DR\",IF(I164=W163,\"=DR\",\"\")))))","v":"LR"},null,null,null,null,null,{"$f":"IF(I165=\"\",\"\",IF(AA163=\"F\",\"\",IF(AA163=\"T\",IF(I165<=X163,\"þ\",IF(I165<=Y163,\"G2\",IF(I165<=Z163,\"G3\",\"\"))))))","v":""},{"$f":"IF(I165=\"\",\"\",IF(AA163=\"T\",\"\",IF(AA163=\"F\",IF(I165>=X163,\"þ\",IF(I165>=Y163,\"G2\",IF(I165>=Z163,\"G3\",\"\"))))))","v":""},{"$f":"IF(R165=\"\",\"\",IF(AA163=\"F\",\"\",IF(AA163=\"T\",IF(R165<=X163,\"þ\",IF(R165<=Y163,\"G2\",IF(R165<=Z163,\"G3\",\"\"))))))","v":""},{"$f":"IF(R165=\"\",\"\",IF(AA163=\"T\",\"\",IF(AA163=\"F\",IF(R165>=X163,\"þ\",IF(R165>=Y163,\"G2\",IF(R165>=Z163,\"G3\",\"\"))))))","v":""},"","","","",165]
[null,{"$f":"VLOOKUP(A164,womens_declare,20,FALSE)","v":13},"","",{"$f":"'Womens PV'!$E28","v":""},{"$f":"IF('Womens PV'!$I$26=0,\"\",'Womens PV'!$F28)","v":""},{"$f":"IF($F166=\"\",\"\",HLOOKUP(F166,womens_declare,B166,FALSE))","v":""},"",{"$f":"IF('Womens PV'!$I$26=0,\"\",'Womens PV'!$I28)","v":""},null,null,{"$f":"IF(AA163=\"T\",AB166,AC166)","v":""},null,{"$f":"'Womens PV'!$K28","v":""},{"$f":"IF('Womens PV'!$I$26=0,\"\",'Womens PV'!$M28)","v":""},{"$f":"IF($O166=\"\",\"\",HLOOKUP(O166,womens_declare,B166,FALSE))","v":""},"",{"$f":"IF('Womens PV'!$I$26=0,\"\",'Womens PV'!$AA28)","v":""},null,{"$f":"IF(AA163=\"T\",AD166,AE166)","v":""},null,null,null,null,null,null,null,{"$f":"IF(I166=\"\",\"\",IF(AA163=\"F\",\"\",IF(AA163=\"T\",IF(I166<=X163,\"þ\",IF(I166<=Y163,\"G2\",IF(I166<=Z163,\"G3\",\"\"))))))","v":""},{"$f":"IF(I166=\"\",\"\",IF(AA163=\"T\",\"\",IF(AA163=\"F\",IF(I166>=X163,\"þ\",IF(I166>=Y163,\"G2\",IF(I166>=Z163,\"G3\",\"\"))))))","v":""},{"$f":"IF(R166=\"\",\"\",IF(AA163=\"F\",\"\",IF(AA163=\"T\",IF(R166<=X163,\"þ\",IF(R166<=Y163,\"G2\",IF(R166<=Z163,\"G3\",\"\"))))))","v":""},{"$f":"IF(R166=\"\",\"\",IF(AA163=\"T\",\"\",IF(AA163=\"F\",IF(R166>=X163,\"þ\",IF(R166>=Y163,\"G2\",IF(R166>=Z163,\"G3\",\"\"))))))","v":""},"","","","",166]
[null,null,"","",{"$f":"'Womens PV'!$E29","v":""},{"$f":"IF('Womens PV'!$I$26=0,\"\",'Womens PV'!$F29)","v":""},{"$f":"IF($F167=\"\",\"\",HLOOKUP(F167,womens_declare,B166,FALSE))","v":""},"",{"$f":"IF('Womens PV'!$I$26=0,\"\",'Womens PV'!$I29)","v":""},null,null,{"$f":"IF(AA163=\"T\",AB167,AC167)","v":""},null,{"$f":"'Womens PV'!$K29","v":""},{"$f":"IF('Womens PV'!$I$26=0,\"\",'Womens PV'!$M29)","v":""},{"$f":"IF($O167=\"\",\"\",HLOOKUP(O167,womens_declare,B166,FALSE))","v":""},"",{"$f":"IF('Womens PV'!$I$26=0,\"\",'Womens PV'!$AA29)","v":""},null,{"$f":"IF(AA163=\"T\",AD167,AE167)","v":""},null,null,null,null,null,null,null,{"$f":"IF(I167=\"\",\"\",IF(AA163=\"F\",\"\",IF(AA163=\"T\",IF(I167<=X163,\"þ\",IF(I167<=Y163,\"G2\",IF(I167<=Z163,\"G3\",\"\"))))))","v":""},{"$f":"IF(I167=\"\",\"\",IF(AA163=\"T\",\"\",IF(AA163=\"F\",IF(I167>=X163,\"þ\",IF(I167>=Y163,\"G2\",IF(I167>=Z163,\"G3\",\"\"))))))","v":""},{"$f":"IF(R167=\"\",\"\",IF(AA163=\"F\",\"\",IF(AA163=\"T\",IF(R167<=X163,\"þ\",IF(R167<=Y163,\"G2\",IF(R167<=Z163,\"G3\",\"\"))))))","v":""},{"$f":"IF(R167=\"\",\"\",IF(AA163=\"T\",\"\",IF(AA163=\"F\",IF(R167>=X163,\"þ\",IF(R167>=Y163,\"G2\",IF(R167>=Z163,\"G3\",\"\"))))))","v":""},"","","","",167]
[null,null,"","",{"$f":"'Womens PV'!$E30","v":""},{"$f":"IF('Womens PV'!$I$26=0,\"\",'Womens PV'!$F30)","v":""},{"$f":"IF($F168=\"\",\"\",HLOOKUP(F168,womens_declare,B166,FALSE))","v":""},"",{"$f":"IF('Womens PV'!$I$26=0,\"\",'Womens PV'!$I30)","v":""},null,null,{"$f":"IF(AA163=\"T\",AB168,AC168)","v":""},null,{"$f":"'Womens PV'!$K30","v":""},{"$f":"IF('Womens PV'!$I$26=0,\"\",'Womens PV'!$M30)","v":""},{"$f":"IF($O168=\"\",\"\",HLOOKUP(O168,womens_declare,B166,FALSE))","v":""},"",{"$f":"IF('Womens PV'!$I$26=0,\"\",'Womens PV'!$AA30)","v":""},null,{"$f":"IF(AA163=\"T\",AD168,AE168)","v":""},null,null,null,null,null,null,null,{"$f":"IF(I168=\"\",\"\",IF(AA163=\"F\",\"\",IF(AA163=\"T\",IF(I168<=X163,\"þ\",IF(I168<=Y163,\"G2\",IF(I168<=Z163,\"G3\",\"\"))))))","v":""},{"$f":"IF(I168=\"\",\"\",IF(AA163=\"T\",\"\",IF(AA163=\"F\",IF(I168>=X163,\"þ\",IF(I168>=Y163,\"G2\",IF(I168>=Z163,\"G3\",\"\"))))))","v":""},{"$f":"IF(R168=\"\",\"\",IF(AA163=\"F\",\"\",IF(AA163=\"T\",IF(R168<=X163,\"þ\",IF(R168<=Y163,\"G2\",IF(R168<=Z163,\"G3\",\"\"))))))","v":""},{"$f":"IF(R168=\"\",\"\",IF(AA163=\"T\",\"\",IF(AA163=\"F\",IF(R168>=X163,\"þ\",IF(R168>=Y163,\"G2\",IF(R168>=Z163,\"G3\",\"\"))))))","v":""},"","","","",168]
[null,null,"","",{"$f":"'Womens PV'!$E31","v":""},{"$f":"IF('Womens PV'!$I$26=0,\"\",'Womens PV'!$F31)","v":""},{"$f":"IF($F169=\"\",\"\",HLOOKUP(F169,womens_declare,B166,FALSE))","v":""},"",{"$f":"IF('Womens PV'!$I$26=0,\"\",'Womens PV'!$I31)","v":""},null,null,{"$f":"IF(AA163=\"T\",AB169,AC169)","v":""},null,{"$f":"'Womens PV'!$K31","v":""},{"$f":"IF('Womens PV'!$I$26=0,\"\",'Womens PV'!$M31)","v":""},{"$f":"IF($O169=\"\",\"\",HLOOKUP(O169,womens_declare,B166,FALSE))","v":""},"",{"$f":"IF('Womens PV'!$I$26=0,\"\",'Womens PV'!$AA31)","v":""},null,{"$f":"IF(AA163=\"T\",AD169,AE169)","v":""},null,null,null,null,null,null,null,{"$f":"IF(I169=\"\",\"\",IF(AA163=\"F\",\"\",IF(AA163=\"T\",IF(I169<=X163,\"þ\",IF(I169<=Y163,\"G2\",IF(I169<=Z163,\"G3\",\"\"))))))","v":""},{"$f":"IF(I169=\"\",\"\",IF(AA163=\"T\",\"\",IF(AA163=\"F\",IF(I169>=X163,\"þ\",IF(I169>=Y163,\"G2\",IF(I169>=Z163,\"G3\",\"\"))))))","v":""},{"$f":"IF(R169=\"\",\"\",IF(AA163=\"F\",\"\",IF(AA163=\"T\",IF(R169<=X163,\"þ\",IF(R169<=Y163,\"G2\",IF(R169<=Z163,\"G3\",\"\"))))))","v":""},{"$f":"IF(R169=\"\",\"\",IF(AA163=\"T\",\"\",IF(AA163=\"F\",IF(R169>=X163,\"þ\",IF(R169>=Y163,\"G2\",IF(R169>=Z163,\"G3\",\"\"))))))","v":""},"","","","",169]
[null,null,"","",{"$f":"'Womens PV'!$E32","v":""},{"$f":"IF('Womens PV'!$I$26=0,\"\",'Womens PV'!$F32)","v":""},{"$f":"IF($F170=\"\",\"\",HLOOKUP(F170,womens_declare,B166,FALSE))","v":""},"",{"$f":"IF('Womens PV'!$I$26=0,\"\",'Womens PV'!$I32)","v":""},null,null,{"$f":"IF(AA163=\"T\",AB170,AC170)","v":""},null,{"$f":"'Womens PV'!$K32","v":""},{"$f":"IF('Womens PV'!$I$26=0,\"\",'Womens PV'!$M32)","v":""},{"$f":"IF($O170=\"\",\"\",HLOOKUP(O170,womens_declare,B166,FALSE))","v":""},"",{"$f":"IF('Womens PV'!$I$26=0,\"\",'Womens PV'!$AA32)","v":""},null,{"$f":"IF(AA163=\"T\",AD170,AE170)","v":""},null,null,null,null,null,null,null,{"$f":"IF(I170=\"\",\"\",IF(AA163=\"F\",\"\",IF(AA163=\"T\",IF(I170<=X163,\"þ\",IF(I170<=Y163,\"G2\",IF(I170<=Z163,\"G3\",\"\"))))))","v":""},{"$f":"IF(I170=\"\",\"\",IF(AA163=\"T\",\"\",IF(AA163=\"F\",IF(I170>=X163,\"þ\",IF(I170>=Y163,\"G2\",IF(I170>=Z163,\"G3\",\"\"))))))","v":""},{"$f":"IF(R170=\"\",\"\",IF(AA163=\"F\",\"\",IF(AA163=\"T\",IF(R170<=X163,\"þ\",IF(R170<=Y163,\"G2\",IF(R170<=Z163,\"G3\",\"\"))))))","v":""},{"$f":"IF(R170=\"\",\"\",IF(AA163=\"T\",\"\",IF(AA163=\"F\",IF(R170>=X163,\"þ\",IF(R170>=Y163,\"G2\",IF(R170>=Z163,\"G3\",\"\"))))))","v":""},"","","","",170]
[null,null,"","",{"$f":"'Womens PV'!$E33","v":""},{"$f":"IF('Womens PV'!$I$26=0,\"\",'Womens PV'!$F33)","v":""},{"$f":"IF($F171=\"\",\"\",HLOOKUP(F171,womens_declare,B166,FALSE))","v":""},"",{"$f":"IF('Womens PV'!$I$26=0,\"\",'Womens PV'!$I33)","v":""},null,null,{"$f":"IF(AA163=\"T\",AB171,AC171)","v":""},null,{"$f":"'Womens HJ'!$K33","v":""},{"$f":"IF('Womens HJ'!$I$26=0,\"\",'Womens HJ'!$M33)","v":""},{"$f":"IF($O171=\"\",\"\",HLOOKUP(O171,womens_declare,B166,FALSE))","v":""},"",{"$f":"IF('Womens HJ'!$I$26=0,\"\",'Womens HJ'!$AA33)","v":""},null,{"$f":"IF(AA163=\"T\",AD171,AE171)","v":""},null,null,null,null,null,null,null,{"$f":"IF(I171=\"\",\"\",IF(AA163=\"F\",\"\",IF(AA163=\"T\",IF(I171<=X163,\"þ\",IF(I171<=Y163,\"G2\",IF(I171<=Z163,\"G3\",\"\"))))))","v":""},{"$f":"IF(I171=\"\",\"\",IF(AA163=\"T\",\"\",IF(AA163=\"F\",IF(I171>=X163,\"þ\",IF(I171>=Y163,\"G2\",IF(I171>=Z163,\"G3\",\"\"))))))","v":""},{"$f":"IF(R171=\"\",\"\",IF(AA163=\"F\",\"\",IF(AA163=\"T\",IF(R171<=X163,\"þ\",IF(R171<=Y163,\"G2\",IF(R171<=Z163,\"G3\",\"\"))))))","v":""},{"$f":"IF(R171=\"\",\"\",IF(AA163=\"T\",\"\",IF(AA163=\"F\",IF(R171>=X163,\"þ\",IF(R171>=Y163,\"G2\",IF(R171>=Z163,\"G3\",\"\"))))))","v":""},"","","","",171]
[null,null,null,null,null,null,null,null,null,null,null,null,null,null,null,null,null,null,null,null,null,null,null,null,null,null,null,null,null,null,null,null,null,null,null,172]
[null,null,null,null,{"$f":"VLOOKUP(A174,womens_handbook,3,FALSE)","v":"Women's 4x100m Relay"},null,null,null,null,null,null,null,null,null,null,null,null,null,null,null,null,{"$f":"IF($A174=\"\",\"\",VLOOKUP($A174,Handbook!$A$26:$AK$46,21,FALSE))","v":44.4},{"$f":"IF($A174=\"\",\"\",VLOOKUP($A174,Handbook!$A$26:$AK$46,22,FALSE))","v":44.6},{"$f":"IF($A174=\"\",\"\",VLOOKUP($A174,Handbook!$A$26:$AK$46,23,FALSE))","v":52},{"$f":"IF($A174=\"\",\"\",VLOOKUP($A174,Handbook!$A$26:$AK$46,24,FALSE))","v":52},{"$f":"IF($A174=\"\",\"\",VLOOKUP($A174,Handbook!$A$26:$AK$46,25,FALSE))","v":52},{"$f":"IF($A174=\"\",\"\",VLOOKUP($A174,Handbook!$A$26:$AK$46,34,FALSE))","v":"T"},null,null,null,null,null,null,null,null,173]
[9,null,{"$f":"IF(F174=\"\",\"\",IF(F174>10,F174/11,F174))","v":""},{"$f":"IF(O174=\"\",\"\",IF(O174>10,O174/11,O174))","v":""},1,null,{"$f":"IF($F174=\"\",\"\",IF($F174>90,VLOOKUP(F174,eventcodes,2,FALSE),VLOOKUP(C174,matchday,2,FALSE)))","v":""},{"$f":"IF($F174=\"\",\"\",IF($F174>90,\"\",HLOOKUP($C174,womens_declare,$B176,FALSE)))","v":""},{"$f":"IF($F174=\"\",\"\",IF($F174>90,\"\",HLOOKUP($C174,womens_declare,$B176+1,FALSE)))","v":""},null,null,null,null,{"$f":"IF($F174=\"\",\"\",IF($F174>90,\"\",HLOOKUP($C174,womens_declare,$B176+2,FALSE)))","v":""},null,null,{"$f":"IF($F174=\"\",\"\",IF($F174>90,\"\",HLOOKUP($C174,womens_declare,$B176+3,FALSE)))","v":""},null,null,{"$f":"IF(AA173=\"T\",AD174,AE174)","v":""},null,{"$f":"IF(AA173=\"F\",\"\",IF(R174<V173,\"LR\",IF(R174=V173,\"=LR\",IF(R174<W173,\"DR\",IF(R174=W173,\"=DR\",\"\")))))","v":"LR"},null,null,null,null,null,null,null,{"$f":"IF(R174=\"\",\"\",IF(AA173=\"F\",\"\",IF(AA173=\"T\",IF(R174<=X173,\"þ\",IF(R174<=Y173,\"G2\",IF(R174<=Z173,\"G3\",\"\"))))))","v":""},{"$f":"IF(R174=\"\",\"\",IF(AA173=\"T\",\"\",IF(AA173=\"F\",IF(R174>=X173,\"þ\",IF(R174>=Y173,\"G2\",IF(R174>=Z173,\"G3\",\"\"))))))","v":""},{"$f":"C174","v":""},{"$f":"IF(F174=\"\",\"\",IF(LEFT(R174,1)=\"D\",0,VLOOKUP(E174,$AQ$4:$AR$40,2,FALSE)))","v":""},{"$f":"D174","v":""},{"$f":"IF(O174=\"\",\"\",IF(LEFT(R174,1)=\"D\",0,VLOOKUP(N174,$AQ$4:$AS$40,3,FALSE)))","v":""},174]
[null,{"$f":"VLOOKUP(A174,Handbook!$A$26:$AK$46,37,FALSE)","v":10},"","",2,null,{"$f":"IF($F175=\"\",\"\",VLOOKUP(C175,matchday,2,FALSE))","v":""},{"$f":"IF($F175=\"\",\"\",IF($F175>90,\"\",HLOOKUP($C175,womens_declare,$B176,FALSE)))","v":""},{"$f":"IF($F175=\"\",\"\",IF($F175>90,\"\",HLOOKUP($C175,womens_declare,$B176+1,FALSE)))","v":""},null,null,null,null,{"$f":"IF($F175=\"\",\"\",IF($F175>90,\"\",HLOOKUP($C175,womens_declare,$B176+2,FALSE)))","v":""},null,null,{"$f":"IF($F175=\"\",\"\",IF($F175>90,\"\",HLOOKUP($C175,womens_declare,$B176+3,FALSE)))","v":""},null,{"$f":"IF(R175=\"\",\"\",IF(AND(AA173=\"T\",R175<R174),\"X\",IF(AND(AA173=\"F\",R175>R174),\"X\",\"\")))","v":""},{"$f":"IF(AA173=\"T\",AD175,AE175)","v":""},null,{"$f":"IF(AA173=\"T\",\"\",IF(R174>V173,\"LR\",IF(R174=V173,\"=LR\",IF(R174>W173,\"DR\",IF(R174=W173,\"=DR\",\"\")))))","v":""},null,null,null,null,null,null,null,{"$f":"IF(R175=\"\",\"\",IF(AA173=\"F\",\"\",IF(AA173=\"T\",IF(R175<=X173,\"þ\",IF(R175<=Y173,\"G2\",IF(R175<=Z173,\"G3\",\"\"))))))","v":""},{"$f":"IF(R175=\"\",\"\",IF(AA173=\"T\",\"\",IF(AA173=\"F\",IF(R175>=X173,\"þ\",IF(R175>=Y173,\"G2\",IF(R175>=Z173,\"G3\",\"\"))))))","v":""},"","","","",175]
[null,{"$f":"VLOOKUP(A174,womens_declare,20,FALSE)","v":22},"","",3,null,"",{"$f":"IF($F176=\"\",\"\",IF($F176>90,\"\",HLOOKUP($C176,womens_declare,$B176,FALSE)))","v":""},{"$f":"IF($F176=\"\",\"\",IF($F176>90,\"\",HLOOKUP($C176,womens_declare,$B176+1,FALSE)))","v":""},null,null,null,null,{"$f":"IF($F176=\"\",\"\",IF($F176>90,\"\",HLOOKUP($C176,womens_declare,$B176+2,FALSE)))","v":""},null,null,{"$f":"IF($F176=\"\",\"\",IF($F176>90,\"\",HLOOKUP($C176,womens_declare,$B176+3,FALSE)))","v":""},null,{"$f":"IF(R176=\"\",\"\",IF(AND(AA173=\"T\",R176<R175),\"X\",IF(AND(AA173=\"F\",R176>R175),\"X\",\"\")))","v":""},{"$f":"IF(AA173=\"T\",AD176,AE176)","v":""},null,null,null,null,null,null,null,null,null,{"$f":"IF(R176=\"\",\"\",IF(AA173=\"F\",\"\",IF(AA173=\"T\",IF(R176<=X173,\"þ\",IF(R176<=Y173,\"G2\",IF(R176<=Z173,\"G3\",\"\"))))))","v":""},{"$f":"IF(R176=\"\",\"\",IF(AA173=\"T\",\"\",IF(AA173=\"F\",IF(R176>=X173,\"þ\",IF(R176>=Y173,\"G2\",IF(R176>=Z173,\"G3\",\"\"))))))","v":""},"","","","",176]
[null,null,"","",4,null,"",{"$f":"IF($F177=\"\",\"\",IF($F177>90,\"\",HLOOKUP($C177,womens_declare,$B176,FALSE)))","v":""},{"$f":"IF($F177=\"\",\"\",IF($F177>90,\"\",HLOOKUP($C177,womens_declare,$B176+1,FALSE)))","v":""},null,null,null,null,{"$f":"IF($F177=\"\",\"\",IF($F177>90,\"\",HLOOKUP($C177,womens_declare,$B176+2,FALSE)))","v":""},null,null,{"$f":"IF($F177=\"\",\"\",IF($F177>90,\"\",HLOOKUP($C177,womens_declare,$B176+3,FALSE)))","v":""},null,{"$f":"IF(R177=\"\",\"\",IF(AND(AA173=\"T\",R177<R176),\"X\",IF(AND(AA173=\"F\",R177>R176),\"X\",\"\")))","v":""},{"$f":"IF(AA173=\"T\",AD177,AE177)","v":""},null,null,null,null,null,null,null,null,null,{"$f":"IF(R177=\"\",\"\",IF(AA173=\"F\",\"\",IF(AA173=\"T\",IF(R177<=X173,\"þ\",IF(R177<=Y173,\"G2\",IF(R177<=Z173,\"G3\",\"\"))))))","v":""},{"$f":"IF(R177=\"\",\"\",IF(AA173=\"T\",\"\",IF(AA173=\"F\",IF(R177>=X173,\"þ\",IF(R177>=Y173,\"G2\",IF(R177>=Z173,\"G3\",\"\"))))))","v":""},"","","","",177]
[null,null,"","",5,null,"",{"$f":"IF($F178=\"\",\"\",IF($F178>90,\"\",HLOOKUP($C178,womens_declare,$B176,FALSE)))","v":""},{"$f":"IF($F178=\"\",\"\",IF($F178>90,\"\",HLOOKUP($C178,womens_declare,$B176+1,FALSE)))","v":""},null,null,null,null,{"$f":"IF($F178=\"\",\"\",IF($F178>90,\"\",HLOOKUP($C178,womens_declare,$B176+2,FALSE)))","v":""},null,null,{"$f":"IF($F178=\"\",\"\",IF($F178>90,\"\",HLOOKUP($C178,womens_declare,$B176+3,FALSE)))","v":""},null,{"$f":"IF(R178=\"\",\"\",IF(AND(AA173=\"T\",R178<R177),\"X\",IF(AND(AA173=\"F\",R178>R177),\"X\",\"\")))","v":""},{"$f":"IF(AA173=\"T\",AD178,AE178)","v":""},null,null,null,null,null,null,null,null,null,{"$f":"IF(R178=\"\",\"\",IF(AA173=\"F\",\"\",IF(AA173=\"T\",IF(R178<=X173,\"þ\",IF(R178<=Y173,\"G2\",IF(R178<=Z173,\"G3\",\"\"))))))","v":""},{"$f":"IF(R178=\"\",\"\",IF(AA173=\"T\",\"\",IF(AA173=\"F\",IF(R178>=X173,\"þ\",IF(R178>=Y173,\"G2\",IF(R178>=Z173,\"G3\",\"\"))))))","v":""},"","","","",178]
[null,null,"","",6,null,"",{"$f":"IF($F179=\"\",\"\",IF($F179>90,\"\",HLOOKUP($C179,womens_declare,$B176,FALSE)))","v":""},{"$f":"IF($F179=\"\",\"\",IF($F179>90,\"\",HLOOKUP($C179,womens_declare,$B176+1,FALSE)))","v":""},null,null,null,null,{"$f":"IF($F179=\"\",\"\",IF($F179>90,\"\",HLOOKUP($C179,womens_declare,$B176+2,FALSE)))","v":""},null,null,{"$f":"IF($F179=\"\",\"\",IF($F179>90,\"\",HLOOKUP($C179,womens_declare,$B176+3,FALSE)))","v":""},null,{"$f":"IF(R179=\"\",\"\",IF(AND(AA173=\"T\",R179<R178),\"X\",IF(AND(AA173=\"F\",R179>R178),\"X\",\"\")))","v":""},{"$f":"IF(AA173=\"T\",AD179,AE179)","v":""},null,null,null,null,null,null,null,null,null,{"$f":"IF(R179=\"\",\"\",IF(AA173=\"F\",\"\",IF(AA173=\"T\",IF(R179<=X173,\"þ\",IF(R179<=Y173,\"G2\",IF(R179<=Z173,\"G3\",\"\"))))))","v":""},{"$f":"IF(R179=\"\",\"\",IF(AA173=\"T\",\"\",IF(AA173=\"F\",IF(R179>=X173,\"þ\",IF(R179>=Y173,\"G2\",IF(R179>=Z173,\"G3\",\"\"))))))","v":""},"","","","",179]
[null,null,"","",7,null,"",{"$f":"IF($F180=\"\",\"\",IF($F180>90,\"\",HLOOKUP($C180,womens_declare,$B176,FALSE)))","v":""},{"$f":"IF($F180=\"\",\"\",IF($F180>90,\"\",HLOOKUP($C180,womens_declare,$B176+1,FALSE)))","v":""},null,null,null,null,{"$f":"IF($F180=\"\",\"\",IF($F180>90,\"\",HLOOKUP($C180,womens_declare,$B176+2,FALSE)))","v":""},null,null,{"$f":"IF($F180=\"\",\"\",IF($F180>90,\"\",HLOOKUP($C180,womens_declare,$B176+3,FALSE)))","v":""},null,{"$f":"IF(R180=\"\",\"\",IF(AND(AA173=\"T\",R180<R179),\"X\",IF(AND(AA173=\"F\",R180>R179),\"X\",\"\")))","v":""},{"$f":"IF(AA173=\"T\",AD180,AE180)","v":""},null,null,null,null,null,null,null,null,null,{"$f":"IF(R180=\"\",\"\",IF(AA173=\"F\",\"\",IF(AA173=\"T\",IF(R180<=X173,\"þ\",IF(R180<=Y173,\"G2\",IF(R180<=Z173,\"G3\",\"\"))))))","v":""},{"$f":"IF(R180=\"\",\"\",IF(AA173=\"T\",\"\",IF(AA173=\"F\",IF(R180>=X173,\"þ\",IF(R180>=Y173,\"G2\",IF(R180>=Z173,\"G3\",\"\"))))))","v":""},"","","","",180]
[null,null,"","",8,null,"",{"$f":"IF($F181=\"\",\"\",IF($F181>90,\"\",HLOOKUP($C181,womens_declare,$B176,FALSE)))","v":""},{"$f":"IF($F181=\"\",\"\",IF($F181>90,\"\",HLOOKUP($C181,womens_declare,$B176+1,FALSE)))","v":""},null,null,null,null,{"$f":"IF($F181=\"\",\"\",IF($F181>90,\"\",HLOOKUP($C181,womens_declare,$B176+2,FALSE)))","v":""},null,null,{"$f":"IF($F181=\"\",\"\",IF($F181>90,\"\",HLOOKUP($C181,womens_declare,$B176+3,FALSE)))","v":""},null,{"$f":"IF(R181=\"\",\"\",IF(AND(AA173=\"T\",R181<R180),\"X\",IF(AND(AA173=\"F\",R181>R180),\"X\",\"\")))","v":""},{"$f":"IF(AA173=\"T\",AD181,AE181)","v":""},null,null,null,null,null,null,null,null,null,{"$f":"IF(R181=\"\",\"\",IF(AA173=\"F\",\"\",IF(AA173=\"T\",IF(R181<=X173,\"þ\",IF(R181<=Y173,\"G2\",IF(R181<=Z173,\"G3\",\"\"))))))","v":""},{"$f":"IF(R181=\"\",\"\",IF(AA173=\"T\",\"\",IF(AA173=\"F\",IF(R181>=X173,\"þ\",IF(R181>=Y173,\"G2\",IF(R181>=Z173,\"G3\",\"\"))))))","v":""},"","","","",181]
[null,null,null,null,null,null,null,null,null,null,null,null,null,null,null,null,null,null,null,null,null,null,null,null,null,null,null,null,null,null,null,null,null,null,null,182]
[null,null,null,null,{"$f":"VLOOKUP(A184,womens_handbook,3,FALSE)","v":"Women's 4x400m Relay"},null,null,null,null,null,null,null,null,null,null,null,null,null,null,null,null,{"$f":"IF($A184=\"\",\"\",VLOOKUP($A184,Handbook!$A$26:$AK$46,21,FALSE))","v":"00:03:34.560"},{"$f":"IF($A184=\"\",\"\",VLOOKUP($A184,Handbook!$A$26:$AK$46,22,FALSE))","v":"00:03:34.560"},{"$f":"IF($A184=\"\",\"\",VLOOKUP($A184,Handbook!$A$26:$AK$46,23,FALSE))","v":"00:04:15"},{"$f":"IF($A184=\"\",\"\",VLOOKUP($A184,Handbook!$A$26:$AK$46,24,FALSE))","v":"00:04:15"},{"$f":"IF($A184=\"\",\"\",VLOOKUP($A184,Handbook!$A$26:$AK$46,25,FALSE))","v":"00:04:15"},{"$f":"IF($A184=\"\",\"\",VLOOKUP($A184,Handbook!$A$26:$AK$46,34,FALSE))","v":"T"},null,null,null,null,null,null,null,null,183]
[10,null,{"$f":"IF(F184=\"\",\"\",IF(F184>10,F184/11,F184))","v":""},{"$f":"IF(O184=\"\",\"\",IF(O184>10,O184/11,O184))","v":""},1,null,{"$f":"IF($F184=\"\",\"\",IF($F184>90,VLOOKUP(F184,eventcodes,2,FALSE),VLOOKUP(C184,matchday,2,FALSE)))","v":""},{"$f":"IF($F184=\"\",\"\",IF($F184>90,\"\",HLOOKUP($C184,womens_declare,$B186,FALSE)))","v":""},{"$f":"IF($F184=\"\",\"\",IF($F184>90,\"\",HLOOKUP($C184,womens_declare,$B186+1,FALSE)))","v":""},null,null,null,null,{"$f":"IF($F184=\"\",\"\",IF($F184>90,\"\",HLOOKUP($C184,womens_declare,$B186+2,FALSE)))","v":""},null,null,{"$f":"IF($F184=\"\",\"\",IF($F184>90,\"\",HLOOKUP($C184,womens_declare,$B186+3,FALSE)))","v":""},null,null,{"$f":"IF(AA183=\"T\",AD184,AE184)","v":""},null,{"$f":"IF(AA183=\"F\",\"\",IF(R184<V183,\"LR\",IF(R184=V183,\"=LR\",IF(R184<W183,\"DR\",IF(R184=W183,\"=DR\",\"\")))))","v":"LR"},null,null,null,null,null,null,null,{"$f":"IF(R184=\"\",\"\",IF(AA183=\"F\",\"\",IF(AA183=\"T\",IF(R184<=X183,\"þ\",IF(R184<=Y183,\"G2\",IF(R184<=Z183,\"G3\",\"\"))))))","v":""},{"$f":"IF(R184=\"\",\"\",IF(AA183=\"T\",\"\",IF(AA183=\"F\",IF(R184>=X183,\"þ\",IF(R184>=Y183,\"G2\",IF(R184>=Z183,\"G3\",\"\"))))))","v":""},{"$f":"C184","v":""},{"$f":"IF(F184=\"\",\"\",IF(LEFT(R184,1)=\"D\",0,VLOOKUP(E184,$AQ$4:$AR$40,2,FALSE)))","v":""},{"$f":"D184","v":""},{"$f":"IF(O184=\"\",\"\",IF(LEFT(R184,1)=\"D\",0,VLOOKUP(N184,$AQ$4:$AS$40,3,FALSE)))","v":""},184]
[null,{"$f":"VLOOKUP(A184,Handbook!$A$26:$AK$46,37,FALSE)","v":11},"","",2,null,{"$f":"IF($F185=\"\",\"\",VLOOKUP(C185,matchday,2,FALSE))","v":""},{"$f":"IF($F185=\"\",\"\",IF($F185>90,\"\",HLOOKUP($C185,womens_declare,$B186,FALSE)))","v":""},{"$f":"IF($F185=\"\",\"\",IF($F185>90,\"\",HLOOKUP($C185,womens_declare,$B186+1,FALSE)))","v":""},null,null,null,null,{"$f":"IF($F185=\"\",\"\",IF($F185>90,\"\",HLOOKUP($C185,womens_declare,$B186+2,FALSE)))","v":""},null,null,{"$f":"IF($F185=\"\",\"\",IF($F185>90,\"\",HLOOKUP($C185,womens_declare,$B186+3,FALSE)))","v":""},null,{"$f":"IF(R185=\"\",\"\",IF(AND(AA183=\"T\",R185<R184),\"X\",IF(AND(AA183=\"F\",R185>R184),\"X\",\"\")))","v":""},{"$f":"IF(AA183=\"T\",AD185,AE185)","v":""},null,{"$f":"IF(AA183=\"T\",\"\",IF(R184>V183,\"LR\",IF(R184=V183,\"=LR\",IF(R184>W183,\"DR\",IF(R184=W183,\"=DR\",\"\")))))","v":""},null,null,null,null,null,null,null,{"$f":"IF(R185=\"\",\"\",IF(AA183=\"F\",\"\",IF(AA183=\"T\",IF(R185<=X183,\"þ\",IF(R185<=Y183,\"G2\",IF(R185<=Z183,\"G3\",\"\"))))))","v":""},{"$f":"IF(R185=\"\",\"\",IF(AA183=\"T\",\"\",IF(AA183=\"F\",IF(R185>=X183,\"þ\",IF(R185>=Y183,\"G2\",IF(R185>=Z183,\"G3\",\"\"))))))","v":""},"","","","",185]
[null,{"$f":"VLOOKUP(A184,womens_declare,20,FALSE)","v":26},"","",3,null,"",{"$f":"IF($F186=\"\",\"\",IF($F186>90,\"\",HLOOKUP($C186,womens_declare,$B186,FALSE)))","v":""},{"$f":"IF($F186=\"\",\"\",IF($F186>90,\"\",HLOOKUP($C186,womens_declare,$B186+1,FALSE)))","v":""},null,null,null,null,{"$f":"IF($F186=\"\",\"\",IF($F186>90,\"\",HLOOKUP($C186,womens_declare,$B186+2,FALSE)))","v":""},null,null,{"$f":"IF($F186=\"\",\"\",IF($F186>90,\"\",HLOOKUP($C186,womens_declare,$B186+3,FALSE)))","v":""},null,{"$f":"IF(R186=\"\",\"\",IF(AND(AA183=\"T\",R186<R185),\"X\",IF(AND(AA183=\"F\",R186>R185),\"X\",\"\")))","v":""},{"$f":"IF(AA183=\"T\",AD186,AE186)","v":""},null,null,null,null,null,null,null,null,null,{"$f":"IF(R186=\"\",\"\",IF(AA183=\"F\",\"\",IF(AA183=\"T\",IF(R186<=X183,\"þ\",IF(R186<=Y183,\"G2\",IF(R186<=Z183,\"G3\",\"\"))))))","v":""},{"$f":"IF(R186=\"\",\"\",IF(AA183=\"T\",\"\",IF(AA183=\"F\",IF(R186>=X183,\"þ\",IF(R186>=Y183,\"G2\",IF(R186>=Z183,\"G3\",\"\"))))))","v":""},"","","","",186]
[null,null,"","",4,null,"",{"$f":"IF($F187=\"\",\"\",IF($F187>90,\"\",HLOOKUP($C187,womens_declare,$B186,FALSE)))","v":""},{"$f":"IF($F187=\"\",\"\",IF($F187>90,\"\",HLOOKUP($C187,womens_declare,$B186+1,FALSE)))","v":""},null,null,null,null,{"$f":"IF($F187=\"\",\"\",IF($F187>90,\"\",HLOOKUP($C187,womens_declare,$B186+2,FALSE)))","v":""},null,null,{"$f":"IF($F187=\"\",\"\",IF($F187>90,\"\",HLOOKUP($C187,womens_declare,$B186+3,FALSE)))","v":""},null,{"$f":"IF(R187=\"\",\"\",IF(AND(AA183=\"T\",R187<R186),\"X\",IF(AND(AA183=\"F\",R187>R186),\"X\",\"\")))","v":""},{"$f":"IF(AA183=\"T\",AD187,AE187)","v":""},null,null,null,null,null,null,null,null,null,{"$f":"IF(R187=\"\",\"\",IF(AA183=\"F\",\"\",IF(AA183=\"T\",IF(R187<=X183,\"þ\",IF(R187<=Y183,\"G2\",IF(R187<=Z183,\"G3\",\"\"))))))","v":""},{"$f":"IF(R187=\"\",\"\",IF(AA183=\"T\",\"\",IF(AA183=\"F\",IF(R187>=X183,\"þ\",IF(R187>=Y183,\"G2\",IF(R187>=Z183,\"G3\",\"\"))))))","v":""},"","","","",187]
[null,null,"","",5,null,"",{"$f":"IF($F188=\"\",\"\",IF($F188>90,\"\",HLOOKUP($C188,womens_declare,$B186,FALSE)))","v":""},{"$f":"IF($F188=\"\",\"\",IF($F188>90,\"\",HLOOKUP($C188,womens_declare,$B186+1,FALSE)))","v":""},null,null,null,null,{"$f":"IF($F188=\"\",\"\",IF($F188>90,\"\",HLOOKUP($C188,womens_declare,$B186+2,FALSE)))","v":""},null,null,{"$f":"IF($F188=\"\",\"\",IF($F188>90,\"\",HLOOKUP($C188,womens_declare,$B186+3,FALSE)))","v":""},null,{"$f":"IF(R188=\"\",\"\",IF(AND(AA183=\"T\",R188<R187),\"X\",IF(AND(AA183=\"F\",R188>R187),\"X\",\"\")))","v":""},{"$f":"IF(AA183=\"T\",AD188,AE188)","v":""},null,null,null,null,null,null,null,null,null,{"$f":"IF(R188=\"\",\"\",IF(AA183=\"F\",\"\",IF(AA183=\"T\",IF(R188<=X183,\"þ\",IF(R188<=Y183,\"G2\",IF(R188<=Z183,\"G3\",\"\"))))))","v":""},{"$f":"IF(R188=\"\",\"\",IF(AA183=\"T\",\"\",IF(AA183=\"F\",IF(R188>=X183,\"þ\",IF(R188>=Y183,\"G2\",IF(R188>=Z183,\"G3\",\"\"))))))","v":""},"","","","",188]
[null,null,"","",6,null,"",{"$f":"IF($F189=\"\",\"\",IF($F189>90,\"\",HLOOKUP($C189,womens_declare,$B186,FALSE)))","v":""},{"$f":"IF($F189=\"\",\"\",IF($F189>90,\"\",HLOOKUP($C189,womens_declare,$B186+1,FALSE)))","v":""},null,null,null,null,{"$f":"IF($F189=\"\",\"\",IF($F189>90,\"\",HLOOKUP($C189,womens_declare,$B186+2,FALSE)))","v":""},null,null,{"$f":"IF($F189=\"\",\"\",IF($F189>90,\"\",HLOOKUP($C189,womens_declare,$B186+3,FALSE)))","v":""},null,{"$f":"IF(R189=\"\",\"\",IF(AND(AA183=\"T\",R189<R188),\"X\",IF(AND(AA183=\"F\",R189>R188),\"X\",\"\")))","v":""},{"$f":"IF(AA183=\"T\",AD189,AE189)","v":""},null,null,null,null,null,null,null,null,null,{"$f":"IF(R189=\"\",\"\",IF(AA183=\"F\",\"\",IF(AA183=\"T\",IF(R189<=X183,\"þ\",IF(R189<=Y183,\"G2\",IF(R189<=Z183,\"G3\",\"\"))))))","v":""},{"$f":"IF(R189=\"\",\"\",IF(AA183=\"T\",\"\",IF(AA183=\"F\",IF(R189>=X183,\"þ\",IF(R189>=Y183,\"G2\",IF(R189>=Z183,\"G3\",\"\"))))))","v":""},"","","","",189]
[null,null,"","",7,null,"",{"$f":"IF($F190=\"\",\"\",IF($F190>90,\"\",HLOOKUP($C190,womens_declare,$B186,FALSE)))","v":""},{"$f":"IF($F190=\"\",\"\",IF($F190>90,\"\",HLOOKUP($C190,womens_declare,$B186+1,FALSE)))","v":""},null,null,null,null,{"$f":"IF($F190=\"\",\"\",IF($F190>90,\"\",HLOOKUP($C190,womens_declare,$B186+2,FALSE)))","v":""},null,null,{"$f":"IF($F190=\"\",\"\",IF($F190>90,\"\",HLOOKUP($C190,womens_declare,$B186+3,FALSE)))","v":""},null,{"$f":"IF(R190=\"\",\"\",IF(AND(AA183=\"T\",R190<R189),\"X\",IF(AND(AA183=\"F\",R190>R189),\"X\",\"\")))","v":""},{"$f":"IF(AA183=\"T\",AD190,AE190)","v":""},null,null,null,null,null,null,null,null,null,{"$f":"IF(R190=\"\",\"\",IF(AA183=\"F\",\"\",IF(AA183=\"T\",IF(R190<=X183,\"þ\",IF(R190<=Y183,\"G2\",IF(R190<=Z183,\"G3\",\"\"))))))","v":""},{"$f":"IF(R190=\"\",\"\",IF(AA183=\"T\",\"\",IF(AA183=\"F\",IF(R190>=X183,\"þ\",IF(R190>=Y183,\"G2\",IF(R190>=Z183,\"G3\",\"\"))))))","v":""},"","","","",190]
[null,null,"","",8,null,"",{"$f":"IF($F191=\"\",\"\",IF($F191>90,\"\",HLOOKUP($C191,womens_declare,$B186,FALSE)))","v":""},{"$f":"IF($F191=\"\",\"\",IF($F191>90,\"\",HLOOKUP($C191,womens_declare,$B186+1,FALSE)))","v":""},null,null,null,null,{"$f":"IF($F191=\"\",\"\",IF($F191>90,\"\",HLOOKUP($C191,womens_declare,$B186+2,FALSE)))","v":""},null,null,{"$f":"IF($F191=\"\",\"\",IF($F191>90,\"\",HLOOKUP($C191,womens_declare,$B186+3,FALSE)))","v":""},null,{"$f":"IF(R191=\"\",\"\",IF(AND(AA183=\"T\",R191<R190),\"X\",IF(AND(AA183=\"F\",R191>R190),\"X\",\"\")))","v":""},{"$f":"IF(AA183=\"T\",AD191,AE191)","v":""},null,null,null,null,null,null,null,null,null,{"$f":"IF(R191=\"\",\"\",IF(AA183=\"F\",\"\",IF(AA183=\"T\",IF(R191<=X183,\"þ\",IF(R191<=Y183,\"G2\",IF(R191<=Z183,\"G3\",\"\"))))))","v":""},{"$f":"IF(R191=\"\",\"\",IF(AA183=\"T\",\"\",IF(AA183=\"F\",IF(R191>=X183,\"þ\",IF(R191>=Y183,\"G2\",IF(R191>=Z183,\"G3\",\"\"))))))","v":""},"","","","",191]
[]
[null,null,null,null,{"$f":"CONCATENATE(VLOOKUP(A194,womens_handbook,3,FALSE),\" Non Scoring\")","v":"Women's 100m Non Scoring"},null,null,{"$f":"IF(A194=\"\",\"\",IF(VLOOKUP(A194,Handbook!$A$4:$AI$24,35,FALSE)=\"Y\",\"Wind=\",\"\"))","v":"Wind="},null,null,null,null,null,{"$f":"CONCATENATE(VLOOKUP(A194,womens_handbook,3,FALSE),\" Non Scoring\")","v":"Women's 100m Non Scoring"},null,null,{"$f":"H193","v":"Wind="},null,null,null,null,{"$f":"IF($A194=\"\",\"\",VLOOKUP($A194,Handbook!$A$26:$AK$46,21,FALSE))","v":11.1},{"$f":"IF($A194=\"\",\"\",VLOOKUP($A194,Handbook!$A$26:$AK$46,22,FALSE))","v":11.3},{"$f":"IF($A194=\"\",\"\",VLOOKUP($A194,Handbook!$A$26:$AK$46,23,FALSE))","v":13},{"$f":"IF($A194=\"\",\"\",VLOOKUP($A194,Handbook!$A$26:$AK$46,24,FALSE))","v":13},{"$f":"IF($A194=\"\",\"\",VLOOKUP($A194,Handbook!$A$26:$AK$46,25,FALSE))","v":13},{"$f":"IF($A194=\"\",\"\",VLOOKUP($A194,Handbook!$A$26:$AK$46,34,FALSE))","v":"T"},null,null,null,null,null,null,null,null,3,null,null,null,null,null,null,null,"A","B"]
[3,null,{"$f":"IF(F194=\"\",\"\",IF(F194>10,F194/11,F194))","v":""},{"$f":"IF(O194=\"\",\"\",IF(O194>10,O194/11,O194))","v":""},1,null,null,null,null,{"$f":"IF(I194=\"\",\"\",IF(AA193=\"T\",V194,V195))","v":""},null,{"$f":"IF(AA193=\"T\",AB194,AC194)","v":""},null,1,null,null,null,null,null,{"$f":"IF(AA193=\"T\",AD194,AE194)","v":""},null,{"$f":"IF(AA193=\"F\",\"\",IF(I194<V193,\"LR\",IF(I194=V193,\"=LR\",IF(I194<W193,\"DR\",IF(I194=W193,\"=DR\",\"\")))))","v":"LR"},null,null,null,null,null,{"$f":"IF(I194=\"\",\"\",IF(AA193=\"F\",\"\",IF(AA193=\"T\",IF(I194<=X193,\"þ\",IF(I194<=Y193,\"G2\",IF(I194<=Z193,\"G3\",\"\"))))))","v":""},{"$f":"IF(I194=\"\",\"\",IF(AA193=\"T\",\"\",IF(AA193=\"F\",IF(I194>=X193,\"þ\",IF(I194>=Y193,\"G2\",IF(I194>=Z193,\"G3\",\"\"))))))","v":""},{"$f":"IF(R194=\"\",\"\",IF(AA193=\"F\",\"\",IF(AA193=\"T\",IF(R194<=X193,\"þ\",IF(R194<=Y193,\"G2\",IF(R194<=Z193,\"G3\",\"\"))))))","v":""},{"$f":"IF(R194=\"\",\"\",IF(AA193=\"T\",\"\",IF(AA193=\"F\",IF(R194>=X193,\"þ\",IF(R194>=Y193,\"G2\",IF(R194>=Z193,\"G3\",\"\"))))))","v":""},{"$f":"C194","v":""},{"$f":"IF(F194=\"\",\"\",IF(LEFT(I194,1)=\"D\",0,VLOOKUP(E194,$AQ$4:$AR$40,2,FALSE)))","v":""},{"$f":"D194","v":""},{"$f":"IF(O194=\"\",\"\",IF(LEFT(R194,1)=\"D\",0,VLOOKUP(N194,$AQ$4:$AS$40,3,FALSE)))","v":""},4,null,{"$f":"'Match Day'!B195","v":0},null,null,null,null,"Posn","Points","Points"]
[null,{"$f":"VLOOKUP(A194,Handbook!$A$26:$AK$46,37,FALSE)","v":4},"","",2,null,null,null,null,{"$f":"IF(I195=\"\",\"\",IF(AND(AA193=\"T\",I195<I194),\"X\",IF(AND(AA193=\"F\",I195>I194),\"X\",\"\")))","v":""},null,{"$f":"IF(AA193=\"T\",AB195,AC195)","v":""},null,2,null,null,null,null,{"$f":"IF(R195=\"\",\"\",IF(AND(AA193=\"T\",R195<R194),\"X\",IF(AND(AA193=\"F\",R195>R194),\"X\",\"\")))","v":""},{"$f":"IF(AA193=\"T\",AD195,AE195)","v":""},null,{"$f":"IF(AA193=\"T\",\"\",IF(I194>V193,\"LR\",IF(I194=V193,\"=LR\",IF(I194>W193,\"DR\",IF(I194=W193,\"=DR\",\"\")))))","v":""},null,null,null,null,null,{"$f":"IF(I195=\"\",\"\",IF(AA193=\"F\",\"\",IF(AA193=\"T\",IF(I195<=X193,\"þ\",IF(I195<=Y193,\"G2\",IF(I195<=Z193,\"G3\",\"\"))))))","v":""},{"$f":"IF(I195=\"\",\"\",IF(AA193=\"T\",\"\",IF(AA193=\"F\",IF(I195>=X193,\"þ\",IF(I195>=Y193,\"G2\",IF(I195>=Z193,\"G3\",\"\"))))))","v":""},{"$f":"IF(R195=\"\",\"\",IF(AA193=\"F\",\"\",IF(AA193=\"T\",IF(R195<=X193,\"þ\",IF(R195<=Y193,\"G2\",IF(R195<=Z193,\"G3\",\"\"))))))","v":""},{"$f":"IF(R195=\"\",\"\",IF(AA193=\"T\",\"\",IF(AA193=\"F\",IF(R195>=X193,\"þ\",IF(R195>=Y193,\"G2\",IF(R195>=Z193,\"G3\",\"\"))))))","v":""},"","","","",5,null,{"$f":"'Match Day'!B197","v":0},null,null,null,null,1,9,7]
[null,{"$f":"VLOOKUP(A194,womens_declare,20,FALSE)","v":3},"","",3,null,null,null,null,{"$f":"IF(I196=\"\",\"\",IF(AND(AA193=\"T\",I196<I195),\"X\",IF(AND(AA193=\"F\",I196>I195),\"X\",\"\")))","v":""},null,{"$f":"IF(AA193=\"T\",AB196,AC196)","v":""},null,3,null,null,null,null,{"$f":"IF(R196=\"\",\"\",IF(AND(AA193=\"T\",R196<R195),\"X\",IF(AND(AA193=\"F\",R196>R195),\"X\",\"\")))","v":""},{"$f":"IF(AA193=\"T\",AD196,AE196)","v":""},null,null,null,null,null,null,null,{"$f":"IF(I196=\"\",\"\",IF(AA193=\"F\",\"\",IF(AA193=\"T\",IF(I196<=X193,\"þ\",IF(I196<=Y193,\"G2\",IF(I196<=Z193,\"G3\",\"\"))))))","v":""},{"$f":"IF(I196=\"\",\"\",IF(AA193=\"T\",\"\",IF(AA193=\"F\",IF(I196>=X193,\"þ\",IF(I196>=Y193,\"G2\",IF(I196>=Z193,\"G3\",\"\"))))))","v":""},{"$f":"IF(R196=\"\",\"\",IF(AA193=\"F\",\"\",IF(AA193=\"T\",IF(R196<=X193,\"þ\",IF(R196<=Y193,\"G2\",IF(R196<=Z193,\"G3\",\"\"))))))","v":""},{"$f":"IF(R196=\"\",\"\",IF(AA193=\"T\",\"\",IF(AA193=\"F\",IF(R196>=X193,\"þ\",IF(R196>=Y193,\"G2\",IF(R196>=Z193,\"G3\",\"\"))))))","v":""},"","","","",6,null,{"$f":"'Match Day'!B199","v":0},null,null,null,null,2,7,5]
[null,null,"","",4,null,null,null,null,{"$f":"IF(I197=\"\",\"\",IF(AND(AA193=\"T\",I197<I196),\"X\",IF(AND(AA193=\"F\",I197>I196),\"X\",\"\")))","v":""},null,{"$f":"IF(AA193=\"T\",AB197,AC197)","v":""},null,4,null,null,null,null,{"$f":"IF(R197=\"\",\"\",IF(AND(AA193=\"T\",R197<R196),\"X\",IF(AND(AA193=\"F\",R197>R196),\"X\",\"\")))","v":""},{"$f":"IF(AA193=\"T\",AD197,AE197)","v":""},null,null,null,null,null,null,null,{"$f":"IF(I197=\"\",\"\",IF(AA193=\"F\",\"\",IF(AA193=\"T\",IF(I197<=X193,\"þ\",IF(I197<=Y193,\"G2\",IF(I197<=Z193,\"G3\",\"\"))))))","v":""},{"$f":"IF(I197=\"\",\"\",IF(AA193=\"T\",\"\",IF(AA193=\"F\",IF(I197>=X193,\"þ\",IF(I197>=Y193,\"G2\",IF(I197>=Z193,\"G3\",\"\"))))))","v":""},{"$f":"IF(R197=\"\",\"\",IF(AA193=\"F\",\"\",IF(AA193=\"T\",IF(R197<=X193,\"þ\",IF(R197<=Y193,\"G2\",IF(R197<=Z193,\"G3\",\"\"))))))","v":""},{"$f":"IF(R197=\"\",\"\",IF(AA193=\"T\",\"\",IF(AA193=\"F\",IF(R197>=X193,\"þ\",IF(R197>=Y193,\"G2\",IF(R197>=Z193,\"G3\",\"\"))))))","v":""},"","","","",7,null,{"$f":"'Match Day'!B201","v":0},null,null,null,null,3,6,4]
[null,null,"","",5,null,null,null,null,{"$f":"IF(I198=\"\",\"\",IF(AND(AA193=\"T\",I198<I197),\"X\",IF(AND(AA193=\"F\",I198>I197),\"X\",\"\")))","v":""},null,{"$f":"IF(AA193=\"T\",AB198,AC198)","v":""},null,5,null,null,null,null,{"$f":"IF(R198=\"\",\"\",IF(AND(AA193=\"T\",R198<R197),\"X\",IF(AND(AA193=\"F\",R198>R197),\"X\",\"\")))","v":""},{"$f":"IF(AA193=\"T\",AD198,AE198)","v":""},null,null,null,null,null,null,null,{"$f":"IF(I198=\"\",\"\",IF(AA193=\"F\",\"\",IF(AA193=\"T\",IF(I198<=X193,\"þ\",IF(I198<=Y193,\"G2\",IF(I198<=Z193,\"G3\",\"\"))))))","v":""},{"$f":"IF(I198=\"\",\"\",IF(AA193=\"T\",\"\",IF(AA193=\"F\",IF(I198>=X193,\"þ\",IF(I198>=Y193,\"G2\",IF(I198>=Z193,\"G3\",\"\"))))))","v":""},{"$f":"IF(R198=\"\",\"\",IF(AA193=\"F\",\"\",IF(AA193=\"T\",IF(R198<=X193,\"þ\",IF(R198<=Y193,\"G2\",IF(R198<=Z193,\"G3\",\"\"))))))","v":""},{"$f":"IF(R198=\"\",\"\",IF(AA193=\"T\",\"\",IF(AA193=\"F\",IF(R198>=X193,\"þ\",IF(R198>=Y193,\"G2\",IF(R198>=Z193,\"G3\",\"\"))))))","v":""},"","","","",8,null,{"$f":"'Match Day'!B203","v":0},null,null,null,null,4,5,3]
[null,null,"","",6,null,null,null,null,{"$f":"IF(I199=\"\",\"\",IF(AND(AA193=\"T\",I199<I198),\"X\",IF(AND(AA193=\"F\",I199>I198),\"X\",\"\")))","v":""},null,{"$f":"IF(AA193=\"T\",AB199,AC199)","v":""},null,6,null,null,null,null,{"$f":"IF(R199=\"\",\"\",IF(AND(AA193=\"T\",R199<R198),\"X\",IF(AND(AA193=\"F\",R199>R198),\"X\",\"\")))","v":""},{"$f":"IF(AA193=\"T\",AD199,AE199)","v":""},null,null,null,null,null,null,null,{"$f":"IF(I199=\"\",\"\",IF(AA193=\"F\",\"\",IF(AA193=\"T\",IF(I199<=X193,\"þ\",IF(I199<=Y193,\"G2\",IF(I199<=Z193,\"G3\",\"\"))))))","v":""},{"$f":"IF(I199=\"\",\"\",IF(AA193=\"T\",\"\",IF(AA193=\"F\",IF(I199>=X193,\"þ\",IF(I199>=Y193,\"G2\",IF(I199>=Z193,\"G3\",\"\"))))))","v":""},{"$f":"IF(R199=\"\",\"\",IF(AA193=\"F\",\"\",IF(AA193=\"T\",IF(R199<=X193,\"þ\",IF(R199<=Y193,\"G2\",IF(R199<=Z193,\"G3\",\"\"))))))","v":""},{"$f":"IF(R199=\"\",\"\",IF(AA193=\"T\",\"\",IF(AA193=\"F\",IF(R199>=X193,\"þ\",IF(R199>=Y193,\"G2\",IF(R199>=Z193,\"G3\",\"\"))))))","v":""},"","","","",9,null,{"$f":"'Match Day'!B205","v":0},null,null,null,null,5,4,2]
[null,null,"","",7,null,null,null,null,{"$f":"IF(I200=\"\",\"\",IF(AND(AA193=\"T\",I200<I199),\"X\",IF(AND(AA193=\"F\",I200>I199),\"X\",\"\")))","v":""},null,{"$f":"IF(AA193=\"T\",AB200,AC200)","v":""},null,7,null,null,null,null,{"$f":"IF(R200=\"\",\"\",IF(AND(AA193=\"T\",R200<R199),\"X\",IF(AND(AA193=\"F\",R200>R199),\"X\",\"\")))","v":""},{"$f":"IF(AA193=\"T\",AD200,AE200)","v":""},null,null,null,null,null,null,null,{"$f":"IF(I200=\"\",\"\",IF(AA193=\"F\",\"\",IF(AA193=\"T\",IF(I200<=X193,\"þ\",IF(I200<=Y193,\"G2\",IF(I200<=Z193,\"G3\",\"\"))))))","v":""},{"$f":"IF(I200=\"\",\"\",IF(AA193=\"T\",\"\",IF(AA193=\"F\",IF(I200>=X193,\"þ\",IF(I200>=Y193,\"G2\",IF(I200>=Z193,\"G3\",\"\"))))))","v":""},{"$f":"IF(R200=\"\",\"\",IF(AA193=\"F\",\"\",IF(AA193=\"T\",IF(R200<=X193,\"þ\",IF(R200<=Y193,\"G2\",IF(R200<=Z193,\"G3\",\"\"))))))","v":""},{"$f":"IF(R200=\"\",\"\",IF(AA193=\"T\",\"\",IF(AA193=\"F\",IF(R200>=X193,\"þ\",IF(R200>=Y193,\"G2\",IF(R200>=Z193,\"G3\",\"\"))))))","v":""},"","","","",10,null,{"$f":"'Match Day'!B207","v":0},null,null,null,null,6,3,1]
[null,null,"","",8,null,null,null,null,{"$f":"IF(I201=\"\",\"\",IF(AND(AA193=\"T\",I201<I200),\"X\",IF(AND(AA193=\"F\",I201>I200),\"X\",\"\")))","v":""},null,{"$f":"IF(AA193=\"T\",AB201,AC201)","v":""},null,8,null,null,null,null,{"$f":"IF(R201=\"\",\"\",IF(AND(AA193=\"T\",R201<R200),\"X\",IF(AND(AA193=\"F\",R201>R200),\"X\",\"\")))","v":""},{"$f":"IF(AA193=\"T\",AD201,AE201)","v":""},null,null,null,null,null,null,null,{"$f":"IF(I201=\"\",\"\",IF(AA193=\"F\",\"\",IF(AA193=\"T\",IF(I201<=X193,\"þ\",IF(I201<=Y193,\"G2\",IF(I201<=Z193,\"G3\",\"\"))))))","v":""},{"$f":"IF(I201=\"\",\"\",IF(AA193=\"T\",\"\",IF(AA193=\"F\",IF(I201>=X193,\"þ\",IF(I201>=Y193,\"G2\",IF(I201>=Z193,\"G3\",\"\"))))))","v":""},{"$f":"IF(R201=\"\",\"\",IF(AA193=\"F\",\"\",IF(AA193=\"T\",IF(R201<=X193,\"þ\",IF(R201<=Y193,\"G2\",IF(R201<=Z193,\"G3\",\"\"))))))","v":""},{"$f":"IF(R201=\"\",\"\",IF(AA193=\"T\",\"\",IF(AA193=\"F\",IF(R201>=X193,\"þ\",IF(R201>=Y193,\"G2\",IF(R201>=Z193,\"G3\",\"\"))))))","v":""},"","","","",11,null,{"$f":"'Match Day'!B209","v":0},null,null,null,null,7,0,0]

{"sheet":"Hammer","index":4,"n_rows":33,"n_cols":32,"rows_kept":33,"cut":false,"hidden":false,"merged":[[0,6,0,28],[0,4,0,5],[1,4,1,28],[2,4,2,5],[2,19,2,28],[3,4,3,5],[2,11,2,15],[3,11,3,12],[2,16,2,18],[2,6,2,7],[2,8,2,10],[3,6,3,7],[3,8,3,10],[3,13,3,15],[3,16,3,18],[3,19,3,28],[30,22,30,28],[23,4,23,9],[23,10,23,21],[23,22,23,28],[24,8,24,9],[24,12,24,15],[24,16,24,19],[24,20,24,21],[27,8,27,9],[28,8,28,9],[25,16,25,19],[25,8,25,9],[26,8,26,9],[25,12,25,15],[26,12,26,15],[25,20,25,21],[26,20,26,21],[26,16,26,19],[4,12,4,13],[4,14,4,15],[9,8,9,9],[4,21,4,22],[4,23,4,24],[9,10,9,11],[10,10,10,11],[9,12,9,13],[10,12,10,13],[10,8,10,9],[9,14,9,15],[10,14,10,15],[4,25,5,25],[5,23,5,24],[4,16,5,16],[4,17,4,18],[5,21,5,22],[7,17,7,18],[8,8,8,9],[8,10,8,11],[6,8,6,9],[6,10,6,11],[6,12,6,13],[7,8,7,9],[7,10,7,11],[5,10,5,11],[5,8,5,9],[8,12,8,13],[7,12,7,13],[4,19,4,20],[6,14,6,15],[7,14,7,15],[8,14,8,15],[6,17,6,18],[4,8,4,9],[4,10,4,11],[12,14,12,15],[5,19,5,20],[5,12,5,13],[5,14,5,15],[5,17,5,18],[8,17,8,18],[9,17,9,18],[10,17,10,18],[11,17,11,18],[11,12,11,13],[12,12,12,13],[12,17,12,18],[11,14,11,15],[6,19,6,20],[8,19,8,20],[7,19,7,20],[9,19,9,20],[10,19,10,20],[11,19,11,20],[11,8,11,9],[15,12,15,13],[16,12,16,13],[17,12,17,13],[18,12,18,13],[16,8,16,9],[17,8,17,9],[18,8,18,9],[12,8,12,9],[13,8,13,9],[13,10,13,11],[11,10,11,11],[12,10,12,11],[21,8,21,9],[14,10,14,11],[15,10,15,11],[16,10,16,11],[17,10,17,11],[18,10,18,11],[19,10,19,11],[20,10,20,11],[21,10,21,11],[15,8,15,9],[20,8,20,9],[19,8,19,9],[14,8,14,9],[13,17,13,18],[16,17,16,18],[17,17,17,18],[18,17,18,18],[19,17,19,18],[14,17,14,18],[15,17,15,18],[21,12,21,13],[14,14,14,15],[15,14,15,15],[16,14,16,15],[17,14,17,15],[18,14,18,15],[19,14,19,15],[20,14,20,15],[21,14,21,15],[14,12,14,13],[13,14,13,15],[13,12,13,13],[21,19,21,20],[14,19,14,20],[15,19,15,20],[16,19,16,20],[17,19,17,20],[20,12,20,13],[19,12,19,13],[21,17,21,18],[20,17,20,18],[15,23,15,24],[16,23,16,24],[20,19,20,20],[7,21,7,22],[8,21,8,22],[9,21,9,22],[18,19,18,20],[19,19,19,20],[14,21,14,22],[15,21,15,22],[16,21,16,22],[18,21,18,22],[12,19,12,20],[13,19,13,20],[21,23,21,24],[20,21,20,22],[21,21,21,22],[4,26,4,28],[17,23,17,24],[18,23,18,24],[20,23,20,24],[6,23,6,24],[7,23,7,24],[8,23,8,24],[9,23,9,24],[10,23,10,24],[11,23,11,24],[12,23,12,24],[19,23,19,24],[17,21,17,22],[10,21,10,22],[11,21,11,22],[12,21,12,22],[13,21,13,22],[19,21,19,22],[13,23,13,24],[14,23,14,24],[6,21,6,22],[31,20,31,21],[32,20,32,21],[31,16,31,19],[27,20,27,21],[28,20,28,21],[29,8,29,9],[30,8,30,9],[31,8,31,9],[32,8,32,9],[31,12,31,15],[32,12,32,15],[29,12,29,15],[30,12,30,15],[29,16,29,19],[30,16,30,19],[27,12,27,15],[28,12,28,15],[29,20,29,21],[30,20,30,21],[32,16,32,19],[27,16,27,19],[28,16,28,19]]}
[null,null,null,null,"w2",null,{"$f":"'Match Day'!I4","v":"UK Womens League"}]
[11,null,26,null,"UK ATHLETICS: DISTANCE CARD"]
[null,null,{"$f":"VLOOKUP(A2,mens_handbook,37,FALSE)","v":12},null,"MEETING ",null,{"$f":"CONCATENATE('Match Day'!$I$8,\" \",'Match Day'!$I$10)","v":"Division 1 Match 3"},null,"VENUE ",null,null,{"$f":"'Match Day'!$I$12","v":"Winchester"},null,null,null,null,"DATE ",null,null,{"$f":"'Match Day'!$I$6","v":"Saturday, 6th August"}]
[null,null,{"$f":"VLOOKUP(A2,declare,20,FALSE)","v":12},null,"EVENT",null,{"$f":"VLOOKUP(A2,mens_handbook,3,FALSE)","v":"Women's Hammer"},null,"TIME",null,null,{"$f":"VLOOKUP(A2,mens_handbook,2,FALSE)","v":"12:00:00"},null,"RECORD",null,null,{"$f":"VLOOKUP(A2,mens_handbook,28,FALSE)","v":"67.94m"},null,null,{"$f":"IF($A2=\"\",\"\",CONCATENATE(VLOOKUP($A2,mens_handbook,26,FALSE),\", \",VLOOKUP($A2,mens_handbook,27,FALSE),\", \",VLOOKUP($A2,mens_handbook,28,FALSE)))","v":"Lorraine Shaw, Sale Harriers, 67.94m"}]
[null,null,null,null,"Order","No","NAME","CLUB","1st Trial",null,"2nd Trial",null,"3rd Trial",null,"Best of 3",null,"Position after\n3 Trials","4th Trial",null,"5th Trial",null,"6th Trial",null,"Best of All",null,"Final\nPositionn","A or B"]
[null,null,"A","B",null,null,null,null,"Metres",null,"Metres",null,"Metres",null,"Metres",null,null,"Metres",null,"Metres",null,"Metres",null,"Metres",null,null,null,"A","B"]
[{"$f":"IF(F7=\"\",\"\",IF(F7>10,F7/11,F7))","v":6},null,{"$f":"AB7","v":8},"",1,{"$f":"HLOOKUP(E7,Handbook!$D$3:$K$24,C3,FALSE)","v":6},{"$f":"IF(ISERROR(HLOOKUP(F7,declare,C4,FALSE))=TRUE,\"\",HLOOKUP(F7,declare,C4,FALSE))","v":"Anna Stevens"},{"$f":"IF(ISERROR(VLOOKUP(A7,matchday,2,FALSE))=TRUE,\"\",VLOOKUP(A7,matchday,2,FALSE))","v":"Southampton AC"},null,null,0,null,31.44,null,{"$f":"IF(AND(I7=\"NT\",I7=\"nt\",K7=\"NT\",K7=\"nt\",M7=\"NT\",M7=\"nt\"),0,LARGE(I7:N7,1))","v":31.44},null,{"$f":"IF(OR(O7=0,O7=\"\"),0,RANK(O7,$O$7:$P$22,0))","v":11},0,null,0,null,31.44,null,{"$f":"IF(AND(R7=\"NT\",R7=\"nt\",T7=\"NT\",T7=\"nt\",V7=\"NT\",V7=\"nt\"),O7,IF(O7>LARGE(R7:W7,1),O7,LARGE(R7:W7,1)))","v":31.44},null,{"$f":"IF(OR(Q7=0,Q7=\"\",X7=\"\",X7=0),0,RANK(X7,$X$7:$Y$22,0))","v":11},{"$f":"IF(OR(Z7=0,Z7=\"\"),\"\",IF(VLOOKUP(F7*11,$F$15:$Z$22,21,FALSE)=0,\"A\",IF(Z7>(VLOOKUP(F7*11,$F$15:$Z$22,21,FALSE)),\"B\",\"A\")))","v":"A"},{"$f":"IF(OR(Z7=0,Z7=\"\",AA7=\"B\"),\"\",RANK(AE7,$AE$7:$AE$22,1))","v":8},{"$f":"IF(OR(Z7=0,Z7=\"\",AA7=\"A\"),\"\",RANK(AF7,$AF$7:$AF$22,1))","v":""},null,{"$f":"IF(OR(Z7=\"\",Z7=0,AA7=\"\",AA7=0,AA7=\"B\"),\"\",Z7)","v":11},{"$f":"IF(OR(Z7=\"\",Z7=0,AA7=\"\",AA7=0,AA7=\"A\"),\"\",Z7)","v":""}]
[{"$f":"IF(F8=\"\",\"\",IF(F8>10,F8/11,F8))","v":3},null,3,"",2,{"$f":"HLOOKUP(E8,Handbook!$D$3:$K$24,C3,FALSE)","v":3},{"$f":"IF(ISERROR(HLOOKUP(F8,declare,C4,FALSE))=TRUE,\"\",HLOOKUP(F8,declare,C4,FALSE))","v":"Andrea Jenkins"},"Marshall Milton Keynes AC",null,null,0,null,50.11,null,{"$f":"IF(AND(I8=\"NT\",I8=\"nt\",K8=\"NT\",K8=\"nt\",M8=\"NT\",M8=\"nt\"),0,LARGE(I8:N8,1))","v":50.11},null,{"$f":"IF(OR(O8=0,O8=\"\"),0,RANK(O8,$O$7:$P$22,0))","v":2},0,null,0,null,50.11,null,{"$f":"IF(AND(R8=\"NT\",R8=\"nt\",T8=\"NT\",T8=\"nt\",V8=\"NT\",V8=\"nt\"),O8,IF(O8>LARGE(R8:W8,1),O8,LARGE(R8:W8,1)))","v":50.11},null,{"$f":"IF(OR(Q8=0,Q8=\"\",X8=\"\",X8=0),0,RANK(X8,$X$7:$Y$22,0))","v":3},{"$f":"IF(OR(Z8=0,Z8=\"\"),\"\",IF(VLOOKUP(F8*11,$F$15:$Z$22,21,FALSE)=0,\"A\",IF(Z8>(VLOOKUP(F8*11,$F$15:$Z$22,21,FALSE)),\"B\",\"A\")))","v":"A"},{"$f":"IF(OR(Z8=0,Z8=\"\",AA8=\"B\"),\"\",RANK(AE8,$AE$7:$AE$22,1))","v":3},{"$f":"IF(OR(Z8=0,Z8=\"\",AA8=\"A\"),\"\",RANK(AF8,$AF$7:$AF$22,1))","v":""},null,{"$f":"IF(OR(Z8=\"\",Z8=0,AA8=\"\",AA8=0,AA8=\"B\"),\"\",Z8)","v":3},{"$f":"IF(OR(Z8=\"\",Z8=0,AA8=\"\",AA8=0,AA8=\"A\"),\"\",Z8)","v":""}]
[7,null,1,"",3,{"$f":"HLOOKUP(E9,Handbook!$D$3:$K$24,C3,FALSE)","v":7},{"$f":"IF(ISERROR(HLOOKUP(F9,declare,C4,FALSE))=TRUE,\"\",HLOOKUP(F9,declare,C4,FALSE))","v":"Toni Wells"},"Swansea H",null,null,0,null,51.23,null,51.23,null,1,0,null,0,null,51.73,null,51.73,null,1,"A",1,"",null,1,""]
[2,null,2,"",4,{"$f":"HLOOKUP(E10,Handbook!$D$3:$K$24,C3,FALSE)","v":2},{"$f":"IF(ISERROR(HLOOKUP(F10,declare,C4,FALSE))=TRUE,\"\",HLOOKUP(F10,declare,C4,FALSE))","v":"Shaunagh  Brown"},"Blackheath & Bromley H",null,null,0,null,44.47,null,44.47,null,5,0,null,0,null,50.25,null,50.25,null,2,"A",2,"",null,2,""]
[1,null,4,"",5,{"$f":"HLOOKUP(E11,Handbook!$D$3:$K$24,C3,FALSE)","v":1},{"$f":"IF(ISERROR(HLOOKUP(F11,declare,C4,FALSE))=TRUE,\"\",HLOOKUP(F11,declare,C4,FALSE))","v":"Laura Duke"},"Bedford & County AC",null,null,0,null,47.3,null,47.3,null,3,0,null,0,null,47.3,null,47.3,null,4,"A",4,"",null,4,""]
[8,null,"",3,6,{"$f":"HLOOKUP(E12,Handbook!$D$3:$K$24,C3,FALSE)","v":8},{"$f":"IF(ISERROR(HLOOKUP(F12,declare,C4,FALSE))=TRUE,\"\",HLOOKUP(F12,declare,C4,FALSE))","v":"Ellisha Dee"},"Thames Valley H",null,null,0,null,35.74,null,35.74,null,9,0,null,0,null,35.74,null,35.74,null,9,"B","",3,null,"",9]
[5,null,5,"",7,{"$f":"HLOOKUP(E13,Handbook!$D$3:$K$24,C3,FALSE)","v":5},{"$f":"IF(ISERROR(HLOOKUP(F13,declare,C4,FALSE))=TRUE,\"\",HLOOKUP(F13,declare,C4,FALSE))","v":"Amy Clemens (U20)"},"Shaftesbury Barnet H",null,null,0,null,45.29,null,45.29,null,4,0,null,0,null,46.64,null,46.64,null,5,"A",5,"",null,5,""]
[4,null,7,"",8,{"$f":"HLOOKUP(E14,Handbook!$D$3:$K$24,C3,FALSE)","v":4},{"$f":"IF(ISERROR(HLOOKUP(F14,declare,C4,FALSE))=TRUE,\"\",HLOOKUP(F14,declare,C4,FALSE))","v":"Sue Lawrence"},"Newham & Essex Beagles AC",null,null,0,null,33.92,null,33.92,null,10,0,null,0,null,33.92,null,33.92,null,10,"A",7,"",null,10,""]
[6,null,"",8,9,{"$f":"HLOOKUP(E15,Handbook!$L$3:$S$24,C3,FALSE)","v":66},{"$f":"IF(ISERROR(HLOOKUP(F15,declare,C4,FALSE))=TRUE,\"\",HLOOKUP(F15,declare,C4,FALSE))","v":"Sarah Ellis"},"Southampton AC",null,null,0,null,22.48,null,22.48,null,16,0,null,0,null,22.48,null,22.48,null,16,{"$f":"IF(OR(Z15=0,Z15=\"\"),\"\",IF(VLOOKUP(F15/11,$F$7:$Z$14,21,FALSE)=0,\"A\",IF(Z15>VLOOKUP(F15/11,$F$7:$Z$14,21,FALSE),\"B\",\"A\")))","v":"B"},"",8,null,"",16]
[3,null,"",1,10,{"$f":"HLOOKUP(E16,Handbook!$L$3:$S$24,C3,FALSE)","v":33},{"$f":"IF(ISERROR(HLOOKUP(F16,declare,C4,FALSE))=TRUE,\"\",HLOOKUP(F16,declare,C4,FALSE))","v":"Sadie Watts"},"Marshall Milton Keynes AC",null,null,0,null,41.94,null,41.94,null,6,0,null,0,null,43.63,null,43.63,null,6,{"$f":"IF(OR(Z16=0,Z16=\"\"),\"\",IF(VLOOKUP(F16/11,$F$7:$Z$14,21,FALSE)=0,\"A\",IF(Z16>VLOOKUP(F16/11,$F$7:$Z$14,21,FALSE),\"B\",\"A\")))","v":"B"},"",1,null,"",6]
[7,null,"",6,11,{"$f":"HLOOKUP(E17,Handbook!$L$3:$S$24,C3,FALSE)","v":77},{"$f":"IF(ISERROR(HLOOKUP(F17,declare,C4,FALSE))=TRUE,\"\",HLOOKUP(F17,declare,C4,FALSE))","v":"Nina Prells"},"Swansea H",null,null,0,null,24.86,null,24.86,null,14,0,null,0,null,24.86,null,24.86,null,14,"B","",6,null,"",14]
[2,null,"",2,12,{"$f":"HLOOKUP(E18,Handbook!$L$3:$S$24,C3,FALSE)","v":22},{"$f":"IF(ISERROR(HLOOKUP(F18,declare,C4,FALSE))=TRUE,\"\",HLOOKUP(F18,declare,C4,FALSE))","v":"Sam Milner"},"Blackheath & Bromley H",null,null,0,null,36.42,null,36.42,null,8,0,null,0,null,36.42,null,36.42,null,8,"B","",2,null,"",8]
[1,null,"",4,13,{"$f":"HLOOKUP(E19,Handbook!$L$3:$S$24,C3,FALSE)","v":11},{"$f":"IF(ISERROR(HLOOKUP(F19,declare,C4,FALSE))=TRUE,\"\",HLOOKUP(F19,declare,C4,FALSE))","v":"Rachael Bennett"},"Bedford & County AC",null,null,0,null,28.41,null,28.41,null,12,0,null,0,null,28.41,null,28.41,null,12,"B","",4,null,"",12]
[8,null,6,"",14,{"$f":"HLOOKUP(E20,Handbook!$L$3:$S$24,C3,FALSE)","v":88},{"$f":"IF(ISERROR(HLOOKUP(F20,declare,C4,FALSE))=TRUE,\"\",HLOOKUP(F20,declare,C4,FALSE))","v":"Carla Letheby"},"Thames Valley H",null,null,0,null,36.54,null,36.54,null,7,0,null,0,null,37.01,null,37.01,null,7,"A",6,"",null,7,""]
[5,null,"",5,15,{"$f":"HLOOKUP(E21,Handbook!$L$3:$S$24,C3,FALSE)","v":55},{"$f":"IF(ISERROR(HLOOKUP(F21,declare,C4,FALSE))=TRUE,\"\",HLOOKUP(F21,declare,C4,FALSE))","v":"Nneka Ofulue (U20)"},"Shaftesbury Barnet H",null,null,0,null,27.31,null,27.31,null,13,0,null,0,null,27.31,null,27.31,null,13,"B","",5,null,"",13]
[4,null,"",7,16,{"$f":"HLOOKUP(E22,Handbook!$L$3:$S$24,C3,FALSE)","v":44},{"$f":"IF(ISERROR(HLOOKUP(F22,declare,C4,FALSE))=TRUE,\"\",HLOOKUP(F22,declare,C4,FALSE))","v":"Adele Stach-Kevitz"},"Newham & Essex Beagles AC",null,null,0,null,23.13,null,23.13,null,15,0,null,0,null,23.13,null,23.13,null,15,"B","",7,null,"",15]
[]
[null,null,null,null,"\"A\" STRING RESULT",null,null,null,null,null,"\"B\" STRING RESULT",null,null,null,null,null,null,null,null,null,null,null,"JUDGES' SIGNATURES"]
[null,null,null,null,"Posn","No.","NAME","CLUB","DISTANCE",null,"Posn","No.","NAME",null,null,null,"CLUB",null,null,null,"DISTANCE"]
[null,null,1,null,1,{"$f":"IF(ISERROR(VLOOKUP(C26,$C$7:$Y$22,4,FALSE))=TRUE,0,IF(VLOOKUP(C26,$C$7:$Y$22,22,FALSE)=0,\"\",IF(VLOOKUP(C26,$C$7:$Y$22,22,FALSE)=99,99,IF(VLOOKUP(C26,$C$7:$Y$22,22,FALSE)=98,98,IF(VLOOKUP(C26,$C$7:$Y$22,22,FALSE)=96,96,VLOOKUP(C26,$C$7:$Y$22,4,FALSE))))))","v":7},{"$f":"IF(ISERROR(VLOOKUP(C26,$C$7:$Y$22,4,FALSE))=TRUE,0,VLOOKUP(C26,$C$7:$Y$22,5,FALSE))","v":"Toni Wells"},{"$f":"IF(ISERROR(VLOOKUP(C26,$C$7:$Y$22,4,FALSE))=TRUE,0,VLOOKUP(C26,$C$7:$Y$22,6,FALSE))","v":"Swansea H"},{"$f":"IF(ISERROR(VLOOKUP(C26,$C$7:$Y$22,4,FALSE))=TRUE,0,IF(VLOOKUP(C26,$C$7:$Y$22,22,FALSE)=0,\"\",IF(VLOOKUP(C26,$C$7:$Y$22,22,FALSE)>95.99,\"\",VLOOKUP(C26,$C$7:$Y$22,22,FALSE))))","v":51.73},null,1,{"$f":"IF(ISERROR(VLOOKUP(C26,$D$7:$Y$22,4,FALSE))=TRUE,0,IF(VLOOKUP(C26,D$7:Y$22,21,FALSE)=0,\"\",VLOOKUP(C26,D$7:Y$22,3,FALSE)))","v":33},{"$f":"IF(ISERROR(VLOOKUP(C26,$D$7:$Y$22,4,FALSE))=TRUE,0,VLOOKUP(C26,D$7:Y$22,4,FALSE))","v":"Sadie Watts"},null,null,null,{"$f":"IF(ISERROR(VLOOKUP(C26,$D$7:$Y$22,4,FALSE))=TRUE,0,VLOOKUP(C26,$D$7:$Y$22,5,FALSE))","v":"Marshall Milton Keynes AC"},null,null,null,{"$f":"IF(ISERROR(VLOOKUP(C26,$D$7:$Y$22,3,FALSE))=TRUE,0,IF(VLOOKUP(C26,$D$7:$Y$22,21,FALSE)=0,\"\",VLOOKUP(C26,$D$7:$Y$22,21,FALSE)))","v":43.63}]
[null,null,2,null,2,2,"Shaunagh  Brown","Blackheath & Bromley H",{"$f":"IF(ISERROR(VLOOKUP(C27,$C$7:$Y$22,4,FALSE))=TRUE,0,IF(VLOOKUP(C27,$C$7:$Y$22,22,FALSE)=0,\"\",IF(VLOOKUP(C27,$C$7:$Y$22,22,FALSE)>95.99,\"\",VLOOKUP(C27,$C$7:$Y$22,22,FALSE))))","v":50.25},null,2,22,"Sam Milner",null,null,null,"Blackheath & Bromley H",null,null,null,{"$f":"IF(ISERROR(VLOOKUP(C27,$D$7:$Y$22,3,FALSE))=TRUE,0,IF(VLOOKUP(C27,$D$7:$Y$22,21,FALSE)=0,\"\",VLOOKUP(C27,$D$7:$Y$22,21,FALSE)))","v":36.42}]
[null,null,3,null,3,3,"Andrea Jenkins","Marshall Milton Keynes AC",50.11,null,3,8,"Ellisha Dee",null,null,null,"Thames Valley H",null,null,null,35.74]
[null,null,4,null,4,1,"Laura Duke","Bedford & County AC",47.3,null,4,11,"Rachael Bennett",null,null,null,"Bedford & County AC",null,null,null,28.41]
[null,null,5,null,5,5,"Amy Clemens (U20)","Shaftesbury Barnet H",46.64,null,5,55,"Nneka Ofulue (U20)",null,null,null,"Shaftesbury Barnet H",null,null,null,27.31]
[null,null,6,null,6,88,"Carla Letheby","Thames Valley H",37.01,null,6,77,"Nina Prells",null,null,null,"Swansea H",null,null,null,24.86,null,"REFEREE'S SIGNATURE"]
[null,null,7,null,7,4,"Sue Lawrence","Newham & Essex Beagles AC",33.92,null,7,44,"Adele Stach-Kevitz",null,null,null,"Newham & Essex Beagles AC",null,null,null,23.13]
[null,null,8,null,8,6,"Anna Stevens","Southampton AC",31.44,null,8,66,"Sarah Ellis",null,null,null,"Southampton AC",null,null,null,22.48]

{"sheet":"Discus","index":5,"n_rows":33,"n_cols":32,"rows_kept":33,"cut":false,"hidden":false,"merged":[[31,8,31,9],[32,8,32,9],[19,21,19,22],[20,21,20,22],[32,20,32,21],[31,16,31,19],[30,20,30,21],[21,21,21,22],[21,17,21,18],[32,16,32,19],[28,16,28,19],[30,12,30,15],[29,16,29,19],[30,16,30,19],[31,20,31,21],[31,12,31,15],[28,12,28,15],[26,8,26,9],[21,12,21,13],[27,8,27,9],[28,8,28,9],[26,12,26,15],[25,20,25,21],[26,20,26,21],[6,23,6,24],[7,23,7,24],[8,23,8,24],[9,23,9,24],[7,21,7,22],[8,21,8,22],[9,21,9,22],[10,21,10,22],[32,12,32,15],[16,23,16,24],[13,21,13,22],[14,21,14,22],[17,23,17,24],[18,23,18,24],[19,23,19,24],[16,21,16,22],[20,17,20,18],[25,16,25,19],[25,12,25,15],[27,16,27,19],[26,16,26,19],[27,12,27,15],[27,20,27,21],[28,20,28,21],[11,23,11,24],[20,19,20,20],[20,23,20,24],[10,23,10,24],[18,21,18,22],[17,21,17,22],[21,19,21,20],[14,19,14,20],[15,19,15,20],[16,19,16,20],[17,19,17,20],[18,19,18,20],[19,19,19,20],[11,21,11,22],[12,21,12,22],[12,23,12,24],[15,21,15,22],[13,23,13,24],[14,23,14,24],[15,23,15,24],[21,23,21,24],[17,17,17,18],[18,17,18,18],[19,17,19,18],[12,17,12,18],[13,17,13,18],[14,17,14,18],[15,17,15,18],[16,17,16,18],[10,19,10,20],[11,19,11,20],[12,19,12,20],[13,19,13,20],[20,14,20,15],[21,14,21,15],[14,12,14,13],[15,12,15,13],[16,12,16,13],[17,12,17,13],[18,12,18,13],[20,12,20,13],[19,12,19,13],[14,14,14,15],[15,14,15,15],[16,14,16,15],[17,14,17,15],[18,14,18,15],[19,14,19,15],[21,8,21,9],[14,10,14,11],[15,10,15,11],[16,10,16,11],[17,10,17,11],[18,10,18,11],[19,10,19,11],[20,10,20,11],[21,10,21,11],[15,8,15,9],[16,8,16,9],[17,8,17,9],[18,8,18,9],[19,8,19,9],[20,8,20,9],[11,12,11,13],[12,12,12,13],[13,12,13,13],[14,8,14,9],[11,8,11,9],[9,8,9,9],[10,8,10,9],[8,10,8,11],[9,10,9,11],[12,8,12,9],[8,12,8,13],[9,12,9,13],[10,12,10,13],[13,8,13,9],[11,10,11,11],[12,10,12,11],[13,10,13,11],[10,10,10,11],[8,8,8,9],[11,14,11,15],[6,17,6,18],[7,17,7,18],[8,17,8,18],[9,17,9,18],[10,17,10,18],[11,17,11,18],[6,21,6,22],[13,14,13,15],[6,14,6,15],[7,14,7,15],[8,14,8,15],[9,14,9,15],[10,14,10,15],[12,14,12,15],[6,19,6,20],[8,19,8,20],[7,19,7,20],[9,19,9,20],[4,21,4,22],[4,23,4,24],[3,13,3,15],[3,16,3,18],[3,19,3,28],[4,25,5,25],[5,23,5,24],[4,16,5,16],[4,17,4,18],[4,19,4,20],[5,19,5,20],[5,21,5,22],[4,26,4,28],[6,12,6,13],[7,8,7,9],[7,10,7,11],[7,12,7,13],[5,17,5,18],[4,8,4,9],[4,10,4,11],[4,12,4,13],[4,14,4,15],[5,8,5,9],[5,10,5,11],[5,12,5,13],[5,14,5,15],[6,10,6,11],[6,8,6,9],[30,22,30,28],[23,4,23,9],[23,10,23,21],[23,22,23,28],[24,8,24,9],[24,12,24,15],[24,16,24,19],[24,20,24,21],[29,8,29,9],[30,8,30,9],[29,12,29,15],[29,20,29,21],[25,8,25,9],[0,4,0,5],[1,4,1,28],[2,4,2,5],[3,4,3,5],[2,11,2,15],[3,11,3,12],[2,16,2,18],[2,19,2,28],[2,6,2,7],[2,8,2,10],[3,6,3,7],[3,8,3,10],[0,6,0,28]]}
[null,null,null,null,"Home",null,{"$f":"'Match Day'!I4","v":"UK Womens League"}]
[15,null,26,null,"UK ATHLETICS: DISTANCE CARD"]
[null,null,{"$f":"VLOOKUP(A2,mens_handbook,37,FALSE)","v":16},null,"MEETING ",null,{"$f":"CONCATENATE('Match Day'!$I$8,\" \",'Match Day'!$I$10)","v":"Division 1 Match 3"},null,"VENUE ",null,null,{"$f":"'Match Day'!$I$12","v":"Winchester"},null,null,null,null,"DATE ",null,null,{"$f":"'Match Day'!$I$6","v":"Saturday, 6th August"}]
[null,null,{"$f":"VLOOKUP(A2,declare,20,FALSE)","v":16},null,"EVENT",null,{"$f":"VLOOKUP(A2,mens_handbook,3,FALSE)","v":"Women's Discus"},null,"TIME",null,null,{"$f":"VLOOKUP(A2,mens_handbook,2,FALSE)","v":"13:40:00"},null,"RECORD",null,null,{"$f":"VLOOKUP(A2,mens_handbook,28,FALSE)","v":"62.18m"},null,null,{"$f":"IF($A2=\"\",\"\",CONCATENATE(VLOOKUP($A2,mens_handbook,26,FALSE),\", \",VLOOKUP($A2,mens_handbook,27,FALSE),\", \",VLOOKUP($A2,mens_handbook,28,FALSE)))","v":"M Ritchie, Edinburgh, 62.18m"}]
[null,null,null,null,"Order","No","NAME","CLUB","1st Trial",null,"2nd Trial",null,"3rd Trial",null,"Best of 3",null,"Position after\n3 Trials","4th Trial",null,"5th Trial",null,"6th Trial",null,"Best of All",null,"Final\nPositionn","A or B"]
[null,null,"A","B",null,null,null,null,"Metres",null,"Metres",null,"Metres",null,"Metres",null,null,"Metres",null,"Metres",null,"Metres",null,"Metres",null,null,null,"A","B"]
[{"$f":"IF(F7=\"\",\"\",IF(F7>10,F7/11,F7))","v":4},null,{"$f":"AB7","v":6},{"$f":"AC7","v":""},1,{"$f":"HLOOKUP(E7,Handbook!$D$3:$K$24,C3,FALSE)","v":4},{"$f":"IF(ISERROR(HLOOKUP(F7,declare,C4,FALSE))=TRUE,\"\",HLOOKUP(F7,declare,C4,FALSE))","v":"Sue Lawrence"},{"$f":"IF(ISERROR(VLOOKUP(A7,matchday,2,FALSE))=TRUE,\"\",VLOOKUP(A7,matchday,2,FALSE))","v":"Newham & Essex Beagles AC"},null,null,0,null,35.49,null,{"$f":"IF(AND(I7=\"NT\",I7=\"nt\",K7=\"NT\",K7=\"nt\",M7=\"NT\",M7=\"nt\"),0,LARGE(I7:N7,1))","v":35.49},null,{"$f":"IF(OR(O7=0,O7=\"\"),0,RANK(O7,$O$7:$P$22,0))","v":9},0,null,0,null,0,null,{"$f":"IF(AND(R7=\"NT\",R7=\"nt\",T7=\"NT\",T7=\"nt\",V7=\"NT\",V7=\"nt\"),O7,IF(O7>LARGE(R7:W7,1),O7,LARGE(R7:W7,1)))","v":35.49},null,{"$f":"IF(OR(Q7=0,Q7=\"\",X7=\"\",X7=0),0,RANK(X7,$X$7:$Y$22,0))","v":9},{"$f":"IF(OR(Z7=0,Z7=\"\"),\"\",IF(VLOOKUP(F7*11,$F$15:$Z$22,21,FALSE)=0,\"A\",IF(Z7>(VLOOKUP(F7*11,$F$15:$Z$22,21,FALSE)),\"B\",\"A\")))","v":"A"},{"$f":"IF(OR(Z7=0,Z7=\"\",AA7=\"B\"),\"\",RANK(AE7,$AE$7:$AE$22,1))","v":6},{"$f":"IF(OR(Z7=0,Z7=\"\",AA7=\"A\"),\"\",RANK(AF7,$AF$7:$AF$22,1))","v":""},null,{"$f":"IF(OR(Z7=\"\",Z7=0,AA7=\"\",AA7=0,AA7=\"B\"),\"\",Z7)","v":9},{"$f":"IF(OR(Z7=\"\",Z7=0,AA7=\"\",AA7=0,AA7=\"A\"),\"\",Z7)","v":""}]
[2,null,1,"",2,{"$f":"HLOOKUP(E8,Handbook!$D$3:$K$24,C3,FALSE)","v":2},{"$f":"IF(ISERROR(HLOOKUP(F8,declare,C4,FALSE))=TRUE,\"\",HLOOKUP(F8,declare,C4,FALSE))","v":"Shaunagh  Brown"},"Blackheath & Bromley H",null,null,0,null,47.31,null,{"$f":"IF(AND(I8=\"NT\",I8=\"nt\",K8=\"NT\",K8=\"nt\",M8=\"NT\",M8=\"nt\"),0,LARGE(I8:N8,1))","v":47.31},null,1,0,null,0,null,49.7,null,{"$f":"IF(AND(R8=\"NT\",R8=\"nt\",T8=\"NT\",T8=\"nt\",V8=\"NT\",V8=\"nt\"),O8,IF(O8>LARGE(R8:W8,1),O8,LARGE(R8:W8,1)))","v":49.7},null,1,{"$f":"IF(OR(Z8=0,Z8=\"\"),\"\",IF(VLOOKUP(F8*11,$F$15:$Z$22,21,FALSE)=0,\"A\",IF(Z8>(VLOOKUP(F8*11,$F$15:$Z$22,21,FALSE)),\"B\",\"A\")))","v":"A"},1,"",null,1,""]
[5,null,7,"",3,{"$f":"HLOOKUP(E9,Handbook!$D$3:$K$24,C3,FALSE)","v":5},{"$f":"IF(ISERROR(HLOOKUP(F9,declare,C4,FALSE))=TRUE,\"\",HLOOKUP(F9,declare,C4,FALSE))","v":"Trecia Smith"},"Shaftesbury Barnet H",null,null,0,null,35.090000000000003,null,35.090000000000003,null,10,0,null,0,null,0,null,35.090000000000003,null,10,"A",7,"",null,10,""]
[8,null,3,"",4,{"$f":"HLOOKUP(E10,Handbook!$D$3:$K$24,C3,FALSE)","v":8},{"$f":"IF(ISERROR(HLOOKUP(F10,declare,C4,FALSE))=TRUE,\"\",HLOOKUP(F10,declare,C4,FALSE))","v":"Ellisha Dee"},"Thames Valley H",null,null,0,null,40.590000000000003,null,40.590000000000003,null,4,0,null,0,null,40.590000000000003,null,40.590000000000003,null,5,"A",3,"",null,5,""]
[6,null,4,"",5,{"$f":"HLOOKUP(E11,Handbook!$D$3:$K$24,C3,FALSE)","v":6},{"$f":"IF(ISERROR(HLOOKUP(F11,declare,C4,FALSE))=TRUE,\"\",HLOOKUP(F11,declare,C4,FALSE))","v":"Debbie Callaway"},"Southampton AC",null,null,0,null,36.99,null,36.99,null,7,0,null,0,null,38.85,null,38.85,null,6,"A",4,"",null,6,""]
[7,null,8,"",6,{"$f":"HLOOKUP(E12,Handbook!$D$3:$K$24,C3,FALSE)","v":7},{"$f":"IF(ISERROR(HLOOKUP(F12,declare,C4,FALSE))=TRUE,\"\",HLOOKUP(F12,declare,C4,FALSE))","v":"Nina Prells"},"Swansea H",null,null,0,null,32.729999999999997,null,32.729999999999997,null,11,0,null,0,null,0,null,32.729999999999997,null,11,"A",8,"",null,11,""]
[3,null,2,"",7,{"$f":"HLOOKUP(E13,Handbook!$D$3:$K$24,C3,FALSE)","v":3},{"$f":"IF(ISERROR(HLOOKUP(F13,declare,C4,FALSE))=TRUE,\"\",HLOOKUP(F13,declare,C4,FALSE))","v":"Emma Beales (V35)"},"Marshall Milton Keynes AC",null,null,0,null,42.85,null,42.85,null,2,0,null,0,null,43.14,null,43.14,null,2,"A",2,"",null,2,""]
[1,null,5,"",8,{"$f":"HLOOKUP(E14,Handbook!$D$3:$K$24,C3,FALSE)","v":1},{"$f":"IF(ISERROR(HLOOKUP(F14,declare,C4,FALSE))=TRUE,\"\",HLOOKUP(F14,declare,C4,FALSE))","v":"Rachael Bennett"},"Bedford & County AC",null,null,0,null,37.36,null,{"$f":"IF(AND(I14=\"NT\",I14=\"nt\",K14=\"NT\",K14=\"nt\",M14=\"NT\",M14=\"nt\"),0,LARGE(I14:N14,1))","v":37.36},null,6,0,null,0,null,37.36,null,37.36,null,7,"A",5,"",null,7,""]
[4,null,"",8,9,{"$f":"HLOOKUP(E15,Handbook!$L$3:$S$24,C3,FALSE)","v":44},{"$f":"IF(ISERROR(HLOOKUP(F15,declare,C4,FALSE))=TRUE,\"\",HLOOKUP(F15,declare,C4,FALSE))","v":"Melissa Strevens"},"Newham & Essex Beagles AC",null,null,0,null,15.88,null,15.88,null,16,0,null,0,null,0,null,15.88,null,16,{"$f":"IF(OR(Z15=0,Z15=\"\"),\"\",IF(VLOOKUP(F15/11,$F$7:$Z$14,21,FALSE)=0,\"A\",IF(Z15>VLOOKUP(F15/11,$F$7:$Z$14,21,FALSE),\"B\",\"A\")))","v":"B"},"",8,null,"",16]
[2,null,"",1,10,{"$f":"HLOOKUP(E16,Handbook!$L$3:$S$24,C3,FALSE)","v":22},{"$f":"IF(ISERROR(HLOOKUP(F16,declare,C4,FALSE))=TRUE,\"\",HLOOKUP(F16,declare,C4,FALSE))","v":"Sam Milner"},"Blackheath & Bromley H",null,null,0,null,42.22,null,42.22,null,3,0,null,0,null,42.22,null,42.22,null,3,{"$f":"IF(OR(Z16=0,Z16=\"\"),\"\",IF(VLOOKUP(F16/11,$F$7:$Z$14,21,FALSE)=0,\"A\",IF(Z16>VLOOKUP(F16/11,$F$7:$Z$14,21,FALSE),\"B\",\"A\")))","v":"B"},"",1,null,"",3]
[5,null,"",7,11,{"$f":"HLOOKUP(E17,Handbook!$L$3:$S$24,C3,FALSE)","v":55},{"$f":"IF(ISERROR(HLOOKUP(F17,declare,C4,FALSE))=TRUE,\"\",HLOOKUP(F17,declare,C4,FALSE))","v":"Nneka Ofulue (U20)"},"Shaftesbury Barnet H",null,null,0,null,23.74,null,23.74,null,15,0,null,0,null,0,null,23.74,null,15,"B","",7,null,"",15]
[8,null,"",3,12,{"$f":"HLOOKUP(E18,Handbook!$L$3:$S$24,C3,FALSE)","v":88},{"$f":"IF(ISERROR(HLOOKUP(F18,declare,C4,FALSE))=TRUE,\"\",HLOOKUP(F18,declare,C4,FALSE))","v":"Carla Letheby"},"Thames Valley H",null,null,0,null,36.58,null,36.58,null,8,0,null,0,null,36.83,null,36.83,null,8,"B","",3,null,"",8]
[6,null,"",6,13,{"$f":"HLOOKUP(E19,Handbook!$L$3:$S$24,C3,FALSE)","v":66},{"$f":"IF(ISERROR(HLOOKUP(F19,declare,C4,FALSE))=TRUE,\"\",HLOOKUP(F19,declare,C4,FALSE))","v":"Anna Stevens"},"Southampton AC",null,null,0,null,28.08,null,28.08,null,14,0,null,0,null,null,null,28.08,null,14,"B","",6,null,"",14]
[7,null,"",5,14,{"$f":"HLOOKUP(E20,Handbook!$L$3:$S$24,C3,FALSE)","v":77},{"$f":"IF(ISERROR(HLOOKUP(F20,declare,C4,FALSE))=TRUE,\"\",HLOOKUP(F20,declare,C4,FALSE))","v":"Toni Wells"},"Swansea H",null,null,0,null,28.63,null,28.63,null,13,0,null,0,null,0,null,28.63,null,13,"B","",5,null,"",13]
[3,null,"",2,15,{"$f":"HLOOKUP(E21,Handbook!$L$3:$S$24,C3,FALSE)","v":33},{"$f":"IF(ISERROR(HLOOKUP(F21,declare,C4,FALSE))=TRUE,\"\",HLOOKUP(F21,declare,C4,FALSE))","v":"Andrea Jenkins"},"Marshall Milton Keynes AC",null,null,0,null,38.89,null,38.89,null,5,0,null,0,null,40.93,null,40.93,null,4,"B","",2,null,"",4]
[1,null,"",4,16,{"$f":"HLOOKUP(E22,Handbook!$L$3:$S$24,C3,FALSE)","v":11},{"$f":"IF(ISERROR(HLOOKUP(F22,declare,C4,FALSE))=TRUE,\"\",HLOOKUP(F22,declare,C4,FALSE))","v":"Jemma Eastwood"},"Bedford & County AC",null,null,0,null,28.71,null,28.71,null,12,0,null,0,null,0,null,28.71,null,12,"B","",4,null,"",12]
[]
[null,null,null,null,"\"A\" STRING RESULT",null,null,null,null,null,"\"B\" STRING RESULT",null,null,null,null,null,null,null,null,null,null,null,"JUDGES' SIGNATURES"]
[null,null,null,null,"Posn","No.","NAME","CLUB","DISTANCE",null,"Posn","No.","NAME",null,null,null,"CLUB",null,null,null,"DISTANCE"]
[null,null,1,null,1,{"$f":"IF(ISERROR(VLOOKUP(C26,$C$7:$Y$22,4,FALSE))=TRUE,0,IF(VLOOKUP(C26,$C$7:$Y$22,22,FALSE)=0,\"\",IF(VLOOKUP(C26,$C$7:$Y$22,22,FALSE)=99,99,IF(VLOOKUP(C26,$C$7:$Y$22,22,FALSE)=98,98,IF(VLOOKUP(C26,$C$7:$Y$22,22,FALSE)=96,96,VLOOKUP(C26,$C$7:$Y$22,4,FALSE))))))","v":2},{"$f":"IF(ISERROR(VLOOKUP(C26,$C$7:$Y$22,4,FALSE))=TRUE,0,VLOOKUP(C26,$C$7:$Y$22,5,FALSE))","v":"Shaunagh  Brown"},{"$f":"IF(ISERROR(VLOOKUP(C26,$C$7:$Y$22,4,FALSE))=TRUE,0,VLOOKUP(C26,$C$7:$Y$22,6,FALSE))","v":"Blackheath & Bromley H"},{"$f":"IF(ISERROR(VLOOKUP(C26,$C$7:$Y$22,4,FALSE))=TRUE,0,IF(VLOOKUP(C26,$C$7:$Y$22,22,FALSE)=0,\"\",IF(VLOOKUP(C26,$C$7:$Y$22,22,FALSE)>95.99,\"\",VLOOKUP(C26,$C$7:$Y$22,22,FALSE))))","v":49.7},null,1,{"$f":"IF(ISERROR(VLOOKUP(C26,$D$7:$Y$22,4,FALSE))=TRUE,0,IF(VLOOKUP(C26,D$7:Y$22,21,FALSE)=0,\"\",VLOOKUP(C26,D$7:Y$22,3,FALSE)))","v":22},{"$f":"IF(ISERROR(VLOOKUP(C26,$D$7:$Y$22,4,FALSE))=TRUE,0,VLOOKUP(C26,D$7:Y$22,4,FALSE))","v":"Sam Milner"},null,null,null,{"$f":"IF(ISERROR(VLOOKUP(C26,$D$7:$Y$22,4,FALSE))=TRUE,0,VLOOKUP(C26,$D$7:$Y$22,5,FALSE))","v":"Blackheath & Bromley H"},null,null,null,{"$f":"IF(ISERROR(VLOOKUP(C26,$D$7:$Y$22,3,FALSE))=TRUE,0,IF(VLOOKUP(C26,$D$7:$Y$22,21,FALSE)=0,\"\",VLOOKUP(C26,$D$7:$Y$22,21,FALSE)))","v":42.22}]
[null,null,2,null,2,3,"Emma Beales (V35)","Marshall Milton Keynes AC",43.14,null,2,33,"Andrea Jenkins",null,null,null,"Marshall Milton Keynes AC",null,null,null,40.93]
[null,null,3,null,3,8,"Ellisha Dee","Thames Valley H",40.590000000000003,null,3,88,"Carla Letheby",null,null,null,"Thames Valley H",null,null,null,36.83]
[null,null,4,null,4,6,"Debbie Callaway","Southampton AC",38.85,null,4,11,"Jemma Eastwood",null,null,null,"Bedford & County AC",null,null,null,28.71]
[null,null,5,null,5,1,"Rachael Bennett","Bedford & County AC",37.36,null,5,77,"Toni Wells",null,null,null,"Swansea H",null,null,null,28.63]
[null,null,6,null,6,4,"Sue Lawrence","Newham & Essex Beagles AC",35.49,null,6,66,"Anna Stevens",null,null,null,"Southampton AC",null,null,null,28.08,null,"REFEREE'S SIGNATURE"]
[null,null,7,null,7,5,"Trecia Smith","Shaftesbury Barnet H",35.090000000000003,null,7,55,"Nneka Ofulue (U20)",null,null,null,"Shaftesbury Barnet H",null,null,null,23.74]
[null,null,8,null,8,7,"Nina Prells","Swansea H",32.729999999999997,null,8,44,"Melissa Strevens",null,null,null,"Newham & Essex Beagles AC",null,null,null,15.88]

{"sheet":"Javelin","index":6,"n_rows":33,"n_cols":32,"rows_kept":33,"cut":false,"hidden":false,"merged":[[31,8,31,9],[32,8,32,9],[27,8,27,9],[28,8,28,9],[23,4,23,9],[24,8,24,9],[24,12,24,15],[24,16,24,19],[24,20,24,21],[29,8,29,9],[30,8,30,9],[25,8,25,9],[26,8,26,9],[32,20,32,21],[31,16,31,19],[30,20,30,21],[30,22,30,28],[23,10,23,21],[22,21,22,22],[26,16,26,19],[23,22,23,28],[22,8,22,9],[22,10,22,11],[22,12,22,13],[22,17,22,18],[22,19,22,20],[21,17,21,18],[32,16,32,19],[30,12,30,15],[29,16,29,19],[30,16,30,19],[31,20,31,21],[31,12,31,15],[28,12,28,15],[21,12,21,13],[26,12,26,15],[25,20,25,21],[26,20,26,21],[25,16,25,19],[25,12,25,15],[21,14,21,15],[6,23,6,24],[7,23,7,24],[8,23,8,24],[9,23,9,24],[7,21,7,22],[8,21,8,22],[9,21,9,22],[10,21,10,22],[32,12,32,15],[16,23,16,24],[13,21,13,22],[14,21,14,22],[17,23,17,24],[18,23,18,24],[19,23,19,24],[16,21,16,22],[20,17,20,18],[27,16,27,19],[28,16,28,19],[27,12,27,15],[27,20,27,21],[28,20,28,21],[29,12,29,15],[29,20,29,21],[11,23,11,24],[20,19,20,20],[20,23,20,24],[10,23,10,24],[18,21,18,22],[17,21,17,22],[21,19,21,20],[14,19,14,20],[15,19,15,20],[16,19,16,20],[17,19,17,20],[18,19,18,20],[19,19,19,20],[11,21,11,22],[12,21,12,22],[12,23,12,24],[15,21,15,22],[13,23,13,24],[14,23,14,24],[15,23,15,24],[21,23,21,24],[19,21,19,22],[20,21,20,22],[21,21,21,22],[17,17,17,18],[18,17,18,18],[19,17,19,18],[12,17,12,18],[13,17,13,18],[14,17,14,18],[15,17,15,18],[16,17,16,18],[10,19,10,20],[11,19,11,20],[12,19,12,20],[13,19,13,20],[15,12,15,13],[16,12,16,13],[17,12,17,13],[18,12,18,13],[20,12,20,13],[19,12,19,13],[14,14,14,15],[15,14,15,15],[16,14,16,15],[17,14,17,15],[18,14,18,15],[19,14,19,15],[20,14,20,15],[21,8,21,9],[14,10,14,11],[15,10,15,11],[16,10,16,11],[17,10,17,11],[18,10,18,11],[19,10,19,11],[20,10,20,11],[21,10,21,11],[15,8,15,9],[16,8,16,9],[17,8,17,9],[18,8,18,9],[19,8,19,9],[20,8,20,9],[11,12,11,13],[12,12,12,13],[13,12,13,13],[14,8,14,9],[11,8,11,9],[9,8,9,9],[10,8,10,9],[8,10,8,11],[9,10,9,11],[12,8,12,9],[8,12,8,13],[9,12,9,13],[10,12,10,13],[13,8,13,9],[11,10,11,11],[12,10,12,11],[13,10,13,11],[10,10,10,11],[8,8,8,9],[14,12,14,13],[11,14,11,15],[6,17,6,18],[7,17,7,18],[8,17,8,18],[9,17,9,18],[10,17,10,18],[11,17,11,18],[6,21,6,22],[13,14,13,15],[6,14,6,15],[7,14,7,15],[8,14,8,15],[9,14,9,15],[10,14,10,15],[12,14,12,15],[6,19,6,20],[8,19,8,20],[7,19,7,20],[9,19,9,20],[4,21,4,22],[4,23,4,24],[3,13,3,15],[3,16,3,18],[3,19,3,28],[4,25,5,25],[5,23,5,24],[4,16,5,16],[4,17,4,18],[4,19,4,20],[5,19,5,20],[5,21,5,22],[4,26,4,28],[6,12,6,13],[7,8,7,9],[7,10,7,11],[7,12,7,13],[5,17,5,18],[4,8,4,9],[4,10,4,11],[4,12,4,13],[4,14,4,15],[5,8,5,9],[5,10,5,11],[5,12,5,13],[5,14,5,15],[6,10,6,11],[6,8,6,9],[0,4,0,5],[1,4,1,28],[2,4,2,5],[3,4,3,5],[2,11,2,15],[3,11,3,12],[2,16,2,18],[2,19,2,28],[2,6,2,7],[2,8,2,10],[3,6,3,7],[3,8,3,10],[0,6,0,28]]}
[null,null,null,null,"Home",null,{"$f":"'Match Day'!I4","v":"UK Womens League"}]
[18,null,26,null,"UK ATHLETICS: DISTANCE CARD"]
[null,null,{"$f":"VLOOKUP(A2,mens_handbook,37,FALSE)","v":19},null,"MEETING ",null,{"$f":"CONCATENATE('Match Day'!$I$8,\" \",'Match Day'!$I$10)","v":"Division 1 Match 3"},null,"VENUE ",null,null,{"$f":"'Match Day'!$I$12","v":"Winchester"},null,null,null,null,"DATE ",null,null,{"$f":"'Match Day'!$I$6","v":"Saturday, 6th August"}]
[null,null,{"$f":"VLOOKUP(A2,declare,20,FALSE)","v":19},null,"EVENT",null,{"$f":"VLOOKUP(A2,mens_handbook,3,FALSE)","v":"Women's Javelin"},null,"TIME",null,null,{"$f":"VLOOKUP(A2,mens_handbook,2,FALSE)","v":"15:20:00"},null,"RECORD",null,null,{"$f":"VLOOKUP(A2,mens_handbook,28,FALSE)","v":"57.99m"},null,null,{"$f":"IF($A2=\"\",\"\",CONCATENATE(VLOOKUP($A2,mens_handbook,26,FALSE),\", \",VLOOKUP($A2,mens_handbook,27,FALSE),\", \",VLOOKUP($A2,mens_handbook,28,FALSE)))","v":"K Morgan, Windsor, 57.99m"}]
[null,null,null,null,"Order","No","NAME","CLUB","1st Trial",null,"2nd Trial",null,"3rd Trial",null,"Best of 3",null,"Position after\n3 Trials","4th Trial",null,"5th Trial",null,"6th Trial",null,"Best of All",null,"Final\nPositionn","A or B"]
[null,null,"A","B",null,null,null,null,"Metres",null,"Metres",null,"Metres",null,"Metres",null,null,"Metres",null,"Metres",null,"Metres",null,"Metres",null,null,null,"A","B"]
[{"$f":"IF(F7=\"\",\"\",IF(F7>10,F7/11,F7))","v":1},null,{"$f":"AB7","v":6},{"$f":"AC7","v":""},1,{"$f":"HLOOKUP(E7,Handbook!$D$3:$K$24,C3,FALSE)","v":1},{"$f":"IF(ISERROR(HLOOKUP(F7,declare,C4,FALSE))=TRUE,\"\",HLOOKUP(F7,declare,C4,FALSE))","v":"Leanne Buxton"},{"$f":"IF(ISERROR(VLOOKUP(A7,matchday,2,FALSE))=TRUE,\"\",VLOOKUP(A7,matchday,2,FALSE))","v":"Bedford & County AC"},null,null,0,null,30.79,null,{"$f":"IF(AND(I7=\"NT\",I7=\"nt\",K7=\"NT\",K7=\"nt\",M7=\"NT\",M7=\"nt\"),0,LARGE(I7:N7,1))","v":30.79},null,{"$f":"IF(OR(O7=0,O7=\"\"),0,RANK(O7,$O$7:$P$22,0))","v":8},0,null,0,null,30.79,null,{"$f":"IF(AND(R7=\"NT\",R7=\"nt\",T7=\"NT\",T7=\"nt\",V7=\"NT\",V7=\"nt\"),O7,IF(O7>LARGE(R7:W7,1),O7,LARGE(R7:W7,1)))","v":30.79},null,{"$f":"IF(OR(Q7=0,Q7=\"\",X7=\"\",X7=0),0,RANK(X7,$X$7:$Y$22,0))","v":8},{"$f":"IF(OR(Z7=0,Z7=\"\"),\"\",IF(VLOOKUP(F7*11,$F$15:$Z$22,21,FALSE)=0,\"A\",IF(Z7>(VLOOKUP(F7*11,$F$15:$Z$22,21,FALSE)),\"B\",\"A\")))","v":"A"},{"$f":"IF(OR(Z7=0,Z7=\"\",AA7=\"B\"),\"\",RANK(AE7,$AE$7:$AE$22,1))","v":6},{"$f":"IF(OR(Z7=0,Z7=\"\",AA7=\"A\"),\"\",RANK(AF7,$AF$7:$AF$22,1))","v":""},null,{"$f":"IF(OR(Z7=\"\",Z7=0,AA7=\"\",AA7=0,AA7=\"B\"),\"\",Z7)","v":8},{"$f":"IF(OR(Z7=\"\",Z7=0,AA7=\"\",AA7=0,AA7=\"A\"),\"\",Z7)","v":""}]
[2,null,"",7,2,{"$f":"HLOOKUP(E8,Handbook!$D$3:$K$24,C3,FALSE)","v":2},{"$f":"IF(ISERROR(HLOOKUP(F8,declare,C4,FALSE))=TRUE,\"\",HLOOKUP(F8,declare,C4,FALSE))","v":"Liz Hughes"},"Blackheath & Bromley H",null,null,0,null,18.440000000000001,null,{"$f":"IF(AND(I8=\"NT\",I8=\"nt\",K8=\"NT\",K8=\"nt\",M8=\"NT\",M8=\"nt\"),0,LARGE(I8:N8,1))","v":18.440000000000001},null,14,0,null,0,null,18.440000000000001,null,{"$f":"IF(AND(R8=\"NT\",R8=\"nt\",T8=\"NT\",T8=\"nt\",V8=\"NT\",V8=\"nt\"),O8,IF(O8>LARGE(R8:W8,1),O8,LARGE(R8:W8,1)))","v":18.440000000000001},null,14,{"$f":"IF(OR(Z8=0,Z8=\"\"),\"\",IF(VLOOKUP(F8*11,$F$15:$Z$22,21,FALSE)=0,\"A\",IF(Z8>(VLOOKUP(F8*11,$F$15:$Z$22,21,FALSE)),\"B\",\"A\")))","v":"B"},"",7,null,"",14]
[8,null,5,"",3,{"$f":"HLOOKUP(E9,Handbook!$D$3:$K$24,C3,FALSE)","v":8},{"$f":"IF(ISERROR(HLOOKUP(F9,declare,C4,FALSE))=TRUE,\"\",HLOOKUP(F9,declare,C4,FALSE))","v":"Carla Letheby"},"Thames Valley H",null,null,0,null,31.4,null,31.4,null,6,0,null,0,null,31.83,null,31.83,null,6,"A",5,"",null,6,""]
[3,null,2,"",4,{"$f":"HLOOKUP(E10,Handbook!$D$3:$K$24,C3,FALSE)","v":3},{"$f":"IF(ISERROR(HLOOKUP(F10,declare,C4,FALSE))=TRUE,\"\",HLOOKUP(F10,declare,C4,FALSE))","v":"Sadie Watts"},"Marshall Milton Keynes AC",null,null,0,null,36.049999999999997,null,36.049999999999997,null,4,0,null,0,null,39.700000000000003,null,39.700000000000003,null,3,"A",2,"",null,3,""]
[5,null,"",2,5,{"$f":"HLOOKUP(E11,Handbook!$D$3:$K$24,C3,FALSE)","v":5},{"$f":"IF(ISERROR(HLOOKUP(F11,declare,C4,FALSE))=TRUE,\"\",HLOOKUP(F11,declare,C4,FALSE))","v":"Trecia Smith"},"Shaftesbury Barnet H",null,null,0,null,30.98,null,30.98,null,7,0,null,0,null,30.98,null,30.98,null,7,"B","",2,null,"",7]
[4,null,8,"",6,{"$f":"HLOOKUP(E12,Handbook!$D$3:$K$24,C3,FALSE)","v":4},{"$f":"IF(ISERROR(HLOOKUP(F12,declare,C4,FALSE))=TRUE,\"\",HLOOKUP(F12,declare,C4,FALSE))","v":"Susannah Banjo"},"Newham & Essex Beagles AC",null,null,0,null,10.95,null,10.95,null,15,0,null,0,null,10.95,null,10.95,null,15,"A",8,"",null,15,""]
[7,null,3,"",7,{"$f":"HLOOKUP(E13,Handbook!$D$3:$K$24,C3,FALSE)","v":7},{"$f":"IF(ISERROR(HLOOKUP(F13,declare,C4,FALSE))=TRUE,\"\",HLOOKUP(F13,declare,C4,FALSE))","v":"Clair Williams"},"Swansea H",null,null,0,null,38.51,null,38.51,null,2,0,null,0,null,39.659999999999997,null,39.659999999999997,null,4,"A",3,"",null,4,""]
[6,null,1,"",8,{"$f":"HLOOKUP(E14,Handbook!$D$3:$K$24,C3,FALSE)","v":6},{"$f":"IF(ISERROR(HLOOKUP(F14,declare,C4,FALSE))=TRUE,\"\",HLOOKUP(F14,declare,C4,FALSE))","v":"Freya Jones"},"Southampton AC",null,null,0,null,46.65,null,46.65,null,1,0,null,0,null,48.33,null,48.33,null,1,"A",1,"",null,1,""]
[1,null,"",3,9,{"$f":"HLOOKUP(E15,Handbook!$L$3:$S$24,C3,FALSE)","v":11},{"$f":"IF(ISERROR(HLOOKUP(F15,declare,C4,FALSE))=TRUE,\"\",HLOOKUP(F15,declare,C4,FALSE))","v":"Rachael Bennett"},"Bedford & County AC",null,null,0,null,27.65,null,27.65,null,9,0,null,0,null,27.65,null,27.65,null,9,{"$f":"IF(OR(Z15=0,Z15=\"\"),\"\",IF(VLOOKUP(F15/11,$F$7:$Z$14,21,FALSE)=0,\"A\",IF(Z15>VLOOKUP(F15/11,$F$7:$Z$14,21,FALSE),\"B\",\"A\")))","v":"B"},"",3,null,"",9]
[2,null,7,"",10,{"$f":"HLOOKUP(E16,Handbook!$L$3:$S$24,C3,FALSE)","v":22},{"$f":"IF(ISERROR(HLOOKUP(F16,declare,C4,FALSE))=TRUE,\"\",HLOOKUP(F16,declare,C4,FALSE))","v":"Sandra Alaneme"},"Blackheath & Bromley H",null,null,0,null,18.489999999999998,null,18.489999999999998,null,13,0,null,0,null,18.489999999999998,null,18.489999999999998,null,13,{"$f":"IF(OR(Z16=0,Z16=\"\"),\"\",IF(VLOOKUP(F16/11,$F$7:$Z$14,21,FALSE)=0,\"A\",IF(Z16>VLOOKUP(F16/11,$F$7:$Z$14,21,FALSE),\"B\",\"A\")))","v":"A"},7,"",null,13,""]
[8,null,"",6,11,{"$f":"HLOOKUP(E17,Handbook!$L$3:$S$24,C3,FALSE)","v":88},{"$f":"IF(ISERROR(HLOOKUP(F17,declare,C4,FALSE))=TRUE,\"\",HLOOKUP(F17,declare,C4,FALSE))","v":"Juchinar Searles"},"Thames Valley H",null,null,0,null,23.84,null,23.84,null,12,0,null,0,null,23.84,null,23.84,null,12,"B","",6,null,"",12]
[3,null,"",5,12,{"$f":"HLOOKUP(E18,Handbook!$L$3:$S$24,C3,FALSE)","v":33},{"$f":"IF(ISERROR(HLOOKUP(F18,declare,C4,FALSE))=TRUE,\"\",HLOOKUP(F18,declare,C4,FALSE))","v":"Andrea Jenkins"},"Marshall Milton Keynes AC",null,null,0,null,24.9,null,24.9,null,11,0,null,0,null,24.9,null,24.9,null,11,"B","",5,null,"",11]
[5,null,4,"",13,{"$f":"HLOOKUP(E19,Handbook!$L$3:$S$24,C3,FALSE)","v":55},{"$f":"IF(ISERROR(HLOOKUP(F19,declare,C4,FALSE))=TRUE,\"\",HLOOKUP(F19,declare,C4,FALSE))","v":"Makeda Lewis (U20)"},"Shaftesbury Barnet H",null,null,0,null,32.409999999999997,null,32.409999999999997,null,5,0,null,0,null,32.409999999999997,null,32.409999999999997,null,5,"A",4,"",null,5,""]
[4,null,"","",14,{"$f":"HLOOKUP(E20,Handbook!$L$3:$S$24,C3,FALSE)","v":44},{"$f":"IF(ISERROR(HLOOKUP(F20,declare,C4,FALSE))=TRUE,\"\",HLOOKUP(F20,declare,C4,FALSE))","v":"Tope Faith-Nuqa"},"Newham & Essex Beagles AC",null,null,0,null,0,null,0,null,0,0,null,0,null,0,null,0,null,0,"","","",null,"",""]
[7,null,"",4,15,{"$f":"HLOOKUP(E21,Handbook!$L$3:$S$24,C3,FALSE)","v":77},{"$f":"IF(ISERROR(HLOOKUP(F21,declare,C4,FALSE))=TRUE,\"\",HLOOKUP(F21,declare,C4,FALSE))","v":"Megan Rogers"},"Swansea H",null,null,0,null,26.45,null,26.45,null,10,0,null,0,null,26.45,null,26.45,null,10,"B","",4,null,"",10]
[6,null,"",1,16,{"$f":"HLOOKUP(E22,Handbook!$L$3:$S$24,C3,FALSE)","v":66},{"$f":"IF(ISERROR(HLOOKUP(F22,declare,C4,FALSE))=TRUE,\"\",HLOOKUP(F22,declare,C4,FALSE))","v":"Sarah Ellis"},"Southampton AC",null,null,0,null,38.4,null,38.4,null,3,0,null,0,null,39.79,null,39.79,null,2,"B","",1,null,"",2]
[null,null,null,null,null,null,null,null,0,null,0,null,0,null,null,null,null,0,null,0,null,0]
[null,null,null,null,"\"A\" STRING RESULT",null,null,null,null,null,"\"B\" STRING RESULT",null,null,null,null,null,null,null,null,null,null,null,"JUDGES' SIGNATURES"]
[null,null,null,null,"Posn","No.","NAME","CLUB","DISTANCE",null,"Posn","No.","NAME",null,null,null,"CLUB",null,null,null,"DISTANCE"]
[null,null,1,null,1,{"$f":"IF(ISERROR(VLOOKUP(C26,$C$7:$Y$22,4,FALSE))=TRUE,0,IF(VLOOKUP(C26,$C$7:$Y$22,22,FALSE)=0,\"\",IF(VLOOKUP(C26,$C$7:$Y$22,22,FALSE)=99,99,IF(VLOOKUP(C26,$C$7:$Y$22,22,FALSE)=98,98,IF(VLOOKUP(C26,$C$7:$Y$22,22,FALSE)=96,96,VLOOKUP(C26,$C$7:$Y$22,4,FALSE))))))","v":6},{"$f":"IF(ISERROR(VLOOKUP(C26,$C$7:$Y$22,4,FALSE))=TRUE,0,VLOOKUP(C26,$C$7:$Y$22,5,FALSE))","v":"Freya Jones"},{"$f":"IF(ISERROR(VLOOKUP(C26,$C$7:$Y$22,4,FALSE))=TRUE,0,VLOOKUP(C26,$C$7:$Y$22,6,FALSE))","v":"Southampton AC"},{"$f":"IF(ISERROR(VLOOKUP(C26,$C$7:$Y$22,4,FALSE))=TRUE,0,IF(VLOOKUP(C26,$C$7:$Y$22,22,FALSE)=0,\"\",IF(VLOOKUP(C26,$C$7:$Y$22,22,FALSE)>95.99,\"\",VLOOKUP(C26,$C$7:$Y$22,22,FALSE))))","v":48.33},null,1,{"$f":"IF(ISERROR(VLOOKUP(C26,$D$7:$Y$22,4,FALSE))=TRUE,0,IF(VLOOKUP(C26,D$7:Y$22,21,FALSE)=0,\"\",VLOOKUP(C26,D$7:Y$22,3,FALSE)))","v":66},{"$f":"IF(ISERROR(VLOOKUP(C26,$D$7:$Y$22,4,FALSE))=TRUE,0,VLOOKUP(C26,D$7:Y$22,4,FALSE))","v":"Sarah Ellis"},null,null,null,{"$f":"IF(ISERROR(VLOOKUP(C26,$D$7:$Y$22,4,FALSE))=TRUE,0,VLOOKUP(C26,$D$7:$Y$22,5,FALSE))","v":"Southampton AC"},null,null,null,{"$f":"IF(ISERROR(VLOOKUP(C26,$D$7:$Y$22,3,FALSE))=TRUE,0,IF(VLOOKUP(C26,$D$7:$Y$22,21,FALSE)=0,\"\",VLOOKUP(C26,$D$7:$Y$22,21,FALSE)))","v":39.79}]
[null,null,2,null,2,3,"Sadie Watts","Marshall Milton Keynes AC",39.700000000000003,null,2,5,"Trecia Smith",null,null,null,"Shaftesbury Barnet H",null,null,null,30.98]
[null,null,3,null,3,7,"Clair Williams","Swansea H",39.659999999999997,null,3,11,"Rachael Bennett",null,null,null,"Bedford & County AC",null,null,null,27.65]
[null,null,4,null,4,55,"Makeda Lewis (U20)","Shaftesbury Barnet H",32.409999999999997,null,4,77,"Megan Rogers",null,null,null,"Swansea H",null,null,null,26.45]
[null,null,5,null,5,8,"Carla Letheby","Thames Valley H",31.83,null,5,33,"Andrea Jenkins",null,null,null,"Marshall Milton Keynes AC",null,null,null,24.9]
[null,null,6,null,6,1,"Leanne Buxton","Bedford & County AC",30.79,null,6,88,"Juchinar Searles",null,null,null,"Thames Valley H",null,null,null,23.84,null,"REFEREE'S SIGNATURE"]
[null,null,7,null,7,22,"Sandra Alaneme","Blackheath & Bromley H",18.489999999999998,null,7,2,"Liz Hughes",null,null,null,"Blackheath & Bromley H",null,null,null,18.440000000000001]
[null,null,8,null,8,4,"Susannah Banjo","Newham & Essex Beagles AC",10.95,null,8,0,0,null,null,null,0,null,null,null,0]

{"sheet":"Shot","index":7,"n_rows":33,"n_cols":32,"rows_kept":33,"cut":false,"hidden":false,"merged":[[31,8,31,9],[32,8,32,9],[27,8,27,9],[28,8,28,9],[23,4,23,9],[24,8,24,9],[24,12,24,15],[24,16,24,19],[24,20,24,21],[29,8,29,9],[30,8,30,9],[25,8,25,9],[26,8,26,9],[32,20,32,21],[31,16,31,19],[30,20,30,21],[30,22,30,28],[23,10,23,21],[22,21,22,22],[26,16,26,19],[23,22,23,28],[22,8,22,9],[22,10,22,11],[22,12,22,13],[22,17,22,18],[22,19,22,20],[21,17,21,18],[32,16,32,19],[30,12,30,15],[29,16,29,19],[30,16,30,19],[31,20,31,21],[31,12,31,15],[28,12,28,15],[21,12,21,13],[26,12,26,15],[25,20,25,21],[26,20,26,21],[25,16,25,19],[25,12,25,15],[21,14,21,15],[6,23,6,24],[7,23,7,24],[8,23,8,24],[9,23,9,24],[7,21,7,22],[8,21,8,22],[9,21,9,22],[10,21,10,22],[32,12,32,15],[16,23,16,24],[13,21,13,22],[14,21,14,22],[17,23,17,24],[18,23,18,24],[19,23,19,24],[16,21,16,22],[20,17,20,18],[27,16,27,19],[28,16,28,19],[27,12,27,15],[27,20,27,21],[28,20,28,21],[29,12,29,15],[29,20,29,21],[11,23,11,24],[20,19,20,20],[20,23,20,24],[10,23,10,24],[18,21,18,22],[17,21,17,22],[21,19,21,20],[14,19,14,20],[15,19,15,20],[16,19,16,20],[17,19,17,20],[18,19,18,20],[19,19,19,20],[11,21,11,22],[12,21,12,22],[12,23,12,24],[15,21,15,22],[13,23,13,24],[14,23,14,24],[15,23,15,24],[21,23,21,24],[19,21,19,22],[20,21,20,22],[21,21,21,22],[17,17,17,18],[18,17,18,18],[19,17,19,18],[12,17,12,18],[13,17,13,18],[14,17,14,18],[15,17,15,18],[16,17,16,18],[10,19,10,20],[11,19,11,20],[12,19,12,20],[13,19,13,20],[15,12,15,13],[16,12,16,13],[17,12,17,13],[18,12,18,13],[20,12,20,13],[19,12,19,13],[14,14,14,15],[15,14,15,15],[16,14,16,15],[17,14,17,15],[18,14,18,15],[19,14,19,15],[20,14,20,15],[21,8,21,9],[14,10,14,11],[15,10,15,11],[16,10,16,11],[17,10,17,11],[18,10,18,11],[19,10,19,11],[20,10,20,11],[21,10,21,11],[15,8,15,9],[16,8,16,9],[17,8,17,9],[18,8,18,9],[19,8,19,9],[20,8,20,9],[11,12,11,13],[12,12,12,13],[13,12,13,13],[14,8,14,9],[11,8,11,9],[9,8,9,9],[10,8,10,9],[8,10,8,11],[9,10,9,11],[12,8,12,9],[8,12,8,13],[9,12,9,13],[10,12,10,13],[13,8,13,9],[11,10,11,11],[12,10,12,11],[13,10,13,11],[10,10,10,11],[8,8,8,9],[14,12,14,13],[11,14,11,15],[6,17,6,18],[7,17,7,18],[8,17,8,18],[9,17,9,18],[10,17,10,18],[11,17,11,18],[6,21,6,22],[13,14,13,15],[6,14,6,15],[7,14,7,15],[8,14,8,15],[9,14,9,15],[10,14,10,15],[12,14,12,15],[6,19,6,20],[8,19,8,20],[7,19,7,20],[9,19,9,20],[4,21,4,22],[4,23,4,24],[3,13,3,15],[3,16,3,18],[3,19,3,28],[4,25,5,25],[5,23,5,24],[4,16,5,16],[4,17,4,18],[4,19,4,20],[5,19,5,20],[5,21,5,22],[4,26,4,28],[6,12,6,13],[7,8,7,9],[7,10,7,11],[7,12,7,13],[5,17,5,18],[4,8,4,9],[4,10,4,11],[4,12,4,13],[4,14,4,15],[5,8,5,9],[5,10,5,11],[5,12,5,13],[5,14,5,15],[6,10,6,11],[6,8,6,9],[0,4,0,5],[1,4,1,28],[2,4,2,5],[3,4,3,5],[2,11,2,15],[3,11,3,12],[2,16,2,18],[2,19,2,28],[2,6,2,7],[2,8,2,10],[3,6,3,7],[3,8,3,10],[0,6,0,28]]}
[null,null,null,null,"Home",null,{"$f":"'Match Day'!I4","v":"UK Womens League"}]
[17,null,26,null,"UK ATHLETICS: DISTANCE CARD"]
[null,null,{"$f":"VLOOKUP(A2,mens_handbook,37,FALSE)","v":18},null,"MEETING ",null,{"$f":"CONCATENATE('Match Day'!$I$8,\" \",'Match Day'!$I$10)","v":"Division 1 Match 3"},null,"VENUE ",null,null,{"$f":"'Match Day'!$I$12","v":"Winchester"},null,null,null,null,"DATE ",null,null,{"$f":"'Match Day'!$I$6","v":"Saturday, 6th August"}]
[null,null,{"$f":"VLOOKUP(A2,declare,20,FALSE)","v":18},null,"EVENT",null,{"$f":"VLOOKUP(A2,mens_handbook,3,FALSE)","v":"Women's Shot Putt"},null,"TIME",null,null,{"$f":"VLOOKUP(A2,mens_handbook,2,FALSE)","v":"15:00:00"},null,"RECORD",null,null,{"$f":"VLOOKUP(A2,mens_handbook,28,FALSE)","v":"18.88m"},null,null,{"$f":"IF($A2=\"\",\"\",CONCATENATE(VLOOKUP($A2,mens_handbook,26,FALSE),\", \",VLOOKUP($A2,mens_handbook,27,FALSE),\", \",VLOOKUP($A2,mens_handbook,28,FALSE)))","v":"Judy Oakes, Croydon, 18.88m"}]
[null,null,null,null,"Order","No","NAME","CLUB","1st Trial",null,"2nd Trial",null,"3rd Trial",null,"Best of 3",null,"Position after\n3 Trials","4th Trial",null,"5th Trial",null,"6th Trial",null,"Best of All",null,"Final\nPositionn","A or B"]
[null,null,"A","B",null,null,null,null,"Metres",null,"Metres",null,"Metres",null,"Metres",null,null,"Metres",null,"Metres",null,"Metres",null,"Metres",null,null,null,"A","B"]
[{"$f":"IF(F7=\"\",\"\",IF(F7>10,F7/11,F7))","v":8},null,{"$f":"AB7","v":2},{"$f":"AC7","v":""},1,{"$f":"HLOOKUP(E7,Handbook!$D$3:$K$24,C3,FALSE)","v":8},{"$f":"IF(ISERROR(HLOOKUP(F7,declare,C4,FALSE))=TRUE,\"\",HLOOKUP(F7,declare,C4,FALSE))","v":"Phyllis Agbo"},{"$f":"IF(ISERROR(VLOOKUP(A7,matchday,2,FALSE))=TRUE,\"\",VLOOKUP(A7,matchday,2,FALSE))","v":"Thames Valley H"},null,null,0,null,12.8,null,{"$f":"IF(AND(I7=\"NT\",I7=\"nt\",K7=\"NT\",K7=\"nt\",M7=\"NT\",M7=\"nt\"),0,LARGE(I7:N7,1))","v":12.8},null,{"$f":"IF(OR(O7=0,O7=\"\"),0,RANK(O7,$O$7:$P$22,0))","v":2},0,null,0,null,13.24,null,{"$f":"IF(AND(R7=\"NT\",R7=\"nt\",T7=\"NT\",T7=\"nt\",V7=\"NT\",V7=\"nt\"),O7,IF(O7>LARGE(R7:W7,1),O7,LARGE(R7:W7,1)))","v":13.24},null,{"$f":"IF(OR(Q7=0,Q7=\"\",X7=\"\",X7=0),0,RANK(X7,$X$7:$Y$22,0))","v":2},{"$f":"IF(OR(Z7=0,Z7=\"\"),\"\",IF(VLOOKUP(F7*11,$F$15:$Z$22,21,FALSE)=0,\"A\",IF(Z7>(VLOOKUP(F7*11,$F$15:$Z$22,21,FALSE)),\"B\",\"A\")))","v":"A"},{"$f":"IF(OR(Z7=0,Z7=\"\",AA7=\"B\"),\"\",RANK(AE7,$AE$7:$AE$22,1))","v":2},{"$f":"IF(OR(Z7=0,Z7=\"\",AA7=\"A\"),\"\",RANK(AF7,$AF$7:$AF$22,1))","v":""},null,{"$f":"IF(OR(Z7=\"\",Z7=0,AA7=\"\",AA7=0,AA7=\"B\"),\"\",Z7)","v":2},{"$f":"IF(OR(Z7=\"\",Z7=0,AA7=\"\",AA7=0,AA7=\"A\"),\"\",Z7)","v":""}]
[3,null,6,"",2,{"$f":"HLOOKUP(E8,Handbook!$D$3:$K$24,C3,FALSE)","v":3},{"$f":"IF(ISERROR(HLOOKUP(F8,declare,C4,FALSE))=TRUE,\"\",HLOOKUP(F8,declare,C4,FALSE))","v":"Emma Beales (vV35)"},"Marshall Milton Keynes AC",null,null,0,null,10.45,null,{"$f":"IF(AND(I8=\"NT\",I8=\"nt\",K8=\"NT\",K8=\"nt\",M8=\"NT\",M8=\"nt\"),0,LARGE(I8:N8,1))","v":10.45},null,9,0,null,0,null,10.45,null,{"$f":"IF(AND(R8=\"NT\",R8=\"nt\",T8=\"NT\",T8=\"nt\",V8=\"NT\",V8=\"nt\"),O8,IF(O8>LARGE(R8:W8,1),O8,LARGE(R8:W8,1)))","v":10.45},null,9,{"$f":"IF(OR(Z8=0,Z8=\"\"),\"\",IF(VLOOKUP(F8*11,$F$15:$Z$22,21,FALSE)=0,\"A\",IF(Z8>(VLOOKUP(F8*11,$F$15:$Z$22,21,FALSE)),\"B\",\"A\")))","v":"A"},6,"",null,9,""]
[6,null,3,"",3,{"$f":"HLOOKUP(E9,Handbook!$D$3:$K$24,C3,FALSE)","v":6},{"$f":"IF(ISERROR(HLOOKUP(F9,declare,C4,FALSE))=TRUE,\"\",HLOOKUP(F9,declare,C4,FALSE))","v":"Freya Jones"},"Southampton AC",null,null,0,null,12.03,null,12.03,null,3,0,null,0,null,12.03,null,12.03,null,3,"A",3,"",null,3,""]
[2,null,1,"",4,{"$f":"HLOOKUP(E10,Handbook!$D$3:$K$24,C3,FALSE)","v":2},{"$f":"IF(ISERROR(HLOOKUP(F10,declare,C4,FALSE))=TRUE,\"\",HLOOKUP(F10,declare,C4,FALSE))","v":"Shaunagh  Brown"},"Blackheath & Bromley H",null,null,0,null,14.38,null,14.38,null,1,0,null,0,null,14.38,null,14.38,null,1,"A",1,"",null,1,""]
[4,null,8,"",5,{"$f":"HLOOKUP(E11,Handbook!$D$3:$K$24,C3,FALSE)","v":4},{"$f":"IF(ISERROR(HLOOKUP(F11,declare,C4,FALSE))=TRUE,\"\",HLOOKUP(F11,declare,C4,FALSE))","v":"Sue Lawrence"},"Newham & Essex Beagles AC",null,null,0,null,8.5500000000000007,null,8.5500000000000007,null,15,0,null,0,null,8.5500000000000007,null,{"$f":"IF(AND(R11=\"NT\",R11=\"nt\",T11=\"NT\",T11=\"nt\",V11=\"NT\",V11=\"nt\"),O11,IF(O11>LARGE(R11:W11,1),O11,LARGE(R11:W11,1)))","v":8.5500000000000007},null,15,"A",8,"",null,15,""]
[7,null,7,"",6,{"$f":"HLOOKUP(E12,Handbook!$D$3:$K$24,C3,FALSE)","v":7},{"$f":"IF(ISERROR(HLOOKUP(F12,declare,C4,FALSE))=TRUE,\"\",HLOOKUP(F12,declare,C4,FALSE))","v":"Toni Wells"},"Swansea H",null,null,0,null,10.33,null,10.33,null,10,0,null,0,null,10.33,null,10.33,null,10,"A",7,"",null,10,""]
[1,null,5,"",7,{"$f":"HLOOKUP(E13,Handbook!$D$3:$K$24,C3,FALSE)","v":1},{"$f":"IF(ISERROR(HLOOKUP(F13,declare,C4,FALSE))=TRUE,\"\",HLOOKUP(F13,declare,C4,FALSE))","v":"Leanne Buxton"},"Bedford & County AC",null,null,0,null,10.6,null,10.6,null,6,0,null,0,null,10.6,null,10.6,null,7,"A",5,"",null,7,""]
[5,null,4,"",8,{"$f":"HLOOKUP(E14,Handbook!$D$3:$K$24,C3,FALSE)","v":5},{"$f":"IF(ISERROR(HLOOKUP(F14,declare,C4,FALSE))=TRUE,\"\",HLOOKUP(F14,declare,C4,FALSE))","v":"Lucy Boggis"},"Shaftesbury Barnet H",null,null,0,null,11.2,null,11.2,null,5,0,null,0,null,11.2,null,11.2,null,5,"A",4,"",null,5,""]
[8,null,"",2,9,{"$f":"HLOOKUP(E15,Handbook!$L$3:$S$24,C3,FALSE)","v":88},{"$f":"IF(ISERROR(HLOOKUP(F15,declare,C4,FALSE))=TRUE,\"\",HLOOKUP(F15,declare,C4,FALSE))","v":"Abigail Moronkeji"},"Thames Valley H",null,null,0,null,10.56,null,10.56,null,8,0,null,0,null,11.12,null,11.12,null,6,{"$f":"IF(OR(Z15=0,Z15=\"\"),\"\",IF(VLOOKUP(F15/11,$F$7:$Z$14,21,FALSE)=0,\"A\",IF(Z15>VLOOKUP(F15/11,$F$7:$Z$14,21,FALSE),\"B\",\"A\")))","v":"B"},"",2,null,"",6]
[3,null,"",5,10,{"$f":"HLOOKUP(E16,Handbook!$L$3:$S$24,C3,FALSE)","v":33},{"$f":"IF(ISERROR(HLOOKUP(F16,declare,C4,FALSE))=TRUE,\"\",HLOOKUP(F16,declare,C4,FALSE))","v":"Sadie Watts"},"Marshall Milton Keynes AC",null,null,0,null,9.6,null,9.6,null,12,0,null,0,null,9.6,null,9.6,null,12,{"$f":"IF(OR(Z16=0,Z16=\"\"),\"\",IF(VLOOKUP(F16/11,$F$7:$Z$14,21,FALSE)=0,\"A\",IF(Z16>VLOOKUP(F16/11,$F$7:$Z$14,21,FALSE),\"B\",\"A\")))","v":"B"},"",5,null,"",12]
[6,null,"",4,11,{"$f":"HLOOKUP(E17,Handbook!$L$3:$S$24,C3,FALSE)","v":66},{"$f":"IF(ISERROR(HLOOKUP(F17,declare,C4,FALSE))=TRUE,\"\",HLOOKUP(F17,declare,C4,FALSE))","v":"Debbie Callaway"},"Southampton AC",null,null,0,null,9.8699999999999992,null,9.8699999999999992,null,11,0,null,0,null,9.8699999999999992,null,9.8699999999999992,null,11,"B","",4,null,"",11]
[2,null,"",1,12,{"$f":"HLOOKUP(E18,Handbook!$L$3:$S$24,C3,FALSE)","v":22},{"$f":"IF(ISERROR(HLOOKUP(F18,declare,C4,FALSE))=TRUE,\"\",HLOOKUP(F18,declare,C4,FALSE))","v":"Sam Milner"},"Blackheath & Bromley H",null,null,0,null,11.25,null,11.25,null,4,0,null,0,null,11.4,null,11.4,null,4,"B","",1,null,"",4]
[4,null,"",8,13,{"$f":"HLOOKUP(E19,Handbook!$L$3:$S$24,C3,FALSE)","v":44},{"$f":"IF(ISERROR(HLOOKUP(F19,declare,C4,FALSE))=TRUE,\"\",HLOOKUP(F19,declare,C4,FALSE))","v":"Kate Laidlow"},"Newham & Essex Beagles AC",null,null,0,null,7.72,null,7.72,null,16,0,null,0,null,7.72,null,7.72,null,16,"B","",8,null,"",16]
[7,null,"",7,14,{"$f":"HLOOKUP(E20,Handbook!$L$3:$S$24,C3,FALSE)","v":77},{"$f":"IF(ISERROR(HLOOKUP(F20,declare,C4,FALSE))=TRUE,\"\",HLOOKUP(F20,declare,C4,FALSE))","v":"Nina Prells"},"Swansea H",null,null,0,null,8.9,null,8.9,null,14,0,null,0,null,8.9,null,8.9,null,14,"B","",7,null,"",14]
[1,null,"",3,15,{"$f":"HLOOKUP(E21,Handbook!$L$3:$S$24,C3,FALSE)","v":11},{"$f":"IF(ISERROR(HLOOKUP(F21,declare,C4,FALSE))=TRUE,\"\",HLOOKUP(F21,declare,C4,FALSE))","v":"Laura Duke"},"Bedford & County AC",null,null,0,null,10.57,null,10.57,null,7,0,null,0,null,10.57,null,10.57,null,8,"B","",3,null,"",8]
[5,null,"",6,16,{"$f":"HLOOKUP(E22,Handbook!$L$3:$S$24,C3,FALSE)","v":55},{"$f":"IF(ISERROR(HLOOKUP(F22,declare,C4,FALSE))=TRUE,\"\",HLOOKUP(F22,declare,C4,FALSE))","v":"Makeda Lewis (U20)"},"Shaftesbury Barnet H",null,null,0,null,9.2799999999999994,null,9.2799999999999994,null,13,0,null,0,null,9.2799999999999994,null,9.2799999999999994,null,13,"B","",6,null,"",13]
[null,null,null,null,null,null,null,null,0,null,0,null,0,null,null,null,null,0,null,0,null,0]
[null,null,null,null,"\"A\" STRING RESULT",null,null,null,null,null,"\"B\" STRING RESULT",null,null,null,null,null,null,null,null,null,null,null,"JUDGES' SIGNATURES"]
[null,null,null,null,"Posn","No.","NAME","CLUB","DISTANCE",null,"Posn","No.","NAME",null,null,null,"CLUB",null,null,null,"DISTANCE"]
[null,null,1,null,1,{"$f":"IF(ISERROR(VLOOKUP(C26,$C$7:$Y$22,4,FALSE))=TRUE,0,IF(VLOOKUP(C26,$C$7:$Y$22,22,FALSE)=0,\"\",IF(VLOOKUP(C26,$C$7:$Y$22,22,FALSE)=99,99,IF(VLOOKUP(C26,$C$7:$Y$22,22,FALSE)=98,98,IF(VLOOKUP(C26,$C$7:$Y$22,22,FALSE)=96,96,VLOOKUP(C26,$C$7:$Y$22,4,FALSE))))))","v":2},{"$f":"IF(ISERROR(VLOOKUP(C26,$C$7:$Y$22,4,FALSE))=TRUE,0,VLOOKUP(C26,$C$7:$Y$22,5,FALSE))","v":"Shaunagh  Brown"},{"$f":"IF(ISERROR(VLOOKUP(C26,$C$7:$Y$22,4,FALSE))=TRUE,0,VLOOKUP(C26,$C$7:$Y$22,6,FALSE))","v":"Blackheath & Bromley H"},{"$f":"IF(ISERROR(VLOOKUP(C26,$C$7:$Y$22,4,FALSE))=TRUE,0,IF(VLOOKUP(C26,$C$7:$Y$22,22,FALSE)=0,\"\",IF(VLOOKUP(C26,$C$7:$Y$22,22,FALSE)>95.99,\"\",VLOOKUP(C26,$C$7:$Y$22,22,FALSE))))","v":14.38},null,1,{"$f":"IF(ISERROR(VLOOKUP(C26,$D$7:$Y$22,4,FALSE))=TRUE,0,IF(VLOOKUP(C26,D$7:Y$22,21,FALSE)=0,\"\",VLOOKUP(C26,D$7:Y$22,3,FALSE)))","v":22},{"$f":"IF(ISERROR(VLOOKUP(C26,$D$7:$Y$22,4,FALSE))=TRUE,0,VLOOKUP(C26,D$7:Y$22,4,FALSE))","v":"Sam Milner"},null,null,null,{"$f":"IF(ISERROR(VLOOKUP(C26,$D$7:$Y$22,4,FALSE))=TRUE,0,VLOOKUP(C26,$D$7:$Y$22,5,FALSE))","v":"Blackheath & Bromley H"},null,null,null,{"$f":"IF(ISERROR(VLOOKUP(C26,$D$7:$Y$22,3,FALSE))=TRUE,0,IF(VLOOKUP(C26,$D$7:$Y$22,21,FALSE)=0,\"\",VLOOKUP(C26,$D$7:$Y$22,21,FALSE)))","v":11.4}]
[null,null,2,null,2,8,"Phyllis Agbo","Thames Valley H",13.24,null,2,88,"Abigail Moronkeji",null,null,null,"Thames Valley H",null,null,null,11.12]
[null,null,3,null,3,6,"Freya Jones","Southampton AC",12.03,null,3,11,"Laura Duke",null,null,null,"Bedford & County AC",null,null,null,10.57]
[null,null,4,null,4,5,"Lucy Boggis","Shaftesbury Barnet H",11.2,null,4,66,"Debbie Callaway",null,null,null,"Southampton AC",null,null,null,9.8699999999999992]
[null,null,5,null,5,1,"Leanne Buxton","Bedford & County AC",10.6,null,5,33,"Sadie Watts",null,null,null,"Marshall Milton Keynes AC",null,null,null,9.6]
[null,null,6,null,6,3,"Emma Beales (vV35)","Marshall Milton Keynes AC",10.45,null,6,55,"Makeda Lewis (U20)",null,null,null,"Shaftesbury Barnet H",null,null,null,9.2799999999999994,null,"REFEREE'S SIGNATURE"]
[null,null,7,null,7,7,"Toni Wells","Swansea H",10.33,null,7,77,"Nina Prells",null,null,null,"Swansea H",null,null,null,8.9]
[null,null,8,null,8,4,"Sue Lawrence","Newham & Essex Beagles AC",8.5500000000000007,null,8,44,"Kate Laidlow",null,null,null,"Newham & Essex Beagles AC",null,null,null,7.72]

{"sheet":"LJ","index":8,"n_rows":33,"n_cols":32,"rows_kept":33,"cut":false,"hidden":false,"merged":[[4,26,4,28],[30,8,30,9],[31,8,31,9],[32,8,32,9],[31,12,31,15],[32,12,32,15],[16,23,16,24],[17,23,17,24],[18,23,18,24],[19,23,19,24],[20,23,20,24],[20,14,20,15],[25,8,25,9],[26,8,26,9],[26,16,26,19],[27,16,27,19],[23,4,23,9],[24,8,24,9],[26,12,26,15],[27,8,27,9],[28,8,28,9],[15,23,15,24],[32,20,32,21],[25,20,25,21],[26,20,26,21],[29,8,29,9],[32,16,32,19],[27,20,27,21],[28,20,28,21],[29,12,29,15],[29,20,29,21],[21,23,21,24],[30,20,30,21],[31,20,31,21],[30,22,30,28],[23,10,23,21],[23,22,23,28],[24,12,24,15],[24,16,24,19],[24,20,24,21],[21,14,21,15],[30,12,30,15],[29,16,29,19],[30,16,30,19],[27,12,27,15],[28,12,28,15],[25,16,25,19],[25,12,25,15],[31,16,31,19],[28,16,28,19],[9,14,9,15],[19,14,19,15],[14,14,14,15],[15,14,15,15],[16,14,16,15],[17,14,17,15],[13,14,13,15],[12,23,12,24],[13,23,13,24],[14,23,14,24],[18,14,18,15],[4,8,4,9],[4,10,4,11],[4,12,4,13],[4,14,4,15],[10,23,10,24],[12,14,12,15],[11,23,11,24],[4,25,5,25],[5,23,5,24],[4,16,5,16],[4,17,4,18],[4,19,4,20],[4,23,4,24],[5,14,5,15],[10,14,10,15],[11,14,11,15],[4,21,4,22],[6,23,6,24],[7,23,7,24],[8,23,8,24],[9,23,9,24],[6,14,6,15],[7,14,7,15],[8,14,8,15],[0,4,0,5],[1,4,1,28],[2,4,2,5],[3,4,3,5],[2,11,2,15],[3,11,3,12],[2,16,2,18],[2,19,2,28],[2,6,2,7],[2,8,2,10],[3,6,3,7],[3,8,3,10],[3,13,3,15],[3,16,3,18],[3,19,3,28],[0,6,0,28]]}
[null,null,null,null,"Home",null,{"$f":"'Match Day'!I4","v":"UK Womens League"}]
[13,null,26,null,"UK ATHLETICS: DISTANCE CARD"]
[null,null,{"$f":"VLOOKUP(A2,mens_handbook,37,FALSE)","v":14},null,"MEETING ",null,{"$f":"CONCATENATE('Match Day'!$I$8,\" \",'Match Day'!$I$10)","v":"Division 1 Match 3"},null,"VENUE ",null,null,{"$f":"'Match Day'!$I$12","v":"Winchester"},null,null,null,null,"DATE ",null,null,{"$f":"'Match Day'!$I$6","v":"Saturday, 6th August"}]
[null,null,{"$f":"VLOOKUP(A2,declare,20,FALSE)","v":14},null,"EVENT",null,{"$f":"VLOOKUP(A2,mens_handbook,3,FALSE)","v":"Women's Long Jump"},null,"TIME",null,null,{"$f":"VLOOKUP(A2,mens_handbook,2,FALSE)","v":"12:00:00"},null,"RECORD",null,null,{"$f":"VLOOKUP(A2,mens_handbook,28,FALSE)","v":"6.69m"},null,null,{"$f":"IF($A2=\"\",\"\",CONCATENATE(VLOOKUP($A2,mens_handbook,26,FALSE),\", \",VLOOKUP($A2,mens_handbook,27,FALSE),\", \",VLOOKUP($A2,mens_handbook,28,FALSE)))","v":"Fiona May, Derby, 6.69m"}]
[null,null,null,null,"Order","No","NAME","CLUB","1st Trial",null,"2nd Trial",null,"3rd Trial",null,"Best of 3",null,"Position after\n3 Trials","4th Trial",null,"5th Trial",null,"6th Trial",null,"Best of All",null,"Final\nPositionn","A or B"]
[null,null,"A","B",null,null,null,null,"Metres","Wind","Metres","Wind","Metres","Wind","Metres",null,null,"Metres","Wind","Metres","Wind","Metres","Wind","Metres",null,null,null,"A","B"]
[{"$f":"IF(F7=\"\",\"\",IF(F7>10,F7/11,F7))","v":3},null,{"$f":"AB7","v":3},{"$f":"AC7","v":""},1,{"$f":"HLOOKUP(E7,Handbook!$D$3:$K$24,C3,FALSE)","v":3},{"$f":"IF(ISERROR(HLOOKUP(F7,declare,C4,FALSE))=TRUE,\"\",HLOOKUP(F7,declare,C4,FALSE))","v":"Sophie Wilkins"},{"$f":"IF(ISERROR(VLOOKUP(A7,matchday,2,FALSE))=TRUE,\"\",VLOOKUP(A7,matchday,2,FALSE))","v":"Marshall Milton Keynes AC"},null,null,0,null,5.56,null,{"$f":"IF(AND(I7=\"NJ\",I7=\"NJ\",K7=\"NJ\",K7=\"NJ\",M7=\"NJ\",M7=\"NJ\"),0,LARGE(I7:N7,1))","v":5.56},null,{"$f":"IF(OR(O7=0,O7=\"\"),0,RANK(O7,$O$7:$P$22,0))","v":2},0,null,0,null,5.56,"+0.8",{"$f":"IF(AND(R7=\"NJ\",R7=\"NJ\",T7=\"NJ\",T7=\"NJ\",V7=\"NJ\",V7=\"NJ\"),O7,IF(O7>LARGE(R7:W7,1),O7,LARGE(R7:W7,1)))","v":5.56},null,{"$f":"IF(OR(Q7=0,Q7=\"\",X7=\"\",X7=0),0,RANK(X7,$X$7:$Y$22,0))","v":3},{"$f":"IF(OR(Z7=0,Z7=\"\"),\"\",IF(VLOOKUP(F7*11,$F$15:$Z$22,21,FALSE)=0,\"A\",IF(Z7>(VLOOKUP(F7*11,$F$15:$Z$22,21,FALSE)),\"B\",\"A\")))","v":"A"},{"$f":"IF(OR(Z7=0,Z7=\"\",AA7=\"B\"),\"\",RANK(AE7,$AE$7:$AE$22,1))","v":3},{"$f":"IF(OR(Z7=0,Z7=\"\",AA7=\"A\"),\"\",RANK(AF7,$AF$7:$AF$22,1))","v":""},null,{"$f":"IF(OR(Z7=\"\",Z7=0,AA7=\"\",AA7=0,AA7=\"B\"),\"\",Z7)","v":3},{"$f":"IF(OR(Z7=\"\",Z7=0,AA7=\"\",AA7=0,AA7=\"A\"),\"\",Z7)","v":""}]
[7,null,"",4,2,{"$f":"HLOOKUP(E8,Handbook!$D$3:$K$24,C3,FALSE)","v":7},{"$f":"IF(ISERROR(HLOOKUP(F8,declare,C4,FALSE))=TRUE,\"\",HLOOKUP(F8,declare,C4,FALSE))","v":"Rebecca Williams"},"Swansea H",null,null,0,null,4.68,null,4.68,null,11,0,null,0,null,4.68,"+0.9",4.68,null,11,{"$f":"IF(OR(Z8=0,Z8=\"\"),\"\",IF(VLOOKUP(F8*11,$F$15:$Z$22,21,FALSE)=0,\"A\",IF(Z8>(VLOOKUP(F8*11,$F$15:$Z$22,21,FALSE)),\"B\",\"A\")))","v":"B"},"",4,null,"",11]
[5,null,2,"",3,{"$f":"HLOOKUP(E9,Handbook!$D$3:$K$24,C3,FALSE)","v":5},{"$f":"IF(ISERROR(HLOOKUP(F9,declare,C4,FALSE))=TRUE,\"\",HLOOKUP(F9,declare,C4,FALSE))","v":"Lucy Boggis"},"Shaftesbury Barnet H",null,null,0,null,5.59,null,5.59,null,1,0,null,0,null,5.59,"+1.4",5.59,null,2,"A",2,"",null,2,""]
[1,null,8,"",4,{"$f":"HLOOKUP(E10,Handbook!$D$3:$K$24,C3,FALSE)","v":1},{"$f":"IF(ISERROR(HLOOKUP(F10,declare,C4,FALSE))=TRUE,\"\",HLOOKUP(F10,declare,C4,FALSE))","v":"Emma Bailey"},"Bedford & County AC",null,null,0,null,3.67,null,3.67,null,15,0,null,0,null,3.67,"+1.3",3.67,null,15,"A",8,"",null,15,""]
[4,null,"",3,5,{"$f":"HLOOKUP(E11,Handbook!$D$3:$K$24,C3,FALSE)","v":4},{"$f":"IF(ISERROR(HLOOKUP(F11,declare,C4,FALSE))=TRUE,\"\",HLOOKUP(F11,declare,C4,FALSE))","v":"Chioma Matthews"},"Newham & Essex Beagles AC",null,null,0,null,4.9400000000000004,null,4.9400000000000004,null,10,0,null,0,null,4.9400000000000004,"+0",4.9400000000000004,null,10,"B","",3,null,"",10]
[2,null,5,"",6,{"$f":"HLOOKUP(E12,Handbook!$D$3:$K$24,C3,FALSE)","v":2},{"$f":"IF(ISERROR(HLOOKUP(F12,declare,C4,FALSE))=TRUE,\"\",HLOOKUP(F12,declare,C4,FALSE))","v":"Emily Martin"},"Blackheath & Bromley H",null,null,0,null,5.48,null,5.48,null,4,0,null,0,null,5.48,"+0.3",5.48,null,5,"A",5,"",null,5,""]
[8,null,1,"",7,{"$f":"HLOOKUP(E13,Handbook!$D$3:$K$24,C3,FALSE)","v":8},{"$f":"IF(ISERROR(HLOOKUP(F13,declare,C4,FALSE))=TRUE,\"\",HLOOKUP(F13,declare,C4,FALSE))","v":"Phyllis Agbo"},"Thames Valley H",null,null,0,null,5.26,null,5.26,null,7,0,null,0,null,6.24,"+2.6",6.24,null,1,"A",1,"",null,1,""]
[6,null,4,"",8,{"$f":"HLOOKUP(E14,Handbook!$D$3:$K$24,C3,FALSE)","v":6},{"$f":"IF(ISERROR(HLOOKUP(F14,declare,C4,FALSE))=TRUE,\"\",HLOOKUP(F14,declare,C4,FALSE))","v":"Karla Drew"},"Southampton AC",null,null,0,null,5.53,null,5.53,null,3,0,null,0,null,5.53,"+1.8",5.53,null,4,"A",4,"",null,4,""]
[3,null,"",6,9,{"$f":"HLOOKUP(E15,Handbook!$L$3:$S$24,C3,FALSE)","v":33},{"$f":"IF(ISERROR(HLOOKUP(F15,declare,C4,FALSE))=TRUE,\"\",HLOOKUP(F15,declare,C4,FALSE))","v":"Chloe Walley"},"Marshall Milton Keynes AC",null,null,0,null,4.4400000000000004,null,4.4400000000000004,null,13,0,null,0,null,4.4400000000000004,"+2.1",4.4400000000000004,null,13,{"$f":"IF(OR(Z15=0,Z15=\"\"),\"\",IF(VLOOKUP(F15/11,$F$7:$Z$14,21,FALSE)=0,\"A\",IF(Z15>VLOOKUP(F15/11,$F$7:$Z$14,21,FALSE),\"B\",\"A\")))","v":"B"},"",6,null,"",13]
[7,null,7,"",10,{"$f":"HLOOKUP(E16,Handbook!$L$3:$S$24,C3,FALSE)","v":77},{"$f":"IF(ISERROR(HLOOKUP(F16,declare,C4,FALSE))=TRUE,\"\",HLOOKUP(F16,declare,C4,FALSE))","v":"Donna Jones"},"Swansea H",null,null,0,null,5.07,null,5.07,null,9,0,null,0,null,5.07,"-0.6",5.07,null,9,{"$f":"IF(OR(Z16=0,Z16=\"\"),\"\",IF(VLOOKUP(F16/11,$F$7:$Z$14,21,FALSE)=0,\"A\",IF(Z16>VLOOKUP(F16/11,$F$7:$Z$14,21,FALSE),\"B\",\"A\")))","v":"A"},7,"",null,9,""]
[5,null,"",1,11,{"$f":"HLOOKUP(E17,Handbook!$L$3:$S$24,C3,FALSE)","v":55},{"$f":"IF(ISERROR(HLOOKUP(F17,declare,C4,FALSE))=TRUE,\"\",HLOOKUP(F17,declare,C4,FALSE))","v":"Gaby Rowsell (U20)"},"Shaftesbury Barnet H",null,null,0,null,5.36,null,5.36,null,5,0,null,0,null,5.36,"+2.2",5.36,null,6,"B","",1,null,"",6]
[1,null,"","",12,{"$f":"HLOOKUP(E18,Handbook!$L$3:$S$24,C3,FALSE)","v":11},{"$f":"IF(ISERROR(HLOOKUP(F18,declare,C4,FALSE))=TRUE,\"\",HLOOKUP(F18,declare,C4,FALSE))","v":0},"Bedford & County AC",null,null,0,null,0,null,0,null,0,0,null,0,null,0,null,0,null,0,"","","",null,"",""]
[4,null,6,"",13,{"$f":"HLOOKUP(E19,Handbook!$L$3:$S$24,C3,FALSE)","v":44},{"$f":"IF(ISERROR(HLOOKUP(F19,declare,C4,FALSE))=TRUE,\"\",HLOOKUP(F19,declare,C4,FALSE))","v":"Rochelle Jones "},"Newham & Essex Beagles AC",null,null,0,null,5.16,null,5.16,null,8,0,null,0,null,5.16,"+1.1",5.16,null,8,"A",6,"",null,8,""]
[2,null,"",2,14,{"$f":"HLOOKUP(E20,Handbook!$L$3:$S$24,C3,FALSE)","v":22},{"$f":"IF(ISERROR(HLOOKUP(F20,declare,C4,FALSE))=TRUE,\"\",HLOOKUP(F20,declare,C4,FALSE))","v":"Lauren Blackie"},"Blackheath & Bromley H",null,null,0,null,5.3,null,5.3,null,6,0,null,0,null,5.35,"-1.7",5.35,null,7,"B","",2,null,"",7]
[8,null,"",5,15,{"$f":"HLOOKUP(E21,Handbook!$L$3:$S$24,C3,FALSE)","v":88},{"$f":"IF(ISERROR(HLOOKUP(F21,declare,C4,FALSE))=TRUE,\"\",HLOOKUP(F21,declare,C4,FALSE))","v":"Esther Aije"},"Thames Valley H",null,null,0,null,4.5,null,4.5,null,12,0,null,0,null,4.5,"+1.5",4.5,null,12,"B","",5,null,"",12]
[6,null,"",7,16,{"$f":"HLOOKUP(E22,Handbook!$L$3:$S$24,C3,FALSE)","v":66},{"$f":"IF(ISERROR(HLOOKUP(F22,declare,C4,FALSE))=TRUE,\"\",HLOOKUP(F22,declare,C4,FALSE))","v":"Megan Fry"},"Southampton AC",null,null,0,null,4.33,null,{"$f":"IF(AND(I22=\"NJ\",I22=\"NJ\",K22=\"NJ\",K22=\"NJ\",M22=\"NJ\",M22=\"NJ\"),0,LARGE(I22:N22,1))","v":4.33},null,14,0,null,0,null,4.33,"+1.1",4.33,null,14,"B","",7,null,"",14]
[]
[null,null,null,null,"\"A\" STRING RESULT",null,null,null,null,null,"\"B\" STRING RESULT",null,null,null,null,null,null,null,null,null,null,null,"JUDGES' SIGNATURES"]
[null,null,null,null,"Posn","No.","NAME","CLUB","DISTANCE",null,"Posn","No.","NAME",null,null,null,"CLUB",null,null,null,"DISTANCE"]
[null,null,1,null,1,{"$f":"IF(ISERROR(VLOOKUP(C26,$C$7:$Y$22,4,FALSE))=TRUE,0,IF(VLOOKUP(C26,$C$7:$Y$22,22,FALSE)=0,\"\",IF(VLOOKUP(C26,$C$7:$Y$22,22,FALSE)=99,99,IF(VLOOKUP(C26,$C$7:$Y$22,22,FALSE)=98,98,IF(VLOOKUP(C26,$C$7:$Y$22,22,FALSE)=96,96,VLOOKUP(C26,$C$7:$Y$22,4,FALSE))))))","v":8},{"$f":"IF(ISERROR(VLOOKUP(C26,$C$7:$Y$22,4,FALSE))=TRUE,0,VLOOKUP(C26,$C$7:$Y$22,5,FALSE))","v":"Phyllis Agbo"},{"$f":"IF(ISERROR(VLOOKUP(C26,$C$7:$Y$22,4,FALSE))=TRUE,0,VLOOKUP(C26,$C$7:$Y$22,6,FALSE))","v":"Thames Valley H"},{"$f":"IF(ISERROR(VLOOKUP(C26,$C$7:$Y$22,4,FALSE))=TRUE,0,IF(VLOOKUP(C26,$C$7:$Y$22,22,FALSE)=0,\"\",IF(VLOOKUP(C26,$C$7:$Y$22,22,FALSE)>95.99,\"\",VLOOKUP(C26,$C$7:$Y$22,22,FALSE))))","v":6.24},null,1,{"$f":"IF(ISERROR(VLOOKUP(C26,$D$7:$Y$22,4,FALSE))=TRUE,0,IF(VLOOKUP(C26,D$7:Y$22,21,FALSE)=0,\"\",VLOOKUP(C26,D$7:Y$22,3,FALSE)))","v":55},{"$f":"IF(ISERROR(VLOOKUP(C26,$D$7:$Y$22,4,FALSE))=TRUE,0,VLOOKUP(C26,D$7:Y$22,4,FALSE))","v":"Gaby Rowsell (U20)"},null,null,null,{"$f":"IF(ISERROR(VLOOKUP(C26,$D$7:$Y$22,4,FALSE))=TRUE,0,VLOOKUP(C26,$D$7:$Y$22,5,FALSE))","v":"Shaftesbury Barnet H"},null,null,null,{"$f":"IF(ISERROR(VLOOKUP(C26,$D$7:$Y$22,3,FALSE))=TRUE,0,IF(VLOOKUP(C26,$D$7:$Y$22,21,FALSE)=0,\"\",VLOOKUP(C26,$D$7:$Y$22,21,FALSE)))","v":5.36}]
[null,null,2,null,2,5,"Lucy Boggis","Shaftesbury Barnet H",5.59,null,2,22,"Lauren Blackie",null,null,null,"Blackheath & Bromley H",null,null,null,5.35]
[null,null,3,null,3,3,"Sophie Wilkins","Marshall Milton Keynes AC",5.56,null,3,4,"Chioma Matthews",null,null,null,"Newham & Essex Beagles AC",null,null,null,4.9400000000000004]
[null,null,4,null,4,6,"Karla Drew","Southampton AC",5.53,null,4,7,"Rebecca Williams",null,null,null,"Swansea H",null,null,null,4.68]
[null,null,5,null,5,2,"Emily Martin","Blackheath & Bromley H",5.48,null,5,88,"Esther Aije",null,null,null,"Thames Valley H",null,null,null,4.5]
[null,null,6,null,6,44,"Rochelle Jones ","Newham & Essex Beagles AC",5.16,null,6,33,"Chloe Walley",null,null,null,"Marshall Milton Keynes AC",null,null,null,4.4400000000000004,null,"REFEREE'S SIGNATURE"]
[null,null,7,null,7,77,"Donna Jones","Swansea H",5.07,null,7,66,"Megan Fry",null,null,null,"Southampton AC",null,null,null,4.33]
[null,null,8,null,8,1,"Emma Bailey","Bedford & County AC",3.67,null,8,0,0,null,null,null,0,null,null,null,0]

{"sheet":"TJ","index":9,"n_rows":33,"n_cols":32,"rows_kept":33,"cut":false,"hidden":false,"merged":[[4,26,4,28],[30,8,30,9],[31,8,31,9],[32,8,32,9],[31,12,31,15],[32,12,32,15],[16,23,16,24],[17,23,17,24],[18,23,18,24],[19,23,19,24],[20,23,20,24],[20,14,20,15],[25,8,25,9],[26,8,26,9],[26,16,26,19],[27,16,27,19],[23,4,23,9],[24,8,24,9],[26,12,26,15],[27,8,27,9],[28,8,28,9],[15,23,15,24],[32,20,32,21],[25,20,25,21],[26,20,26,21],[29,8,29,9],[32,16,32,19],[27,20,27,21],[28,20,28,21],[29,12,29,15],[29,20,29,21],[21,23,21,24],[30,20,30,21],[31,20,31,21],[30,22,30,28],[23,10,23,21],[23,22,23,28],[24,12,24,15],[24,16,24,19],[24,20,24,21],[21,14,21,15],[30,12,30,15],[29,16,29,19],[30,16,30,19],[27,12,27,15],[28,12,28,15],[25,16,25,19],[25,12,25,15],[31,16,31,19],[28,16,28,19],[9,14,9,15],[19,14,19,15],[14,14,14,15],[15,14,15,15],[16,14,16,15],[17,14,17,15],[13,14,13,15],[12,23,12,24],[13,23,13,24],[14,23,14,24],[18,14,18,15],[4,8,4,9],[4,10,4,11],[4,12,4,13],[4,14,4,15],[10,23,10,24],[12,14,12,15],[11,23,11,24],[4,25,5,25],[5,23,5,24],[4,16,5,16],[4,17,4,18],[4,19,4,20],[4,23,4,24],[5,14,5,15],[10,14,10,15],[11,14,11,15],[4,21,4,22],[6,23,6,24],[7,23,7,24],[8,23,8,24],[9,23,9,24],[6,14,6,15],[7,14,7,15],[8,14,8,15],[0,4,0,5],[1,4,1,28],[2,4,2,5],[3,4,3,5],[2,11,2,15],[3,11,3,12],[2,16,2,18],[2,19,2,28],[2,6,2,7],[2,8,2,10],[3,6,3,7],[3,8,3,10],[3,13,3,15],[3,16,3,18],[3,19,3,28],[0,6,0,28]]}
[null,null,null,null,"Home",null,{"$f":"'Match Day'!I4","v":"UK Womens League"}]
[16,null,26,null,"UK ATHLETICS: DISTANCE CARD"]
[null,null,{"$f":"VLOOKUP(A2,mens_handbook,37,FALSE)","v":17},null,"MEETING ",null,{"$f":"CONCATENATE('Match Day'!$I$8,\" \",'Match Day'!$I$10)","v":"Division 1 Match 3"},null,"VENUE ",null,null,{"$f":"'Match Day'!$I$12","v":"Winchester"},null,null,null,null,"DATE ",null,null,{"$f":"'Match Day'!$I$6","v":"Saturday, 6th August"}]
[null,null,{"$f":"VLOOKUP(A2,declare,20,FALSE)","v":17},null,"EVENT",null,{"$f":"VLOOKUP(A2,mens_handbook,3,FALSE)","v":"Women's Triple Jump"},null,"TIME",null,null,{"$f":"VLOOKUP(A2,mens_handbook,2,FALSE)","v":"14:00:00"},null,"RECORD",null,null,{"$f":"VLOOKUP(A2,mens_handbook,28,FALSE)","v":"14.55m"},null,null,{"$f":"IF($A2=\"\",\"\",CONCATENATE(VLOOKUP($A2,mens_handbook,26,FALSE),\", \",VLOOKUP($A2,mens_handbook,27,FALSE),\", \",VLOOKUP($A2,mens_handbook,28,FALSE)))","v":"Y Aldama, Shaftesbury Barnet H, 14.55m"}]
[null,null,null,null,"Order","No","NAME","CLUB","1st Trial",null,"2nd Trial",null,"3rd Trial",null,"Best of 3",null,"Position after\n3 Trials","4th Trial",null,"5th Trial",null,"6th Trial",null,"Best of All",null,"Final\nPositionn","A or B"]
[null,null,"A","B",null,null,null,null,"Metres","Wind","Metres","Wind","Metres","Wind","Metres",null,null,"Metres","Wind","Metres","Wind","Metres","Wind","Metres",null,null,null,"A","B"]
[{"$f":"IF(F7=\"\",\"\",IF(F7>10,F7/11,F7))","v":2},null,{"$f":"AB7","v":""},{"$f":"AC7","v":2},1,{"$f":"HLOOKUP(E7,Handbook!$D$3:$K$24,C3,FALSE)","v":2},{"$f":"IF(ISERROR(HLOOKUP(F7,declare,C4,FALSE))=TRUE,\"\",HLOOKUP(F7,declare,C4,FALSE))","v":"Sandra Alaneme"},{"$f":"IF(ISERROR(VLOOKUP(A7,matchday,2,FALSE))=TRUE,\"\",VLOOKUP(A7,matchday,2,FALSE))","v":"Blackheath & Bromley H"},null,null,0,null,11.93,null,{"$f":"IF(AND(I7=\"NJ\",I7=\"NJ\",K7=\"NJ\",K7=\"NJ\",M7=\"NJ\",M7=\"NJ\"),0,LARGE(I7:N7,1))","v":11.93},null,{"$f":"IF(OR(O7=0,O7=\"\"),0,RANK(O7,$O$7:$P$22,0))","v":5},0,null,0,null,11.93,"+1.9",{"$f":"IF(AND(R7=\"NJ\",R7=\"NJ\",T7=\"NJ\",T7=\"NJ\",V7=\"NJ\",V7=\"NJ\"),O7,IF(O7>LARGE(R7:W7,1),O7,LARGE(R7:W7,1)))","v":11.93},null,{"$f":"IF(OR(Q7=0,Q7=\"\",X7=\"\",X7=0),0,RANK(X7,$X$7:$Y$22,0))","v":5},{"$f":"IF(OR(Z7=0,Z7=\"\"),\"\",IF(VLOOKUP(F7*11,$F$15:$Z$22,21,FALSE)=0,\"A\",IF(Z7>(VLOOKUP(F7*11,$F$15:$Z$22,21,FALSE)),\"B\",\"A\")))","v":"B"},{"$f":"IF(OR(Z7=0,Z7=\"\",AA7=\"B\"),\"\",RANK(AE7,$AE$7:$AE$22,1))","v":""},{"$f":"IF(OR(Z7=0,Z7=\"\",AA7=\"A\"),\"\",RANK(AF7,$AF$7:$AF$22,1))","v":2},null,{"$f":"IF(OR(Z7=\"\",Z7=0,AA7=\"\",AA7=0,AA7=\"B\"),\"\",Z7)","v":""},{"$f":"IF(OR(Z7=\"\",Z7=0,AA7=\"\",AA7=0,AA7=\"A\"),\"\",Z7)","v":5}]
[5,null,"",1,2,{"$f":"HLOOKUP(E8,Handbook!$D$3:$K$24,C3,FALSE)","v":5},{"$f":"IF(ISERROR(HLOOKUP(F8,declare,C4,FALSE))=TRUE,\"\",HLOOKUP(F8,declare,C4,FALSE))","v":"Trecia Smith"},"Shaftesbury Barnet H",null,null,0,null,12.27,null,12.27,null,3,0,null,0,null,12.27,"+1.6",12.27,null,3,{"$f":"IF(OR(Z8=0,Z8=\"\"),\"\",IF(VLOOKUP(F8*11,$F$15:$Z$22,21,FALSE)=0,\"A\",IF(Z8>(VLOOKUP(F8*11,$F$15:$Z$22,21,FALSE)),\"B\",\"A\")))","v":"B"},"",1,null,"",3]
[7,null,4,"",3,{"$f":"HLOOKUP(E9,Handbook!$D$3:$K$24,C3,FALSE)","v":7},{"$f":"IF(ISERROR(HLOOKUP(F9,declare,C4,FALSE))=TRUE,\"\",HLOOKUP(F9,declare,C4,FALSE))","v":"Sian Swanson"},"Swansea H",null,null,0,null,10.46,null,10.46,null,6,0,null,0,null,10.46,"+0.3",10.46,null,6,"A",4,"",null,6,""]
[8,null,"",5,4,{"$f":"HLOOKUP(E10,Handbook!$D$3:$K$24,C3,FALSE)","v":8},{"$f":"IF(ISERROR(HLOOKUP(F10,declare,C4,FALSE))=TRUE,\"\",HLOOKUP(F10,declare,C4,FALSE))","v":"Esther Aije"},"Thames Valley H",null,null,0,null,8.91,null,{"$f":"IF(AND(I10=\"NJ\",I10=\"NJ\",K10=\"NJ\",K10=\"NJ\",M10=\"NJ\",M10=\"NJ\"),0,LARGE(I10:N10,1))","v":8.91},null,12,0,null,0,null,8.91,"+0.0",8.91,null,12,"B","",5,null,"",12]
[4,null,2,"",5,{"$f":"HLOOKUP(E11,Handbook!$D$3:$K$24,C3,FALSE)","v":4},{"$f":"IF(ISERROR(HLOOKUP(F11,declare,C4,FALSE))=TRUE,\"\",HLOOKUP(F11,declare,C4,FALSE))","v":"Chioma Matthews"},"Newham & Essex Beagles AC",null,null,0,null,12.37,null,12.37,null,2,0,null,0,null,12.6,"+1.0",12.6,null,2,"A",2,"",null,2,""]
[1,null,8,"",6,{"$f":"HLOOKUP(E12,Handbook!$D$3:$K$24,C3,FALSE)","v":1},{"$f":"IF(ISERROR(HLOOKUP(F12,declare,C4,FALSE))=TRUE,\"\",HLOOKUP(F12,declare,C4,FALSE))","v":"Jemma Eastwood"},"Bedford & County AC",null,null,0,null,8.5399999999999991,null,8.5399999999999991,null,13,0,null,0,null,8.5399999999999991,"+0.8",{"$f":"IF(AND(R12=\"NJ\",R12=\"NJ\",T12=\"NJ\",T12=\"NJ\",V12=\"NJ\",V12=\"NJ\"),O12,IF(O12>LARGE(R12:W12,1),O12,LARGE(R12:W12,1)))","v":8.5399999999999991},null,13,"A",8,"",null,13,""]
[6,null,7,"",7,{"$f":"HLOOKUP(E13,Handbook!$D$3:$K$24,C3,FALSE)","v":6},{"$f":"IF(ISERROR(HLOOKUP(F13,declare,C4,FALSE))=TRUE,\"\",HLOOKUP(F13,declare,C4,FALSE))","v":"Vicki Vinter"},"Southampton AC",null,null,0,null,9.2799999999999994,null,9.2799999999999994,null,11,0,null,0,null,9.2799999999999994,"+0.5",9.2799999999999994,null,11,"A",7,"",null,11,""]
[3,null,"",4,8,{"$f":"HLOOKUP(E14,Handbook!$D$3:$K$24,C3,FALSE)","v":3},{"$f":"IF(ISERROR(HLOOKUP(F14,declare,C4,FALSE))=TRUE,\"\",HLOOKUP(F14,declare,C4,FALSE))","v":"Rachel Gibbens"},"Marshall Milton Keynes AC",null,null,0,null,9.65,null,9.65,null,9,0,null,0,null,9.65,"+1.5",9.65,null,9,"B","",4,null,"",9]
[2,null,3,"",9,{"$f":"HLOOKUP(E15,Handbook!$L$3:$S$24,C3,FALSE)","v":22},{"$f":"IF(ISERROR(HLOOKUP(F15,declare,C4,FALSE))=TRUE,\"\",HLOOKUP(F15,declare,C4,FALSE))","v":"Lauren Blackie"},"Blackheath & Bromley H",null,null,0,null,11.95,null,11.95,null,4,0,null,0,null,11.95,"+2.1",11.95,null,4,{"$f":"IF(OR(Z15=0,Z15=\"\"),\"\",IF(VLOOKUP(F15/11,$F$7:$Z$14,21,FALSE)=0,\"A\",IF(Z15>VLOOKUP(F15/11,$F$7:$Z$14,21,FALSE),\"B\",\"A\")))","v":"A"},3,"",null,4,""]
[5,null,1,"",10,{"$f":"HLOOKUP(E16,Handbook!$L$3:$S$24,C3,FALSE)","v":55},{"$f":"IF(ISERROR(HLOOKUP(F16,declare,C4,FALSE))=TRUE,\"\",HLOOKUP(F16,declare,C4,FALSE))","v":"Yamille Aldama"},"Shaftesbury Barnet H",null,null,0,null,14.3,null,14.3,null,1,0,null,0,null,14.3,"+2.6",14.3,null,1,{"$f":"IF(OR(Z16=0,Z16=\"\"),\"\",IF(VLOOKUP(F16/11,$F$7:$Z$14,21,FALSE)=0,\"A\",IF(Z16>VLOOKUP(F16/11,$F$7:$Z$14,21,FALSE),\"B\",\"A\")))","v":"A"},1,"",null,1,""]
[7,null,"",3,11,{"$f":"HLOOKUP(E17,Handbook!$L$3:$S$24,C3,FALSE)","v":77},{"$f":"IF(ISERROR(HLOOKUP(F17,declare,C4,FALSE))=TRUE,\"\",HLOOKUP(F17,declare,C4,FALSE))","v":"Donna Jones"},"Swansea H",null,null,0,null,10.220000000000001,null,10.220000000000001,null,7,0,null,0,null,10.44,"+0.9",10.44,null,7,"B","",3,null,"",7]
[8,null,6,"",12,{"$f":"HLOOKUP(E18,Handbook!$L$3:$S$24,C3,FALSE)","v":88},{"$f":"IF(ISERROR(HLOOKUP(F18,declare,C4,FALSE))=TRUE,\"\",HLOOKUP(F18,declare,C4,FALSE))","v":"Ugne Liuksaityte"},"Thames Valley H",null,null,0,null,9.3800000000000008,null,9.3800000000000008,null,10,0,null,0,null,9.3800000000000008,"+1.3",9.3800000000000008,null,10,"A",6,"",null,10,""]
[4,null,"","",13,{"$f":"HLOOKUP(E19,Handbook!$L$3:$S$24,C3,FALSE)","v":44},{"$f":"IF(ISERROR(HLOOKUP(F19,declare,C4,FALSE))=TRUE,\"\",HLOOKUP(F19,declare,C4,FALSE))","v":"Rochelle Jones "},"Newham & Essex Beagles AC",null,null,0,null,0,null,0,null,0,0,null,0,null,0,null,0,null,0,"","","",null,"",""]
[1,null,"","",14,{"$f":"HLOOKUP(E20,Handbook!$L$3:$S$24,C3,FALSE)","v":11},{"$f":"IF(ISERROR(HLOOKUP(F20,declare,C4,FALSE))=TRUE,\"\",HLOOKUP(F20,declare,C4,FALSE))","v":"Hannah Frith"},"Bedford & County AC",null,null,0,null,0,null,0,null,0,0,null,0,null,0,null,0,null,0,"","","",null,"",""]
[6,null,"",6,15,{"$f":"HLOOKUP(E21,Handbook!$L$3:$S$24,C3,FALSE)","v":66},{"$f":"IF(ISERROR(HLOOKUP(F21,declare,C4,FALSE))=TRUE,\"\",HLOOKUP(F21,declare,C4,FALSE))","v":"Jenny Beckingham"},"Southampton AC",null,null,0,null,7.93,null,7.93,null,14,0,null,0,null,7.93,"+1.1",7.93,null,14,"B","",6,null,"",14]
[3,null,5,"",16,{"$f":"HLOOKUP(E22,Handbook!$L$3:$S$24,C3,FALSE)","v":33},{"$f":"IF(ISERROR(HLOOKUP(F22,declare,C4,FALSE))=TRUE,\"\",HLOOKUP(F22,declare,C4,FALSE))","v":"Sophie Wilkins"},"Marshall Milton Keynes AC",null,null,0,null,9.68,null,9.68,null,8,0,null,0,null,10.220000000000001,"+1.1",10.220000000000001,null,8,"A",5,"",null,8,""]
[]
[null,null,null,null,"\"A\" STRING RESULT",null,null,null,null,null,"\"B\" STRING RESULT",null,null,null,null,null,null,null,null,null,null,null,"JUDGES' SIGNATURES"]
[null,null,null,null,"Posn","No.","NAME","CLUB","DISTANCE",null,"Posn","No.","NAME",null,null,null,"CLUB",null,null,null,"DISTANCE"]
[null,null,1,null,1,{"$f":"IF(ISERROR(VLOOKUP(C26,$C$7:$Y$22,4,FALSE))=TRUE,0,IF(VLOOKUP(C26,$C$7:$Y$22,22,FALSE)=0,\"\",IF(VLOOKUP(C26,$C$7:$Y$22,22,FALSE)=99,99,IF(VLOOKUP(C26,$C$7:$Y$22,22,FALSE)=98,98,IF(VLOOKUP(C26,$C$7:$Y$22,22,FALSE)=96,96,VLOOKUP(C26,$C$7:$Y$22,4,FALSE))))))","v":55},{"$f":"IF(ISERROR(VLOOKUP(C26,$C$7:$Y$22,4,FALSE))=TRUE,0,VLOOKUP(C26,$C$7:$Y$22,5,FALSE))","v":"Yamille Aldama"},{"$f":"IF(ISERROR(VLOOKUP(C26,$C$7:$Y$22,4,FALSE))=TRUE,0,VLOOKUP(C26,$C$7:$Y$22,6,FALSE))","v":"Shaftesbury Barnet H"},{"$f":"IF(ISERROR(VLOOKUP(C26,$C$7:$Y$22,4,FALSE))=TRUE,0,IF(VLOOKUP(C26,$C$7:$Y$22,22,FALSE)=0,\"\",IF(VLOOKUP(C26,$C$7:$Y$22,22,FALSE)>95.99,\"\",VLOOKUP(C26,$C$7:$Y$22,22,FALSE))))","v":14.3},null,1,{"$f":"IF(ISERROR(VLOOKUP(C26,$D$7:$Y$22,4,FALSE))=TRUE,0,IF(VLOOKUP(C26,D$7:Y$22,21,FALSE)=0,\"\",VLOOKUP(C26,D$7:Y$22,3,FALSE)))","v":5},{"$f":"IF(ISERROR(VLOOKUP(C26,$D$7:$Y$22,4,FALSE))=TRUE,0,VLOOKUP(C26,D$7:Y$22,4,FALSE))","v":"Trecia Smith"},null,null,null,{"$f":"IF(ISERROR(VLOOKUP(C26,$D$7:$Y$22,4,FALSE))=TRUE,0,VLOOKUP(C26,$D$7:$Y$22,5,FALSE))","v":"Shaftesbury Barnet H"},null,null,null,{"$f":"IF(ISERROR(VLOOKUP(C26,$D$7:$Y$22,3,FALSE))=TRUE,0,IF(VLOOKUP(C26,$D$7:$Y$22,21,FALSE)=0,\"\",VLOOKUP(C26,$D$7:$Y$22,21,FALSE)))","v":12.27}]
[null,null,2,null,2,4,"Chioma Matthews","Newham & Essex Beagles AC",12.6,null,2,2,"Sandra Alaneme",null,null,null,"Blackheath & Bromley H",null,null,null,11.93]
[null,null,3,null,3,22,"Lauren Blackie","Blackheath & Bromley H",11.95,null,3,77,"Donna Jones",null,null,null,"Swansea H",null,null,null,10.44]
[null,null,4,null,4,7,"Sian Swanson","Swansea H",10.46,null,4,3,"Rachel Gibbens",null,null,null,"Marshall Milton Keynes AC",null,null,null,9.65]
[null,null,5,null,5,33,"Sophie Wilkins","Marshall Milton Keynes AC",10.220000000000001,null,5,8,"Esther Aije",null,null,null,"Thames Valley H",null,null,null,8.91]
[null,null,6,null,6,88,"Ugne Liuksaityte","Thames Valley H",9.3800000000000008,null,6,66,"Jenny Beckingham",null,null,null,"Southampton AC",null,null,null,7.93,null,"REFEREE'S SIGNATURE"]
[null,null,7,null,7,6,"Vicki Vinter","Southampton AC",9.2799999999999994,null,7,0,0,null,null,null,0,null,null,null,0]
[null,null,8,null,8,1,"Jemma Eastwood","Bedford & County AC",8.5399999999999991,null,8,0,0,null,null,null,0,null,null,null,0]

{"sheet":"HJ","index":10,"n_rows":58,"n_cols":72,"rows_kept":58,"cut":false,"hidden":false,"merged":[[35,4,35,5],[35,6,35,7],[35,8,35,10],[35,11,35,25],[35,26,35,28],[35,29,35,40],[36,23,36,40],[36,4,36,5],[36,6,36,7],[36,8,36,10],[36,11,36,13],[36,14,36,19],[36,20,36,22],[53,26,53,27],[53,28,53,29],[53,30,53,31],[53,32,53,33],[54,8,54,9],[54,10,54,11],[54,12,54,13],[54,14,54,15],[54,16,54,17],[54,18,54,19],[54,20,54,21],[54,22,54,23],[54,24,54,25],[54,26,54,27],[54,28,54,29],[54,30,54,31],[54,32,54,33],[53,8,53,9],[53,10,53,11],[53,12,53,13],[53,14,53,15],[53,16,53,17],[53,18,53,19],[53,20,53,21],[53,22,53,23],[53,24,53,25],[51,26,51,27],[51,28,51,29],[51,30,51,31],[51,32,51,33],[52,8,52,9],[52,10,52,11],[52,12,52,13],[52,14,52,15],[52,16,52,17],[52,18,52,19],[52,20,52,21],[52,22,52,23],[52,24,52,25],[52,26,52,27],[52,28,52,29],[52,30,52,31],[52,32,52,33],[51,8,51,9],[51,10,51,11],[51,12,51,13],[51,14,51,15],[51,16,51,17],[51,18,51,19],[51,20,51,21],[51,22,51,23],[51,24,51,25],[49,26,49,27],[49,28,49,29],[49,30,49,31],[49,32,49,33],[50,8,50,9],[50,10,50,11],[50,12,50,13],[50,14,50,15],[50,16,50,17],[50,18,50,19],[50,20,50,21],[50,22,50,23],[50,24,50,25],[50,26,50,27],[50,28,50,29],[50,30,50,31],[50,32,50,33],[49,8,49,9],[49,10,49,11],[49,12,49,13],[49,14,49,15],[49,16,49,17],[49,18,49,19],[49,20,49,21],[49,22,49,23],[49,24,49,25],[47,26,47,27],[47,28,47,29],[47,30,47,31],[47,32,47,33],[48,8,48,9],[48,10,48,11],[48,12,48,13],[48,14,48,15],[48,16,48,17],[48,18,48,19],[48,20,48,21],[48,22,48,23],[48,24,48,25],[48,26,48,27],[48,28,48,29],[48,30,48,31],[48,32,48,33],[47,8,47,9],[47,10,47,11],[47,12,47,13],[47,14,47,15],[47,16,47,17],[47,18,47,19],[47,20,47,21],[47,22,47,23],[47,24,47,25],[45,26,45,27],[45,28,45,29],[45,30,45,31],[45,32,45,33],[46,8,46,9],[46,10,46,11],[46,12,46,13],[46,14,46,15],[46,16,46,17],[46,18,46,19],[46,20,46,21],[46,22,46,23],[46,24,46,25],[46,26,46,27],[46,28,46,29],[46,30,46,31],[46,32,46,33],[45,8,45,9],[45,10,45,11],[45,12,45,13],[45,14,45,15],[45,16,45,17],[45,18,45,19],[45,20,45,21],[45,22,45,23],[45,24,45,25],[43,26,43,27],[43,28,43,29],[43,30,43,31],[43,32,43,33],[44,8,44,9],[44,10,44,11],[44,12,44,13],[44,14,44,15],[44,16,44,17],[44,18,44,19],[44,20,44,21],[44,22,44,23],[44,24,44,25],[44,26,44,27],[44,28,44,29],[44,30,44,31],[44,32,44,33],[43,8,43,9],[43,10,43,11],[43,12,43,13],[43,14,43,15],[43,16,43,17],[43,18,43,19],[43,20,43,21],[43,22,43,23],[43,24,43,25],[41,26,41,27],[41,28,41,29],[41,30,41,31],[41,32,41,33],[42,8,42,9],[42,10,42,11],[42,12,42,13],[42,14,42,15],[42,16,42,17],[42,18,42,19],[42,20,42,21],[42,22,42,23],[42,24,42,25],[42,26,42,27],[42,28,42,29],[42,30,42,31],[42,32,42,33],[41,8,41,9],[41,10,41,11],[41,12,41,13],[41,14,41,15],[41,16,41,17],[41,18,41,19],[41,20,41,21],[41,22,41,23],[41,24,41,25],[39,26,39,27],[39,28,39,29],[39,30,39,31],[39,32,39,33],[40,8,40,9],[40,10,40,11],[40,12,40,13],[40,14,40,15],[40,16,40,17],[40,18,40,19],[40,20,40,21],[40,22,40,23],[40,24,40,25],[40,26,40,27],[40,28,40,29],[40,30,40,31],[40,32,40,33],[39,8,39,9],[39,10,39,11],[39,12,39,13],[39,14,39,15],[39,16,39,17],[39,18,39,19],[39,20,39,21],[39,22,39,23],[39,24,39,25],[38,8,38,9],[38,10,38,11],[38,12,38,13],[38,14,38,15],[38,16,38,17],[38,18,38,19],[38,20,38,21],[38,22,38,23],[38,24,38,25],[37,26,37,27],[37,28,37,29],[37,30,37,31],[37,32,37,33],[37,34,38,34],[37,35,38,35],[37,36,38,36],[37,37,38,37],[37,39,38,40],[38,32,38,33],[38,26,38,27],[38,28,38,29],[38,30,38,31],[37,8,37,9],[37,10,37,11],[37,12,37,13],[37,14,37,15],[37,16,37,17],[37,18,37,19],[37,20,37,21],[37,22,37,23],[37,24,37,25],[30,28,30,40],[28,26,28,27],[26,14,26,19],[28,14,28,19],[24,14,24,19],[0,6,0,40],[24,10,24,11],[21,24,21,25],[20,24,20,25],[19,22,19,23],[29,12,29,13],[30,12,30,13],[29,14,29,19],[30,14,30,19],[6,30,6,31],[7,30,7,31],[8,30,8,31],[9,30,9,31],[11,30,11,31],[10,30,10,31],[6,28,6,29],[7,28,7,29],[21,30,21,31],[18,28,18,29],[19,28,19,29],[20,28,20,29],[21,28,21,29],[21,20,21,21],[18,20,18,21],[19,20,19,21],[20,20,20,21],[21,22,21,23],[13,30,13,31],[14,30,14,31],[18,26,18,27],[19,26,19,27],[17,24,17,25],[18,24,18,25],[19,24,19,25],[16,24,16,25],[20,22,20,23],[9,28,9,29],[15,28,15,29],[12,28,12,29],[13,28,13,29],[10,26,10,27],[11,26,11,27],[13,26,13,27],[12,26,12,27],[14,26,14,27],[10,28,10,29],[15,26,15,27],[11,28,11,29],[14,28,14,29],[6,24,6,25],[7,24,7,25],[8,24,8,25],[10,24,10,25],[9,24,9,25],[11,24,11,25],[13,24,13,25],[14,24,14,25],[15,24,15,25],[20,18,20,19],[14,18,14,19],[15,18,15,19],[12,22,12,23],[13,22,13,23],[14,22,14,23],[16,22,16,23],[17,22,17,23],[15,22,15,23],[18,22,18,23],[19,16,19,17],[6,18,6,19],[7,18,7,19],[8,18,8,19],[9,18,9,19],[10,18,10,19],[11,18,11,19],[12,18,12,19],[17,18,17,19],[18,18,18,19],[16,18,16,19],[13,16,13,17],[14,16,14,17],[15,16,15,17],[13,18,13,19],[6,16,6,17],[7,16,7,17],[8,16,8,17],[9,16,9,17],[10,16,10,17],[11,16,11,17],[18,16,18,17],[12,16,12,17],[19,18,19,19],[2,26,2,28],[4,34,5,34],[11,10,11,11],[12,10,12,11],[6,10,6,11],[7,10,7,11],[8,10,8,11],[9,10,9,11],[12,12,12,13],[10,14,10,15],[11,14,11,15],[12,14,12,15],[11,12,11,13],[6,14,6,15],[7,14,7,15],[8,14,8,15],[9,14,9,15],[9,12,9,13],[10,12,10,13],[6,22,6,23],[7,22,7,23],[8,22,8,23],[9,22,9,23],[12,30,12,31],[6,12,6,13],[8,12,8,13],[4,16,4,17],[12,32,12,33],[4,18,4,19],[4,24,4,25],[6,20,6,21],[7,20,7,21],[9,32,9,33],[7,32,7,33],[10,32,10,33],[5,22,5,23],[4,26,4,27],[4,30,4,31],[4,20,4,21],[4,22,4,23],[10,22,10,23],[11,22,11,23],[6,26,6,27],[7,26,7,27],[8,26,8,27],[9,26,9,27],[12,24,12,25],[8,28,8,29],[4,35,5,35],[4,36,5,36],[4,39,5,40],[4,37,5,37],[5,24,5,25],[5,26,5,27],[5,28,5,29],[27,26,27,27],[21,16,21,17],[26,26,26,27],[11,32,11,33],[25,26,25,27],[14,20,14,21],[15,20,15,21],[16,20,16,21],[17,20,17,21],[16,16,16,17],[17,16,17,17],[8,20,8,21],[9,20,9,21],[10,20,10,21],[11,20,11,21],[12,20,12,21],[8,32,8,33],[17,8,17,9],[18,8,18,9],[19,8,19,9],[20,8,20,9],[21,8,21,9],[15,10,15,11],[17,10,17,11],[18,10,18,11],[23,4,23,9],[10,8,10,9],[12,8,12,9],[13,8,13,9],[10,10,10,11],[13,14,13,15],[13,10,13,11],[14,8,14,9],[15,8,15,9],[16,8,16,9],[16,10,16,11],[15,14,15,15],[14,10,14,11],[2,8,2,10],[4,8,4,9],[4,10,4,11],[2,6,2,7],[3,6,3,7],[2,11,2,25],[4,12,4,13],[4,14,4,15],[3,8,3,10],[3,20,3,22],[6,8,6,9],[9,8,9,9],[11,8,11,9],[23,10,23,27],[17,26,17,27],[6,32,6,33],[13,32,13,33],[14,32,14,33],[3,23,3,40],[21,32,21,33],[19,32,19,33],[20,32,20,33],[16,14,16,15],[17,14,17,15],[18,14,18,15],[20,16,20,17],[13,20,13,21],[5,14,5,15],[5,16,5,17],[5,18,5,19],[5,20,5,21],[19,14,19,15],[20,14,20,15],[14,14,14,15],[2,29,2,40],[3,11,3,13],[3,14,3,19],[23,28,23,40],[24,26,24,27],[18,30,18,31],[20,30,20,31],[19,30,19,31],[17,32,17,33],[15,32,15,33],[16,32,16,33],[16,30,16,31],[17,30,17,31],[16,26,16,27],[15,30,15,31],[16,28,16,29],[17,28,17,29],[5,30,5,31],[4,32,4,33],[5,32,5,33],[4,28,4,29],[21,26,21,27],[20,26,20,27],[18,32,18,33],[28,8,28,9],[25,8,25,9],[26,8,26,9],[26,20,26,25],[25,12,25,13],[25,14,25,19],[25,20,25,25],[24,20,24,25],[21,18,21,19],[28,20,28,25],[27,12,27,13],[27,14,27,19],[27,8,27,9],[26,12,26,13],[24,8,24,9],[24,12,24,13],[25,10,25,11],[26,10,26,11],[21,14,21,15],[27,20,27,25],[32,8,32,9],[29,26,29,27],[30,26,30,27],[31,26,31,27],[32,26,32,27],[29,10,29,11],[32,10,32,11],[31,8,31,9],[29,8,29,9],[30,8,30,9],[31,10,31,11],[31,20,31,25],[30,10,30,11],[32,20,32,25],[29,20,29,25],[30,20,30,25],[32,14,32,19],[31,12,31,13],[32,12,32,13],[31,14,31,19],[0,4,0,5],[28,12,28,13],[28,10,28,11],[7,8,7,9],[8,8,8,9],[5,8,5,9],[5,10,5,11],[5,12,5,13],[2,4,2,5],[3,4,3,5],[27,10,27,11],[19,10,19,11],[20,10,20,11],[21,10,21,11],[13,12,13,13],[14,12,14,13],[15,12,15,13],[16,12,16,13],[17,12,17,13],[20,12,20,13],[7,12,7,13],[21,12,21,13],[19,12,19,13],[18,12,18,13]]}
[null,null,null,null,"Home",null,{"$f":"'Match Day'!I4","v":"UK Womens League"}]
[14,26,null,null,"UK ATHLETICS: HEIGHT CARD"]
[null,{"$f":"VLOOKUP(A2,Handbook!$A$4:$AK$24,37,FALSE)","v":15},null,null,"MEETING ",null,{"$f":"CONCATENATE('Match Day'!$I$8,\" \",'Match Day'!$I$10)","v":"Division 1 Match 3"},null,"VENUE ",null,null,{"$f":"'Match Day'!$I$12","v":"Winchester"},null,null,null,null,null,null,null,null,null,null,null,null,null,null,"DATE ",null,null,{"$f":"'Match Day'!$I$6","v":"Saturday, 6th August"}]
[null,{"$f":"VLOOKUP(A2,declare,20,FALSE)","v":15},null,null,"EVENT",null,{"$f":"VLOOKUP(A2,mens_handbook,3,FALSE)","v":"Women's High Jump"},null,"TIME",null,null,{"$f":"VLOOKUP(A2,mens_handbook,2,FALSE)","v":"13:30:00"},null,null,"League Record",null,null,null,null,null,{"$f":"VLOOKUP(A2,mens_handbook,28,FALSE)","v":"1.91m"},null,null,{"$f":"CONCATENATE(VLOOKUP($A2,mens_handbook,26,FALSE),\", \",VLOOKUP($A2,mens_handbook,27,FALSE),\", \",VLOOKUP($A2,mens_handbook,28,FALSE))","v":"Debbi Marti, Bromley, 1.91m"}]
[null,null,null,null,"Order","No","NAME","CLUB",{"$f":"VLOOKUP(A2,mens_handbook,20,FALSE)","v":1.25},null,null,null,null,null,null,null,null,null,null,null,null,null,null,null,null,null,null,null,null,null,null,null,"Best of All",null,"Trials at\nHt Cleared","Total \nFailures","Total\nTrials","Final\nPositionn",null,"A or B",null,"Tie"]
[null,null,null,null,null,null,null,null,"Metres",null,"Metres",null,"Metres",null,"Metres",null,"Metres",null,"Metres",null,"Metres",null,"Metres",null,"Metres",null,"Metres",null,"Metres",null,"Metres",null,"Metres",null,null,null,null,null,null,null,null,null,null,null,null,null,null,null,null,null,null,null,null,null,null,null,1,2,3,4,5,6,7,8,1,2,3,4,5,6,7,8]
[null,{"$f":"IF(F7=\"\",\"\",IF(F7>10,F7/11,F7))","v":4},{"$f":"IF(AL7=0,0,IF(AM7=\"B\",\"\",RANK(BB7,$BB$7:$BB$22,1)))","v":7},{"$f":"IF(AL7=0,0,IF(AM7=\"A\",\"\",RANK(BC7,$BC$7:$BC$22,1)))","v":""},1,{"$f":"HLOOKUP(E7,Handbook!$D$3:$K$24,B3,FALSE)","v":4},{"$f":"IF(ISERROR(HLOOKUP(F7,declare,B4,FALSE))=TRUE,\"\",HLOOKUP(F7,declare,B4,FALSE))","v":"Stephanie Ugbo"},{"$f":"IF(ISERROR(VLOOKUP(B7,matchday,2,FALSE))=TRUE,\"\",VLOOKUP(B7,matchday,2,FALSE))","v":"Newham & Essex Beagles AC"},null,null,null,null,null,null,null,null,null,null,null,null,null,null,null,null,null,null,null,null,null,null,null,null,1.55,null,null,null,null,9,{"$f":"IF(OR(AL7=0,AL7=\"\"),\"\",IF(VLOOKUP(F7*11,$F$15:$AL$22,33,FALSE)=0,\"A\",IF(AL7>(VLOOKUP(F7*11,$F$15:$AL$22,33,FALSE)),\"B\",\"A\")))","v":"A"},{"$f":"IF(AL7=0,0,IF(AM7=\"B\",\"\",RANK(AY7,$AY7:$AY22,1)))","v":7},{"$f":"IF(AL7=0,0,IF(AM7=\"A\",\"\",RANK(AZ7,$AZ7:$AZ22,1)))","v":""},null,null,{"$f":"IF(AS7=\"\",\"\",REPT(AT7,AS7-1))","v":""},{"$f":"IF(AT7=\"\",\"\",HLOOKUP(AN7,$BE$6:$BL$23,18,FALSE))","v":""},{"$f":"IF(OR(AN7=0,AN7=\"\"),\"\",IF(OR(AN7=AN8,AN7=AN9,AN7=AN10,AN7=AN11,AN7=AN12,AN7=AN13,AN7=AN14,AN7=AN15,AN7=AN16,AN7=AN17,AN7=AN18,AN7=AN19,AN7=AN20,AN7=AN21,AN7=AN22),\"=\",\"\"))","v":""},null,{"$f":"IF(AW7=\"\",\"\",REPT(AX7,AW7-1))","v":""},{"$f":"IF(AX7=\"\",\"\",HLOOKUP(AO7,$BM$6:$BT$23,18,FALSE))","v":""},{"$f":"IF(OR(AO7=0,AO7=\"\"),\"\",IF(OR(AO7=AO8,AO7=AO9,AO7=AO10,AO7=AO11,AO7=AO12,AO7=AO13,AO7=AO14,AO7=AO15,AO7=AO16,AO7=AO17,AO7=AO18,AO7=AO19,AO7=AO20,AO7=AO21,AO7=AO22),\"=\",\"\"))","v":""},{"$f":"IF(OR(AL7=0,AG7=0,AM7=\"B\"),\"\",AL7)","v":9},{"$f":"IF(OR(AL7=0,AG7=0,AM7=\"A\"),\"\",AL7)","v":""},null,{"$f":"IF(AY7=\"\",\"\",AY7+($AP7/10))","v":9},"",null,{"$f":"IF($AN7=\"\",\"\",IF($AN7=BE$6,$AN7,\"\"))","v":""},"","","","","",7,"",{"$f":"IF($AO7=\"\",\"\",IF($AO7=BM$6,$AO7,\"\"))","v":""},"","","","","","",""]
[null,6,{"$f":"IF(AL8=0,0,IF(AM8=\"B\",\"\",RANK(BB8,$BB$7:$BB$22,1)))","v":3},{"$f":"IF(AL8=0,0,IF(AM8=\"A\",\"\",RANK(BC8,$BC$7:$BC$22,1)))","v":""},2,{"$f":"HLOOKUP(E8,Handbook!$D$3:$K$24,B3,FALSE)","v":6},{"$f":"IF(ISERROR(HLOOKUP(F8,declare,B4,FALSE))=TRUE,\"\",HLOOKUP(F8,declare,B4,FALSE))","v":"Karla Drew"},"Southampton AC",null,null,null,null,null,null,null,null,null,null,null,null,null,null,null,null,null,null,null,null,null,null,null,null,1.65,null,null,null,null,3,{"$f":"IF(OR(AL8=0,AL8=\"\"),\"\",IF(VLOOKUP(F8*11,$F$15:$AL$22,33,FALSE)=0,\"A\",IF(AL8>(VLOOKUP(F8*11,$F$15:$AL$22,33,FALSE)),\"B\",\"A\")))","v":"A"},{"$f":"IF(AL8=0,0,IF(AM8=\"B\",\"\",RANK(AY8,$AY7:$AY22,1)))","v":3},{"$f":"IF(AL8=0,0,IF(AM8=\"A\",\"\",RANK(AZ8,$AZ7:$AZ22,1)))","v":""},null,null,"","",{"$f":"IF(OR(AN8=0,AN8=\"\"),\"\",IF(OR(AN8=AN9,AN8=AN10,AN8=AN11,AN8=AN12,AN8=AN13,AN8=AN14,AN8=AN15,AN8=AN16,AN8=AN17,AN8=AN18,AN8=AN19,AN8=AN20,AN8=AN21,AN8=AN22,AN8=AN7),\"=\",\"\"))","v":""},null,"","",{"$f":"IF(OR(AO8=0,AO8=\"\"),\"\",IF(OR(AO8=AO9,AO8=AO10,AO8=AO11,AO8=AO12,AO8=AO13,AO8=AO14,AO8=AO15,AO8=AO16,AO8=AO17,AO8=AO18,AO8=AO19,AO8=AO20,AO8=AO21,AO8=AO22,AO8=AO7),\"=\",\"\"))","v":""},{"$f":"IF(OR(AL8=0,AG8=0,AM8=\"B\"),\"\",AL8)","v":3},{"$f":"IF(OR(AL8=0,AG8=0,AM8=\"A\"),\"\",AL8)","v":""},null,3,"",null,"","",3,"","","","","","","","","","","","",""]
[null,8,8,"",3,{"$f":"HLOOKUP(E9,Handbook!$D$3:$K$24,B3,FALSE)","v":8},{"$f":"IF(ISERROR(HLOOKUP(F9,declare,B4,FALSE))=TRUE,\"\",HLOOKUP(F9,declare,B4,FALSE))","v":"Esther Aije"},"Thames Valley H",null,null,null,null,null,null,null,null,null,null,null,null,null,null,null,null,null,null,null,null,null,null,null,null,1.5,null,null,null,null,10,"A",{"$f":"IF(AL9=0,0,IF(AM9=\"B\",\"\",RANK(AY9,$AY7:$AY22,1)))","v":8},{"$f":"IF(AL9=0,0,IF(AM9=\"A\",\"\",RANK(AZ9,$AZ7:$AZ22,1)))","v":""},null,null,"",{"$f":"IF(AT9=\"\",\"\",HLOOKUP(AN9,$BE$6:$BL$23,18,FALSE))","v":""},{"$f":"IF(OR(AN9=0,AN9=\"\"),\"\",IF(OR(AN9=AN10,AN9=AN11,AN9=AN12,AN9=AN13,AN9=AN14,AN9=AN15,AN9=AN16,AN9=AN17,AN9=AN18,AN9=AN19,AN9=AN20,AN9=AN21,AN9=AN22,AN9=AN7,AN9=AN8),\"=\",\"\"))","v":""},null,"","",{"$f":"IF(OR(AO9=0,AO9=\"\"),\"\",IF(OR(AO9=AO10,AO9=AO11,AO9=AO12,AO9=AO13,AO9=AO14,AO9=AO15,AO9=AO16,AO9=AO17,AO9=AO18,AO9=AO19,AO9=AO20,AO9=AO21,AO9=AO22,AO9=AO7,AO9=AO8),\"=\",\"\"))","v":""},10,"",null,10,"",null,"","","","","","","",8,"","","","","","","",""]
[null,7,4,"",4,{"$f":"HLOOKUP(E10,Handbook!$D$3:$K$24,B3,FALSE)","v":7},{"$f":"IF(ISERROR(HLOOKUP(F10,declare,B4,FALSE))=TRUE,\"\",HLOOKUP(F10,declare,B4,FALSE))","v":"Sian Swanson"},"Swansea H",null,null,null,null,null,null,null,null,null,null,null,null,null,null,null,null,null,null,null,null,null,null,null,null,1.6,null,null,null,null,4,"A",{"$f":"IF(AL10=0,0,IF(AM10=\"B\",\"\",RANK(AY10,$AY7:$AY22,1)))","v":4},{"$f":"IF(AL10=0,0,IF(AM10=\"A\",\"\",RANK(AZ10,$AZ7:$AZ22,1)))","v":""},null,null,"","",{"$f":"IF(OR(AN10=0,AN10=\"\"),\"\",IF(OR(AN10=AN11,AN10=AN12,AN10=AN13,AN10=AN14,AN10=AN15,AN10=AN16,AN10=AN17,AN10=AN18,AN10=AN19,AN10=AN20,AN10=AN21,AN10=AN22,AN10=AN7,AN10=AN8,AN10=AN9),\"=\",\"\"))","v":""},null,"","",{"$f":"IF(OR(AO10=0,AO10=\"\"),\"\",IF(OR(AO10=AO11,AO10=AO12,AO10=AO13,AO10=AO14,AO10=AO15,AO10=AO16,AO10=AO17,AO10=AO18,AO10=AO19,AO10=AO20,AO10=AO21,AO10=AO22,AO10=AO7,AO10=AO8,AO10=AO9),\"=\",\"\"))","v":""},4,"",null,4,"",null,"","","",4,"","","","","","","","","","","",""]
[null,1,5,"",5,{"$f":"HLOOKUP(E11,Handbook!$D$3:$K$24,B3,FALSE)","v":1},{"$f":"IF(ISERROR(HLOOKUP(F11,declare,B4,FALSE))=TRUE,\"\",HLOOKUP(F11,declare,B4,FALSE))","v":"Hannah Frith"},"Bedford & County AC",null,null,null,null,null,null,null,null,null,null,null,null,null,null,null,null,null,null,null,null,null,null,null,null,1.6,null,null,null,null,5,"A",{"$f":"IF(AL11=0,0,IF(AM11=\"B\",\"\",RANK(AY11,$AY7:$AY22,1)))","v":5},{"$f":"IF(AL11=0,0,IF(AM11=\"A\",\"\",RANK(AZ11,$AZ7:$AZ22,1)))","v":""},null,null,"","",{"$f":"IF(OR(AN11=0,AN11=\"\"),\"\",IF(OR(AN11=AN12,AN11=AN13,AN11=AN14,AN11=AN15,AN11=AN16,AN11=AN17,AN11=AN18,AN11=AN19,AN11=AN20,AN11=AN21,AN11=AN22,AN11=AN7,AN11=AN8,AN11=AN9,AN11=AN10),\"=\",\"\"))","v":""},null,"","",{"$f":"IF(OR(AO11=0,AO11=\"\"),\"\",IF(OR(AO11=AO12,AO11=AO13,AO11=AO14,AO11=AO15,AO11=AO16,AO11=AO17,AO11=AO18,AO11=AO19,AO11=AO20,AO11=AO21,AO11=AO22,AO11=AO7,AO11=AO8,AO11=AO9,AO11=AO10),\"=\",\"\"))","v":""},5,"",null,5,"",null,"","","","",5,"","","","","","","","","","",""]
[null,3,6,"",6,{"$f":"HLOOKUP(E12,Handbook!$D$3:$K$24,B3,FALSE)","v":3},{"$f":"IF(ISERROR(HLOOKUP(F12,declare,B4,FALSE))=TRUE,\"\",HLOOKUP(F12,declare,B4,FALSE))","v":"Rachel Gibbens"},"Marshall Milton Keynes AC",null,null,null,null,null,null,null,null,null,null,null,null,null,null,null,null,null,null,null,null,null,null,null,null,1.55,null,null,null,null,6,"A",{"$f":"IF(AL12=0,0,IF(AM12=\"B\",\"\",RANK(AY12,$AY7:$AY22,1)))","v":6},{"$f":"IF(AL12=0,0,IF(AM12=\"A\",\"\",RANK(AZ12,$AZ7:$AZ22,1)))","v":""},null,null,"","",{"$f":"IF(OR(AN12=0,AN12=\"\"),\"\",IF(OR(AN12=AN13,AN12=AN14,AN12=AN15,AN12=AN16,AN12=AN17,AN12=AN18,AN12=AN19,AN12=AN20,AN12=AN21,AN12=AN22,AN12=AN7,AN12=AN8,AN12=AN9,AN12=AN10,AN12=AN11),\"=\",\"\"))","v":""},null,"","",{"$f":"IF(OR(AO12=0,AO12=\"\"),\"\",IF(OR(AO12=AO13,AO12=AO14,AO12=AO15,AO12=AO16,AO12=AO17,AO12=AO18,AO12=AO19,AO12=AO20,AO12=AO21,AO12=AO22,AO12=AO7,AO12=AO8,AO12=AO9,AO12=AO10,AO12=AO11),\"=\",\"\"))","v":""},6,"",null,6,"",null,"","","","","",6,"","","","","","","","","",""]
[null,5,2,"",7,{"$f":"HLOOKUP(E13,Handbook!$D$3:$K$24,B3,FALSE)","v":5},{"$f":"IF(ISERROR(HLOOKUP(F13,declare,B4,FALSE))=TRUE,\"\",HLOOKUP(F13,declare,B4,FALSE))","v":"Eloise Newman"},"Shaftesbury Barnet H",null,null,null,null,null,null,null,null,null,null,null,null,null,null,null,null,null,null,null,null,null,null,null,null,1.65,null,null,null,null,2,"A",{"$f":"IF(AL13=0,0,IF(AM13=\"B\",\"\",RANK(AY13,$AY7:$AY22,1)))","v":2},{"$f":"IF(AL13=0,0,IF(AM13=\"A\",\"\",RANK(AZ13,$AZ7:$AZ22,1)))","v":""},null,null,"","",{"$f":"IF(OR(AN13=0,AN13=\"\"),\"\",IF(OR(AN13=AN14,AN13=AN15,AN13=AN16,AN13=AN17,AN13=AN18,AN13=AN19,AN13=AN20,AN13=AN21,AN13=AN22,AN13=AN7,AN13=AN8,AN13=AN9,AN13=AN10,AN13=AN11,AN13=AN12),\"=\",\"\"))","v":""},null,"","",{"$f":"IF(OR(AO13=0,AO13=\"\"),\"\",IF(OR(AO13=AO14,AO13=AO15,AO13=AO16,AO13=AO17,AO13=AO18,AO13=AO19,AO13=AO20,AO13=AO21,AO13=AO22,AO13=AO7,AO13=AO8,AO13=AO9,AO13=AO10,AO13=AO11,AO13=AO12),\"=\",\"\"))","v":""},2,"",null,2,"",null,"",2,"","","","","","","","","","","","","",""]
[null,2,1,"",8,{"$f":"HLOOKUP(E14,Handbook!$D$3:$K$24,B3,FALSE)","v":2},{"$f":"IF(ISERROR(HLOOKUP(F14,declare,B4,FALSE))=TRUE,\"\",HLOOKUP(F14,declare,B4,FALSE))","v":"Sarah Abrams"},"Blackheath & Bromley H",null,null,null,null,null,null,null,null,null,null,null,null,null,null,null,null,null,null,null,null,null,null,null,null,1.7,null,null,null,null,1,"A",{"$f":"IF(AL14=0,0,IF(AM14=\"B\",\"\",RANK(AY14,$AY7:$AY22,1)))","v":1},{"$f":"IF(AL14=0,0,IF(AM14=\"A\",\"\",RANK(AZ14,$AZ7:$AZ22,1)))","v":""},null,null,"","",{"$f":"IF(OR(AN14=0,AN14=\"\"),\"\",IF(OR(AN14=AN15,AN14=AN16,AN14=AN17,AN14=AN18,AN14=AN19,AN14=AN20,AN14=AN21,AN14=AN22,AN14=AN7,AN14=AN8,AN14=AN9,AN14=AN10,AN14=AN11,AN14=AN12,AN14=AN13),\"=\",\"\"))","v":""},null,"","",{"$f":"IF(OR(AO14=0,AO14=\"\"),\"\",IF(OR(AO14=AO15,AO14=AO16,AO14=AO17,AO14=AO18,AO14=AO19,AO14=AO20,AO14=AO21,AO14=AO22,AO14=AO7,AO14=AO8,AO14=AO9,AO14=AO10,AO14=AO11,AO14=AO12,AO14=AO13),\"=\",\"\"))","v":""},1,"",null,1,"",null,1,"","","","","","","","","","","","","","",""]
[null,4,0,0,9,{"$f":"HLOOKUP(E15,Handbook!$L$3:$S$24,B3,FALSE)","v":44},{"$f":"IF(ISERROR(HLOOKUP(F15,declare,B4,FALSE))=TRUE,\"\",HLOOKUP(F15,declare,B4,FALSE))","v":0},"Newham & Essex Beagles AC",null,null,null,null,null,null,null,null,null,null,null,null,null,null,null,null,null,null,null,null,null,null,null,null,null,null,null,null,null,null,{"$f":"IF(OR(AL15=0,AL15=\"\"),\"\",IF(VLOOKUP(F15/11,$F$7:$AL$14,33,FALSE)=0,\"A\",IF(AL15>=VLOOKUP(F15/11,$F$7:$AL$14,33,FALSE),\"B\",\"A\")))","v":""},{"$f":"IF(AL15=0,0,IF(AM15=\"B\",\"\",RANK(AY15,$AY7:$AY22,1)))","v":0},{"$f":"IF(AL15=0,0,IF(AM15=\"A\",\"\",RANK(AZ15,$AZ7:$AZ22,1)))","v":0},null,null,"","",{"$f":"IF(OR(AN15=0,AN15=\"\"),\"\",IF(OR(AN15=AN16,AN15=AN17,AN15=AN18,AN15=AN19,AN15=AN20,AN15=AN21,AN15=AN22,AN15=AN7,AN15=AN8,AN15=AN9,AN15=AN10,AN15=AN11,AN15=AN12,AN15=AN13,AN15=AN14),\"=\",\"\"))","v":""},null,"","",{"$f":"IF(OR(AO15=0,AO15=\"\"),\"\",IF(OR(AO15=AO16,AO15=AO17,AO15=AO18,AO15=AO19,AO15=AO20,AO15=AO21,AO15=AO22,AO15=AO7,AO15=AO8,AO15=AO9,AO15=AO10,AO15=AO11,AO15=AO12,AO15=AO13,AO15=AO14),\"=\",\"\"))","v":""},"","",null,"","",null,"","","","","","","","","","","","","","","",""]
[null,6,"",6,10,{"$f":"HLOOKUP(E16,Handbook!$L$3:$S$24,B3,FALSE)","v":66},{"$f":"IF(ISERROR(HLOOKUP(F16,declare,B4,FALSE))=TRUE,\"\",HLOOKUP(F16,declare,B4,FALSE))","v":"Joanne Bottell"},"Southampton AC",null,null,null,null,null,null,null,null,null,null,null,null,null,null,null,null,null,null,null,null,null,null,null,null,1.25,null,null,null,null,14,{"$f":"IF(OR(AL16=0,AL16=\"\"),\"\",IF(VLOOKUP(F16/11,$F$7:$AL$14,33,FALSE)=0,\"A\",IF(AL16>=VLOOKUP(F16/11,$F$7:$AL$14,33,FALSE),\"B\",\"A\")))","v":"B"},{"$f":"IF(AL16=0,0,IF(AM16=\"B\",\"\",RANK(AY16,$AY7:$AY22,1)))","v":""},{"$f":"IF(AL16=0,0,IF(AM16=\"A\",\"\",RANK(AZ16,$AZ7:$AZ22,1)))","v":6},null,null,"","",{"$f":"IF(OR(AN16=0,AN16=\"\"),\"\",IF(OR(AN16=AN17,AN16=AN18,AN16=AN19,AN16=AN20,AN16=AN21,AN16=AN22,AN16=AN7,AN16=AN8,AN16=AN9,AN16=AN10,AN16=AN11,AN16=AN12,AN16=AN13,AN16=AN14,AN16=AN15),\"=\",\"\"))","v":""},null,"","",{"$f":"IF(OR(AO16=0,AO16=\"\"),\"\",IF(OR(AO16=AO17,AO16=AO18,AO16=AO19,AO16=AO20,AO16=AO21,AO16=AO22,AO16=AO7,AO16=AO8,AO16=AO9,AO16=AO10,AO16=AO11,AO16=AO12,AO16=AO13,AO16=AO14,AO16=AO15),\"=\",\"\"))","v":""},"",14,null,"",14,null,"","","","","","","","","","","","","",6,"",""]
[null,8,"",7,11,{"$f":"HLOOKUP(E17,Handbook!$L$3:$S$24,B3,FALSE)","v":88},{"$f":"IF(ISERROR(HLOOKUP(F17,declare,B4,FALSE))=TRUE,\"\",HLOOKUP(F17,declare,B4,FALSE))","v":"Abigail Moronkeji"},"Thames Valley H",null,null,null,null,null,null,null,null,null,null,null,null,null,null,null,null,null,null,null,null,null,null,null,null,1.25,null,null,null,null,15,"B",{"$f":"IF(AL17=0,0,IF(AM17=\"B\",\"\",RANK(AY17,$AY7:$AY22,1)))","v":""},{"$f":"IF(AL17=0,0,IF(AM17=\"A\",\"\",RANK(AZ17,$AZ7:$AZ22,1)))","v":7},null,null,"","",{"$f":"IF(OR(AN17=0,AN17=\"\"),\"\",IF(OR(AN17=AN18,AN17=AN19,AN17=AN20,AN17=AN21,AN17=AN22,AN17=AN7,AN17=AN8,AN17=AN9,AN17=AN10,AN17=AN11,AN17=AN12,AN17=AN13,AN17=AN14,AN17=AN15,AN17=AN16),\"=\",\"\"))","v":""},null,"","",{"$f":"IF(OR(AO17=0,AO17=\"\"),\"\",IF(OR(AO17=AO18,AO17=AO19,AO17=AO20,AO17=AO21,AO17=AO22,AO17=AO7,AO17=AO8,AO17=AO9,AO17=AO10,AO17=AO11,AO17=AO12,AO17=AO13,AO17=AO14,AO17=AO15,AO17=AO16),\"=\",\"\"))","v":""},"",15,null,"",15,null,"","","","","","","","","","","","","","",7,""]
[null,7,"",5,12,{"$f":"HLOOKUP(E18,Handbook!$L$3:$S$24,B3,FALSE)","v":77},{"$f":"IF(ISERROR(HLOOKUP(F18,declare,B4,FALSE))=TRUE,\"\",HLOOKUP(F18,declare,B4,FALSE))","v":"Atlanta Williams"},"Swansea H",null,null,null,null,null,null,null,null,null,null,null,null,null,null,null,null,null,null,null,null,null,null,null,null,1.5,null,null,null,null,13,"B",{"$f":"IF(AL18=0,0,IF(AM18=\"B\",\"\",RANK(AY18,$AY7:$AY22,1)))","v":""},{"$f":"IF(AL18=0,0,IF(AM18=\"A\",\"\",RANK(AZ18,$AZ7:$AZ22,1)))","v":5},null,null,"","",{"$f":"IF(OR(AN18=0,AN18=\"\"),\"\",IF(OR(AN18=AN19,AN18=AN20,AN18=AN21,AN18=AN22,AN18=AN7,AN18=AN8,AN18=AN9,AN18=AN10,AN18=AN11,AN18=AN12,AN18=AN13,AN18=AN14,AN18=AN15,AN18=AN16,AN18=AN17),\"=\",\"\"))","v":""},null,"","",{"$f":"IF(OR(AO18=0,AO18=\"\"),\"\",IF(OR(AO18=AO19,AO18=AO20,AO18=AO21,AO18=AO22,AO18=AO7,AO18=AO8,AO18=AO9,AO18=AO10,AO18=AO11,AO18=AO12,AO18=AO13,AO18=AO14,AO18=AO15,AO18=AO16,AO18=AO17),\"=\",\"\"))","v":""},"",13,null,"",13,null,"","","","","","","","","","","","",5,"","",""]
[null,1,"",4,13,{"$f":"HLOOKUP(E19,Handbook!$L$3:$S$24,B3,FALSE)","v":11},{"$f":"IF(ISERROR(HLOOKUP(F19,declare,B4,FALSE))=TRUE,\"\",HLOOKUP(F19,declare,B4,FALSE))","v":"Laura Duke"},"Bedford & County AC",null,null,null,null,null,null,null,null,null,null,null,null,null,null,null,null,null,null,null,null,null,null,null,null,1.5,null,null,null,null,12,"B",{"$f":"IF(AL19=0,0,IF(AM19=\"B\",\"\",RANK(AY19,$AY7:$AY22,1)))","v":""},{"$f":"IF(AL19=0,0,IF(AM19=\"A\",\"\",RANK(AZ19,$AZ7:$AZ22,1)))","v":4},null,null,"","",{"$f":"IF(OR(AN19=0,AN19=\"\"),\"\",IF(OR(AN19=AN20,AN19=AN21,AN19=AN22,AN19=AN7,AN19=AN8,AN19=AN9,AN19=AN10,AN19=AN11,AN19=AN12,AN19=AN13,AN19=AN14,AN19=AN15,AN19=AN16,AN19=AN17,AN19=AN18),\"=\",\"\"))","v":""},null,"","",{"$f":"IF(OR(AO19=0,AO19=\"\"),\"\",IF(OR(AO19=AO20,AO19=AO21,AO19=AO22,AO19=AO7,AO19=AO8,AO19=AO9,AO19=AO10,AO19=AO11,AO19=AO12,AO19=AO13,AO19=AO14,AO19=AO15,AO19=AO16,AO19=AO17,AO19=AO18),\"=\",\"\"))","v":""},"",12,null,"",12,null,"","","","","","","","","","","",4,"","","",""]
[null,3,"",1,14,{"$f":"HLOOKUP(E20,Handbook!$L$3:$S$24,B3,FALSE)","v":33},{"$f":"IF(ISERROR(HLOOKUP(F20,declare,B4,FALSE))=TRUE,\"\",HLOOKUP(F20,declare,B4,FALSE))","v":"Sophie Wilkins"},"Marshall Milton Keynes AC",null,null,null,null,null,null,null,null,null,null,null,null,null,null,null,null,null,null,null,null,null,null,null,null,1.55,null,null,null,null,6,"B",{"$f":"IF(AL20=0,0,IF(AM20=\"B\",\"\",RANK(AY20,$AY7:$AY22,1)))","v":""},{"$f":"IF(AL20=0,0,IF(AM20=\"A\",\"\",RANK(AZ20,$AZ7:$AZ22,1)))","v":1},null,null,"","",{"$f":"IF(OR(AN20=0,AN20=\"\"),\"\",IF(OR(AN20=AN21,AN20=AN22,AN20=AN7,AN20=AN8,AN20=AN9,AN20=AN10,AN20=AN11,AN20=AN12,AN20=AN13,AN20=AN14,AN20=AN15,AN20=AN16,AN20=AN17,AN20=AN18,AN20=AN19),\"=\",\"\"))","v":""},null,"=",2,{"$f":"IF(OR(AO20=0,AO20=\"\"),\"\",IF(OR(AO20=AO21,AO20=AO22,AO20=AO7,AO20=AO8,AO20=AO9,AO20=AO10,AO20=AO11,AO20=AO12,AO20=AO13,AO20=AO14,AO20=AO15,AO20=AO16,AO20=AO17,AO20=AO18,AO20=AO19),\"=\",\"\"))","v":"="},"",6,null,"",6,null,"","","","","","","","",1,"","","","","","",""]
[null,5,"",2,15,{"$f":"HLOOKUP(E21,Handbook!$L$3:$S$24,B3,FALSE)","v":55},{"$f":"IF(ISERROR(HLOOKUP(F21,declare,B4,FALSE))=TRUE,\"\",HLOOKUP(F21,declare,B4,FALSE))","v":"Gaby Rowsell (U20)"},"Shaftesbury Barnet H",null,null,null,null,null,null,null,null,null,null,null,null,null,null,null,null,null,null,null,null,null,null,null,null,1.55,null,null,null,null,6,"B",{"$f":"IF(AL21=0,0,IF(AM21=\"B\",\"\",RANK(AY21,$AY7:$AY22,1)))","v":""},{"$f":"IF(AL21=0,0,IF(AM21=\"A\",\"\",RANK(AZ21,$AZ7:$AZ22,1)))","v":1},1,null,"","",{"$f":"IF(OR(AN21=0,AN21=\"\"),\"\",IF(OR(AN21=AN22,AN21=AN7,AN21=AN8,AN21=AN9,AN21=AN10,AN21=AN11,AN21=AN12,AN21=AN13,AN21=AN14,AN21=AN15,AN21=AN16,AN21=AN17,AN21=AN18,AN21=AN19,AN21=AN20),\"=\",\"\"))","v":""},null,"=",2,{"$f":"IF(OR(AO21=0,AO21=\"\"),\"\",IF(OR(AO21=AO22,AO21=AO7,AO21=AO8,AO21=AO9,AO21=AO10,AO21=AO11,AO21=AO12,AO21=AO13,AO21=AO14,AO21=AO15,AO21=AO16,AO21=AO17,AO21=AO18,AO21=AO19,AO21=AO20),\"=\",\"\"))","v":"="},"",6,null,"",6.1,null,"","","","","","","","",1,"","","","","","",""]
[null,2,"",3,16,{"$f":"HLOOKUP(E22,Handbook!$L$3:$S$24,B3,FALSE)","v":22},{"$f":"IF(ISERROR(HLOOKUP(F22,declare,B4,FALSE))=TRUE,\"\",HLOOKUP(F22,declare,B4,FALSE))","v":"Christine Lyston"},"Blackheath & Bromley H",null,null,null,null,null,null,null,null,null,null,null,null,null,null,null,null,null,null,null,null,null,null,null,null,1.5,null,null,null,null,11,"B",{"$f":"IF(AL22=0,0,IF(AM22=\"B\",\"\",RANK(AY22,$AY7:$AY22,1)))","v":""},{"$f":"IF(AL22=0,0,IF(AM22=\"A\",\"\",RANK(AZ22,$AZ7:$AZ22,1)))","v":3},0,null,"","",{"$f":"IF(OR(AN22=0,AN22=\"\"),\"\",IF(OR(AN22=AN7,AN22=AN8,AN22=AN9,AN22=AN10,AN22=AN11,AN22=AN12,AN22=AN13,AN22=AN14,AN22=AN15,AN22=AN16,AN22=AN17,AN22=AN18,AN22=AN19,AN22=AN20,AN22=AN21),\"=\",\"\"))","v":""},null,"","",{"$f":"IF(OR(AO22=0,AO22=\"\"),\"\",IF(OR(AO22=AO7,AO22=AO8,AO22=AO9,AO22=AO10,AO22=AO11,AO22=AO12,AO22=AO13,AO22=AO14,AO22=AO15,AO22=AO16,AO22=AO17,AO22=AO18,AO22=AO19,AO22=AO20,AO22=AO21),\"=\",\"\"))","v":""},"",11,null,"",11,null,"","","","","","","","","","",3,"","","","",""]
[null,null,null,null,null,null,null,null,null,null,null,null,null,null,null,null,null,null,null,null,null,null,null,null,null,null,null,null,null,null,null,null,null,null,null,null,null,null,null,null,null,null,null,null,null,null,null,null,null,null,null,null,null,null,null,null,{"$f":"COUNTIF(BE7:BE22,BE6)","v":1},1,1,1,1,1,1,1,2,0,1,1,1,1,1,0]
[null,null,null,null,"\"A\" STRING RESULT",null,null,null,null,null,"\"B\" STRING RESULT",null,null,null,null,null,null,null,null,null,null,null,null,null,null,null,null,null,"JUDGES' SIGNATURES"]
[null,null,null,null,"Posn","No.","NAME","CLUB","HEIGHT",null,"Posn",null,"No.",null,"NAME",null,null,null,null,null,"CLUB",null,null,null,null,null,"HEIGHT"]
[null,null,null,1,{"$f":"IF(ISERROR(VLOOKUP(D26,$C$7:$AR$22,31,FALSE))=TRUE,\"\",IF(VLOOKUP(D26,$C$7:$AR$22,42,FALSE)=\"\",VLOOKUP(D26,$C$7:$AR$22,38,FALSE),CONCATENATE(VLOOKUP(D26,$C$7:$AR$22,38,FALSE),VLOOKUP(D26,$C$7:$AR$22,42,FALSE))))","v":1},{"$f":"IF(ISERROR(VLOOKUP(D26,$C$7:$AH$22,31,FALSE))=TRUE,\"\",IF(VLOOKUP(D26,$C$7:$AH$22,31,FALSE)=0,\"\",IF(VLOOKUP(D26,$C$7:$AH$22,31,FALSE)=99,99,IF(VLOOKUP(D26,$C$7:$AH$22,31,FALSE)=97,97,IF(VLOOKUP(D26,$C$7:$AH$22,31,FALSE)=96,96,VLOOKUP(D26,$C$7:$AH$22,4,FALSE))))))","v":2},{"$f":"IF(ISERROR(VLOOKUP(D26,$C$7:$AH$22,31,FALSE))=TRUE,\"\",VLOOKUP(D26,$C$7:$AH$22,5,FALSE))","v":"Sarah Abrams"},{"$f":"IF(ISERROR(VLOOKUP(D26,$C$7:$AH$22,31,FALSE))=TRUE,\"\",VLOOKUP(D26,$C$7:$AH$22,6,FALSE))","v":"Blackheath & Bromley H"},{"$f":"IF(ISERROR(VLOOKUP(D26,$C$7:$AH$22,31,FALSE))=TRUE,\"\",IF(VLOOKUP(D26,C$7:AH$22,31,FALSE)=0,0,IF(VLOOKUP(D26,C$7:AH$22,31,FALSE)>95.99,\"\",VLOOKUP(D26,C$7:AH$22,31,FALSE))))","v":1.7},null,{"$f":"IF(ISERROR(VLOOKUP(D26,$D$7:$AV$22,30,FALSE))=TRUE,\"\",IF(VLOOKUP(D26,$D$7:$AV$22,45,FALSE)=\"\",VLOOKUP(D26,$D$7:$AV$22,38,FALSE),CONCATENATE(VLOOKUP(D26,$D$7:$AV$22,38,FALSE),VLOOKUP(D26,$D$7:$AV$22,45,FALSE))))","v":"1="},{"$f":"IF(ISERROR(VLOOKUP(K26,$C$7:$AR$22,31,FALSE))=TRUE,\"\",CONCATENATE(VLOOKUP(K26,$C$7:$AR$22,38,FALSE),VLOOKUP(K26,$C$7:$AR$22,42,FALSE)))","v":""},{"$f":"IF(ISERROR(VLOOKUP(D26,$D$7:$AH$22,30,FALSE))=TRUE,\"\",IF(VLOOKUP(D26,$D$7:$AH$22,30,FALSE)=0,\"\",VLOOKUP(D26,$D$7:$AH$22,3,FALSE)))","v":33},null,{"$f":"IF(ISERROR(VLOOKUP(D26,$D$7:$AH$22,30,FALSE))=TRUE,\"\",VLOOKUP(D26,$D$7:$AH$22,4,FALSE))","v":"Sophie Wilkins"},null,null,null,null,null,{"$f":"IF(ISERROR(VLOOKUP(D26,$D$7:$AH$22,30,FALSE))=TRUE,\"\",VLOOKUP(D26,$D$7:$AH$22,5,FALSE))","v":"Marshall Milton Keynes AC"},null,null,null,null,null,{"$f":"IF(ISERROR(VLOOKUP(D26,$D$7:$AH$22,30,FALSE))=TRUE,\"\",IF(VLOOKUP(D26,$D$7:$AH$22,30,FALSE)=0,\"\",VLOOKUP(D26,$D$7:$AH$22,30,FALSE)))","v":1.55}]
[null,null,null,2,{"$f":"IF(ISERROR(VLOOKUP(D27,$C$7:$AR$22,31,FALSE))=TRUE,\"\",IF(VLOOKUP(D27,$C$7:$AR$22,42,FALSE)=\"\",VLOOKUP(D27,$C$7:$AR$22,38,FALSE),CONCATENATE(VLOOKUP(D27,$C$7:$AR$22,38,FALSE),VLOOKUP(D27,$C$7:$AR$22,42,FALSE))))","v":2},5,"Eloise Newman","Shaftesbury Barnet H",1.65,null,{"$f":"IF(ISERROR(VLOOKUP(D27,$D$7:$AV$22,30,FALSE))=TRUE,\"\",IF(VLOOKUP(D27,$D$7:$AV$22,45,FALSE)=\"\",VLOOKUP(D27,$D$7:$AV$22,38,FALSE),CONCATENATE(VLOOKUP(D27,$D$7:$AV$22,38,FALSE),VLOOKUP(D27,$D$7:$AV$22,45,FALSE))))","v":"1="},"",55,null,"Gaby Rowsell (U20)",null,null,null,null,null,"Shaftesbury Barnet H",null,null,null,null,null,1.55]
[null,null,null,3,3,6,"Karla Drew","Southampton AC",1.65,null,3,"3",22,null,"Christine Lyston",null,null,null,null,null,"Blackheath & Bromley H",null,null,null,null,null,1.5]
[null,null,null,4,4,7,"Sian Swanson","Swansea H",1.6,null,4,"4",11,null,"Laura Duke",null,null,null,null,null,"Bedford & County AC",null,null,null,null,null,1.5]
[null,null,null,5,5,1,"Hannah Frith","Bedford & County AC",1.6,null,5,"5",77,null,"Atlanta Williams",null,null,null,null,null,"Swansea H",null,null,null,null,null,1.5]
[null,null,null,6,6,3,"Rachel Gibbens","Marshall Milton Keynes AC",1.55,null,6,"6",66,null,"Joanne Bottell",null,null,null,null,null,"Southampton AC",null,null,null,null,null,1.25,null,"REFEREE'S SIGNATURE"]
[null,null,null,7,7,4,"Stephanie Ugbo","Newham & Essex Beagles AC",1.55,null,7,"7",88,null,"Abigail Moronkeji",null,null,null,null,null,"Thames Valley H",null,null,null,null,null,1.25]
[null,null,null,8,8,8,"Esther Aije","Thames Valley H",1.5,null,"","","",null,"",null,null,null,null,null,"",null,null,null,null,null,""]
[]
[14,26,null,null,"UK ATHLETICS: HEIGHT CARD"]
[null,{"$f":"VLOOKUP(A35,Handbook!$A$4:$AK$24,37,FALSE)","v":15},null,null,"MEETING ",null,{"$f":"CONCATENATE('Match Day'!$I$8,\" \",'Match Day'!$I$10)","v":"Division 1 Match 3"},null,"VENUE ",null,null,{"$f":"'Match Day'!$I$12","v":"Winchester"},null,null,null,null,null,null,null,null,null,null,null,null,null,null,"DATE ",null,null,{"$f":"'Match Day'!$I$6","v":"Saturday, 6th August"}]
[null,{"$f":"VLOOKUP(A35,declare,20,FALSE)","v":15},null,null,"EVENT",null,{"$f":"VLOOKUP(A35,mens_handbook,3,FALSE)","v":"Women's High Jump"},null,"TIME",null,null,{"$f":"VLOOKUP(A35,mens_handbook,2,FALSE)","v":"13:30:00"},null,null,"League Record",null,null,null,null,null,{"$f":"VLOOKUP(A35,mens_handbook,28,FALSE)","v":"1.91m"},null,null,{"$f":"CONCATENATE(VLOOKUP($A35,mens_handbook,26,FALSE),\", \",VLOOKUP($A35,mens_handbook,27,FALSE),\", \",VLOOKUP($A35,mens_handbook,28,FALSE))","v":"Debbi Marti, Bromley, 1.91m"}]
[14,26,null,null,"Order","No","NAME","CLUB",null,null,null,null,null,null,null,null,null,null,null,null,null,null,null,null,null,null,null,null,null,null,null,null,"Best of All",null,"Trials at\nHt Cleared","Total \nFailures","Total\nTrials","Final\nPositionn",null,"A or B",null,"Tie"]
[null,{"$f":"VLOOKUP(A38,Handbook!$A$4:$AK$24,37,FALSE)","v":15},null,null,null,null,null,null,"Metres",null,"Metres",null,"Metres",null,"Metres",null,"Metres",null,"Metres",null,"Metres",null,"Metres",null,"Metres",null,"Metres",null,"Metres",null,"Metres",null,"Metres"]
[null,{"$f":"VLOOKUP(A38,declare,20,FALSE)","v":15},null,null,1,{"$f":"F7","v":4},{"$f":"G7","v":"Stephanie Ugbo"},{"$f":"H7","v":"Newham & Essex Beagles AC"},null,null,null,null,null,null,null,null,null,null,null,null,null,null,null,null,null,null,null,null,null,null,null,null,0,null,null,null,null,0,{"$f":"IF(OR(AL40=0,AL40=\"\"),\"\",IF(VLOOKUP(F40*11,$F$15:$AL$22,33,FALSE)=0,\"A\",IF(AL40>(VLOOKUP(F40*11,$F$15:$AL$22,33,FALSE)),\"B\",\"A\")))","v":""},{"$f":"IF(AL40=0,0,IF(AM40=\"B\",\"\",RANK(AY40,$AY40:$AY55,1)))","v":0},{"$f":"IF(AL40=0,0,IF(AM40=\"A\",\"\",RANK(AZ40,$AZ40:$AZ55,1)))","v":0},0]
[null,null,null,null,2,{"$f":"F8","v":6},"Karla Drew","Southampton AC",null,null,null,null,null,null,null,null,null,null,null,null,null,null,null,null,null,null,null,null,null,null,null,null,0,null,null,null,null,0,{"$f":"IF(OR(AL41=0,AL41=\"\"),\"\",IF(VLOOKUP(F41*11,$F$15:$AL$22,33,FALSE)=0,\"A\",IF(AL41>(VLOOKUP(F41*11,$F$15:$AL$22,33,FALSE)),\"B\",\"A\")))","v":""},{"$f":"IF(AL41=0,0,IF(AM41=\"B\",\"\",RANK(AY41,$AY40:$AY55,1)))","v":0},{"$f":"IF(AL41=0,0,IF(AM41=\"A\",\"\",RANK(AZ41,$AZ40:$AZ55,1)))","v":0},0]
[null,null,null,null,3,8,"Esther Aije","Thames Valley H",null,null,null,null,null,null,null,null,null,null,null,null,null,null,null,null,null,null,null,null,null,null,null,null,0,null,null,null,null,0,"",{"$f":"IF(AL42=0,0,IF(AM42=\"B\",\"\",RANK(AY42,$AY40:$AY55,1)))","v":0},{"$f":"IF(AL42=0,0,IF(AM42=\"A\",\"\",RANK(AZ42,$AZ40:$AZ55,1)))","v":0},0]
[null,{"$f":"IF(F43=\"\",\"\",IF(F43>10,F43/11,F43))","v":7},{"$f":"IF(AL43=0,0,IF(AM43=\"B\",\"\",RANK(BB43,$BB$7:$BB$22,1)))","v":0},{"$f":"IF(AL43=0,0,IF(AM43=\"A\",\"\",RANK(BC43,$BC$7:$BC$22,1)))","v":0},4,7,"Sian Swanson","Swansea H",null,null,null,null,null,null,null,null,null,null,null,null,null,null,null,null,null,null,null,null,null,null,null,null,0,null,null,null,null,0,"",{"$f":"IF(AL43=0,0,IF(AM43=\"B\",\"\",RANK(AY43,$AY40:$AY55,1)))","v":0},{"$f":"IF(AL43=0,0,IF(AM43=\"A\",\"\",RANK(AZ43,$AZ40:$AZ55,1)))","v":0},0]
[null,1,{"$f":"IF(AL44=0,0,IF(AM44=\"B\",\"\",RANK(BB44,$BB$7:$BB$22,1)))","v":0},{"$f":"IF(AL44=0,0,IF(AM44=\"A\",\"\",RANK(BC44,$BC$7:$BC$22,1)))","v":0},5,1,"Hannah Frith","Bedford & County AC",null,null,null,null,null,null,null,null,null,null,null,null,null,null,null,null,null,null,null,null,null,null,null,null,0,null,null,null,null,0,"",{"$f":"IF(AL44=0,0,IF(AM44=\"B\",\"\",RANK(AY44,$AY40:$AY55,1)))","v":0},{"$f":"IF(AL44=0,0,IF(AM44=\"A\",\"\",RANK(AZ44,$AZ40:$AZ55,1)))","v":0},0]
[null,3,0,0,6,3,"Rachel Gibbens","Marshall Milton Keynes AC",null,null,null,null,null,null,null,null,null,null,null,null,null,null,null,null,null,null,null,null,null,null,null,null,0,null,null,null,null,0,"",{"$f":"IF(AL45=0,0,IF(AM45=\"B\",\"\",RANK(AY45,$AY40:$AY55,1)))","v":0},{"$f":"IF(AL45=0,0,IF(AM45=\"A\",\"\",RANK(AZ45,$AZ40:$AZ55,1)))","v":0},0]
[null,5,0,0,7,5,"Eloise Newman","Shaftesbury Barnet H",null,null,null,null,null,null,null,null,null,null,null,null,null,null,null,null,null,null,null,null,null,null,null,null,0,null,null,null,null,0,"",{"$f":"IF(AL46=0,0,IF(AM46=\"B\",\"\",RANK(AY46,$AY40:$AY55,1)))","v":0},{"$f":"IF(AL46=0,0,IF(AM46=\"A\",\"\",RANK(AZ46,$AZ40:$AZ55,1)))","v":0},0]
[null,2,0,0,8,2,"Sarah Abrams","Blackheath & Bromley H",null,null,null,null,null,null,null,null,null,null,null,null,null,null,null,null,null,null,null,null,null,null,null,null,0,null,null,null,null,0,"",{"$f":"IF(AL47=0,0,IF(AM47=\"B\",\"\",RANK(AY47,$AY40:$AY55,1)))","v":0},{"$f":"IF(AL47=0,0,IF(AM47=\"A\",\"\",RANK(AZ47,$AZ40:$AZ55,1)))","v":0},0]
[null,4,0,0,9,44,0,"Newham & Essex Beagles AC",null,null,null,null,null,null,null,null,null,null,null,null,null,null,null,null,null,null,null,null,null,null,null,null,0,null,null,null,null,0,{"$f":"IF(OR(AL48=0,AL48=\"\"),\"\",IF(VLOOKUP(F48/11,$F$7:$AL$14,33,FALSE)=0,\"A\",IF(AL48>=VLOOKUP(F48/11,$F$7:$AL$14,33,FALSE),\"B\",\"A\")))","v":""},{"$f":"IF(AL48=0,0,IF(AM48=\"B\",\"\",RANK(AY48,$AY40:$AY55,1)))","v":0},{"$f":"IF(AL48=0,0,IF(AM48=\"A\",\"\",RANK(AZ48,$AZ40:$AZ55,1)))","v":0},0]
[null,6,0,0,10,66,"Joanne Bottell","Southampton AC",null,null,null,null,null,null,null,null,null,null,null,null,null,null,null,null,null,null,null,null,null,null,null,null,0,null,null,null,null,0,{"$f":"IF(OR(AL49=0,AL49=\"\"),\"\",IF(VLOOKUP(F49/11,$F$7:$AL$14,33,FALSE)=0,\"A\",IF(AL49>=VLOOKUP(F49/11,$F$7:$AL$14,33,FALSE),\"B\",\"A\")))","v":""},{"$f":"IF(AL49=0,0,IF(AM49=\"B\",\"\",RANK(AY49,$AY40:$AY55,1)))","v":0},{"$f":"IF(AL49=0,0,IF(AM49=\"A\",\"\",RANK(AZ49,$AZ40:$AZ55,1)))","v":0},0]
[null,8,0,0,11,88,"Abigail Moronkeji","Thames Valley H",null,null,null,null,null,null,null,null,null,null,null,null,null,null,null,null,null,null,null,null,null,null,null,null,0,null,null,null,null,0,"",{"$f":"IF(AL50=0,0,IF(AM50=\"B\",\"\",RANK(AY50,$AY40:$AY55,1)))","v":0},{"$f":"IF(AL50=0,0,IF(AM50=\"A\",\"\",RANK(AZ50,$AZ40:$AZ55,1)))","v":0},0]
[null,7,0,0,12,77,"Atlanta Williams","Swansea H",null,null,null,null,null,null,null,null,null,null,null,null,null,null,null,null,null,null,null,null,null,null,null,null,0,null,null,null,null,0,"",{"$f":"IF(AL51=0,0,IF(AM51=\"B\",\"\",RANK(AY51,$AY40:$AY55,1)))","v":0},{"$f":"IF(AL51=0,0,IF(AM51=\"A\",\"\",RANK(AZ51,$AZ40:$AZ55,1)))","v":0},0]
[null,1,0,0,13,11,"Laura Duke","Bedford & County AC",null,null,null,null,null,null,null,null,null,null,null,null,null,null,null,null,null,null,null,null,null,null,null,null,0,null,null,null,null,0,"",{"$f":"IF(AL52=0,0,IF(AM52=\"B\",\"\",RANK(AY52,$AY40:$AY55,1)))","v":0},{"$f":"IF(AL52=0,0,IF(AM52=\"A\",\"\",RANK(AZ52,$AZ40:$AZ55,1)))","v":0},0]
[null,3,0,0,14,33,"Sophie Wilkins","Marshall Milton Keynes AC",null,null,null,null,null,null,null,null,null,null,null,null,null,null,null,null,null,null,null,null,null,null,null,null,0,null,null,null,null,0,"",{"$f":"IF(AL53=0,0,IF(AM53=\"B\",\"\",RANK(AY53,$AY40:$AY55,1)))","v":0},{"$f":"IF(AL53=0,0,IF(AM53=\"A\",\"\",RANK(AZ53,$AZ40:$AZ55,1)))","v":0},0]
[null,5,0,0,15,55,"Gaby Rowsell (U20)","Shaftesbury Barnet H",null,null,null,null,null,null,null,null,null,null,null,null,null,null,null,null,null,null,null,null,null,null,null,null,0,null,null,null,null,0,"",{"$f":"IF(AL54=0,0,IF(AM54=\"B\",\"\",RANK(AY54,$AY40:$AY55,1)))","v":0},{"$f":"IF(AL54=0,0,IF(AM54=\"A\",\"\",RANK(AZ54,$AZ40:$AZ55,1)))","v":0}]
[null,2,0,0,16,22,"Christine Lyston","Blackheath & Bromley H",null,null,null,null,null,null,null,null,null,null,null,null,null,null,null,null,null,null,null,null,null,null,null,null,0,null,null,null,null,0,"",{"$f":"IF(AL55=0,0,IF(AM55=\"B\",\"\",RANK(AY55,$AY40:$AY55,1)))","v":0},{"$f":"IF(AL55=0,0,IF(AM55=\"A\",\"\",RANK(AZ55,$AZ40:$AZ55,1)))","v":0},0]
[null,"",0,0]
[null,"",0,0]
[null,"",0,0]

{"sheet":"PV","index":11,"n_rows":56,"n_cols":72,"rows_kept":56,"cut":false,"hidden":false,"merged":[[55,30,55,31],[55,32,55,33],[54,32,54,33],[55,8,55,9],[55,10,55,11],[55,12,55,13],[55,14,55,15],[55,16,55,17],[36,4,36,5],[36,6,36,7],[36,8,36,10],[36,11,36,25],[36,26,36,28],[36,29,36,40],[37,23,37,40],[37,4,37,5],[37,6,37,7],[37,8,37,10],[37,11,37,13],[37,14,37,19],[37,20,37,22],[55,18,55,19],[55,20,55,21],[55,22,55,23],[55,24,55,25],[54,20,54,21],[54,22,54,23],[54,24,54,25],[55,26,55,27],[55,28,55,29],[54,8,54,9],[54,10,54,11],[54,12,54,13],[54,14,54,15],[54,16,54,17],[54,18,54,19],[54,26,54,27],[54,28,54,29],[54,30,54,31],[52,26,52,27],[52,28,52,29],[52,30,52,31],[52,32,52,33],[53,8,53,9],[53,10,53,11],[53,12,53,13],[53,14,53,15],[53,16,53,17],[53,18,53,19],[53,20,53,21],[53,22,53,23],[53,24,53,25],[53,32,53,33],[53,26,53,27],[53,28,53,29],[53,30,53,31],[52,8,52,9],[52,10,52,11],[52,12,52,13],[52,14,52,15],[52,16,52,17],[52,18,52,19],[52,20,52,21],[52,22,52,23],[52,24,52,25],[50,26,50,27],[50,28,50,29],[50,30,50,31],[50,32,50,33],[51,8,51,9],[51,10,51,11],[51,12,51,13],[51,14,51,15],[51,16,51,17],[51,18,51,19],[51,20,51,21],[51,22,51,23],[51,24,51,25],[51,26,51,27],[51,28,51,29],[51,30,51,31],[51,32,51,33],[50,8,50,9],[50,10,50,11],[50,12,50,13],[50,14,50,15],[50,16,50,17],[50,18,50,19],[50,20,50,21],[50,22,50,23],[50,24,50,25],[48,26,48,27],[48,28,48,29],[48,30,48,31],[48,32,48,33],[49,26,49,27],[49,28,49,29],[49,30,49,31],[49,32,49,33],[49,8,49,9],[49,10,49,11],[49,12,49,13],[49,14,49,15],[49,16,49,17],[49,18,49,19],[49,20,49,21],[49,22,49,23],[49,24,49,25],[48,8,48,9],[48,10,48,11],[48,12,48,13],[48,14,48,15],[48,16,48,17],[48,18,48,19],[48,20,48,21],[48,22,48,23],[48,24,48,25],[46,26,46,27],[46,28,46,29],[46,30,46,31],[46,32,46,33],[47,8,47,9],[47,10,47,11],[47,12,47,13],[47,14,47,15],[47,16,47,17],[47,18,47,19],[47,20,47,21],[47,22,47,23],[47,24,47,25],[47,26,47,27],[47,28,47,29],[47,30,47,31],[47,32,47,33],[46,8,46,9],[46,10,46,11],[46,12,46,13],[46,14,46,15],[46,16,46,17],[46,18,46,19],[46,20,46,21],[46,22,46,23],[46,24,46,25],[44,26,44,27],[44,28,44,29],[44,30,44,31],[44,32,44,33],[45,8,45,9],[45,10,45,11],[45,12,45,13],[45,14,45,15],[45,16,45,17],[45,18,45,19],[45,20,45,21],[45,22,45,23],[45,24,45,25],[45,26,45,27],[45,28,45,29],[45,30,45,31],[45,32,45,33],[44,8,44,9],[44,10,44,11],[44,12,44,13],[44,14,44,15],[44,16,44,17],[44,18,44,19],[44,20,44,21],[44,22,44,23],[44,24,44,25],[42,26,42,27],[42,28,42,29],[42,30,42,31],[42,32,42,33],[43,8,43,9],[43,10,43,11],[43,12,43,13],[43,14,43,15],[43,16,43,17],[43,18,43,19],[43,20,43,21],[43,22,43,23],[43,24,43,25],[43,26,43,27],[43,28,43,29],[43,30,43,31],[43,32,43,33],[42,8,42,9],[42,10,42,11],[42,12,42,13],[42,14,42,15],[42,16,42,17],[42,18,42,19],[42,20,42,21],[42,22,42,23],[42,24,42,25],[40,26,40,27],[40,28,40,29],[40,30,40,31],[40,32,40,33],[41,8,41,9],[41,10,41,11],[41,12,41,13],[41,14,41,15],[41,16,41,17],[41,18,41,19],[41,20,41,21],[41,22,41,23],[41,24,41,25],[41,26,41,27],[41,28,41,29],[41,30,41,31],[41,32,41,33],[40,8,40,9],[40,10,40,11],[40,12,40,13],[40,14,40,15],[40,16,40,17],[40,18,40,19],[40,20,40,21],[40,22,40,23],[40,24,40,25],[39,8,39,9],[39,10,39,11],[39,12,39,13],[39,14,39,15],[39,16,39,17],[39,18,39,19],[39,20,39,21],[39,22,39,23],[39,24,39,25],[38,26,38,27],[38,28,38,29],[38,30,38,31],[38,32,38,33],[38,34,39,34],[38,35,39,35],[38,36,39,36],[38,37,39,37],[38,39,39,40],[39,32,39,33],[39,26,39,27],[39,28,39,29],[39,30,39,31],[38,8,38,9],[38,10,38,11],[38,12,38,13],[38,14,38,15],[38,16,38,17],[38,18,38,19],[38,20,38,21],[38,22,38,23],[38,24,38,25],[0,4,0,5],[29,12,29,13],[29,10,29,11],[7,8,7,9],[8,8,8,9],[5,8,5,9],[5,10,5,11],[5,12,5,13],[2,4,2,5],[0,6,0,40],[28,20,28,25],[5,14,5,15],[5,16,5,17],[5,18,5,19],[5,20,5,21],[21,16,21,17],[25,20,25,25],[13,14,13,15],[14,14,14,15],[3,4,3,5],[21,18,21,19],[4,39,5,40],[4,37,5,37],[5,22,5,23],[33,8,33,9],[30,26,30,27],[31,26,31,27],[32,26,32,27],[33,26,33,27],[30,10,30,11],[33,10,33,11],[32,8,32,9],[30,8,30,9],[31,8,31,9],[32,10,32,11],[30,20,30,25],[31,20,31,25],[31,10,31,11],[5,24,5,25],[5,26,5,27],[5,28,5,29],[5,30,5,31],[4,32,4,33],[5,32,5,33],[19,32,19,33],[20,32,20,33],[24,28,24,40],[19,26,19,27],[20,26,20,27],[4,36,5,36],[6,24,6,25],[7,24,7,25],[8,24,8,25],[10,24,10,25],[9,24,9,25],[15,24,15,25],[16,24,16,25],[17,24,17,25],[18,24,18,25],[12,26,12,27],[14,26,14,27],[15,26,15,27],[25,26,25,27],[21,28,21,29],[29,8,29,9],[26,8,26,9],[27,8,27,9],[27,20,27,25],[26,12,26,13],[26,14,26,19],[26,20,26,25],[29,20,29,25],[28,12,28,13],[28,14,28,19],[28,26,28,27],[27,26,27,27],[29,26,29,27],[21,26,21,27],[28,8,28,9],[27,12,27,13],[25,8,25,9],[25,12,25,13],[24,4,24,9],[21,14,21,15],[21,20,21,21],[27,14,27,19],[2,8,2,10],[4,8,4,9],[4,10,4,11],[2,6,2,7],[3,6,3,7],[2,11,2,25],[4,12,4,13],[4,14,4,15],[3,20,3,22],[3,8,3,10],[3,23,3,40],[4,28,4,29],[4,18,4,19],[4,24,4,25],[2,29,2,40],[3,11,3,13],[3,14,3,19],[4,26,4,27],[4,30,4,31],[4,20,4,21],[4,22,4,23],[2,26,2,28],[4,34,5,34],[4,35,5,35],[6,8,6,9],[28,10,28,11],[9,8,9,9],[11,8,11,9],[24,10,24,27],[17,26,17,27],[26,26,26,27],[18,26,18,27],[12,32,12,33],[6,20,6,21],[7,20,7,21],[6,32,6,33],[13,32,13,33],[14,32,14,33],[18,10,18,11],[19,12,19,13],[20,12,20,13],[19,14,19,15],[20,14,20,15],[21,12,21,13],[6,14,6,15],[7,14,7,15],[8,14,8,15],[9,14,9,15],[31,28,31,40],[26,10,26,11],[27,10,27,11],[8,32,8,33],[14,10,14,11],[6,12,6,13],[9,32,9,33],[7,32,7,33],[17,32,17,33],[15,32,15,33],[16,32,16,33],[11,32,11,33],[10,32,10,33],[18,32,18,33],[21,32,21,33],[13,12,13,13],[14,12,14,13],[15,12,15,13],[16,12,16,13],[17,12,17,13],[18,12,18,13],[15,10,15,11],[16,10,16,11],[17,10,17,11],[4,16,4,17],[6,10,6,11],[7,10,7,11],[8,10,8,11],[9,10,9,11],[18,8,18,9],[19,8,19,9],[20,8,20,9],[21,8,21,9],[14,8,14,9],[15,8,15,9],[16,8,16,9],[17,8,17,9],[10,8,10,9],[12,8,12,9],[13,8,13,9],[10,10,10,11],[11,10,11,11],[12,10,12,11],[13,10,13,11],[19,10,19,11],[20,10,20,11],[21,10,21,11],[12,12,12,13],[10,14,10,15],[11,14,11,15],[12,14,12,15],[11,12,11,13],[7,12,7,13],[8,12,8,13],[9,12,9,13],[10,12,10,13],[6,18,6,19],[7,18,7,19],[8,18,8,19],[9,18,9,19],[10,18,10,19],[11,18,11,19],[6,16,6,17],[7,16,7,17],[8,16,8,17],[9,16,9,17],[10,16,10,17],[11,16,11,17],[12,16,12,17],[12,20,12,21],[14,18,14,19],[15,18,15,19],[16,18,16,19],[17,18,17,19],[12,18,12,19],[13,18,13,19],[16,20,16,21],[13,16,13,17],[14,16,14,17],[15,16,15,17],[16,16,16,17],[15,20,15,21],[13,22,13,23],[14,22,14,23],[19,16,19,17],[20,16,20,17],[15,14,15,15],[16,14,16,15],[17,14,17,15],[18,14,18,15],[17,16,17,17],[18,16,18,17],[18,18,18,19],[19,18,19,19],[20,18,20,19],[6,22,6,23],[7,22,7,23],[8,22,8,23],[9,22,9,23],[21,22,21,23],[19,22,19,23],[17,20,17,21],[18,20,18,21],[19,20,19,21],[20,20,20,21],[20,22,20,23],[15,22,15,23],[16,22,16,23],[17,22,17,23],[18,22,18,23],[10,22,10,23],[11,22,11,23],[12,22,12,23],[13,20,13,21],[8,20,8,21],[9,20,9,21],[10,20,10,21],[11,20,11,21],[14,20,14,21],[16,26,16,27],[21,24,21,25],[6,26,6,27],[7,26,7,27],[8,26,8,27],[9,26,9,27],[10,26,10,27],[11,26,11,27],[13,26,13,27],[13,24,13,25],[14,24,14,25],[11,24,11,25],[12,24,12,25],[10,30,10,31],[12,30,12,31],[13,30,13,31],[6,30,6,31],[7,30,7,31],[8,30,8,31],[9,30,9,31],[10,28,10,29],[11,28,11,29],[12,28,12,29],[13,28,13,29],[6,28,6,29],[7,28,7,29],[8,28,8,29],[9,28,9,29],[14,28,14,29],[15,28,15,29],[16,28,16,29],[17,28,17,29],[14,30,14,31],[15,30,15,31],[16,30,16,31],[17,30,17,31],[11,30,11,31],[18,30,18,31],[20,30,20,31],[19,30,19,31],[21,30,21,31],[18,28,18,29],[19,28,19,29],[20,28,20,29],[19,24,19,25],[20,24,20,25],[29,14,29,19],[31,14,31,19],[25,14,25,19],[32,20,32,25],[33,20,33,25],[25,10,25,11],[33,14,33,19],[30,12,30,13],[31,12,31,13],[32,12,32,13],[33,12,33,13],[30,14,30,19],[32,14,32,19]]}
[null,null,null,null,"Home",null,{"$f":"'Match Day'!I4","v":"UK Womens League"}]
[12,26,null,null,"UK ATHLETICS: HEIGHT CARD"]
[null,{"$f":"VLOOKUP(A2,Handbook!$A$4:$AK$24,37,FALSE)","v":13},null,null,"MEETING ",null,{"$f":"CONCATENATE('Match Day'!$I$8,\" \",'Match Day'!$I$10)","v":"Division 1 Match 3"},null,"VENUE ",null,null,{"$f":"'Match Day'!$I$12","v":"Winchester"},null,null,null,null,null,null,null,null,null,null,null,null,null,null,"DATE ",null,null,{"$f":"'Match Day'!$I$6","v":"Saturday, 6th August"}]
[null,{"$f":"VLOOKUP(A2,declare,20,FALSE)","v":13},null,null,"EVENT",null,{"$f":"VLOOKUP(A2,mens_handbook,3,FALSE)","v":"Women's Pole Vault"},null,"TIME",null,null,{"$f":"VLOOKUP(A2,mens_handbook,2,FALSE)","v":"12:00:00"},null,null,"League Record",null,null,null,null,null,{"$f":"VLOOKUP(A2,mens_handbook,28,FALSE)","v":"4.20m"},null,null,{"$f":"CONCATENATE(VLOOKUP($A2,mens_handbook,26,FALSE),\", \",VLOOKUP($A2,mens_handbook,27,FALSE),\", \",VLOOKUP($A2,mens_handbook,28,FALSE))","v":"Jannine Whitlock, Trafford, 4.20m"}]
[null,null,null,null,"Order","No","NAME","CLUB",{"$f":"VLOOKUP(A2,mens_handbook,20,FALSE)","v":2.1},null,null,null,null,null,null,null,null,null,null,null,null,null,null,null,null,null,null,null,null,null,null,null,"Best of All",null,"Trials at\nHt Cleared","Total \nFailures","Total\nTrials","Final\nPositionn",null,"A or B",null,"Tie"]
[null,null,null,null,null,null,null,null,"Metres",null,"Metres",null,"Metres",null,"Metres",null,"Metres",null,"Metres",null,"Metres",null,"Metres",null,"Metres",null,"Metres",null,"Metres",null,"Metres",null,"Metres",null,null,null,null,null,null,null,null,null,null,null,null,null,null,null,null,null,null,null,null,null,null,null,1,2,3,4,5,6,7,8,1,2,3,4,5,6,7,8]
[null,{"$f":"IF(F7=\"\",\"\",IF(F7>10,F7/11,F7))","v":8},{"$f":"IF(AL7=0,0,IF(AM7=\"B\",\"\",RANK(BB7,$BB$7:$BB$22,1)))","v":7},{"$f":"IF(AL7=0,0,IF(AM7=\"A\",\"\",RANK(BC7,$BC$7:$BC$22,1)))","v":""},1,{"$f":"HLOOKUP(E7,Handbook!$D$3:$K$24,B3,FALSE)","v":8},{"$f":"IF(ISERROR(HLOOKUP(F7,declare,B4,FALSE))=TRUE,\"\",HLOOKUP(F7,declare,B4,FALSE))","v":"Ugne Liuksaityte"},{"$f":"IF(ISERROR(VLOOKUP(B7,matchday,2,FALSE))=TRUE,\"\",VLOOKUP(B7,matchday,2,FALSE))","v":"Thames Valley H"},null,null,null,null,null,null,null,null,null,null,null,null,null,null,null,null,null,null,null,null,null,null,null,null,2.2999999999999998,null,null,null,null,11,{"$f":"IF(OR(AL7=0,AL7=\"\"),\"\",IF(VLOOKUP(F7*11,$F$15:$AL$22,33,FALSE)=0,\"A\",IF(AL7>(VLOOKUP(F7*11,$F$15:$AL$22,33,FALSE)),\"B\",\"A\")))","v":"A"},{"$f":"IF(AL7=0,0,IF(AM7=\"B\",\"\",RANK(AY7,$AY7:$AY22,1)))","v":7},{"$f":"IF(AL7=0,0,IF(AM7=\"A\",\"\",RANK(AZ7,$AZ7:$AZ22,1)))","v":""},null,null,{"$f":"IF(AS7=\"\",\"\",REPT(AT7,AS7-1))","v":""},{"$f":"IF(AT7=\"\",\"\",HLOOKUP(AN7,$BE$6:$BL$23,18,FALSE))","v":""},{"$f":"IF(OR(AN7=0,AN7=\"\"),\"\",IF(OR(AN7=AN8,AN7=AN9,AN7=AN10,AN7=AN11,AN7=AN12,AN7=AN13,AN7=AN14,AN7=AN15,AN7=AN16,AN7=AN17,AN7=AN18,AN7=AN19,AN7=AN20,AN7=AN21,AN7=AN22),\"=\",\"\"))","v":""},null,{"$f":"IF(AW7=\"\",\"\",REPT(AX7,AW7-1))","v":""},{"$f":"IF(AX7=\"\",\"\",HLOOKUP(AO7,$BM$6:$BT$23,18,FALSE))","v":""},{"$f":"IF(OR(AO7=0,AO7=\"\"),\"\",IF(OR(AO7=AO8,AO7=AO9,AO7=AO10,AO7=AO11,AO7=AO12,AO7=AO13,AO7=AO14,AO7=AO15,AO7=AO16,AO7=AO17,AO7=AO18,AO7=AO19,AO7=AO20,AO7=AO21,AO7=AO22),\"=\",\"\"))","v":""},{"$f":"IF(OR(AL7=0,AG7=0,AM7=\"B\"),\"\",AL7)","v":11},{"$f":"IF(OR(AL7=0,AG7=0,AM7=\"A\"),\"\",AL7)","v":""},null,{"$f":"IF(AY7=\"\",\"\",AY7+($AP7/10))","v":11},"",null,{"$f":"IF($AN7=\"\",\"\",IF($AN7=BE$6,$AN7,\"\"))","v":""},"","","","","",7,"",{"$f":"IF($AO7=\"\",\"\",IF($AO7=BM$6,$AO7,\"\"))","v":""},"","","","","","",""]
[null,5,{"$f":"IF(AL8=0,0,IF(AM8=\"B\",\"\",RANK(BB8,$BB$7:$BB$22,1)))","v":1},{"$f":"IF(AL8=0,0,IF(AM8=\"A\",\"\",RANK(BC8,$BC$7:$BC$22,1)))","v":""},2,{"$f":"HLOOKUP(E8,Handbook!$D$3:$K$24,B3,FALSE)","v":5},{"$f":"IF(ISERROR(HLOOKUP(F8,declare,B4,FALSE))=TRUE,\"\",HLOOKUP(F8,declare,B4,FALSE))","v":"Jade Ive (U20)"},"Shaftesbury Barnet H",null,null,null,null,null,null,null,null,null,null,null,null,null,null,null,null,null,null,null,null,null,null,null,null,3.91,null,null,null,null,1,{"$f":"IF(OR(AL8=0,AL8=\"\"),\"\",IF(VLOOKUP(F8*11,$F$15:$AL$22,33,FALSE)=0,\"A\",IF(AL8>(VLOOKUP(F8*11,$F$15:$AL$22,33,FALSE)),\"B\",\"A\")))","v":"A"},{"$f":"IF(AL8=0,0,IF(AM8=\"B\",\"\",RANK(AY8,$AY7:$AY22,1)))","v":1},{"$f":"IF(AL8=0,0,IF(AM8=\"A\",\"\",RANK(AZ8,$AZ7:$AZ22,1)))","v":""},0,null,"","",{"$f":"IF(OR(AN8=0,AN8=\"\"),\"\",IF(OR(AN8=AN9,AN8=AN10,AN8=AN11,AN8=AN12,AN8=AN13,AN8=AN14,AN8=AN15,AN8=AN16,AN8=AN17,AN8=AN18,AN8=AN19,AN8=AN20,AN8=AN21,AN8=AN22,AN8=AN7),\"=\",\"\"))","v":""},null,"","",{"$f":"IF(OR(AO8=0,AO8=\"\"),\"\",IF(OR(AO8=AO9,AO8=AO10,AO8=AO11,AO8=AO12,AO8=AO13,AO8=AO14,AO8=AO15,AO8=AO16,AO8=AO17,AO8=AO18,AO8=AO19,AO8=AO20,AO8=AO21,AO8=AO22,AO8=AO7),\"=\",\"\"))","v":""},{"$f":"IF(OR(AL8=0,AG8=0,AM8=\"B\"),\"\",AL8)","v":1},{"$f":"IF(OR(AL8=0,AG8=0,AM8=\"A\"),\"\",AL8)","v":""},null,1,"",null,1,"","","","","","","","","","","","","","",""]
[null,3,3,"",3,{"$f":"HLOOKUP(E9,Handbook!$D$3:$K$24,B3,FALSE)","v":3},{"$f":"IF(ISERROR(HLOOKUP(F9,declare,B4,FALSE))=TRUE,\"\",HLOOKUP(F9,declare,B4,FALSE))","v":"Rachel Gibbens"},"Marshall Milton Keynes AC",null,null,null,null,null,null,null,null,null,null,null,null,null,null,null,null,null,null,null,null,null,null,null,null,3.4,null,null,null,null,4,"A",{"$f":"IF(AL9=0,0,IF(AM9=\"B\",\"\",RANK(AY9,$AY7:$AY22,1)))","v":3},{"$f":"IF(AL9=0,0,IF(AM9=\"A\",\"\",RANK(AZ9,$AZ7:$AZ22,1)))","v":""},0,null,"",{"$f":"IF(AT9=\"\",\"\",HLOOKUP(AN9,$BE$6:$BL$23,18,FALSE))","v":""},{"$f":"IF(OR(AN9=0,AN9=\"\"),\"\",IF(OR(AN9=AN10,AN9=AN11,AN9=AN12,AN9=AN13,AN9=AN14,AN9=AN15,AN9=AN16,AN9=AN17,AN9=AN18,AN9=AN19,AN9=AN20,AN9=AN21,AN9=AN22,AN9=AN7,AN9=AN8),\"=\",\"\"))","v":""},null,"","",{"$f":"IF(OR(AO9=0,AO9=\"\"),\"\",IF(OR(AO9=AO10,AO9=AO11,AO9=AO12,AO9=AO13,AO9=AO14,AO9=AO15,AO9=AO16,AO9=AO17,AO9=AO18,AO9=AO19,AO9=AO20,AO9=AO21,AO9=AO22,AO9=AO7,AO9=AO8),\"=\",\"\"))","v":""},4,"",null,4,"",null,"","",3,"","","","","","","","","","","","",""]
[null,4,"",2,4,{"$f":"HLOOKUP(E10,Handbook!$D$3:$K$24,B3,FALSE)","v":4},{"$f":"IF(ISERROR(HLOOKUP(F10,declare,B4,FALSE))=TRUE,\"\",HLOOKUP(F10,declare,B4,FALSE))","v":"Kelly Montgomery"},"Newham & Essex Beagles AC",null,null,null,null,null,null,null,null,null,null,null,null,null,null,null,null,null,null,null,null,null,null,null,null,2.5,null,null,null,null,8,"B",{"$f":"IF(AL10=0,0,IF(AM10=\"B\",\"\",RANK(AY10,$AY7:$AY22,1)))","v":""},{"$f":"IF(AL10=0,0,IF(AM10=\"A\",\"\",RANK(AZ10,$AZ7:$AZ22,1)))","v":2},0,null,"","",{"$f":"IF(OR(AN10=0,AN10=\"\"),\"\",IF(OR(AN10=AN11,AN10=AN12,AN10=AN13,AN10=AN14,AN10=AN15,AN10=AN16,AN10=AN17,AN10=AN18,AN10=AN19,AN10=AN20,AN10=AN21,AN10=AN22,AN10=AN7,AN10=AN8,AN10=AN9),\"=\",\"\"))","v":""},null,"","",{"$f":"IF(OR(AO10=0,AO10=\"\"),\"\",IF(OR(AO10=AO11,AO10=AO12,AO10=AO13,AO10=AO14,AO10=AO15,AO10=AO16,AO10=AO17,AO10=AO18,AO10=AO19,AO10=AO20,AO10=AO21,AO10=AO22,AO10=AO7,AO10=AO8,AO10=AO9),\"=\",\"\"))","v":""},"",8,null,"",8,null,"","","","","","","","","",2,"","","","","",""]
[null,2,"",1,5,{"$f":"HLOOKUP(E11,Handbook!$D$3:$K$24,B3,FALSE)","v":2},{"$f":"IF(ISERROR(HLOOKUP(F11,declare,B4,FALSE))=TRUE,\"\",HLOOKUP(F11,declare,B4,FALSE))","v":"Liz Hughes"},"Blackheath & Bromley H",null,null,null,null,null,null,null,null,null,null,null,null,null,null,null,null,null,null,null,null,null,null,null,null,3.5,null,null,null,null,3,"B",{"$f":"IF(AL11=0,0,IF(AM11=\"B\",\"\",RANK(AY11,$AY7:$AY22,1)))","v":""},{"$f":"IF(AL11=0,0,IF(AM11=\"A\",\"\",RANK(AZ11,$AZ7:$AZ22,1)))","v":1},0,null,"","",{"$f":"IF(OR(AN11=0,AN11=\"\"),\"\",IF(OR(AN11=AN12,AN11=AN13,AN11=AN14,AN11=AN15,AN11=AN16,AN11=AN17,AN11=AN18,AN11=AN19,AN11=AN20,AN11=AN21,AN11=AN22,AN11=AN7,AN11=AN8,AN11=AN9,AN11=AN10),\"=\",\"\"))","v":""},null,"","",{"$f":"IF(OR(AO11=0,AO11=\"\"),\"\",IF(OR(AO11=AO12,AO11=AO13,AO11=AO14,AO11=AO15,AO11=AO16,AO11=AO17,AO11=AO18,AO11=AO19,AO11=AO20,AO11=AO21,AO11=AO22,AO11=AO7,AO11=AO8,AO11=AO9,AO11=AO10),\"=\",\"\"))","v":""},"",3,null,"",3,null,"","","","","","","","",1,"","","","","","",""]
[null,6,0,0,6,{"$f":"HLOOKUP(E12,Handbook!$D$3:$K$24,B3,FALSE)","v":6},{"$f":"IF(ISERROR(HLOOKUP(F12,declare,B4,FALSE))=TRUE,\"\",HLOOKUP(F12,declare,B4,FALSE))","v":0},"Southampton AC",null,null,null,null,null,null,null,null,null,null,null,null,null,null,null,null,null,null,null,null,null,null,null,null,null,null,null,null,null,null,"",{"$f":"IF(AL12=0,0,IF(AM12=\"B\",\"\",RANK(AY12,$AY7:$AY22,1)))","v":0},{"$f":"IF(AL12=0,0,IF(AM12=\"A\",\"\",RANK(AZ12,$AZ7:$AZ22,1)))","v":0},0,null,"","",{"$f":"IF(OR(AN12=0,AN12=\"\"),\"\",IF(OR(AN12=AN13,AN12=AN14,AN12=AN15,AN12=AN16,AN12=AN17,AN12=AN18,AN12=AN19,AN12=AN20,AN12=AN21,AN12=AN22,AN12=AN7,AN12=AN8,AN12=AN9,AN12=AN10,AN12=AN11),\"=\",\"\"))","v":""},null,"","",{"$f":"IF(OR(AO12=0,AO12=\"\"),\"\",IF(OR(AO12=AO13,AO12=AO14,AO12=AO15,AO12=AO16,AO12=AO17,AO12=AO18,AO12=AO19,AO12=AO20,AO12=AO21,AO12=AO22,AO12=AO7,AO12=AO8,AO12=AO9,AO12=AO10,AO12=AO11),\"=\",\"\"))","v":""},"","",null,"","",null,"","","","","","","","","","","","","","","",""]
[null,1,5,"",7,{"$f":"HLOOKUP(E13,Handbook!$D$3:$K$24,B3,FALSE)","v":1},{"$f":"IF(ISERROR(HLOOKUP(F13,declare,B4,FALSE))=TRUE,\"\",HLOOKUP(F13,declare,B4,FALSE))","v":"Jemma Eastwood"},"Bedford & County AC",null,null,null,null,null,null,null,null,null,null,null,null,null,null,null,null,null,null,null,null,null,null,null,null,3.1,null,null,null,null,6,"A",{"$f":"IF(AL13=0,0,IF(AM13=\"B\",\"\",RANK(AY13,$AY7:$AY22,1)))","v":5},{"$f":"IF(AL13=0,0,IF(AM13=\"A\",\"\",RANK(AZ13,$AZ7:$AZ22,1)))","v":""},0,null,"","",{"$f":"IF(OR(AN13=0,AN13=\"\"),\"\",IF(OR(AN13=AN14,AN13=AN15,AN13=AN16,AN13=AN17,AN13=AN18,AN13=AN19,AN13=AN20,AN13=AN21,AN13=AN22,AN13=AN7,AN13=AN8,AN13=AN9,AN13=AN10,AN13=AN11,AN13=AN12),\"=\",\"\"))","v":""},null,"","",{"$f":"IF(OR(AO13=0,AO13=\"\"),\"\",IF(OR(AO13=AO14,AO13=AO15,AO13=AO16,AO13=AO17,AO13=AO18,AO13=AO19,AO13=AO20,AO13=AO21,AO13=AO22,AO13=AO7,AO13=AO8,AO13=AO9,AO13=AO10,AO13=AO11,AO13=AO12),\"=\",\"\"))","v":""},6,"",null,6,"",null,"","","","",5,"","","","","","","","","","",""]
[null,7,4,"",8,{"$f":"HLOOKUP(E14,Handbook!$D$3:$K$24,B3,FALSE)","v":7},{"$f":"IF(ISERROR(HLOOKUP(F14,declare,B4,FALSE))=TRUE,\"\",HLOOKUP(F14,declare,B4,FALSE))","v":"Naomi James"},"Swansea H",null,null,null,null,null,null,null,null,null,null,null,null,null,null,null,null,null,null,null,null,null,null,null,null,3.3,null,null,null,null,5,"A",{"$f":"IF(AL14=0,0,IF(AM14=\"B\",\"\",RANK(AY14,$AY7:$AY22,1)))","v":4},{"$f":"IF(AL14=0,0,IF(AM14=\"A\",\"\",RANK(AZ14,$AZ7:$AZ22,1)))","v":""},0,null,"","",{"$f":"IF(OR(AN14=0,AN14=\"\"),\"\",IF(OR(AN14=AN15,AN14=AN16,AN14=AN17,AN14=AN18,AN14=AN19,AN14=AN20,AN14=AN21,AN14=AN22,AN14=AN7,AN14=AN8,AN14=AN9,AN14=AN10,AN14=AN11,AN14=AN12,AN14=AN13),\"=\",\"\"))","v":""},null,"","",{"$f":"IF(OR(AO14=0,AO14=\"\"),\"\",IF(OR(AO14=AO15,AO14=AO16,AO14=AO17,AO14=AO18,AO14=AO19,AO14=AO20,AO14=AO21,AO14=AO22,AO14=AO7,AO14=AO8,AO14=AO9,AO14=AO10,AO14=AO11,AO14=AO12,AO14=AO13),\"=\",\"\"))","v":""},5,"",null,5,"",null,"","","",4,"","","","","","","","","","","",""]
[null,8,0,0,9,{"$f":"HLOOKUP(E15,Handbook!$L$3:$S$24,B3,FALSE)","v":88},{"$f":"IF(ISERROR(HLOOKUP(F15,declare,B4,FALSE))=TRUE,\"\",HLOOKUP(F15,declare,B4,FALSE))","v":0},"Thames Valley H",null,null,null,null,null,null,null,null,null,null,null,null,null,null,null,null,null,null,null,null,null,null,null,null,null,null,null,null,null,null,{"$f":"IF(OR(AL15=0,AL15=\"\"),\"\",IF(VLOOKUP(F15/11,$F$7:$AL$14,33,FALSE)=0,\"A\",IF(AL15>=VLOOKUP(F15/11,$F$7:$AL$14,33,FALSE),\"B\",\"A\")))","v":""},{"$f":"IF(AL15=0,0,IF(AM15=\"B\",\"\",RANK(AY15,$AY7:$AY22,1)))","v":0},{"$f":"IF(AL15=0,0,IF(AM15=\"A\",\"\",RANK(AZ15,$AZ7:$AZ22,1)))","v":0},0,null,"","",{"$f":"IF(OR(AN15=0,AN15=\"\"),\"\",IF(OR(AN15=AN16,AN15=AN17,AN15=AN18,AN15=AN19,AN15=AN20,AN15=AN21,AN15=AN22,AN15=AN7,AN15=AN8,AN15=AN9,AN15=AN10,AN15=AN11,AN15=AN12,AN15=AN13,AN15=AN14),\"=\",\"\"))","v":""},null,"","",{"$f":"IF(OR(AO15=0,AO15=\"\"),\"\",IF(OR(AO15=AO16,AO15=AO17,AO15=AO18,AO15=AO19,AO15=AO20,AO15=AO21,AO15=AO22,AO15=AO7,AO15=AO8,AO15=AO9,AO15=AO10,AO15=AO11,AO15=AO12,AO15=AO13,AO15=AO14),\"=\",\"\"))","v":""},"","",null,"","",null,"","","","","","","","","","","","","","","",""]
[null,5,0,0,10,{"$f":"HLOOKUP(E16,Handbook!$L$3:$S$24,B3,FALSE)","v":55},{"$f":"IF(ISERROR(HLOOKUP(F16,declare,B4,FALSE))=TRUE,\"\",HLOOKUP(F16,declare,B4,FALSE))","v":0},"Shaftesbury Barnet H",null,null,null,null,null,null,null,null,null,null,null,null,null,null,null,null,null,null,null,null,null,null,null,null,null,null,null,null,null,null,{"$f":"IF(OR(AL16=0,AL16=\"\"),\"\",IF(VLOOKUP(F16/11,$F$7:$AL$14,33,FALSE)=0,\"A\",IF(AL16>=VLOOKUP(F16/11,$F$7:$AL$14,33,FALSE),\"B\",\"A\")))","v":""},{"$f":"IF(AL16=0,0,IF(AM16=\"B\",\"\",RANK(AY16,$AY7:$AY22,1)))","v":0},{"$f":"IF(AL16=0,0,IF(AM16=\"A\",\"\",RANK(AZ16,$AZ7:$AZ22,1)))","v":0},0,null,"","",{"$f":"IF(OR(AN16=0,AN16=\"\"),\"\",IF(OR(AN16=AN17,AN16=AN18,AN16=AN19,AN16=AN20,AN16=AN21,AN16=AN22,AN16=AN7,AN16=AN8,AN16=AN9,AN16=AN10,AN16=AN11,AN16=AN12,AN16=AN13,AN16=AN14,AN16=AN15),\"=\",\"\"))","v":""},null,"","",{"$f":"IF(OR(AO16=0,AO16=\"\"),\"\",IF(OR(AO16=AO17,AO16=AO18,AO16=AO19,AO16=AO20,AO16=AO21,AO16=AO22,AO16=AO7,AO16=AO8,AO16=AO9,AO16=AO10,AO16=AO11,AO16=AO12,AO16=AO13,AO16=AO14,AO16=AO15),\"=\",\"\"))","v":""},"","",null,"","",null,"","","","","","","","","","","","","","","",""]
[null,3,0,0,11,{"$f":"HLOOKUP(E17,Handbook!$L$3:$S$24,B3,FALSE)","v":33},{"$f":"IF(ISERROR(HLOOKUP(F17,declare,B4,FALSE))=TRUE,\"\",HLOOKUP(F17,declare,B4,FALSE))","v":"-"},"Marshall Milton Keynes AC",null,null,null,null,null,null,null,null,null,null,null,null,null,null,null,null,null,null,null,null,null,null,null,null,null,null,null,null,null,null,"",{"$f":"IF(AL17=0,0,IF(AM17=\"B\",\"\",RANK(AY17,$AY7:$AY22,1)))","v":0},{"$f":"IF(AL17=0,0,IF(AM17=\"A\",\"\",RANK(AZ17,$AZ7:$AZ22,1)))","v":0},0,null,"","",{"$f":"IF(OR(AN17=0,AN17=\"\"),\"\",IF(OR(AN17=AN18,AN17=AN19,AN17=AN20,AN17=AN21,AN17=AN22,AN17=AN7,AN17=AN8,AN17=AN9,AN17=AN10,AN17=AN11,AN17=AN12,AN17=AN13,AN17=AN14,AN17=AN15,AN17=AN16),\"=\",\"\"))","v":""},null,"","",{"$f":"IF(OR(AO17=0,AO17=\"\"),\"\",IF(OR(AO17=AO18,AO17=AO19,AO17=AO20,AO17=AO21,AO17=AO22,AO17=AO7,AO17=AO8,AO17=AO9,AO17=AO10,AO17=AO11,AO17=AO12,AO17=AO13,AO17=AO14,AO17=AO15,AO17=AO16),\"=\",\"\"))","v":""},"","",null,"","",null,"","","","","","","","","","","","","","","",""]
[null,4,6,"",12,{"$f":"HLOOKUP(E18,Handbook!$L$3:$S$24,B3,FALSE)","v":44},{"$f":"IF(ISERROR(HLOOKUP(F18,declare,B4,FALSE))=TRUE,\"\",HLOOKUP(F18,declare,B4,FALSE))","v":"Melissa Strevens"},"Newham & Essex Beagles AC",null,null,null,null,null,null,null,null,null,null,null,null,null,null,null,null,null,null,null,null,null,null,null,null,2.7,null,null,null,null,7,"A",{"$f":"IF(AL18=0,0,IF(AM18=\"B\",\"\",RANK(AY18,$AY7:$AY22,1)))","v":6},{"$f":"IF(AL18=0,0,IF(AM18=\"A\",\"\",RANK(AZ18,$AZ7:$AZ22,1)))","v":""},0,null,"","",{"$f":"IF(OR(AN18=0,AN18=\"\"),\"\",IF(OR(AN18=AN19,AN18=AN20,AN18=AN21,AN18=AN22,AN18=AN7,AN18=AN8,AN18=AN9,AN18=AN10,AN18=AN11,AN18=AN12,AN18=AN13,AN18=AN14,AN18=AN15,AN18=AN16,AN18=AN17),\"=\",\"\"))","v":""},null,"","",{"$f":"IF(OR(AO18=0,AO18=\"\"),\"\",IF(OR(AO18=AO19,AO18=AO20,AO18=AO21,AO18=AO22,AO18=AO7,AO18=AO8,AO18=AO9,AO18=AO10,AO18=AO11,AO18=AO12,AO18=AO13,AO18=AO14,AO18=AO15,AO18=AO16,AO18=AO17),\"=\",\"\"))","v":""},7,"",null,7,"",null,"","","","","",6,"","","","","","","","","",""]
[null,2,2,"",13,{"$f":"HLOOKUP(E19,Handbook!$L$3:$S$24,B3,FALSE)","v":22},{"$f":"IF(ISERROR(HLOOKUP(F19,declare,B4,FALSE))=TRUE,\"\",HLOOKUP(F19,declare,B4,FALSE))","v":"Rachel Arnheim"},"Blackheath & Bromley H",null,null,null,null,null,null,null,null,null,null,null,null,null,null,null,null,null,null,null,null,null,null,null,null,3.6,null,null,null,null,2,"A",{"$f":"IF(AL19=0,0,IF(AM19=\"B\",\"\",RANK(AY19,$AY7:$AY22,1)))","v":2},{"$f":"IF(AL19=0,0,IF(AM19=\"A\",\"\",RANK(AZ19,$AZ7:$AZ22,1)))","v":""},0,null,"","",{"$f":"IF(OR(AN19=0,AN19=\"\"),\"\",IF(OR(AN19=AN20,AN19=AN21,AN19=AN22,AN19=AN7,AN19=AN8,AN19=AN9,AN19=AN10,AN19=AN11,AN19=AN12,AN19=AN13,AN19=AN14,AN19=AN15,AN19=AN16,AN19=AN17,AN19=AN18),\"=\",\"\"))","v":""},null,"","",{"$f":"IF(OR(AO19=0,AO19=\"\"),\"\",IF(OR(AO19=AO20,AO19=AO21,AO19=AO22,AO19=AO7,AO19=AO8,AO19=AO9,AO19=AO10,AO19=AO11,AO19=AO12,AO19=AO13,AO19=AO14,AO19=AO15,AO19=AO16,AO19=AO17,AO19=AO18),\"=\",\"\"))","v":""},2,"",null,2,"",null,"",2,"","","","","","","","","","","","","",""]
[null,6,0,0,14,{"$f":"HLOOKUP(E20,Handbook!$L$3:$S$24,B3,FALSE)","v":66},{"$f":"IF(ISERROR(HLOOKUP(F20,declare,B4,FALSE))=TRUE,\"\",HLOOKUP(F20,declare,B4,FALSE))","v":0},"Southampton AC",null,null,null,null,null,null,null,null,null,null,null,null,null,null,null,null,null,null,null,null,null,null,null,null,null,null,null,null,null,null,"",{"$f":"IF(AL20=0,0,IF(AM20=\"B\",\"\",RANK(AY20,$AY7:$AY22,1)))","v":0},{"$f":"IF(AL20=0,0,IF(AM20=\"A\",\"\",RANK(AZ20,$AZ7:$AZ22,1)))","v":0},0,null,"","",{"$f":"IF(OR(AN20=0,AN20=\"\"),\"\",IF(OR(AN20=AN21,AN20=AN22,AN20=AN7,AN20=AN8,AN20=AN9,AN20=AN10,AN20=AN11,AN20=AN12,AN20=AN13,AN20=AN14,AN20=AN15,AN20=AN16,AN20=AN17,AN20=AN18,AN20=AN19),\"=\",\"\"))","v":""},null,"","",{"$f":"IF(OR(AO20=0,AO20=\"\"),\"\",IF(OR(AO20=AO21,AO20=AO22,AO20=AO7,AO20=AO8,AO20=AO9,AO20=AO10,AO20=AO11,AO20=AO12,AO20=AO13,AO20=AO14,AO20=AO15,AO20=AO16,AO20=AO17,AO20=AO18,AO20=AO19),\"=\",\"\"))","v":""},"","",null,"","",null,"","","","","","","","","","","","","","","",""]
[null,1,"",3,15,{"$f":"HLOOKUP(E21,Handbook!$L$3:$S$24,B3,FALSE)","v":11},{"$f":"IF(ISERROR(HLOOKUP(F21,declare,B4,FALSE))=TRUE,\"\",HLOOKUP(F21,declare,B4,FALSE))","v":"Hannah Frith"},"Bedford & County AC",null,null,null,null,null,null,null,null,null,null,null,null,null,null,null,null,null,null,null,null,null,null,null,null,2.2999999999999998,null,null,null,null,9,"B",{"$f":"IF(AL21=0,0,IF(AM21=\"B\",\"\",RANK(AY21,$AY7:$AY22,1)))","v":""},{"$f":"IF(AL21=0,0,IF(AM21=\"A\",\"\",RANK(AZ21,$AZ7:$AZ22,1)))","v":3},0,null,"","",{"$f":"IF(OR(AN21=0,AN21=\"\"),\"\",IF(OR(AN21=AN22,AN21=AN7,AN21=AN8,AN21=AN9,AN21=AN10,AN21=AN11,AN21=AN12,AN21=AN13,AN21=AN14,AN21=AN15,AN21=AN16,AN21=AN17,AN21=AN18,AN21=AN19,AN21=AN20),\"=\",\"\"))","v":""},null,"","",{"$f":"IF(OR(AO21=0,AO21=\"\"),\"\",IF(OR(AO21=AO22,AO21=AO7,AO21=AO8,AO21=AO9,AO21=AO10,AO21=AO11,AO21=AO12,AO21=AO13,AO21=AO14,AO21=AO15,AO21=AO16,AO21=AO17,AO21=AO18,AO21=AO19,AO21=AO20),\"=\",\"\"))","v":""},"",9,null,"",9,null,"","","","","","","","","","",3,"","","","",""]
[null,7,"",4,16,{"$f":"HLOOKUP(E22,Handbook!$L$3:$S$24,B3,FALSE)","v":77},{"$f":"IF(ISERROR(HLOOKUP(F22,declare,B4,FALSE))=TRUE,\"\",HLOOKUP(F22,declare,B4,FALSE))","v":"Megan Jones"},"Swansea H",null,null,null,null,null,null,null,null,null,null,null,null,null,null,null,null,null,null,null,null,null,null,null,null,2.2999999999999998,null,null,null,null,10,"B",{"$f":"IF(AL22=0,0,IF(AM22=\"B\",\"\",RANK(AY22,$AY7:$AY22,1)))","v":""},{"$f":"IF(AL22=0,0,IF(AM22=\"A\",\"\",RANK(AZ22,$AZ7:$AZ22,1)))","v":4},0,null,"","",{"$f":"IF(OR(AN22=0,AN22=\"\"),\"\",IF(OR(AN22=AN7,AN22=AN8,AN22=AN9,AN22=AN10,AN22=AN11,AN22=AN12,AN22=AN13,AN22=AN14,AN22=AN15,AN22=AN16,AN22=AN17,AN22=AN18,AN22=AN19,AN22=AN20,AN22=AN21),\"=\",\"\"))","v":""},null,"","",{"$f":"IF(OR(AO22=0,AO22=\"\"),\"\",IF(OR(AO22=AO7,AO22=AO8,AO22=AO9,AO22=AO10,AO22=AO11,AO22=AO12,AO22=AO13,AO22=AO14,AO22=AO15,AO22=AO16,AO22=AO17,AO22=AO18,AO22=AO19,AO22=AO20,AO22=AO21),\"=\",\"\"))","v":""},"",10,null,"",10,null,"","","","","","","","","","","",4,"","","",""]
[null,null,null,null,null,null,null,null,null,null,null,null,null,null,null,null,null,null,null,null,null,null,null,null,null,null,null,null,null,null,null,null,null,null,null,null,null,null,null,null,null,null,null,null,null,null,null,null,null,null,null,null,null,null,null,null,{"$f":"COUNTIF(BE7:BE22,BE6)","v":1},1,1,1,1,1,1,0,1,1,1,1,0,0,0,0]
[]
[null,null,null,null,"\"A\" STRING RESULT",null,null,null,null,null,"\"B\" STRING RESULT",null,null,null,null,null,null,null,null,null,null,null,null,null,null,null,null,null,"JUDGES' SIGNATURES"]
[null,null,null,null,"Posn","No.","NAME","CLUB","HEIGHT",null,"Posn",null,"No.",null,"NAME",null,null,null,null,null,"CLUB",null,null,null,null,null,"HEIGHT"]
[null,null,null,1,{"$f":"IF(ISERROR(VLOOKUP(D27,$C$7:$AR$22,31,FALSE))=TRUE,\"\",IF(VLOOKUP(D27,$C$7:$AR$22,42,FALSE)=\"\",VLOOKUP(D27,$C$7:$AR$22,38,FALSE),CONCATENATE(VLOOKUP(D27,$C$7:$AR$22,38,FALSE),VLOOKUP(D27,$C$7:$AR$22,42,FALSE))))","v":1},{"$f":"IF(ISERROR(VLOOKUP(D27,$C$7:$AH$22,31,FALSE))=TRUE,\"\",IF(VLOOKUP(D27,$C$7:$AH$22,31,FALSE)=0,\"\",IF(VLOOKUP(D27,$C$7:$AH$22,31,FALSE)=99,99,IF(VLOOKUP(D27,$C$7:$AH$22,31,FALSE)=97,97,IF(VLOOKUP(D27,$C$7:$AH$22,31,FALSE)=96,96,VLOOKUP(D27,$C$7:$AH$22,4,FALSE))))))","v":5},{"$f":"IF(ISERROR(VLOOKUP(D27,$C$7:$AH$22,31,FALSE))=TRUE,\"\",VLOOKUP(D27,$C$7:$AH$22,5,FALSE))","v":"Jade Ive (U20)"},{"$f":"IF(ISERROR(VLOOKUP(D27,$C$7:$AH$22,31,FALSE))=TRUE,\"\",VLOOKUP(D27,$C$7:$AH$22,6,FALSE))","v":"Shaftesbury Barnet H"},{"$f":"IF(ISERROR(VLOOKUP(D27,$C$7:$AH$22,31,FALSE))=TRUE,\"\",IF(VLOOKUP(D27,C$7:AH$22,31,FALSE)=0,0,IF(VLOOKUP(D27,C$7:AH$22,31,FALSE)>95.99,\"\",VLOOKUP(D27,C$7:AH$22,31,FALSE))))","v":3.91},null,{"$f":"IF(ISERROR(VLOOKUP(D27,$D$7:$AV$22,30,FALSE))=TRUE,\"\",IF(VLOOKUP(D27,$D$7:$AV$22,45,FALSE)=\"\",VLOOKUP(D27,$D$7:$AV$22,38,FALSE),CONCATENATE(VLOOKUP(D27,$D$7:$AV$22,38,FALSE),VLOOKUP(D27,$D$7:$AV$22,45,FALSE))))","v":1},{"$f":"IF(ISERROR(VLOOKUP(K27,$C$7:$AR$22,31,FALSE))=TRUE,\"\",CONCATENATE(VLOOKUP(K27,$C$7:$AR$22,38,FALSE),VLOOKUP(K27,$C$7:$AR$22,42,FALSE)))","v":"1"},{"$f":"IF(ISERROR(VLOOKUP(D27,$D$7:$AH$22,30,FALSE))=TRUE,\"\",IF(VLOOKUP(D27,$D$7:$AH$22,30,FALSE)=0,\"\",VLOOKUP(D27,$D$7:$AH$22,3,FALSE)))","v":2},null,{"$f":"IF(ISERROR(VLOOKUP(D27,$D$7:$AH$22,30,FALSE))=TRUE,\"\",VLOOKUP(D27,$D$7:$AH$22,4,FALSE))","v":"Liz Hughes"},null,null,null,null,null,{"$f":"IF(ISERROR(VLOOKUP(D27,$D$7:$AH$22,30,FALSE))=TRUE,\"\",VLOOKUP(D27,$D$7:$AH$22,5,FALSE))","v":"Blackheath & Bromley H"},null,null,null,null,null,{"$f":"IF(ISERROR(VLOOKUP(D27,$D$7:$AH$22,30,FALSE))=TRUE,\"\",IF(VLOOKUP(D27,$D$7:$AH$22,30,FALSE)=0,\"\",VLOOKUP(D27,$D$7:$AH$22,30,FALSE)))","v":3.5}]
[null,null,null,2,2,22,"Rachel Arnheim","Blackheath & Bromley H",3.6,null,2,"2",4,null,"Kelly Montgomery",null,null,null,null,null,"Newham & Essex Beagles AC",null,null,null,null,null,2.5]
[null,null,null,3,3,3,"Rachel Gibbens","Marshall Milton Keynes AC",3.4,null,3,"3",11,null,"Hannah Frith",null,null,null,null,null,"Bedford & County AC",null,null,null,null,null,2.2999999999999998]
[null,null,null,4,4,7,"Naomi James","Swansea H",3.3,null,4,"4",77,null,"Megan Jones",null,null,null,null,null,"Swansea H",null,null,null,null,null,2.2999999999999998]
[null,null,null,5,5,1,"Jemma Eastwood","Bedford & County AC",3.1,null,"","","",null,"",null,null,null,null,null,"",null,null,null,null,null,""]
[null,null,null,6,6,44,"Melissa Strevens","Newham & Essex Beagles AC",2.7,null,"","","",null,"",null,null,null,null,null,"",null,null,null,null,null,"",null,"REFEREE'S SIGNATURE"]
[null,null,null,7,7,8,"Ugne Liuksaityte","Thames Valley H",2.2999999999999998,null,"","","",null,"",null,null,null,null,null,"",null,null,null,null,null,""]
[null,null,null,8,"","","","","",null,"","","",null,"",null,null,null,null,null,"",null,null,null,null,null,""]
[]
[12,26,null,null,"UK ATHLETICS: HEIGHT CARD"]
[null,{"$f":"VLOOKUP(A36,Handbook!$A$4:$AK$24,37,FALSE)","v":13},null,null,"MEETING ",null,{"$f":"CONCATENATE('Match Day'!$I$8,\" \",'Match Day'!$I$10)","v":"Division 1 Match 3"},null,"VENUE ",null,null,{"$f":"'Match Day'!$I$12","v":"Winchester"},null,null,null,null,null,null,null,null,null,null,null,null,null,null,"DATE ",null,null,{"$f":"'Match Day'!$I$6","v":"Saturday, 6th August"}]
[null,{"$f":"VLOOKUP(A36,declare,20,FALSE)","v":13},null,null,"EVENT",null,{"$f":"VLOOKUP(A36,mens_handbook,3,FALSE)","v":"Women's Pole Vault"},null,"TIME",null,null,{"$f":"VLOOKUP(A36,mens_handbook,2,FALSE)","v":"12:00:00"},null,null,"League Record",null,null,null,null,null,{"$f":"VLOOKUP(A36,mens_handbook,28,FALSE)","v":"4.20m"},null,null,{"$f":"CONCATENATE(VLOOKUP($A36,mens_handbook,26,FALSE),\", \",VLOOKUP($A36,mens_handbook,27,FALSE),\", \",VLOOKUP($A36,mens_handbook,28,FALSE))","v":"Jannine Whitlock, Trafford, 4.20m"}]
[null,null,null,null,"Order","No","NAME","CLUB",null,null,null,null,null,null,null,null,null,null,null,null,null,null,null,null,null,null,null,null,null,null,null,null,"Best of All",null,"Trials at\nHt Cleared","Total \nFailures","Total\nTrials","Final\nPositionn",null,"A or B",null,"Tie"]
[null,null,null,null,null,null,null,null,"Metres",null,"Metres",null,"Metres",null,"Metres",null,"Metres",null,"Metres",null,"Metres",null,"Metres",null,"Metres",null,"Metres",null,"Metres",null,"Metres",null,"Metres"]
[null,{"$f":"IF(F41=\"\",\"\",IF(F41>10,F41/11,F41))","v":8},null,null,1,{"$f":"F7","v":8},{"$f":"G7","v":"Ugne Liuksaityte"},"Thames Valley H",null,null,null,null,null,null,null,null,null,null,null,null,null,null,null,null,null,null,null,null,null,null,null,null,0,null,null,null,null,0,{"$f":"IF(OR(AL41=0,AL41=\"\"),\"\",IF(VLOOKUP(F41*11,$F$15:$AL$22,33,FALSE)=0,\"A\",IF(AL41>(VLOOKUP(F41*11,$F$15:$AL$22,33,FALSE)),\"B\",\"A\")))","v":""},{"$f":"IF(AL41=0,0,IF(AM41=\"B\",\"\",RANK(AY41,$AY41:$AY56,1)))","v":0},{"$f":"IF(AL41=0,0,IF(AM41=\"A\",\"\",RANK(AZ41,$AZ41:$AZ56,1)))","v":0}]
[null,5,null,null,2,5,"Jade Ive (U20)","Shaftesbury Barnet H",null,null,null,null,null,null,null,null,null,null,null,null,null,null,null,null,null,null,null,null,null,null,null,null,0,null,null,null,null,0,"",{"$f":"IF(AL42=0,0,IF(AM42=\"B\",\"\",RANK(AY42,$AY41:$AY56,1)))","v":0},{"$f":"IF(AL42=0,0,IF(AM42=\"A\",\"\",RANK(AZ42,$AZ41:$AZ56,1)))","v":0},0]
[null,3,null,null,3,3,"Rachel Gibbens","Marshall Milton Keynes AC",null,null,null,null,null,null,null,null,null,null,null,null,null,null,null,null,null,null,null,null,null,null,null,null,0,null,null,null,null,0,"",{"$f":"IF(AL43=0,0,IF(AM43=\"B\",\"\",RANK(AY43,$AY41:$AY56,1)))","v":0},{"$f":"IF(AL43=0,0,IF(AM43=\"A\",\"\",RANK(AZ43,$AZ41:$AZ56,1)))","v":0},0]
[null,4,null,null,4,4,"Kelly Montgomery","Newham & Essex Beagles AC",null,null,null,null,null,null,null,null,null,null,null,null,null,null,null,null,null,null,null,null,null,null,null,null,0,null,null,null,null,0,"",{"$f":"IF(AL44=0,0,IF(AM44=\"B\",\"\",RANK(AY44,$AY41:$AY56,1)))","v":0},{"$f":"IF(AL44=0,0,IF(AM44=\"A\",\"\",RANK(AZ44,$AZ41:$AZ56,1)))","v":0},0]
[null,2,null,null,5,2,"Liz Hughes","Blackheath & Bromley H",null,null,null,null,null,null,null,null,null,null,null,null,null,null,null,null,null,null,null,null,null,null,null,null,0,null,null,null,null,0,"",{"$f":"IF(AL45=0,0,IF(AM45=\"B\",\"\",RANK(AY45,$AY41:$AY56,1)))","v":0},{"$f":"IF(AL45=0,0,IF(AM45=\"A\",\"\",RANK(AZ45,$AZ41:$AZ56,1)))","v":0},0]
[null,6,null,null,6,6,0,"Southampton AC",null,null,null,null,null,null,null,null,null,null,null,null,null,null,null,null,null,null,null,null,null,null,null,null,0,null,null,null,null,0,"",{"$f":"IF(AL46=0,0,IF(AM46=\"B\",\"\",RANK(AY46,$AY41:$AY56,1)))","v":0},{"$f":"IF(AL46=0,0,IF(AM46=\"A\",\"\",RANK(AZ46,$AZ41:$AZ56,1)))","v":0},0]
[null,1,null,null,7,1,"Jemma Eastwood","Bedford & County AC",null,null,null,null,null,null,null,null,null,null,null,null,null,null,null,null,null,null,null,null,null,null,null,null,0,null,null,null,null,0,"",{"$f":"IF(AL47=0,0,IF(AM47=\"B\",\"\",RANK(AY47,$AY41:$AY56,1)))","v":0},{"$f":"IF(AL47=0,0,IF(AM47=\"A\",\"\",RANK(AZ47,$AZ41:$AZ56,1)))","v":0},0]
[null,7,null,null,8,7,"Naomi James","Swansea H",null,null,null,null,null,null,null,null,null,null,null,null,null,null,null,null,null,null,null,null,null,null,null,null,0,null,null,null,null,0,"",{"$f":"IF(AL48=0,0,IF(AM48=\"B\",\"\",RANK(AY48,$AY41:$AY56,1)))","v":0},{"$f":"IF(AL48=0,0,IF(AM48=\"A\",\"\",RANK(AZ48,$AZ41:$AZ56,1)))","v":0},0]
[null,8,null,null,9,88,0,"Thames Valley H",null,null,null,null,null,null,null,null,null,null,null,null,null,null,null,null,null,null,null,null,null,null,null,null,0,null,null,null,null,0,{"$f":"IF(OR(AL49=0,AL49=\"\"),\"\",IF(VLOOKUP(F49/11,$F$7:$AL$14,33,FALSE)=0,\"A\",IF(AL49>=VLOOKUP(F49/11,$F$7:$AL$14,33,FALSE),\"B\",\"A\")))","v":""},{"$f":"IF(AL49=0,0,IF(AM49=\"B\",\"\",RANK(AY49,$AY41:$AY56,1)))","v":0},{"$f":"IF(AL49=0,0,IF(AM49=\"A\",\"\",RANK(AZ49,$AZ41:$AZ56,1)))","v":0},0]
[null,5,null,null,10,55,0,"Shaftesbury Barnet H",null,null,null,null,null,null,null,null,null,null,null,null,null,null,null,null,null,null,null,null,null,null,null,null,0,null,null,null,null,0,"",{"$f":"IF(AL50=0,0,IF(AM50=\"B\",\"\",RANK(AY50,$AY41:$AY56,1)))","v":0},{"$f":"IF(AL50=0,0,IF(AM50=\"A\",\"\",RANK(AZ50,$AZ41:$AZ56,1)))","v":0},0]
[null,3,null,null,11,33,"-","Marshall Milton Keynes AC",null,null,null,null,null,null,null,null,null,null,null,null,null,null,null,null,null,null,null,null,null,null,null,null,0,null,null,null,null,0,"",{"$f":"IF(AL51=0,0,IF(AM51=\"B\",\"\",RANK(AY51,$AY41:$AY56,1)))","v":0},{"$f":"IF(AL51=0,0,IF(AM51=\"A\",\"\",RANK(AZ51,$AZ41:$AZ56,1)))","v":0},0]
[null,4,null,null,12,44,"Melissa Strevens","Newham & Essex Beagles AC",null,null,null,null,null,null,null,null,null,null,null,null,null,null,null,null,null,null,null,null,null,null,null,null,0,null,null,null,null,0,"",{"$f":"IF(AL52=0,0,IF(AM52=\"B\",\"\",RANK(AY52,$AY41:$AY56,1)))","v":0},{"$f":"IF(AL52=0,0,IF(AM52=\"A\",\"\",RANK(AZ52,$AZ41:$AZ56,1)))","v":0},0]
[null,2,null,null,13,22,"Rachel Arnheim","Blackheath & Bromley H",null,null,null,null,null,null,null,null,null,null,null,null,null,null,null,null,null,null,null,null,null,null,null,null,0,null,null,null,null,0,"",{"$f":"IF(AL53=0,0,IF(AM53=\"B\",\"\",RANK(AY53,$AY41:$AY56,1)))","v":0},{"$f":"IF(AL53=0,0,IF(AM53=\"A\",\"\",RANK(AZ53,$AZ41:$AZ56,1)))","v":0},0]
[null,6,null,null,14,66,0,"Southampton AC",null,null,null,null,null,null,null,null,null,null,null,null,null,null,null,null,null,null,null,null,null,null,null,null,0,null,null,null,null,0,"",{"$f":"IF(AL54=0,0,IF(AM54=\"B\",\"\",RANK(AY54,$AY41:$AY56,1)))","v":0},{"$f":"IF(AL54=0,0,IF(AM54=\"A\",\"\",RANK(AZ54,$AZ41:$AZ56,1)))","v":0},0]
[null,1,null,null,15,11,"Hannah Frith","Bedford & County AC",null,null,null,null,null,null,null,null,null,null,null,null,null,null,null,null,null,null,null,null,null,null,null,null,0,null,null,null,null,0,"",{"$f":"IF(AL55=0,0,IF(AM55=\"B\",\"\",RANK(AY55,$AY41:$AY56,1)))","v":0},{"$f":"IF(AL55=0,0,IF(AM55=\"A\",\"\",RANK(AZ55,$AZ41:$AZ56,1)))","v":0},0]
[null,7,null,null,16,77,"Megan Jones","Swansea H",null,null,null,null,null,null,null,null,null,null,null,null,null,null,null,null,null,null,null,null,null,null,null,null,0,null,null,null,null,0,"",{"$f":"IF(AL56=0,0,IF(AM56=\"B\",\"\",RANK(AY56,$AY41:$AY56,1)))","v":0},{"$f":"IF(AL56=0,0,IF(AM56=\"A\",\"\",RANK(AZ56,$AZ41:$AZ56,1)))","v":0},0]

{"sheet":"Womens Hammer","index":12,"n_rows":33,"n_cols":32,"rows_kept":33,"cut":false,"hidden":true,"merged":[[31,8,31,9],[32,8,32,9],[19,21,19,22],[20,21,20,22],[32,20,32,21],[31,16,31,19],[30,20,30,21],[21,21,21,22],[21,17,21,18],[32,16,32,19],[28,16,28,19],[30,12,30,15],[29,16,29,19],[30,16,30,19],[31,20,31,21],[31,12,31,15],[28,12,28,15],[26,8,26,9],[21,12,21,13],[27,8,27,9],[28,8,28,9],[26,12,26,15],[25,20,25,21],[26,20,26,21],[6,23,6,24],[7,23,7,24],[8,23,8,24],[9,23,9,24],[7,21,7,22],[8,21,8,22],[9,21,9,22],[10,21,10,22],[32,12,32,15],[16,23,16,24],[13,21,13,22],[14,21,14,22],[17,23,17,24],[18,23,18,24],[19,23,19,24],[16,21,16,22],[20,17,20,18],[25,16,25,19],[25,12,25,15],[27,16,27,19],[26,16,26,19],[27,12,27,15],[27,20,27,21],[28,20,28,21],[11,23,11,24],[20,19,20,20],[20,23,20,24],[10,23,10,24],[18,21,18,22],[17,21,17,22],[21,19,21,20],[14,19,14,20],[15,19,15,20],[16,19,16,20],[17,19,17,20],[18,19,18,20],[19,19,19,20],[11,21,11,22],[12,21,12,22],[12,23,12,24],[15,21,15,22],[13,23,13,24],[14,23,14,24],[15,23,15,24],[21,23,21,24],[17,17,17,18],[18,17,18,18],[19,17,19,18],[12,17,12,18],[13,17,13,18],[14,17,14,18],[15,17,15,18],[16,17,16,18],[10,19,10,20],[11,19,11,20],[12,19,12,20],[13,19,13,20],[20,14,20,15],[21,14,21,15],[14,12,14,13],[15,12,15,13],[16,12,16,13],[17,12,17,13],[18,12,18,13],[20,12,20,13],[19,12,19,13],[14,14,14,15],[15,14,15,15],[16,14,16,15],[17,14,17,15],[18,14,18,15],[19,14,19,15],[21,8,21,9],[14,10,14,11],[15,10,15,11],[16,10,16,11],[17,10,17,11],[18,10,18,11],[19,10,19,11],[20,10,20,11],[21,10,21,11],[15,8,15,9],[16,8,16,9],[17,8,17,9],[18,8,18,9],[19,8,19,9],[20,8,20,9],[11,12,11,13],[12,12,12,13],[13,12,13,13],[14,8,14,9],[11,8,11,9],[9,8,9,9],[10,8,10,9],[8,10,8,11],[9,10,9,11],[12,8,12,9],[8,12,8,13],[9,12,9,13],[10,12,10,13],[13,8,13,9],[11,10,11,11],[12,10,12,11],[13,10,13,11],[10,10,10,11],[8,8,8,9],[11,14,11,15],[6,17,6,18],[7,17,7,18],[8,17,8,18],[9,17,9,18],[10,17,10,18],[11,17,11,18],[6,21,6,22],[13,14,13,15],[6,14,6,15],[7,14,7,15],[8,14,8,15],[9,14,9,15],[10,14,10,15],[12,14,12,15],[6,19,6,20],[8,19,8,20],[7,19,7,20],[9,19,9,20],[4,21,4,22],[4,23,4,24],[3,13,3,15],[3,16,3,18],[3,19,3,28],[4,25,5,25],[5,23,5,24],[4,16,5,16],[4,17,4,18],[4,19,4,20],[5,19,5,20],[5,21,5,22],[4,26,4,28],[6,12,6,13],[7,8,7,9],[7,10,7,11],[7,12,7,13],[5,17,5,18],[4,8,4,9],[4,10,4,11],[4,12,4,13],[4,14,4,15],[5,8,5,9],[5,10,5,11],[5,12,5,13],[5,14,5,15],[6,10,6,11],[6,8,6,9],[30,22,30,28],[23,4,23,9],[23,10,23,21],[23,22,23,28],[24,8,24,9],[24,12,24,15],[24,16,24,19],[24,20,24,21],[29,8,29,9],[30,8,30,9],[29,12,29,15],[29,20,29,21],[25,8,25,9],[0,4,0,5],[1,4,1,28],[2,4,2,5],[3,4,3,5],[2,11,2,15],[3,11,3,12],[2,16,2,18],[2,19,2,28],[2,6,2,7],[2,8,2,10],[3,6,3,7],[3,8,3,10],[0,6,0,28]]}
[null,null,null,null,"Home",null,{"$f":"'Match Day'!I4","v":"UK Womens League"}]
[11,null,26,null,"UK ATHLETICS: DISTANCE CARD"]
[null,null,{"$f":"VLOOKUP(A2,womens_handbook,37,FALSE)","v":12},null,"MEETING ",null,{"$f":"CONCATENATE('Match Day'!$I$8,\" \",'Match Day'!$I$10)","v":"Division 1 Match 3"},null,"VENUE ",null,null,{"$f":"'Match Day'!$I$12","v":"Winchester"},null,null,null,null,"DATE ",null,null,{"$f":"'Match Day'!$I$6","v":"Saturday, 6th August"}]
[null,null,{"$f":"VLOOKUP(A2,womens_declare,20,FALSE)","v":12},null,"EVENT",null,{"$f":"VLOOKUP(A2,womens_handbook,3,FALSE)","v":"Women's Hammer"},null,"TIME",null,null,{"$f":"VLOOKUP(A2,womens_handbook,2,FALSE)","v":"12:00:00"},null,"RECORD",null,null,{"$f":"VLOOKUP(A2,womens_handbook,29,FALSE)","v":"2001-09-02"},null,null,{"$f":"IF($A2=\"\",\"\",CONCATENATE(VLOOKUP($A2,womens_handbook,26,FALSE),\", \",VLOOKUP($A2,womens_handbook,27,FALSE),\", \",VLOOKUP($A2,womens_handbook,28,FALSE)))","v":"Lorraine Shaw, Sale Harriers, 67.94m"}]
[null,null,null,null,"Order","No","NAME","CLUB","1st Trial",null,"2nd Trial",null,"3rd Trial",null,"Best of 3",null,"Position after\n3 Trials","4th Trial",null,"5th Trial",null,"6th Trial",null,"Best of All",null,"Final\nPositionn","A or B"]
[null,null,"A","B",null,null,null,null,"Metres",null,"Metres",null,"Metres",null,"Metres",null,null,"Metres",null,"Metres",null,"Metres",null,"Metres",null,null,null,"A","B"]
[{"$f":"IF(F7=\"\",\"\",IF(F7>10,F7/11,F7))","v":1},null,{"$f":"AB7","v":""},{"$f":"AC7","v":""},1,{"$f":"HLOOKUP(E7,womens_handbook,C3,FALSE)","v":1},{"$f":"IF(ISERROR(HLOOKUP(F7,womens_declare,C4,FALSE))=TRUE,\"\",HLOOKUP(F7,womens_declare,C4,FALSE))","v":"-"},{"$f":"IF(ISERROR(VLOOKUP(A7,matchday,2,FALSE))=TRUE,\"\",VLOOKUP(A7,matchday,2,FALSE))","v":"Bedford & County AC"},0,null,0,null,0,null,{"$f":"LARGE(I7:N7,1)","v":0},null,{"$f":"IF(OR(O7=0,O7=\"\"),0,RANK(O7,$O$7:$P$22,0))","v":0},0,null,0,null,0,null,{"$f":"IF(O7>LARGE(R7:W7,1),O7,LARGE(R7:W7,1))","v":0},null,{"$f":"IF(OR(Q7=0,Q7=\"\",X7=\"\",X7=0),0,RANK(X7,$X$7:$Y$22,0))","v":0},{"$f":"IF(OR(Z7=0,Z7=\"\"),\"\",IF(VLOOKUP(F7*11,$F$15:$Z$22,21,FALSE)=0,\"A\",IF(Z7>(VLOOKUP(F7*11,$F$15:$Z$22,21,FALSE)),\"B\",\"A\")))","v":""},{"$f":"IF(OR(Z7=0,Z7=\"\",AA7=\"B\"),\"\",RANK(AE7,$AE$7:$AE$22,1))","v":""},{"$f":"IF(OR(Z7=0,Z7=\"\",AA7=\"A\"),\"\",RANK(AF7,$AF$7:$AF$22,1))","v":""},null,{"$f":"IF(OR(Z7=\"\",Z7=0,AA7=\"\",AA7=0,AA7=\"B\"),\"\",Z7)","v":""},{"$f":"IF(OR(Z7=\"\",Z7=0,AA7=\"\",AA7=0,AA7=\"A\"),\"\",Z7)","v":""}]
[8,null,"","",2,{"$f":"HLOOKUP(E8,womens_handbook,C3,FALSE)","v":8},{"$f":"IF(ISERROR(HLOOKUP(F8,womens_declare,C4,FALSE))=TRUE,\"\",HLOOKUP(F8,womens_declare,C4,FALSE))","v":"-"},"Thames Valley H",0,null,0,null,0,null,0,null,0,0,null,0,null,0,null,0,null,0,{"$f":"IF(OR(Z8=0,Z8=\"\"),\"\",IF(VLOOKUP(F8*11,$F$15:$Z$22,21,FALSE)=0,\"A\",IF(Z8>(VLOOKUP(F8*11,$F$15:$Z$22,21,FALSE)),\"B\",\"A\")))","v":""},"","",null,"",""]
[5,null,"","",3,{"$f":"HLOOKUP(E9,womens_handbook,C3,FALSE)","v":5},{"$f":"IF(ISERROR(HLOOKUP(F9,womens_declare,C4,FALSE))=TRUE,\"\",HLOOKUP(F9,womens_declare,C4,FALSE))","v":"-"},"Shaftesbury Barnet H",0,null,0,null,0,null,0,null,0,0,null,0,null,0,null,0,null,0,"","","",null,"",""]
[4,null,"","",4,{"$f":"HLOOKUP(E10,womens_handbook,C3,FALSE)","v":4},{"$f":"IF(ISERROR(HLOOKUP(F10,womens_declare,C4,FALSE))=TRUE,\"\",HLOOKUP(F10,womens_declare,C4,FALSE))","v":"-"},"Newham & Essex Beagles AC",0,null,0,null,0,null,0,null,0,0,null,0,null,0,null,0,null,0,"","","",null,"",""]
[6,null,"","",5,{"$f":"HLOOKUP(E11,womens_handbook,C3,FALSE)","v":6},{"$f":"IF(ISERROR(HLOOKUP(F11,womens_declare,C4,FALSE))=TRUE,\"\",HLOOKUP(F11,womens_declare,C4,FALSE))","v":"-"},"Southampton AC",0,null,0,null,0,null,0,null,0,0,null,0,null,0,null,0,null,0,"","","",null,"",""]
[3,null,"","",6,{"$f":"HLOOKUP(E12,womens_handbook,C3,FALSE)","v":3},{"$f":"IF(ISERROR(HLOOKUP(F12,womens_declare,C4,FALSE))=TRUE,\"\",HLOOKUP(F12,womens_declare,C4,FALSE))","v":"-"},"Marshall Milton Keynes AC",0,null,0,null,0,null,0,null,0,0,null,0,null,0,null,0,null,0,"","","",null,"",""]
[7,null,"","",7,{"$f":"HLOOKUP(E13,womens_handbook,C3,FALSE)","v":7},{"$f":"IF(ISERROR(HLOOKUP(F13,womens_declare,C4,FALSE))=TRUE,\"\",HLOOKUP(F13,womens_declare,C4,FALSE))","v":"-"},"Swansea H",0,null,0,null,0,null,0,null,0,0,null,0,null,0,null,0,null,0,"","","",null,"",""]
[2,null,"","",8,{"$f":"HLOOKUP(E14,womens_handbook,C3,FALSE)","v":2},{"$f":"IF(ISERROR(HLOOKUP(F14,womens_declare,C4,FALSE))=TRUE,\"\",HLOOKUP(F14,womens_declare,C4,FALSE))","v":"-"},"Blackheath & Bromley H",0,null,0,null,0,null,0,null,0,0,null,0,null,0,null,0,null,0,"","","",null,"",""]
[1,null,"","",9,{"$f":"HLOOKUP(E15,womens_handbook,C3,FALSE)","v":11},{"$f":"IF(ISERROR(HLOOKUP(F15,womens_declare,C4,FALSE))=TRUE,\"\",HLOOKUP(F15,womens_declare,C4,FALSE))","v":"-"},"Bedford & County AC",0,null,0,null,0,null,0,null,0,0,null,0,null,0,null,0,null,0,{"$f":"IF(OR(Z15=0,Z15=\"\"),\"\",IF(VLOOKUP(F15/11,$F$7:$Z$14,21,FALSE)=0,\"A\",IF(Z15>VLOOKUP(F15/11,$F$7:$Z$14,21,FALSE),\"B\",\"A\")))","v":""},"","",null,"",""]
[8,null,"","",10,{"$f":"HLOOKUP(E16,womens_handbook,C3,FALSE)","v":88},{"$f":"IF(ISERROR(HLOOKUP(F16,womens_declare,C4,FALSE))=TRUE,\"\",HLOOKUP(F16,womens_declare,C4,FALSE))","v":"-"},"Thames Valley H",0,null,0,null,0,null,0,null,0,0,null,0,null,0,null,0,null,0,{"$f":"IF(OR(Z16=0,Z16=\"\"),\"\",IF(VLOOKUP(F16/11,$F$7:$Z$14,21,FALSE)=0,\"A\",IF(Z16>VLOOKUP(F16/11,$F$7:$Z$14,21,FALSE),\"B\",\"A\")))","v":""},"","",null,"",""]
[5,null,"","",11,{"$f":"HLOOKUP(E17,womens_handbook,C3,FALSE)","v":55},{"$f":"IF(ISERROR(HLOOKUP(F17,womens_declare,C4,FALSE))=TRUE,\"\",HLOOKUP(F17,womens_declare,C4,FALSE))","v":"-"},"Shaftesbury Barnet H",0,null,0,null,0,null,0,null,0,0,null,0,null,0,null,0,null,0,"","","",null,"",""]
[4,null,"","",12,{"$f":"HLOOKUP(E18,womens_handbook,C3,FALSE)","v":44},{"$f":"IF(ISERROR(HLOOKUP(F18,womens_declare,C4,FALSE))=TRUE,\"\",HLOOKUP(F18,womens_declare,C4,FALSE))","v":"-"},"Newham & Essex Beagles AC",0,null,0,null,0,null,0,null,0,0,null,0,null,0,null,0,null,0,"","","",null,"",""]
[6,null,"","",13,{"$f":"HLOOKUP(E19,womens_handbook,C3,FALSE)","v":66},{"$f":"IF(ISERROR(HLOOKUP(F19,womens_declare,C4,FALSE))=TRUE,\"\",HLOOKUP(F19,womens_declare,C4,FALSE))","v":"-"},"Southampton AC",0,null,0,null,0,null,0,null,0,0,null,0,null,0,null,0,null,0,"","","",null,"",""]
[3,null,"","",14,{"$f":"HLOOKUP(E20,womens_handbook,C3,FALSE)","v":33},{"$f":"IF(ISERROR(HLOOKUP(F20,womens_declare,C4,FALSE))=TRUE,\"\",HLOOKUP(F20,womens_declare,C4,FALSE))","v":"-"},"Marshall Milton Keynes AC",0,null,0,null,0,null,0,null,0,0,null,0,null,0,null,0,null,0,"","","",null,"",""]
[7,null,"","",15,{"$f":"HLOOKUP(E21,womens_handbook,C3,FALSE)","v":77},{"$f":"IF(ISERROR(HLOOKUP(F21,womens_declare,C4,FALSE))=TRUE,\"\",HLOOKUP(F21,womens_declare,C4,FALSE))","v":"-"},"Swansea H",0,null,0,null,0,null,0,null,0,0,null,0,null,0,null,0,null,0,"","","",null,"",""]
[2,null,"","",16,{"$f":"HLOOKUP(E22,womens_handbook,C3,FALSE)","v":22},{"$f":"IF(ISERROR(HLOOKUP(F22,womens_declare,C4,FALSE))=TRUE,\"\",HLOOKUP(F22,womens_declare,C4,FALSE))","v":"-"},"Blackheath & Bromley H",0,null,0,null,0,null,0,null,0,0,null,0,null,0,null,0,null,0,"","","",null,"",""]
[]
[null,null,null,null,"\"A\" STRING RESULT",null,null,null,null,null,"\"B\" STRING RESULT",null,null,null,null,null,null,null,null,null,null,null,"JUDGES' SIGNATURES"]
[null,null,null,null,"Posn","No.","NAME","CLUB","DISTANCE",null,"Posn","No.","NAME",null,null,null,"CLUB",null,null,null,"DISTANCE"]
[null,null,1,null,1,{"$f":"IF(ISERROR(VLOOKUP(C26,$C$7:$Y$22,4,FALSE))=TRUE,0,IF(VLOOKUP(C26,$C$7:$Y$22,22,FALSE)=0,\"\",IF(VLOOKUP(C26,$C$7:$Y$22,22,FALSE)=99,99,IF(VLOOKUP(C26,$C$7:$Y$22,22,FALSE)=98,98,IF(VLOOKUP(C26,$C$7:$Y$22,22,FALSE)=96,96,VLOOKUP(C26,$C$7:$Y$22,4,FALSE))))))","v":0},{"$f":"IF(ISERROR(VLOOKUP(C26,$C$7:$Y$22,4,FALSE))=TRUE,0,VLOOKUP(C26,$C$7:$Y$22,5,FALSE))","v":0},{"$f":"IF(ISERROR(VLOOKUP(C26,$C$7:$Y$22,4,FALSE))=TRUE,0,VLOOKUP(C26,$C$7:$Y$22,6,FALSE))","v":0},{"$f":"IF(ISERROR(VLOOKUP(C26,$C$7:$Y$22,4,FALSE))=TRUE,0,IF(VLOOKUP(C26,$C$7:$Y$22,22,FALSE)=0,\"\",IF(VLOOKUP(C26,$C$7:$Y$22,22,FALSE)>95.99,\"\",VLOOKUP(C26,$C$7:$Y$22,22,FALSE))))","v":0},null,1,{"$f":"IF(ISERROR(VLOOKUP(C26,$D$7:$Y$22,4,FALSE))=TRUE,0,IF(VLOOKUP(C26,D$7:Y$22,21,FALSE)=0,\"\",VLOOKUP(C26,D$7:Y$22,3,FALSE)))","v":0},{"$f":"IF(ISERROR(VLOOKUP(C26,$D$7:$Y$22,4,FALSE))=TRUE,0,VLOOKUP(C26,D$7:Y$22,4,FALSE))","v":0},null,null,null,{"$f":"IF(ISERROR(VLOOKUP(C26,$D$7:$Y$22,4,FALSE))=TRUE,0,VLOOKUP(C26,$D$7:$Y$22,5,FALSE))","v":0},null,null,null,{"$f":"IF(ISERROR(VLOOKUP(C26,$D$7:$Y$22,3,FALSE))=TRUE,0,IF(VLOOKUP(C26,$D$7:$Y$22,21,FALSE)=0,\"\",VLOOKUP(C26,$D$7:$Y$22,21,FALSE)))","v":0}]
[null,null,2,null,2,0,0,0,0,null,2,0,0,null,null,null,0,null,null,null,0]
[null,null,3,null,3,0,0,0,0,null,3,0,0,null,null,null,0,null,null,null,0]
[null,null,4,null,4,0,0,0,0,null,4,0,0,null,null,null,0,null,null,null,0]
[null,null,5,null,5,0,0,0,0,null,5,0,0,null,null,null,0,null,null,null,0]
[null,null,6,null,6,0,0,0,0,null,6,0,0,null,null,null,0,null,null,null,0,null,"REFEREE'S SIGNATURE"]
[null,null,7,null,7,0,0,0,0,null,7,0,0,null,null,null,0,null,null,null,0]
[null,null,8,null,8,0,0,0,0,null,8,0,0,null,null,null,0,null,null,null,0]

{"sheet":"Womens Discus","index":13,"n_rows":33,"n_cols":32,"rows_kept":33,"cut":false,"hidden":true,"merged":[[0,6,0,28],[0,4,0,5],[1,4,1,28],[2,4,2,5],[2,19,2,28],[3,4,3,5],[2,11,2,15],[3,11,3,12],[2,16,2,18],[2,6,2,7],[2,8,2,10],[3,6,3,7],[3,8,3,10],[3,13,3,15],[3,16,3,18],[3,19,3,28],[30,22,30,28],[23,4,23,9],[23,10,23,21],[23,22,23,28],[24,8,24,9],[24,12,24,15],[24,16,24,19],[4,21,4,22],[4,23,4,24],[4,25,5,25],[5,23,5,24],[4,16,5,16],[24,20,24,21],[5,21,5,22],[11,14,11,15],[6,17,6,18],[7,17,7,18],[8,17,8,18],[9,17,9,18],[10,17,10,18],[8,19,8,20],[9,19,9,20],[10,19,10,20],[11,19,11,20],[4,17,4,18],[4,19,4,20],[5,19,5,20],[6,12,6,13],[7,8,7,9],[7,10,7,11],[7,12,7,13],[6,8,6,9],[6,10,6,11],[6,19,6,20],[7,19,7,20],[5,10,5,11],[5,12,5,13],[6,14,6,15],[7,14,7,15],[5,14,5,15],[5,17,5,18],[4,8,4,9],[4,10,4,11],[4,12,4,13],[4,14,4,15],[5,8,5,9],[10,8,10,9],[8,10,8,11],[11,17,11,18],[9,10,9,11],[11,10,11,11],[12,10,12,11],[13,10,13,11],[11,12,11,13],[10,10,10,11],[8,8,8,9],[9,8,9,9],[8,12,8,13],[9,12,9,13],[10,12,10,13],[11,8,11,9],[12,14,12,15],[13,14,13,15],[8,14,8,15],[9,14,9,15],[10,14,10,15],[19,10,19,11],[15,8,15,9],[16,8,16,9],[17,8,17,9],[18,8,18,9],[12,12,12,13],[13,12,13,13],[14,8,14,9],[14,12,14,13],[15,12,15,13],[12,8,12,9],[13,8,13,9],[14,14,14,15],[15,14,15,15],[18,14,18,15],[19,14,19,15],[20,14,20,15],[21,14,21,15],[16,14,16,15],[17,14,17,15],[21,8,21,9],[20,10,20,11],[21,10,21,11],[21,12,21,13],[16,12,16,13],[17,12,17,13],[18,12,18,13],[20,12,20,13],[19,12,19,13],[19,8,19,9],[20,8,20,9],[14,10,14,11],[15,10,15,11],[16,10,16,11],[17,10,17,11],[18,10,18,11],[21,17,21,18],[20,17,20,18],[17,17,17,18],[18,17,18,18],[19,17,19,18],[12,19,12,20],[13,19,13,20],[16,17,16,18],[13,17,13,18],[14,17,14,18],[15,17,15,18],[12,17,12,18],[18,19,18,20],[19,19,19,20],[7,21,7,22],[8,21,8,22],[9,21,9,22],[10,21,10,22],[6,21,6,22],[21,23,21,24],[20,19,20,20],[21,19,21,20],[14,19,14,20],[15,19,15,20],[16,19,16,20],[17,19,17,20],[8,23,8,24],[9,23,9,24],[10,23,10,24],[11,23,11,24],[12,23,12,24],[15,21,15,22],[16,21,16,22],[11,21,11,22],[12,21,12,22],[13,21,13,22],[14,21,14,22],[29,20,29,21],[30,20,30,21],[27,16,27,19],[28,16,28,19],[27,20,27,21],[28,20,28,21],[29,12,29,15],[30,12,30,15],[4,26,4,28],[17,23,17,24],[18,23,18,24],[19,23,19,24],[20,23,20,24],[13,23,13,24],[14,23,14,24],[15,23,15,24],[16,23,16,24],[19,21,19,22],[20,21,20,22],[18,21,18,22],[17,21,17,22],[21,21,21,22],[6,23,6,24],[7,23,7,24],[29,8,29,9],[30,8,30,9],[31,8,31,9],[32,8,32,9],[31,12,31,15],[32,12,32,15],[31,16,31,19],[32,16,32,19],[25,20,25,21],[26,20,26,21],[25,16,25,19],[26,16,26,19],[29,16,29,19],[30,16,30,19],[31,20,31,21],[32,20,32,21],[25,8,25,9],[26,8,26,9],[25,12,25,15],[26,12,26,15],[27,8,27,9],[28,8,28,9],[27,12,27,15],[28,12,28,15]]}
[null,null,null,null,"Home",null,{"$f":"'Match Day'!I4","v":"UK Womens League"}]
[15,null,26,null,"UK ATHLETICS: DISTANCE CARD"]
[null,null,{"$f":"VLOOKUP(A2,womens_handbook,37,FALSE)","v":16},null,"MEETING ",null,{"$f":"CONCATENATE('Match Day'!$I$8,\" \",'Match Day'!$I$10)","v":"Division 1 Match 3"},null,"VENUE ",null,null,{"$f":"'Match Day'!$I$12","v":"Winchester"},null,null,null,null,"DATE ",null,null,{"$f":"'Match Day'!$I$6","v":"Saturday, 6th August"}]
[null,null,{"$f":"VLOOKUP(A2,womens_declare,20,FALSE)","v":16},null,"EVENT",null,{"$f":"VLOOKUP(A2,womens_handbook,3,FALSE)","v":"Women's Discus"},null,"TIME",null,null,{"$f":"VLOOKUP(A2,womens_handbook,2,FALSE)","v":"13:40:00"},null,"RECORD",null,null,{"$f":"VLOOKUP(A2,womens_handbook,29,FALSE)","v":"1984-07-07"},null,null,{"$f":"IF($A2=\"\",\"\",CONCATENATE(VLOOKUP($A2,womens_handbook,26,FALSE),\", \",VLOOKUP($A2,womens_handbook,27,FALSE),\", \",VLOOKUP($A2,womens_handbook,28,FALSE)))","v":"M Ritchie, Edinburgh, 62.18m"}]
[null,null,null,null,"Order","No","NAME","CLUB","1st Trial",null,"2nd Trial",null,"3rd Trial",null,"Best of 3",null,"Position after\n3 Trials","4th Trial",null,"5th Trial",null,"6th Trial",null,"Best of All",null,"Final\nPositionn","A or B"]
[null,null,"A","B",null,null,null,null,"Metres",null,"Metres",null,"Metres",null,"Metres",null,null,"Metres",null,"Metres",null,"Metres",null,"Metres",null,null,null,"A","B"]
[{"$f":"IF(F7=\"\",\"\",IF(F7>10,F7/11,F7))","v":6},null,{"$f":"AB7","v":""},{"$f":"AC7","v":""},1,{"$f":"HLOOKUP(E7,womens_handbook,C3,FALSE)","v":6},{"$f":"IF(ISERROR(HLOOKUP(F7,womens_declare,C4,FALSE))=TRUE,\"\",HLOOKUP(F7,womens_declare,C4,FALSE))","v":"-"},{"$f":"IF(ISERROR(VLOOKUP(A7,matchday,2,FALSE))=TRUE,\"\",VLOOKUP(A7,matchday,2,FALSE))","v":"Southampton AC"},0,null,0,null,0,null,{"$f":"LARGE(I7:N7,1)","v":0},null,{"$f":"IF(OR(O7=0,O7=\"\"),0,RANK(O7,$O$7:$P$22,0))","v":0},0,null,0,null,0,null,{"$f":"IF(O7>LARGE(R7:W7,1),O7,LARGE(R7:W7,1))","v":0},null,{"$f":"IF(OR(Q7=0,Q7=\"\",X7=\"\",X7=0),0,RANK(X7,$X$7:$Y$22,0))","v":0},{"$f":"IF(OR(Z7=0,Z7=\"\"),\"\",IF(VLOOKUP(F7*11,$F$15:$Z$22,21,FALSE)=0,\"A\",IF(Z7>(VLOOKUP(F7*11,$F$15:$Z$22,21,FALSE)),\"B\",\"A\")))","v":""},{"$f":"IF(OR(Z7=0,Z7=\"\",AA7=\"B\"),\"\",RANK(AE7,$AE$7:$AE$22,1))","v":""},{"$f":"IF(OR(Z7=0,Z7=\"\",AA7=\"A\"),\"\",RANK(AF7,$AF$7:$AF$22,1))","v":""},null,{"$f":"IF(OR(Z7=\"\",Z7=0,AA7=\"\",AA7=0,AA7=\"B\"),\"\",Z7)","v":""},{"$f":"IF(OR(Z7=\"\",Z7=0,AA7=\"\",AA7=0,AA7=\"A\"),\"\",Z7)","v":""}]
[7,null,"","",2,{"$f":"HLOOKUP(E8,womens_handbook,C3,FALSE)","v":7},{"$f":"IF(ISERROR(HLOOKUP(F8,womens_declare,C4,FALSE))=TRUE,\"\",HLOOKUP(F8,womens_declare,C4,FALSE))","v":"-"},"Swansea H",0,null,0,null,0,null,0,null,0,0,null,0,null,0,null,0,null,0,{"$f":"IF(OR(Z8=0,Z8=\"\"),\"\",IF(VLOOKUP(F8*11,$F$15:$Z$22,21,FALSE)=0,\"A\",IF(Z8>(VLOOKUP(F8*11,$F$15:$Z$22,21,FALSE)),\"B\",\"A\")))","v":""},"","",null,"",""]
[3,null,"","",3,{"$f":"HLOOKUP(E9,womens_handbook,C3,FALSE)","v":3},{"$f":"IF(ISERROR(HLOOKUP(F9,womens_declare,C4,FALSE))=TRUE,\"\",HLOOKUP(F9,womens_declare,C4,FALSE))","v":"-"},"Marshall Milton Keynes AC",0,null,0,null,0,null,0,null,0,0,null,0,null,0,null,0,null,0,"","","",null,"",""]
[1,null,"","",4,{"$f":"HLOOKUP(E10,womens_handbook,C3,FALSE)","v":1},{"$f":"IF(ISERROR(HLOOKUP(F10,womens_declare,C4,FALSE))=TRUE,\"\",HLOOKUP(F10,womens_declare,C4,FALSE))","v":"-"},"Bedford & County AC",0,null,0,null,0,null,0,null,0,0,null,0,null,0,null,0,null,0,"","","",null,"",""]
[4,null,"","",5,{"$f":"HLOOKUP(E11,womens_handbook,C3,FALSE)","v":4},{"$f":"IF(ISERROR(HLOOKUP(F11,womens_declare,C4,FALSE))=TRUE,\"\",HLOOKUP(F11,womens_declare,C4,FALSE))","v":"-"},"Newham & Essex Beagles AC",0,null,0,null,0,null,0,null,0,0,null,0,null,0,null,0,null,0,"","","",null,"",""]
[2,null,"","",6,{"$f":"HLOOKUP(E12,womens_handbook,C3,FALSE)","v":2},{"$f":"IF(ISERROR(HLOOKUP(F12,womens_declare,C4,FALSE))=TRUE,\"\",HLOOKUP(F12,womens_declare,C4,FALSE))","v":"-"},"Blackheath & Bromley H",0,null,0,null,0,null,0,null,0,0,null,0,null,0,null,0,null,0,"","","",null,"",""]
[5,null,"","",7,{"$f":"HLOOKUP(E13,womens_handbook,C3,FALSE)","v":5},{"$f":"IF(ISERROR(HLOOKUP(F13,womens_declare,C4,FALSE))=TRUE,\"\",HLOOKUP(F13,womens_declare,C4,FALSE))","v":"-"},"Shaftesbury Barnet H",0,null,0,null,0,null,0,null,0,0,null,0,null,0,null,0,null,0,"","","",null,"",""]
[8,null,"","",8,{"$f":"HLOOKUP(E14,womens_handbook,C3,FALSE)","v":8},{"$f":"IF(ISERROR(HLOOKUP(F14,womens_declare,C4,FALSE))=TRUE,\"\",HLOOKUP(F14,womens_declare,C4,FALSE))","v":"-"},"Thames Valley H",0,null,0,null,0,null,0,null,0,0,null,0,null,0,null,0,null,0,"","","",null,"",""]
[6,null,"","",9,{"$f":"HLOOKUP(E15,womens_handbook,C3,FALSE)","v":66},{"$f":"IF(ISERROR(HLOOKUP(F15,womens_declare,C4,FALSE))=TRUE,\"\",HLOOKUP(F15,womens_declare,C4,FALSE))","v":"-"},"Southampton AC",0,null,0,null,0,null,0,null,0,0,null,0,null,0,null,0,null,0,{"$f":"IF(OR(Z15=0,Z15=\"\"),\"\",IF(VLOOKUP(F15/11,$F$7:$Z$14,21,FALSE)=0,\"A\",IF(Z15>VLOOKUP(F15/11,$F$7:$Z$14,21,FALSE),\"B\",\"A\")))","v":""},"","",null,"",""]
[7,null,"","",10,{"$f":"HLOOKUP(E16,womens_handbook,C3,FALSE)","v":77},{"$f":"IF(ISERROR(HLOOKUP(F16,womens_declare,C4,FALSE))=TRUE,\"\",HLOOKUP(F16,womens_declare,C4,FALSE))","v":"-"},"Swansea H",0,null,0,null,0,null,0,null,0,0,null,0,null,0,null,0,null,0,{"$f":"IF(OR(Z16=0,Z16=\"\"),\"\",IF(VLOOKUP(F16/11,$F$7:$Z$14,21,FALSE)=0,\"A\",IF(Z16>VLOOKUP(F16/11,$F$7:$Z$14,21,FALSE),\"B\",\"A\")))","v":""},"","",null,"",""]
[3,null,"","",11,{"$f":"HLOOKUP(E17,womens_handbook,C3,FALSE)","v":33},{"$f":"IF(ISERROR(HLOOKUP(F17,womens_declare,C4,FALSE))=TRUE,\"\",HLOOKUP(F17,womens_declare,C4,FALSE))","v":"-"},"Marshall Milton Keynes AC",0,null,0,null,0,null,0,null,0,0,null,0,null,0,null,0,null,0,"","","",null,"",""]
[1,null,"","",12,{"$f":"HLOOKUP(E18,womens_handbook,C3,FALSE)","v":11},{"$f":"IF(ISERROR(HLOOKUP(F18,womens_declare,C4,FALSE))=TRUE,\"\",HLOOKUP(F18,womens_declare,C4,FALSE))","v":"-"},"Bedford & County AC",0,null,0,null,0,null,0,null,0,0,null,0,null,0,null,0,null,0,"","","",null,"",""]
[4,null,"","",13,{"$f":"HLOOKUP(E19,womens_handbook,C3,FALSE)","v":44},{"$f":"IF(ISERROR(HLOOKUP(F19,womens_declare,C4,FALSE))=TRUE,\"\",HLOOKUP(F19,womens_declare,C4,FALSE))","v":"-"},"Newham & Essex Beagles AC",0,null,0,null,0,null,0,null,0,0,null,0,null,0,null,0,null,0,"","","",null,"",""]
[2,null,"","",14,{"$f":"HLOOKUP(E20,womens_handbook,C3,FALSE)","v":22},{"$f":"IF(ISERROR(HLOOKUP(F20,womens_declare,C4,FALSE))=TRUE,\"\",HLOOKUP(F20,womens_declare,C4,FALSE))","v":"-"},"Blackheath & Bromley H",0,null,0,null,0,null,0,null,0,0,null,0,null,0,null,0,null,0,"","","",null,"",""]
[5,null,"","",15,{"$f":"HLOOKUP(E21,womens_handbook,C3,FALSE)","v":55},{"$f":"IF(ISERROR(HLOOKUP(F21,womens_declare,C4,FALSE))=TRUE,\"\",HLOOKUP(F21,womens_declare,C4,FALSE))","v":"-"},"Shaftesbury Barnet H",0,null,0,null,0,null,0,null,0,0,null,0,null,0,null,0,null,0,"","","",null,"",""]
[8,null,"","",16,{"$f":"HLOOKUP(E22,womens_handbook,C3,FALSE)","v":88},{"$f":"IF(ISERROR(HLOOKUP(F22,womens_declare,C4,FALSE))=TRUE,\"\",HLOOKUP(F22,womens_declare,C4,FALSE))","v":"-"},"Thames Valley H",0,null,0,null,0,null,0,null,0,0,null,0,null,0,null,0,null,0,"","","",null,"",""]
[]
[null,null,null,null,"\"A\" STRING RESULT",null,null,null,null,null,"\"B\" STRING RESULT",null,null,null,null,null,null,null,null,null,null,null,"JUDGES' SIGNATURES"]
[null,null,null,null,"Posn","No.","NAME","CLUB","DISTANCE",null,"Posn","No.","NAME",null,null,null,"CLUB",null,null,null,"DISTANCE"]
[null,null,1,null,1,{"$f":"IF(ISERROR(VLOOKUP(C26,$C$7:$Y$22,4,FALSE))=TRUE,0,IF(VLOOKUP(C26,$C$7:$Y$22,22,FALSE)=0,\"\",IF(VLOOKUP(C26,$C$7:$Y$22,22,FALSE)=99,99,IF(VLOOKUP(C26,$C$7:$Y$22,22,FALSE)=98,98,IF(VLOOKUP(C26,$C$7:$Y$22,22,FALSE)=96,96,VLOOKUP(C26,$C$7:$Y$22,4,FALSE))))))","v":0},{"$f":"IF(ISERROR(VLOOKUP(C26,$C$7:$Y$22,4,FALSE))=TRUE,0,VLOOKUP(C26,$C$7:$Y$22,5,FALSE))","v":0},{"$f":"IF(ISERROR(VLOOKUP(C26,$C$7:$Y$22,4,FALSE))=TRUE,0,VLOOKUP(C26,$C$7:$Y$22,6,FALSE))","v":0},{"$f":"IF(ISERROR(VLOOKUP(C26,$C$7:$Y$22,4,FALSE))=TRUE,0,IF(VLOOKUP(C26,$C$7:$Y$22,22,FALSE)=0,\"\",IF(VLOOKUP(C26,$C$7:$Y$22,22,FALSE)>95.99,\"\",VLOOKUP(C26,$C$7:$Y$22,22,FALSE))))","v":0},null,1,{"$f":"IF(ISERROR(VLOOKUP(C26,$D$7:$Y$22,4,FALSE))=TRUE,0,IF(VLOOKUP(C26,D$7:Y$22,21,FALSE)=0,\"\",VLOOKUP(C26,D$7:Y$22,3,FALSE)))","v":0},{"$f":"IF(ISERROR(VLOOKUP(C26,$D$7:$Y$22,4,FALSE))=TRUE,0,VLOOKUP(C26,D$7:Y$22,4,FALSE))","v":0},null,null,null,{"$f":"IF(ISERROR(VLOOKUP(C26,$D$7:$Y$22,4,FALSE))=TRUE,0,VLOOKUP(C26,$D$7:$Y$22,5,FALSE))","v":0},null,null,null,{"$f":"IF(ISERROR(VLOOKUP(C26,$D$7:$Y$22,3,FALSE))=TRUE,0,IF(VLOOKUP(C26,$D$7:$Y$22,21,FALSE)=0,\"\",VLOOKUP(C26,$D$7:$Y$22,21,FALSE)))","v":0}]
[null,null,2,null,2,0,0,0,0,null,2,0,0,null,null,null,0,null,null,null,0]
[null,null,3,null,3,0,0,0,0,null,3,0,0,null,null,null,0,null,null,null,0]
[null,null,4,null,4,0,0,0,0,null,4,0,0,null,null,null,0,null,null,null,0]
[null,null,5,null,5,0,0,0,0,null,5,0,0,null,null,null,0,null,null,null,0]
[null,null,6,null,6,0,0,0,0,null,6,0,0,null,null,null,0,null,null,null,0,null,"REFEREE'S SIGNATURE"]
[null,null,7,null,7,0,0,0,0,null,7,0,0,null,null,null,0,null,null,null,0]
[null,null,8,null,8,0,0,0,0,null,8,0,0,null,null,null,0,null,null,null,0]

{"sheet":"Womens Javelin","index":14,"n_rows":33,"n_cols":32,"rows_kept":33,"cut":false,"hidden":true,"merged":[[0,6,0,28],[0,4,0,5],[1,4,1,28],[2,4,2,5],[2,19,2,28],[3,4,3,5],[2,11,2,15],[3,11,3,12],[2,16,2,18],[2,6,2,7],[2,8,2,10],[3,6,3,7],[3,8,3,10],[3,13,3,15],[3,16,3,18],[3,19,3,28],[30,22,30,28],[23,4,23,9],[23,10,23,21],[23,22,23,28],[24,8,24,9],[24,12,24,15],[24,16,24,19],[4,21,4,22],[4,23,4,24],[4,25,5,25],[5,23,5,24],[4,16,5,16],[24,20,24,21],[5,21,5,22],[11,14,11,15],[6,17,6,18],[7,17,7,18],[8,17,8,18],[9,17,9,18],[10,17,10,18],[8,19,8,20],[9,19,9,20],[10,19,10,20],[11,19,11,20],[4,17,4,18],[4,19,4,20],[5,19,5,20],[6,12,6,13],[7,8,7,9],[7,10,7,11],[7,12,7,13],[6,8,6,9],[6,10,6,11],[6,19,6,20],[7,19,7,20],[5,10,5,11],[5,12,5,13],[6,14,6,15],[7,14,7,15],[5,14,5,15],[5,17,5,18],[4,8,4,9],[4,10,4,11],[4,12,4,13],[4,14,4,15],[5,8,5,9],[10,8,10,9],[8,10,8,11],[11,17,11,18],[9,10,9,11],[11,10,11,11],[12,10,12,11],[13,10,13,11],[11,12,11,13],[10,10,10,11],[8,8,8,9],[9,8,9,9],[8,12,8,13],[9,12,9,13],[10,12,10,13],[11,8,11,9],[12,14,12,15],[13,14,13,15],[8,14,8,15],[9,14,9,15],[10,14,10,15],[19,10,19,11],[15,8,15,9],[16,8,16,9],[17,8,17,9],[18,8,18,9],[12,12,12,13],[13,12,13,13],[14,8,14,9],[14,12,14,13],[15,12,15,13],[12,8,12,9],[13,8,13,9],[14,14,14,15],[15,14,15,15],[18,14,18,15],[19,14,19,15],[20,14,20,15],[21,14,21,15],[16,14,16,15],[17,14,17,15],[21,8,21,9],[20,10,20,11],[21,10,21,11],[21,12,21,13],[16,12,16,13],[17,12,17,13],[18,12,18,13],[20,12,20,13],[19,12,19,13],[19,8,19,9],[20,8,20,9],[14,10,14,11],[15,10,15,11],[16,10,16,11],[17,10,17,11],[18,10,18,11],[21,17,21,18],[20,17,20,18],[17,17,17,18],[18,17,18,18],[19,17,19,18],[12,19,12,20],[13,19,13,20],[16,17,16,18],[13,17,13,18],[14,17,14,18],[15,17,15,18],[12,17,12,18],[18,19,18,20],[19,19,19,20],[7,21,7,22],[8,21,8,22],[9,21,9,22],[10,21,10,22],[6,21,6,22],[21,23,21,24],[20,19,20,20],[21,19,21,20],[14,19,14,20],[15,19,15,20],[16,19,16,20],[17,19,17,20],[8,23,8,24],[9,23,9,24],[10,23,10,24],[11,23,11,24],[12,23,12,24],[15,21,15,22],[16,21,16,22],[11,21,11,22],[12,21,12,22],[13,21,13,22],[14,21,14,22],[29,20,29,21],[30,20,30,21],[27,16,27,19],[28,16,28,19],[27,20,27,21],[28,20,28,21],[29,12,29,15],[30,12,30,15],[4,26,4,28],[17,23,17,24],[18,23,18,24],[19,23,19,24],[20,23,20,24],[13,23,13,24],[14,23,14,24],[15,23,15,24],[16,23,16,24],[19,21,19,22],[20,21,20,22],[18,21,18,22],[17,21,17,22],[21,21,21,22],[6,23,6,24],[7,23,7,24],[29,8,29,9],[30,8,30,9],[31,8,31,9],[32,8,32,9],[31,12,31,15],[32,12,32,15],[31,16,31,19],[32,16,32,19],[25,20,25,21],[26,20,26,21],[25,16,25,19],[26,16,26,19],[29,16,29,19],[30,16,30,19],[31,20,31,21],[32,20,32,21],[25,8,25,9],[26,8,26,9],[25,12,25,15],[26,12,26,15],[27,8,27,9],[28,8,28,9],[27,12,27,15],[28,12,28,15]]}
[null,null,null,null,"Home",null,{"$f":"'Match Day'!I4","v":"UK Womens League"}]
[18,null,26,null,"UK ATHLETICS: DISTANCE CARD"]
[null,null,{"$f":"VLOOKUP(A2,womens_handbook,37,FALSE)","v":19},null,"MEETING ",null,{"$f":"CONCATENATE('Match Day'!$I$8,\" \",'Match Day'!$I$10)","v":"Division 1 Match 3"},null,"VENUE ",null,null,{"$f":"'Match Day'!$I$12","v":"Winchester"},null,null,null,null,"DATE ",null,null,{"$f":"'Match Day'!$I$6","v":"Saturday, 6th August"}]
[null,null,{"$f":"VLOOKUP(A2,womens_declare,20,FALSE)","v":19},null,"EVENT",null,{"$f":"VLOOKUP(A2,womens_handbook,3,FALSE)","v":"Women's Javelin"},null,"TIME",null,null,{"$f":"VLOOKUP(A2,womens_handbook,2,FALSE)","v":"15:20:00"},null,"RECORD",null,null,{"$f":"VLOOKUP(A2,womens_handbook,29,FALSE)","v":"2000-08-05"},null,null,{"$f":"IF($A2=\"\",\"\",CONCATENATE(VLOOKUP($A2,womens_handbook,26,FALSE),\", \",VLOOKUP($A2,womens_handbook,27,FALSE),\", \",VLOOKUP($A2,womens_handbook,28,FALSE)))","v":"K Morgan, Windsor, 57.99m"}]
[null,null,null,null,"Order","No","NAME","CLUB","1st Trial",null,"2nd Trial",null,"3rd Trial",null,"Best of 3",null,"Position after\n3 Trials","4th Trial",null,"5th Trial",null,"6th Trial",null,"Best of All",null,"Final\nPositionn","A or B"]
[null,null,"A","B",null,null,null,null,"Metres",null,"Metres",null,"Metres",null,"Metres",null,null,"Metres",null,"Metres",null,"Metres",null,"Metres",null,null,null,"A","B"]
[{"$f":"IF(F7=\"\",\"\",IF(F7>10,F7/11,F7))","v":5},null,{"$f":"AB7","v":""},{"$f":"AC7","v":""},1,{"$f":"HLOOKUP(E7,womens_handbook,C3,FALSE)","v":5},{"$f":"IF(ISERROR(HLOOKUP(F7,womens_declare,C4,FALSE))=TRUE,\"\",HLOOKUP(F7,womens_declare,C4,FALSE))","v":"-"},{"$f":"IF(ISERROR(VLOOKUP(A7,matchday,2,FALSE))=TRUE,\"\",VLOOKUP(A7,matchday,2,FALSE))","v":"Shaftesbury Barnet H"},0,null,0,null,0,null,{"$f":"LARGE(I7:N7,1)","v":0},null,{"$f":"IF(OR(O7=0,O7=\"\"),0,RANK(O7,$O$7:$P$22,0))","v":0},0,null,0,null,0,null,{"$f":"IF(O7>LARGE(R7:W7,1),O7,LARGE(R7:W7,1))","v":0},null,{"$f":"IF(OR(Q7=0,Q7=\"\",X7=\"\",X7=0),0,RANK(X7,$X$7:$Y$22,0))","v":0},{"$f":"IF(OR(Z7=0,Z7=\"\"),\"\",IF(VLOOKUP(F7*11,$F$15:$Z$22,21,FALSE)=0,\"A\",IF(Z7>(VLOOKUP(F7*11,$F$15:$Z$22,21,FALSE)),\"B\",\"A\")))","v":""},{"$f":"IF(OR(Z7=0,Z7=\"\",AA7=\"B\"),\"\",RANK(AE7,$AE$7:$AE$22,1))","v":""},{"$f":"IF(OR(Z7=0,Z7=\"\",AA7=\"A\"),\"\",RANK(AF7,$AF$7:$AF$22,1))","v":""},null,{"$f":"IF(OR(Z7=\"\",Z7=0,AA7=\"\",AA7=0,AA7=\"B\"),\"\",Z7)","v":""},{"$f":"IF(OR(Z7=\"\",Z7=0,AA7=\"\",AA7=0,AA7=\"A\"),\"\",Z7)","v":""}]
[4,null,"","",2,{"$f":"HLOOKUP(E8,womens_handbook,C3,FALSE)","v":4},{"$f":"IF(ISERROR(HLOOKUP(F8,womens_declare,C4,FALSE))=TRUE,\"\",HLOOKUP(F8,womens_declare,C4,FALSE))","v":"-"},"Newham & Essex Beagles AC",0,null,0,null,0,null,0,null,0,0,null,0,null,0,null,0,null,0,{"$f":"IF(OR(Z8=0,Z8=\"\"),\"\",IF(VLOOKUP(F8*11,$F$15:$Z$22,21,FALSE)=0,\"A\",IF(Z8>(VLOOKUP(F8*11,$F$15:$Z$22,21,FALSE)),\"B\",\"A\")))","v":""},"","",null,"",""]
[7,null,"","",3,{"$f":"HLOOKUP(E9,womens_handbook,C3,FALSE)","v":7},{"$f":"IF(ISERROR(HLOOKUP(F9,womens_declare,C4,FALSE))=TRUE,\"\",HLOOKUP(F9,womens_declare,C4,FALSE))","v":"-"},"Swansea H",0,null,0,null,0,null,0,null,0,0,null,0,null,0,null,0,null,0,"","","",null,"",""]
[6,null,"","",4,{"$f":"HLOOKUP(E10,womens_handbook,C3,FALSE)","v":6},{"$f":"IF(ISERROR(HLOOKUP(F10,womens_declare,C4,FALSE))=TRUE,\"\",HLOOKUP(F10,womens_declare,C4,FALSE))","v":"-"},"Southampton AC",0,null,0,null,0,null,0,null,0,0,null,0,null,0,null,0,null,0,"","","",null,"",""]
[1,null,"","",5,{"$f":"HLOOKUP(E11,womens_handbook,C3,FALSE)","v":1},{"$f":"IF(ISERROR(HLOOKUP(F11,womens_declare,C4,FALSE))=TRUE,\"\",HLOOKUP(F11,womens_declare,C4,FALSE))","v":"-"},"Bedford & County AC",0,null,0,null,0,null,0,null,0,0,null,0,null,0,null,0,null,0,"","","",null,"",""]
[2,null,"","",6,{"$f":"HLOOKUP(E12,womens_handbook,C3,FALSE)","v":2},{"$f":"IF(ISERROR(HLOOKUP(F12,womens_declare,C4,FALSE))=TRUE,\"\",HLOOKUP(F12,womens_declare,C4,FALSE))","v":"-"},"Blackheath & Bromley H",0,null,0,null,0,null,0,null,0,0,null,0,null,0,null,0,null,0,"","","",null,"",""]
[8,null,"","",7,{"$f":"HLOOKUP(E13,womens_handbook,C3,FALSE)","v":8},{"$f":"IF(ISERROR(HLOOKUP(F13,womens_declare,C4,FALSE))=TRUE,\"\",HLOOKUP(F13,womens_declare,C4,FALSE))","v":"-"},"Thames Valley H",0,null,0,null,0,null,0,null,0,0,null,0,null,0,null,0,null,0,"","","",null,"",""]
[3,null,"","",8,{"$f":"HLOOKUP(E14,womens_handbook,C3,FALSE)","v":3},{"$f":"IF(ISERROR(HLOOKUP(F14,womens_declare,C4,FALSE))=TRUE,\"\",HLOOKUP(F14,womens_declare,C4,FALSE))","v":"-"},"Marshall Milton Keynes AC",0,null,0,null,0,null,0,null,0,0,null,0,null,0,null,0,null,0,"","","",null,"",""]
[5,null,"","",9,{"$f":"HLOOKUP(E15,womens_handbook,C3,FALSE)","v":55},{"$f":"IF(ISERROR(HLOOKUP(F15,womens_declare,C4,FALSE))=TRUE,\"\",HLOOKUP(F15,womens_declare,C4,FALSE))","v":"-"},"Shaftesbury Barnet H",0,null,0,null,0,null,0,null,0,0,null,0,null,0,null,0,null,0,{"$f":"IF(OR(Z15=0,Z15=\"\"),\"\",IF(VLOOKUP(F15/11,$F$7:$Z$14,21,FALSE)=0,\"A\",IF(Z15>VLOOKUP(F15/11,$F$7:$Z$14,21,FALSE),\"B\",\"A\")))","v":""},"","",null,"",""]
[4,null,"","",10,{"$f":"HLOOKUP(E16,womens_handbook,C3,FALSE)","v":44},{"$f":"IF(ISERROR(HLOOKUP(F16,womens_declare,C4,FALSE))=TRUE,\"\",HLOOKUP(F16,womens_declare,C4,FALSE))","v":"-"},"Newham & Essex Beagles AC",0,null,0,null,0,null,0,null,0,0,null,0,null,0,null,0,null,0,{"$f":"IF(OR(Z16=0,Z16=\"\"),\"\",IF(VLOOKUP(F16/11,$F$7:$Z$14,21,FALSE)=0,\"A\",IF(Z16>VLOOKUP(F16/11,$F$7:$Z$14,21,FALSE),\"B\",\"A\")))","v":""},"","",null,"",""]
[7,null,"","",11,{"$f":"HLOOKUP(E17,womens_handbook,C3,FALSE)","v":77},{"$f":"IF(ISERROR(HLOOKUP(F17,womens_declare,C4,FALSE))=TRUE,\"\",HLOOKUP(F17,womens_declare,C4,FALSE))","v":"-"},"Swansea H",0,null,0,null,0,null,0,null,0,0,null,0,null,0,null,0,null,0,"","","",null,"",""]
[6,null,"","",12,{"$f":"HLOOKUP(E18,womens_handbook,C3,FALSE)","v":66},{"$f":"IF(ISERROR(HLOOKUP(F18,womens_declare,C4,FALSE))=TRUE,\"\",HLOOKUP(F18,womens_declare,C4,FALSE))","v":"-"},"Southampton AC",0,null,0,null,0,null,0,null,0,0,null,0,null,0,null,0,null,0,"","","",null,"",""]
[1,null,"","",13,{"$f":"HLOOKUP(E19,womens_handbook,C3,FALSE)","v":11},{"$f":"IF(ISERROR(HLOOKUP(F19,womens_declare,C4,FALSE))=TRUE,\"\",HLOOKUP(F19,womens_declare,C4,FALSE))","v":"-"},"Bedford & County AC",0,null,0,null,0,null,0,null,0,0,null,0,null,0,null,0,null,0,"","","",null,"",""]
[2,null,"","",14,{"$f":"HLOOKUP(E20,womens_handbook,C3,FALSE)","v":22},{"$f":"IF(ISERROR(HLOOKUP(F20,womens_declare,C4,FALSE))=TRUE,\"\",HLOOKUP(F20,womens_declare,C4,FALSE))","v":"-"},"Blackheath & Bromley H",0,null,0,null,0,null,0,null,0,0,null,0,null,0,null,0,null,0,"","","",null,"",""]
[8,null,"","",15,{"$f":"HLOOKUP(E21,womens_handbook,C3,FALSE)","v":88},{"$f":"IF(ISERROR(HLOOKUP(F21,womens_declare,C4,FALSE))=TRUE,\"\",HLOOKUP(F21,womens_declare,C4,FALSE))","v":"-"},"Thames Valley H",0,null,0,null,0,null,0,null,0,0,null,0,null,0,null,0,null,0,"","","",null,"",""]
[3,null,"","",16,{"$f":"HLOOKUP(E22,womens_handbook,C3,FALSE)","v":33},{"$f":"IF(ISERROR(HLOOKUP(F22,womens_declare,C4,FALSE))=TRUE,\"\",HLOOKUP(F22,womens_declare,C4,FALSE))","v":"-"},"Marshall Milton Keynes AC",0,null,0,null,0,null,0,null,0,0,null,0,null,0,null,0,null,0,"","","",null,"",""]
[]
[null,null,null,null,"\"A\" STRING RESULT",null,null,null,null,null,"\"B\" STRING RESULT",null,null,null,null,null,null,null,null,null,null,null,"JUDGES' SIGNATURES"]
[null,null,null,null,"Posn","No.","NAME","CLUB","DISTANCE",null,"Posn","No.","NAME",null,null,null,"CLUB",null,null,null,"DISTANCE"]
[null,null,1,null,1,{"$f":"IF(ISERROR(VLOOKUP(C26,$C$7:$Y$22,4,FALSE))=TRUE,0,IF(VLOOKUP(C26,$C$7:$Y$22,22,FALSE)=0,\"\",IF(VLOOKUP(C26,$C$7:$Y$22,22,FALSE)=99,99,IF(VLOOKUP(C26,$C$7:$Y$22,22,FALSE)=98,98,IF(VLOOKUP(C26,$C$7:$Y$22,22,FALSE)=96,96,VLOOKUP(C26,$C$7:$Y$22,4,FALSE))))))","v":0},{"$f":"IF(ISERROR(VLOOKUP(C26,$C$7:$Y$22,4,FALSE))=TRUE,0,VLOOKUP(C26,$C$7:$Y$22,5,FALSE))","v":0},{"$f":"IF(ISERROR(VLOOKUP(C26,$C$7:$Y$22,4,FALSE))=TRUE,0,VLOOKUP(C26,$C$7:$Y$22,6,FALSE))","v":0},{"$f":"IF(ISERROR(VLOOKUP(C26,$C$7:$Y$22,4,FALSE))=TRUE,0,IF(VLOOKUP(C26,$C$7:$Y$22,22,FALSE)=0,\"\",IF(VLOOKUP(C26,$C$7:$Y$22,22,FALSE)>95.99,\"\",VLOOKUP(C26,$C$7:$Y$22,22,FALSE))))","v":0},null,1,{"$f":"IF(ISERROR(VLOOKUP(C26,$D$7:$Y$22,4,FALSE))=TRUE,0,IF(VLOOKUP(C26,D$7:Y$22,21,FALSE)=0,\"\",VLOOKUP(C26,D$7:Y$22,3,FALSE)))","v":0},{"$f":"IF(ISERROR(VLOOKUP(C26,$D$7:$Y$22,4,FALSE))=TRUE,0,VLOOKUP(C26,D$7:Y$22,4,FALSE))","v":0},null,null,null,{"$f":"IF(ISERROR(VLOOKUP(C26,$D$7:$Y$22,4,FALSE))=TRUE,0,VLOOKUP(C26,$D$7:$Y$22,5,FALSE))","v":0},null,null,null,{"$f":"IF(ISERROR(VLOOKUP(C26,$D$7:$Y$22,3,FALSE))=TRUE,0,IF(VLOOKUP(C26,$D$7:$Y$22,21,FALSE)=0,\"\",VLOOKUP(C26,$D$7:$Y$22,21,FALSE)))","v":0}]
[null,null,2,null,2,0,0,0,0,null,2,0,0,null,null,null,0,null,null,null,0]
[null,null,3,null,3,0,0,0,0,null,3,0,0,null,null,null,0,null,null,null,0]
[null,null,4,null,4,0,0,0,0,null,4,0,0,null,null,null,0,null,null,null,0]
[null,null,5,null,5,0,0,0,0,null,5,0,0,null,null,null,0,null,null,null,0]
[null,null,6,null,6,0,0,0,0,null,6,0,0,null,null,null,0,null,null,null,0,null,"REFEREE'S SIGNATURE"]
[null,null,7,null,7,0,0,0,0,null,7,0,0,null,null,null,0,null,null,null,0]
[null,null,8,null,8,0,0,0,0,null,8,0,0,null,null,null,0,null,null,null,0]

{"sheet":"Womens Shot","index":15,"n_rows":33,"n_cols":32,"rows_kept":33,"cut":false,"hidden":true,"merged":[[0,6,0,28],[0,4,0,5],[1,4,1,28],[2,4,2,5],[2,19,2,28],[3,4,3,5],[2,11,2,15],[3,11,3,12],[2,16,2,18],[2,6,2,7],[2,8,2,10],[3,6,3,7],[3,8,3,10],[3,13,3,15],[3,16,3,18],[3,19,3,28],[30,22,30,28],[23,4,23,9],[23,10,23,21],[23,22,23,28],[24,8,24,9],[24,12,24,15],[24,16,24,19],[4,21,4,22],[4,23,4,24],[4,25,5,25],[5,23,5,24],[4,16,5,16],[24,20,24,21],[5,21,5,22],[11,14,11,15],[6,17,6,18],[7,17,7,18],[8,17,8,18],[9,17,9,18],[10,17,10,18],[8,19,8,20],[9,19,9,20],[10,19,10,20],[11,19,11,20],[4,17,4,18],[4,19,4,20],[5,19,5,20],[6,12,6,13],[7,8,7,9],[7,10,7,11],[7,12,7,13],[6,8,6,9],[6,10,6,11],[6,19,6,20],[7,19,7,20],[5,10,5,11],[5,12,5,13],[6,14,6,15],[7,14,7,15],[5,14,5,15],[5,17,5,18],[4,8,4,9],[4,10,4,11],[4,12,4,13],[4,14,4,15],[5,8,5,9],[10,8,10,9],[8,10,8,11],[11,17,11,18],[9,10,9,11],[11,10,11,11],[12,10,12,11],[13,10,13,11],[11,12,11,13],[10,10,10,11],[8,8,8,9],[9,8,9,9],[8,12,8,13],[9,12,9,13],[10,12,10,13],[11,8,11,9],[12,14,12,15],[13,14,13,15],[8,14,8,15],[9,14,9,15],[10,14,10,15],[19,10,19,11],[15,8,15,9],[16,8,16,9],[17,8,17,9],[18,8,18,9],[12,12,12,13],[13,12,13,13],[14,8,14,9],[14,12,14,13],[15,12,15,13],[12,8,12,9],[13,8,13,9],[14,14,14,15],[15,14,15,15],[18,14,18,15],[19,14,19,15],[20,14,20,15],[21,14,21,15],[16,14,16,15],[17,14,17,15],[21,8,21,9],[20,10,20,11],[21,10,21,11],[21,12,21,13],[16,12,16,13],[17,12,17,13],[18,12,18,13],[20,12,20,13],[19,12,19,13],[19,8,19,9],[20,8,20,9],[14,10,14,11],[15,10,15,11],[16,10,16,11],[17,10,17,11],[18,10,18,11],[21,17,21,18],[20,17,20,18],[17,17,17,18],[18,17,18,18],[19,17,19,18],[12,19,12,20],[13,19,13,20],[16,17,16,18],[13,17,13,18],[14,17,14,18],[15,17,15,18],[12,17,12,18],[18,19,18,20],[19,19,19,20],[7,21,7,22],[8,21,8,22],[9,21,9,22],[10,21,10,22],[6,21,6,22],[21,23,21,24],[20,19,20,20],[21,19,21,20],[14,19,14,20],[15,19,15,20],[16,19,16,20],[17,19,17,20],[8,23,8,24],[9,23,9,24],[10,23,10,24],[11,23,11,24],[12,23,12,24],[15,21,15,22],[16,21,16,22],[11,21,11,22],[12,21,12,22],[13,21,13,22],[14,21,14,22],[29,20,29,21],[30,20,30,21],[27,16,27,19],[28,16,28,19],[27,20,27,21],[28,20,28,21],[29,12,29,15],[30,12,30,15],[4,26,4,28],[17,23,17,24],[18,23,18,24],[19,23,19,24],[20,23,20,24],[13,23,13,24],[14,23,14,24],[15,23,15,24],[16,23,16,24],[19,21,19,22],[20,21,20,22],[18,21,18,22],[17,21,17,22],[21,21,21,22],[6,23,6,24],[7,23,7,24],[29,8,29,9],[30,8,30,9],[31,8,31,9],[32,8,32,9],[31,12,31,15],[32,12,32,15],[31,16,31,19],[32,16,32,19],[25,20,25,21],[26,20,26,21],[25,16,25,19],[26,16,26,19],[29,16,29,19],[30,16,30,19],[31,20,31,21],[32,20,32,21],[25,8,25,9],[26,8,26,9],[25,12,25,15],[26,12,26,15],[27,8,27,9],[28,8,28,9],[27,12,27,15],[28,12,28,15]]}
[null,null,null,null,"Home",null,{"$f":"'Match Day'!I4","v":"UK Womens League"}]
[17,null,26,null,"UK ATHLETICS: DISTANCE CARD"]
[null,null,{"$f":"VLOOKUP(A2,womens_handbook,37,FALSE)","v":18},null,"MEETING ",null,{"$f":"CONCATENATE('Match Day'!$I$8,\" \",'Match Day'!$I$10)","v":"Division 1 Match 3"},null,"VENUE ",null,null,{"$f":"'Match Day'!$I$12","v":"Winchester"},null,null,null,null,"DATE ",null,null,{"$f":"'Match Day'!$I$6","v":"Saturday, 6th August"}]
[null,null,{"$f":"VLOOKUP(A2,womens_declare,20,FALSE)","v":18},null,"EVENT",null,{"$f":"VLOOKUP(A2,womens_handbook,3,FALSE)","v":"Women's Shot Putt"},null,"TIME",null,null,{"$f":"VLOOKUP(A2,womens_handbook,2,FALSE)","v":"15:00:00"},null,"RECORD",null,null,{"$f":"VLOOKUP(A2,womens_handbook,29,FALSE)","v":"1988-07-03"},null,null,{"$f":"IF($A2=\"\",\"\",CONCATENATE(VLOOKUP($A2,womens_handbook,26,FALSE),\", \",VLOOKUP($A2,womens_handbook,27,FALSE),\", \",VLOOKUP($A2,womens_handbook,28,FALSE)))","v":"Judy Oakes, Croydon, 18.88m"}]
[null,null,null,null,"Order","No","NAME","CLUB","1st Trial",null,"2nd Trial",null,"3rd Trial",null,"Best of 3",null,"Position after\n3 Trials","4th Trial",null,"5th Trial",null,"6th Trial",null,"Best of All",null,"Final\nPositionn","A or B"]
[null,null,"A","B",null,null,null,null,"Metres",null,"Metres",null,"Metres",null,"Metres",null,null,"Metres",null,"Metres",null,"Metres",null,"Metres",null,null,null,"A","B"]
[{"$f":"IF(F7=\"\",\"\",IF(F7>10,F7/11,F7))","v":4},null,{"$f":"AB7","v":""},{"$f":"AC7","v":""},1,{"$f":"HLOOKUP(E7,womens_handbook,C3,FALSE)","v":4},{"$f":"IF(ISERROR(HLOOKUP(F7,womens_declare,C4,FALSE))=TRUE,\"\",HLOOKUP(F7,womens_declare,C4,FALSE))","v":"-"},{"$f":"IF(ISERROR(VLOOKUP(A7,matchday,2,FALSE))=TRUE,\"\",VLOOKUP(A7,matchday,2,FALSE))","v":"Newham & Essex Beagles AC"},0,null,0,null,0,null,{"$f":"LARGE(I7:N7,1)","v":0},null,{"$f":"IF(OR(O7=0,O7=\"\"),0,RANK(O7,$O$7:$P$22,0))","v":0},0,null,0,null,0,null,{"$f":"IF(O7>LARGE(R7:W7,1),O7,LARGE(R7:W7,1))","v":0},null,{"$f":"IF(OR(Q7=0,Q7=\"\",X7=\"\",X7=0),0,RANK(X7,$X$7:$Y$22,0))","v":0},{"$f":"IF(OR(Z7=0,Z7=\"\"),\"\",IF(VLOOKUP(F7*11,$F$15:$Z$22,21,FALSE)=0,\"A\",IF(Z7>(VLOOKUP(F7*11,$F$15:$Z$22,21,FALSE)),\"B\",\"A\")))","v":""},{"$f":"IF(OR(Z7=0,Z7=\"\",AA7=\"B\"),\"\",RANK(AE7,$AE$7:$AE$22,1))","v":""},{"$f":"IF(OR(Z7=0,Z7=\"\",AA7=\"A\"),\"\",RANK(AF7,$AF$7:$AF$22,1))","v":""},null,{"$f":"IF(OR(Z7=\"\",Z7=0,AA7=\"\",AA7=0,AA7=\"B\"),\"\",Z7)","v":""},{"$f":"IF(OR(Z7=\"\",Z7=0,AA7=\"\",AA7=0,AA7=\"A\"),\"\",Z7)","v":""}]
[7,null,"","",2,{"$f":"HLOOKUP(E8,womens_handbook,C3,FALSE)","v":7},{"$f":"IF(ISERROR(HLOOKUP(F8,womens_declare,C4,FALSE))=TRUE,\"\",HLOOKUP(F8,womens_declare,C4,FALSE))","v":"-"},"Swansea H",0,null,0,null,0,null,0,null,0,0,null,0,null,0,null,0,null,0,{"$f":"IF(OR(Z8=0,Z8=\"\"),\"\",IF(VLOOKUP(F8*11,$F$15:$Z$22,21,FALSE)=0,\"A\",IF(Z8>(VLOOKUP(F8*11,$F$15:$Z$22,21,FALSE)),\"B\",\"A\")))","v":""},"","",null,"",""]
[1,null,"","",3,{"$f":"HLOOKUP(E9,womens_handbook,C3,FALSE)","v":1},{"$f":"IF(ISERROR(HLOOKUP(F9,womens_declare,C4,FALSE))=TRUE,\"\",HLOOKUP(F9,womens_declare,C4,FALSE))","v":"-"},"Bedford & County AC",0,null,0,null,0,null,0,null,0,0,null,0,null,0,null,0,null,0,"","","",null,"",""]
[5,null,"","",4,{"$f":"HLOOKUP(E10,womens_handbook,C3,FALSE)","v":5},{"$f":"IF(ISERROR(HLOOKUP(F10,womens_declare,C4,FALSE))=TRUE,\"\",HLOOKUP(F10,womens_declare,C4,FALSE))","v":"-"},"Shaftesbury Barnet H",0,null,0,null,0,null,0,null,0,0,null,0,null,0,null,0,null,0,"","","",null,"",""]
[8,null,"","",5,{"$f":"HLOOKUP(E11,womens_handbook,C3,FALSE)","v":8},{"$f":"IF(ISERROR(HLOOKUP(F11,womens_declare,C4,FALSE))=TRUE,\"\",HLOOKUP(F11,womens_declare,C4,FALSE))","v":"-"},"Thames Valley H",0,null,0,null,0,null,0,null,0,0,null,0,null,0,null,0,null,0,"","","",null,"",""]
[3,null,"","",6,{"$f":"HLOOKUP(E12,womens_handbook,C3,FALSE)","v":3},{"$f":"IF(ISERROR(HLOOKUP(F12,womens_declare,C4,FALSE))=TRUE,\"\",HLOOKUP(F12,womens_declare,C4,FALSE))","v":"-"},"Marshall Milton Keynes AC",0,null,0,null,0,null,0,null,0,0,null,0,null,0,null,0,null,0,"","","",null,"",""]
[6,null,"","",7,{"$f":"HLOOKUP(E13,womens_handbook,C3,FALSE)","v":6},{"$f":"IF(ISERROR(HLOOKUP(F13,womens_declare,C4,FALSE))=TRUE,\"\",HLOOKUP(F13,womens_declare,C4,FALSE))","v":"-"},"Southampton AC",0,null,0,null,0,null,0,null,0,0,null,0,null,0,null,0,null,0,"","","",null,"",""]
[2,null,"","",8,{"$f":"HLOOKUP(E14,womens_handbook,C3,FALSE)","v":2},{"$f":"IF(ISERROR(HLOOKUP(F14,womens_declare,C4,FALSE))=TRUE,\"\",HLOOKUP(F14,womens_declare,C4,FALSE))","v":"-"},"Blackheath & Bromley H",0,null,0,null,0,null,0,null,0,0,null,0,null,0,null,0,null,0,"","","",null,"",""]
[4,null,"","",9,{"$f":"HLOOKUP(E15,womens_handbook,C3,FALSE)","v":44},{"$f":"IF(ISERROR(HLOOKUP(F15,womens_declare,C4,FALSE))=TRUE,\"\",HLOOKUP(F15,womens_declare,C4,FALSE))","v":"-"},"Newham & Essex Beagles AC",0,null,0,null,0,null,0,null,0,0,null,0,null,0,null,0,null,0,{"$f":"IF(OR(Z15=0,Z15=\"\"),\"\",IF(VLOOKUP(F15/11,$F$7:$Z$14,21,FALSE)=0,\"A\",IF(Z15>VLOOKUP(F15/11,$F$7:$Z$14,21,FALSE),\"B\",\"A\")))","v":""},"","",null,"",""]
[7,null,"","",10,{"$f":"HLOOKUP(E16,womens_handbook,C3,FALSE)","v":77},{"$f":"IF(ISERROR(HLOOKUP(F16,womens_declare,C4,FALSE))=TRUE,\"\",HLOOKUP(F16,womens_declare,C4,FALSE))","v":"-"},"Swansea H",0,null,0,null,0,null,0,null,0,0,null,0,null,0,null,0,null,0,{"$f":"IF(OR(Z16=0,Z16=\"\"),\"\",IF(VLOOKUP(F16/11,$F$7:$Z$14,21,FALSE)=0,\"A\",IF(Z16>VLOOKUP(F16/11,$F$7:$Z$14,21,FALSE),\"B\",\"A\")))","v":""},"","",null,"",""]
[1,null,"","",11,{"$f":"HLOOKUP(E17,womens_handbook,C3,FALSE)","v":11},{"$f":"IF(ISERROR(HLOOKUP(F17,womens_declare,C4,FALSE))=TRUE,\"\",HLOOKUP(F17,womens_declare,C4,FALSE))","v":"-"},"Bedford & County AC",0,null,0,null,0,null,0,null,0,0,null,0,null,0,null,0,null,0,"","","",null,"",""]
[5,null,"","",12,{"$f":"HLOOKUP(E18,womens_handbook,C3,FALSE)","v":55},{"$f":"IF(ISERROR(HLOOKUP(F18,womens_declare,C4,FALSE))=TRUE,\"\",HLOOKUP(F18,womens_declare,C4,FALSE))","v":"-"},"Shaftesbury Barnet H",0,null,0,null,0,null,0,null,0,0,null,0,null,0,null,0,null,0,"","","",null,"",""]
[8,null,"","",13,{"$f":"HLOOKUP(E19,womens_handbook,C3,FALSE)","v":88},{"$f":"IF(ISERROR(HLOOKUP(F19,womens_declare,C4,FALSE))=TRUE,\"\",HLOOKUP(F19,womens_declare,C4,FALSE))","v":"-"},"Thames Valley H",0,null,0,null,0,null,0,null,0,0,null,0,null,0,null,0,null,0,"","","",null,"",""]
[3,null,"","",14,{"$f":"HLOOKUP(E20,womens_handbook,C3,FALSE)","v":33},{"$f":"IF(ISERROR(HLOOKUP(F20,womens_declare,C4,FALSE))=TRUE,\"\",HLOOKUP(F20,womens_declare,C4,FALSE))","v":"-"},"Marshall Milton Keynes AC",0,null,0,null,0,null,0,null,0,0,null,0,null,0,null,0,null,0,"","","",null,"",""]
[6,null,"","",15,{"$f":"HLOOKUP(E21,womens_handbook,C3,FALSE)","v":66},{"$f":"IF(ISERROR(HLOOKUP(F21,womens_declare,C4,FALSE))=TRUE,\"\",HLOOKUP(F21,womens_declare,C4,FALSE))","v":"-"},"Southampton AC",0,null,0,null,0,null,0,null,0,0,null,0,null,0,null,0,null,0,"","","",null,"",""]
[2,null,"","",16,{"$f":"HLOOKUP(E22,womens_handbook,C3,FALSE)","v":22},{"$f":"IF(ISERROR(HLOOKUP(F22,womens_declare,C4,FALSE))=TRUE,\"\",HLOOKUP(F22,womens_declare,C4,FALSE))","v":"-"},"Blackheath & Bromley H",0,null,0,null,0,null,0,null,0,0,null,0,null,0,null,0,null,0,"","","",null,"",""]
[]
[null,null,null,null,"\"A\" STRING RESULT",null,null,null,null,null,"\"B\" STRING RESULT",null,null,null,null,null,null,null,null,null,null,null,"JUDGES' SIGNATURES"]
[null,null,null,null,"Posn","No.","NAME","CLUB","DISTANCE",null,"Posn","No.","NAME",null,null,null,"CLUB",null,null,null,"DISTANCE"]
[null,null,1,null,1,{"$f":"IF(ISERROR(VLOOKUP(C26,$C$7:$Y$22,4,FALSE))=TRUE,0,IF(VLOOKUP(C26,$C$7:$Y$22,22,FALSE)=0,\"\",IF(VLOOKUP(C26,$C$7:$Y$22,22,FALSE)=99,99,IF(VLOOKUP(C26,$C$7:$Y$22,22,FALSE)=98,98,IF(VLOOKUP(C26,$C$7:$Y$22,22,FALSE)=96,96,VLOOKUP(C26,$C$7:$Y$22,4,FALSE))))))","v":0},{"$f":"IF(ISERROR(VLOOKUP(C26,$C$7:$Y$22,4,FALSE))=TRUE,0,VLOOKUP(C26,$C$7:$Y$22,5,FALSE))","v":0},{"$f":"IF(ISERROR(VLOOKUP(C26,$C$7:$Y$22,4,FALSE))=TRUE,0,VLOOKUP(C26,$C$7:$Y$22,6,FALSE))","v":0},{"$f":"IF(ISERROR(VLOOKUP(C26,$C$7:$Y$22,4,FALSE))=TRUE,0,IF(VLOOKUP(C26,$C$7:$Y$22,22,FALSE)=0,\"\",IF(VLOOKUP(C26,$C$7:$Y$22,22,FALSE)>95.99,\"\",VLOOKUP(C26,$C$7:$Y$22,22,FALSE))))","v":0},null,1,{"$f":"IF(ISERROR(VLOOKUP(C26,$D$7:$Y$22,4,FALSE))=TRUE,0,IF(VLOOKUP(C26,D$7:Y$22,21,FALSE)=0,\"\",VLOOKUP(C26,D$7:Y$22,3,FALSE)))","v":0},{"$f":"IF(ISERROR(VLOOKUP(C26,$D$7:$Y$22,4,FALSE))=TRUE,0,VLOOKUP(C26,D$7:Y$22,4,FALSE))","v":0},null,null,null,{"$f":"IF(ISERROR(VLOOKUP(C26,$D$7:$Y$22,4,FALSE))=TRUE,0,VLOOKUP(C26,$D$7:$Y$22,5,FALSE))","v":0},null,null,null,{"$f":"IF(ISERROR(VLOOKUP(C26,$D$7:$Y$22,3,FALSE))=TRUE,0,IF(VLOOKUP(C26,$D$7:$Y$22,21,FALSE)=0,\"\",VLOOKUP(C26,$D$7:$Y$22,21,FALSE)))","v":0}]
[null,null,2,null,2,0,0,0,0,null,2,0,0,null,null,null,0,null,null,null,0]
[null,null,3,null,3,0,0,0,0,null,3,0,0,null,null,null,0,null,null,null,0]
[null,null,4,null,4,0,0,0,0,null,4,0,0,null,null,null,0,null,null,null,0]
[null,null,5,null,5,0,0,0,0,null,5,0,0,null,null,null,0,null,null,null,0]
[null,null,6,null,6,0,0,0,0,null,6,0,0,null,null,null,0,null,null,null,0,null,"REFEREE'S SIGNATURE"]
[null,null,7,null,7,0,0,0,0,null,7,0,0,null,null,null,0,null,null,null,0]
[null,null,8,null,8,0,0,0,0,null,8,0,0,null,null,null,0,null,null,null,0]

{"sheet":"Womens LJ","index":16,"n_rows":33,"n_cols":32,"rows_kept":33,"cut":false,"hidden":true,"merged":[[0,6,0,28],[0,4,0,5],[1,4,1,28],[2,4,2,5],[2,19,2,28],[3,4,3,5],[2,11,2,15],[3,11,3,12],[2,16,2,18],[2,6,2,7],[2,8,2,10],[3,6,3,7],[3,8,3,10],[3,13,3,15],[3,16,3,18],[3,19,3,28],[30,22,30,28],[23,4,23,9],[23,10,23,21],[23,22,23,28],[24,8,24,9],[24,12,24,15],[24,16,24,19],[4,21,4,22],[4,23,4,24],[4,25,5,25],[5,23,5,24],[4,16,5,16],[24,20,24,21],[5,21,5,22],[11,14,11,15],[6,17,6,18],[7,17,7,18],[8,17,8,18],[9,17,9,18],[10,17,10,18],[8,19,8,20],[9,19,9,20],[10,19,10,20],[11,19,11,20],[4,17,4,18],[4,19,4,20],[5,19,5,20],[6,12,6,13],[7,8,7,9],[7,10,7,11],[7,12,7,13],[6,8,6,9],[6,10,6,11],[6,19,6,20],[7,19,7,20],[5,10,5,11],[5,12,5,13],[6,14,6,15],[7,14,7,15],[5,14,5,15],[5,17,5,18],[4,8,4,9],[4,10,4,11],[4,12,4,13],[4,14,4,15],[5,8,5,9],[10,8,10,9],[8,10,8,11],[11,17,11,18],[9,10,9,11],[11,10,11,11],[12,10,12,11],[13,10,13,11],[11,12,11,13],[10,10,10,11],[8,8,8,9],[9,8,9,9],[8,12,8,13],[9,12,9,13],[10,12,10,13],[11,8,11,9],[12,14,12,15],[13,14,13,15],[8,14,8,15],[9,14,9,15],[10,14,10,15],[19,10,19,11],[15,8,15,9],[16,8,16,9],[17,8,17,9],[18,8,18,9],[12,12,12,13],[13,12,13,13],[14,8,14,9],[14,12,14,13],[15,12,15,13],[12,8,12,9],[13,8,13,9],[14,14,14,15],[15,14,15,15],[18,14,18,15],[19,14,19,15],[20,14,20,15],[21,14,21,15],[16,14,16,15],[17,14,17,15],[21,8,21,9],[20,10,20,11],[21,10,21,11],[21,12,21,13],[16,12,16,13],[17,12,17,13],[18,12,18,13],[20,12,20,13],[19,12,19,13],[19,8,19,9],[20,8,20,9],[14,10,14,11],[15,10,15,11],[16,10,16,11],[17,10,17,11],[18,10,18,11],[21,17,21,18],[20,17,20,18],[17,17,17,18],[18,17,18,18],[19,17,19,18],[12,19,12,20],[13,19,13,20],[16,17,16,18],[13,17,13,18],[14,17,14,18],[15,17,15,18],[12,17,12,18],[18,19,18,20],[19,19,19,20],[7,21,7,22],[8,21,8,22],[9,21,9,22],[10,21,10,22],[6,21,6,22],[21,23,21,24],[20,19,20,20],[21,19,21,20],[14,19,14,20],[15,19,15,20],[16,19,16,20],[17,19,17,20],[8,23,8,24],[9,23,9,24],[10,23,10,24],[11,23,11,24],[12,23,12,24],[15,21,15,22],[16,21,16,22],[11,21,11,22],[12,21,12,22],[13,21,13,22],[14,21,14,22],[29,20,29,21],[30,20,30,21],[27,16,27,19],[28,16,28,19],[27,20,27,21],[28,20,28,21],[29,12,29,15],[30,12,30,15],[4,26,4,28],[17,23,17,24],[18,23,18,24],[19,23,19,24],[20,23,20,24],[13,23,13,24],[14,23,14,24],[15,23,15,24],[16,23,16,24],[19,21,19,22],[20,21,20,22],[18,21,18,22],[17,21,17,22],[21,21,21,22],[6,23,6,24],[7,23,7,24],[29,8,29,9],[30,8,30,9],[31,8,31,9],[32,8,32,9],[31,12,31,15],[32,12,32,15],[31,16,31,19],[32,16,32,19],[25,20,25,21],[26,20,26,21],[25,16,25,19],[26,16,26,19],[29,16,29,19],[30,16,30,19],[31,20,31,21],[32,20,32,21],[25,8,25,9],[26,8,26,9],[25,12,25,15],[26,12,26,15],[27,8,27,9],[28,8,28,9],[27,12,27,15],[28,12,28,15]]}
[null,null,null,null,"Home",null,{"$f":"'Match Day'!I4","v":"UK Womens League"}]
[13,null,26,null,"UK ATHLETICS: DISTANCE CARD"]
[null,null,{"$f":"VLOOKUP(A2,womens_handbook,37,FALSE)","v":14},null,"MEETING ",null,{"$f":"CONCATENATE('Match Day'!$I$8,\" \",'Match Day'!$I$10)","v":"Division 1 Match 3"},null,"VENUE ",null,null,{"$f":"'Match Day'!$I$12","v":"Winchester"},null,null,null,null,"DATE ",null,null,{"$f":"'Match Day'!$I$6","v":"Saturday, 6th August"}]
[null,null,{"$f":"VLOOKUP(A2,womens_declare,20,FALSE)","v":14},null,"EVENT",null,{"$f":"VLOOKUP(A2,womens_handbook,3,FALSE)","v":"Women's Long Jump"},null,"TIME",null,null,{"$f":"VLOOKUP(A2,womens_handbook,2,FALSE)","v":"12:00:00"},null,"RECORD",null,null,{"$f":"VLOOKUP(A2,womens_handbook,29,FALSE)","v":"1989-05-14"},null,null,{"$f":"IF($A2=\"\",\"\",CONCATENATE(VLOOKUP($A2,womens_handbook,26,FALSE),\", \",VLOOKUP($A2,womens_handbook,27,FALSE),\", \",VLOOKUP($A2,womens_handbook,28,FALSE)))","v":"Fiona May, Derby, 6.69m"}]
[null,null,null,null,"Order","No","NAME","CLUB","1st Trial",null,"2nd Trial",null,"3rd Trial",null,"Best of 3",null,"Position after\n3 Trials","4th Trial",null,"5th Trial",null,"6th Trial",null,"Best of All",null,"Final\nPositionn","A or B"]
[null,null,"A","B",null,null,null,null,"Metres",null,"Metres",null,"Metres",null,"Metres",null,null,"Metres",null,"Metres",null,"Metres",null,"Metres",null,null,null,"A","B"]
[{"$f":"IF(F7=\"\",\"\",IF(F7>10,F7/11,F7))","v":4},null,{"$f":"AB7","v":""},{"$f":"AC7","v":""},1,{"$f":"HLOOKUP(E7,womens_handbook,C3,FALSE)","v":4},{"$f":"IF(ISERROR(HLOOKUP(F7,womens_declare,C4,FALSE))=TRUE,\"\",HLOOKUP(F7,womens_declare,C4,FALSE))","v":"-"},{"$f":"IF(ISERROR(VLOOKUP(A7,matchday,2,FALSE))=TRUE,\"\",VLOOKUP(A7,matchday,2,FALSE))","v":"Newham & Essex Beagles AC"},0,null,0,null,0,null,{"$f":"LARGE(I7:N7,1)","v":0},null,{"$f":"IF(OR(O7=0,O7=\"\"),0,RANK(O7,$O$7:$P$22,0))","v":0},0,null,0,null,0,null,{"$f":"IF(O7>LARGE(R7:W7,1),O7,LARGE(R7:W7,1))","v":0},null,{"$f":"IF(OR(Q7=0,Q7=\"\",X7=\"\",X7=0),0,RANK(X7,$X$7:$Y$22,0))","v":0},{"$f":"IF(OR(Z7=0,Z7=\"\"),\"\",IF(VLOOKUP(F7*11,$F$15:$Z$22,21,FALSE)=0,\"A\",IF(Z7>(VLOOKUP(F7*11,$F$15:$Z$22,21,FALSE)),\"B\",\"A\")))","v":""},{"$f":"IF(OR(Z7=0,Z7=\"\",AA7=\"B\"),\"\",RANK(AE7,$AE$7:$AE$22,1))","v":""},{"$f":"IF(OR(Z7=0,Z7=\"\",AA7=\"A\"),\"\",RANK(AF7,$AF$7:$AF$22,1))","v":""},null,{"$f":"IF(OR(Z7=\"\",Z7=0,AA7=\"\",AA7=0,AA7=\"B\"),\"\",Z7)","v":""},{"$f":"IF(OR(Z7=\"\",Z7=0,AA7=\"\",AA7=0,AA7=\"A\"),\"\",Z7)","v":""}]
[2,null,"","",2,{"$f":"HLOOKUP(E8,womens_handbook,C3,FALSE)","v":2},{"$f":"IF(ISERROR(HLOOKUP(F8,womens_declare,C4,FALSE))=TRUE,\"\",HLOOKUP(F8,womens_declare,C4,FALSE))","v":"-"},"Blackheath & Bromley H",0,null,0,null,0,null,0,null,0,0,null,0,null,0,null,0,null,0,{"$f":"IF(OR(Z8=0,Z8=\"\"),\"\",IF(VLOOKUP(F8*11,$F$15:$Z$22,21,FALSE)=0,\"A\",IF(Z8>(VLOOKUP(F8*11,$F$15:$Z$22,21,FALSE)),\"B\",\"A\")))","v":""},"","",null,"",""]
[8,null,"","",3,{"$f":"HLOOKUP(E9,womens_handbook,C3,FALSE)","v":8},{"$f":"IF(ISERROR(HLOOKUP(F9,womens_declare,C4,FALSE))=TRUE,\"\",HLOOKUP(F9,womens_declare,C4,FALSE))","v":"-"},"Thames Valley H",0,null,0,null,0,null,0,null,0,0,null,0,null,0,null,0,null,0,"","","",null,"",""]
[6,null,"","",4,{"$f":"HLOOKUP(E10,womens_handbook,C3,FALSE)","v":6},{"$f":"IF(ISERROR(HLOOKUP(F10,womens_declare,C4,FALSE))=TRUE,\"\",HLOOKUP(F10,womens_declare,C4,FALSE))","v":"-"},"Southampton AC",0,null,0,null,0,null,0,null,0,0,null,0,null,0,null,0,null,0,"","","",null,"",""]
[3,null,"","",5,{"$f":"HLOOKUP(E11,womens_handbook,C3,FALSE)","v":3},{"$f":"IF(ISERROR(HLOOKUP(F11,womens_declare,C4,FALSE))=TRUE,\"\",HLOOKUP(F11,womens_declare,C4,FALSE))","v":"-"},"Marshall Milton Keynes AC",0,null,0,null,0,null,0,null,0,0,null,0,null,0,null,0,null,0,"","","",null,"",""]
[7,null,"","",6,{"$f":"HLOOKUP(E12,womens_handbook,C3,FALSE)","v":7},{"$f":"IF(ISERROR(HLOOKUP(F12,womens_declare,C4,FALSE))=TRUE,\"\",HLOOKUP(F12,womens_declare,C4,FALSE))","v":"-"},"Swansea H",0,null,0,null,0,null,0,null,0,0,null,0,null,0,null,0,null,0,"","","",null,"",""]
[5,null,"","",7,{"$f":"HLOOKUP(E13,womens_handbook,C3,FALSE)","v":5},{"$f":"IF(ISERROR(HLOOKUP(F13,womens_declare,C4,FALSE))=TRUE,\"\",HLOOKUP(F13,womens_declare,C4,FALSE))","v":"-"},"Shaftesbury Barnet H",0,null,0,null,0,null,0,null,0,0,null,0,null,0,null,0,null,0,"","","",null,"",""]
[1,null,"","",8,{"$f":"HLOOKUP(E14,womens_handbook,C3,FALSE)","v":1},{"$f":"IF(ISERROR(HLOOKUP(F14,womens_declare,C4,FALSE))=TRUE,\"\",HLOOKUP(F14,womens_declare,C4,FALSE))","v":"-"},"Bedford & County AC",0,null,0,null,0,null,0,null,0,0,null,0,null,0,null,0,null,0,"","","",null,"",""]
[4,null,"","",9,{"$f":"HLOOKUP(E15,womens_handbook,C3,FALSE)","v":44},{"$f":"IF(ISERROR(HLOOKUP(F15,womens_declare,C4,FALSE))=TRUE,\"\",HLOOKUP(F15,womens_declare,C4,FALSE))","v":"-"},"Newham & Essex Beagles AC",0,null,0,null,0,null,0,null,0,0,null,0,null,0,null,0,null,0,{"$f":"IF(OR(Z15=0,Z15=\"\"),\"\",IF(VLOOKUP(F15/11,$F$7:$Z$14,21,FALSE)=0,\"A\",IF(Z15>VLOOKUP(F15/11,$F$7:$Z$14,21,FALSE),\"B\",\"A\")))","v":""},"","",null,"",""]
[2,null,"","",10,{"$f":"HLOOKUP(E16,womens_handbook,C3,FALSE)","v":22},{"$f":"IF(ISERROR(HLOOKUP(F16,womens_declare,C4,FALSE))=TRUE,\"\",HLOOKUP(F16,womens_declare,C4,FALSE))","v":"-"},"Blackheath & Bromley H",0,null,0,null,0,null,0,null,0,0,null,0,null,0,null,0,null,0,{"$f":"IF(OR(Z16=0,Z16=\"\"),\"\",IF(VLOOKUP(F16/11,$F$7:$Z$14,21,FALSE)=0,\"A\",IF(Z16>VLOOKUP(F16/11,$F$7:$Z$14,21,FALSE),\"B\",\"A\")))","v":""},"","",null,"",""]
[8,null,"","",11,{"$f":"HLOOKUP(E17,womens_handbook,C3,FALSE)","v":88},{"$f":"IF(ISERROR(HLOOKUP(F17,womens_declare,C4,FALSE))=TRUE,\"\",HLOOKUP(F17,womens_declare,C4,FALSE))","v":"-"},"Thames Valley H",0,null,0,null,0,null,0,null,0,0,null,0,null,0,null,0,null,0,"","","",null,"",""]
[6,null,"","",12,{"$f":"HLOOKUP(E18,womens_handbook,C3,FALSE)","v":66},{"$f":"IF(ISERROR(HLOOKUP(F18,womens_declare,C4,FALSE))=TRUE,\"\",HLOOKUP(F18,womens_declare,C4,FALSE))","v":"-"},"Southampton AC",0,null,0,null,0,null,0,null,0,0,null,0,null,0,null,0,null,0,"","","",null,"",""]
[3,null,"","",13,{"$f":"HLOOKUP(E19,womens_handbook,C3,FALSE)","v":33},{"$f":"IF(ISERROR(HLOOKUP(F19,womens_declare,C4,FALSE))=TRUE,\"\",HLOOKUP(F19,womens_declare,C4,FALSE))","v":"-"},"Marshall Milton Keynes AC",0,null,0,null,0,null,0,null,0,0,null,0,null,0,null,0,null,0,"","","",null,"",""]
[7,null,"","",14,{"$f":"HLOOKUP(E20,womens_handbook,C3,FALSE)","v":77},{"$f":"IF(ISERROR(HLOOKUP(F20,womens_declare,C4,FALSE))=TRUE,\"\",HLOOKUP(F20,womens_declare,C4,FALSE))","v":"-"},"Swansea H",0,null,0,null,0,null,0,null,0,0,null,0,null,0,null,0,null,0,"","","",null,"",""]
[5,null,"","",15,{"$f":"HLOOKUP(E21,womens_handbook,C3,FALSE)","v":55},{"$f":"IF(ISERROR(HLOOKUP(F21,womens_declare,C4,FALSE))=TRUE,\"\",HLOOKUP(F21,womens_declare,C4,FALSE))","v":"-"},"Shaftesbury Barnet H",0,null,0,null,0,null,0,null,0,0,null,0,null,0,null,0,null,0,"","","",null,"",""]
[1,null,"","",16,{"$f":"HLOOKUP(E22,womens_handbook,C3,FALSE)","v":11},{"$f":"IF(ISERROR(HLOOKUP(F22,womens_declare,C4,FALSE))=TRUE,\"\",HLOOKUP(F22,womens_declare,C4,FALSE))","v":"-"},"Bedford & County AC",0,null,0,null,0,null,0,null,0,0,null,0,null,0,null,0,null,0,"","","",null,"",""]
[]
[null,null,null,null,"\"A\" STRING RESULT",null,null,null,null,null,"\"B\" STRING RESULT",null,null,null,null,null,null,null,null,null,null,null,"JUDGES' SIGNATURES"]
[null,null,null,null,"Posn","No.","NAME","CLUB","DISTANCE",null,"Posn","No.","NAME",null,null,null,"CLUB",null,null,null,"DISTANCE"]
[null,null,1,null,1,{"$f":"IF(ISERROR(VLOOKUP(C26,$C$7:$Y$22,4,FALSE))=TRUE,0,IF(VLOOKUP(C26,$C$7:$Y$22,22,FALSE)=0,\"\",IF(VLOOKUP(C26,$C$7:$Y$22,22,FALSE)=99,99,IF(VLOOKUP(C26,$C$7:$Y$22,22,FALSE)=98,98,IF(VLOOKUP(C26,$C$7:$Y$22,22,FALSE)=96,96,VLOOKUP(C26,$C$7:$Y$22,4,FALSE))))))","v":0},{"$f":"IF(ISERROR(VLOOKUP(C26,$C$7:$Y$22,4,FALSE))=TRUE,0,VLOOKUP(C26,$C$7:$Y$22,5,FALSE))","v":0},{"$f":"IF(ISERROR(VLOOKUP(C26,$C$7:$Y$22,4,FALSE))=TRUE,0,VLOOKUP(C26,$C$7:$Y$22,6,FALSE))","v":0},{"$f":"IF(ISERROR(VLOOKUP(C26,$C$7:$Y$22,4,FALSE))=TRUE,0,IF(VLOOKUP(C26,$C$7:$Y$22,22,FALSE)=0,\"\",IF(VLOOKUP(C26,$C$7:$Y$22,22,FALSE)>95.99,\"\",VLOOKUP(C26,$C$7:$Y$22,22,FALSE))))","v":0},null,1,{"$f":"IF(ISERROR(VLOOKUP(C26,$D$7:$Y$22,4,FALSE))=TRUE,0,IF(VLOOKUP(C26,D$7:Y$22,21,FALSE)=0,\"\",VLOOKUP(C26,D$7:Y$22,3,FALSE)))","v":0},{"$f":"IF(ISERROR(VLOOKUP(C26,$D$7:$Y$22,4,FALSE))=TRUE,0,VLOOKUP(C26,D$7:Y$22,4,FALSE))","v":0},null,null,null,{"$f":"IF(ISERROR(VLOOKUP(C26,$D$7:$Y$22,4,FALSE))=TRUE,0,VLOOKUP(C26,$D$7:$Y$22,5,FALSE))","v":0},null,null,null,{"$f":"IF(ISERROR(VLOOKUP(C26,$D$7:$Y$22,3,FALSE))=TRUE,0,IF(VLOOKUP(C26,$D$7:$Y$22,21,FALSE)=0,\"\",VLOOKUP(C26,$D$7:$Y$22,21,FALSE)))","v":0}]
[null,null,2,null,2,0,0,0,0,null,2,0,0,null,null,null,0,null,null,null,0]
[null,null,3,null,3,0,0,0,0,null,3,0,0,null,null,null,0,null,null,null,0]
[null,null,4,null,4,0,0,0,0,null,4,0,0,null,null,null,0,null,null,null,0]
[null,null,5,null,5,0,0,0,0,null,5,0,0,null,null,null,0,null,null,null,0]
[null,null,6,null,6,0,0,0,0,null,6,0,0,null,null,null,0,null,null,null,0,null,"REFEREE'S SIGNATURE"]
[null,null,7,null,7,0,0,0,0,null,7,0,0,null,null,null,0,null,null,null,0]
[null,null,8,null,8,0,0,0,0,null,8,0,0,null,null,null,0,null,null,null,0]

{"sheet":"Womens TJ","index":17,"n_rows":33,"n_cols":32,"rows_kept":33,"cut":false,"hidden":true,"merged":[[0,6,0,28],[0,4,0,5],[1,4,1,28],[2,4,2,5],[2,19,2,28],[3,4,3,5],[2,11,2,15],[3,11,3,12],[2,16,2,18],[2,6,2,7],[2,8,2,10],[3,6,3,7],[3,8,3,10],[3,13,3,15],[3,16,3,18],[3,19,3,28],[30,22,30,28],[23,4,23,9],[23,10,23,21],[23,22,23,28],[24,8,24,9],[24,12,24,15],[24,16,24,19],[4,21,4,22],[4,23,4,24],[4,25,5,25],[5,23,5,24],[4,16,5,16],[24,20,24,21],[5,21,5,22],[11,14,11,15],[6,17,6,18],[7,17,7,18],[8,17,8,18],[9,17,9,18],[10,17,10,18],[8,19,8,20],[9,19,9,20],[10,19,10,20],[11,19,11,20],[4,17,4,18],[4,19,4,20],[5,19,5,20],[6,12,6,13],[7,8,7,9],[7,10,7,11],[7,12,7,13],[6,8,6,9],[6,10,6,11],[6,19,6,20],[7,19,7,20],[5,10,5,11],[5,12,5,13],[6,14,6,15],[7,14,7,15],[5,14,5,15],[5,17,5,18],[4,8,4,9],[4,10,4,11],[4,12,4,13],[4,14,4,15],[5,8,5,9],[10,8,10,9],[8,10,8,11],[11,17,11,18],[9,10,9,11],[11,10,11,11],[12,10,12,11],[13,10,13,11],[11,12,11,13],[10,10,10,11],[8,8,8,9],[9,8,9,9],[8,12,8,13],[9,12,9,13],[10,12,10,13],[11,8,11,9],[12,14,12,15],[13,14,13,15],[8,14,8,15],[9,14,9,15],[10,14,10,15],[19,10,19,11],[15,8,15,9],[16,8,16,9],[17,8,17,9],[18,8,18,9],[12,12,12,13],[13,12,13,13],[14,8,14,9],[14,12,14,13],[15,12,15,13],[12,8,12,9],[13,8,13,9],[14,14,14,15],[15,14,15,15],[18,14,18,15],[19,14,19,15],[20,14,20,15],[21,14,21,15],[16,14,16,15],[17,14,17,15],[21,8,21,9],[20,10,20,11],[21,10,21,11],[21,12,21,13],[16,12,16,13],[17,12,17,13],[18,12,18,13],[20,12,20,13],[19,12,19,13],[19,8,19,9],[20,8,20,9],[14,10,14,11],[15,10,15,11],[16,10,16,11],[17,10,17,11],[18,10,18,11],[21,17,21,18],[20,17,20,18],[17,17,17,18],[18,17,18,18],[19,17,19,18],[12,19,12,20],[13,19,13,20],[16,17,16,18],[13,17,13,18],[14,17,14,18],[15,17,15,18],[12,17,12,18],[18,19,18,20],[19,19,19,20],[7,21,7,22],[8,21,8,22],[9,21,9,22],[10,21,10,22],[6,21,6,22],[21,23,21,24],[20,19,20,20],[21,19,21,20],[14,19,14,20],[15,19,15,20],[16,19,16,20],[17,19,17,20],[8,23,8,24],[9,23,9,24],[10,23,10,24],[11,23,11,24],[12,23,12,24],[15,21,15,22],[16,21,16,22],[11,21,11,22],[12,21,12,22],[13,21,13,22],[14,21,14,22],[29,20,29,21],[30,20,30,21],[27,16,27,19],[28,16,28,19],[27,20,27,21],[28,20,28,21],[29,12,29,15],[30,12,30,15],[4,26,4,28],[17,23,17,24],[18,23,18,24],[19,23,19,24],[20,23,20,24],[13,23,13,24],[14,23,14,24],[15,23,15,24],[16,23,16,24],[19,21,19,22],[20,21,20,22],[18,21,18,22],[17,21,17,22],[21,21,21,22],[6,23,6,24],[7,23,7,24],[29,8,29,9],[30,8,30,9],[31,8,31,9],[32,8,32,9],[31,12,31,15],[32,12,32,15],[31,16,31,19],[32,16,32,19],[25,20,25,21],[26,20,26,21],[25,16,25,19],[26,16,26,19],[29,16,29,19],[30,16,30,19],[31,20,31,21],[32,20,32,21],[25,8,25,9],[26,8,26,9],[25,12,25,15],[26,12,26,15],[27,8,27,9],[28,8,28,9],[27,12,27,15],[28,12,28,15]]}
[null,null,null,null,"Home",null,{"$f":"'Match Day'!I4","v":"UK Womens League"}]
[16,null,26,null,"UK ATHLETICS: DISTANCE CARD"]
[null,null,{"$f":"VLOOKUP(A2,womens_handbook,37,FALSE)","v":17},null,"MEETING ",null,{"$f":"CONCATENATE('Match Day'!$I$8,\" \",'Match Day'!$I$10)","v":"Division 1 Match 3"},null,"VENUE ",null,null,{"$f":"'Match Day'!$I$12","v":"Winchester"},null,null,null,null,"DATE ",null,null,{"$f":"'Match Day'!$I$6","v":"Saturday, 6th August"}]
[null,null,{"$f":"VLOOKUP(A2,womens_declare,20,FALSE)","v":17},null,"EVENT",null,{"$f":"VLOOKUP(A2,womens_handbook,3,FALSE)","v":"Women's Triple Jump"},null,"TIME",null,null,{"$f":"VLOOKUP(A2,womens_handbook,2,FALSE)","v":"14:00:00"},null,"RECORD",null,null,{"$f":"VLOOKUP(A2,womens_handbook,29,FALSE)","v":"2002-07-06"},null,null,{"$f":"IF($A2=\"\",\"\",CONCATENATE(VLOOKUP($A2,womens_handbook,26,FALSE),\", \",VLOOKUP($A2,womens_handbook,27,FALSE),\", \",VLOOKUP($A2,womens_handbook,28,FALSE)))","v":"Y Aldama, Shaftesbury Barnet H, 14.16m"}]
[null,null,null,null,"Order","No","NAME","CLUB","1st Trial",null,"2nd Trial",null,"3rd Trial",null,"Best of 3",null,"Position after\n3 Trials","4th Trial",null,"5th Trial",null,"6th Trial",null,"Best of All",null,"Final\nPositionn","A or B"]
[null,null,"A","B",null,null,null,null,"Metres",null,"Metres",null,"Metres",null,"Metres",null,null,"Metres",null,"Metres",null,"Metres",null,"Metres",null,null,null,"A","B"]
[{"$f":"IF(F7=\"\",\"\",IF(F7>10,F7/11,F7))","v":4},null,{"$f":"AB7","v":""},{"$f":"AC7","v":""},1,{"$f":"HLOOKUP(E7,womens_handbook,C3,FALSE)","v":4},{"$f":"IF(ISERROR(HLOOKUP(F7,womens_declare,C4,FALSE))=TRUE,\"\",HLOOKUP(F7,womens_declare,C4,FALSE))","v":"-"},{"$f":"IF(ISERROR(VLOOKUP(A7,matchday,2,FALSE))=TRUE,\"\",VLOOKUP(A7,matchday,2,FALSE))","v":"Newham & Essex Beagles AC"},0,null,0,null,0,null,{"$f":"LARGE(I7:N7,1)","v":0},null,{"$f":"IF(OR(O7=0,O7=\"\"),0,RANK(O7,$O$7:$P$22,0))","v":0},0,null,0,null,0,null,{"$f":"IF(O7>LARGE(R7:W7,1),O7,LARGE(R7:W7,1))","v":0},null,{"$f":"IF(OR(Q7=0,Q7=\"\",X7=\"\",X7=0),0,RANK(X7,$X$7:$Y$22,0))","v":0},{"$f":"IF(OR(Z7=0,Z7=\"\"),\"\",IF(VLOOKUP(F7*11,$F$15:$Z$22,21,FALSE)=0,\"A\",IF(Z7>(VLOOKUP(F7*11,$F$15:$Z$22,21,FALSE)),\"B\",\"A\")))","v":""},{"$f":"IF(OR(Z7=0,Z7=\"\",AA7=\"B\"),\"\",RANK(AE7,$AE$7:$AE$22,1))","v":""},{"$f":"IF(OR(Z7=0,Z7=\"\",AA7=\"A\"),\"\",RANK(AF7,$AF$7:$AF$22,1))","v":""},null,{"$f":"IF(OR(Z7=\"\",Z7=0,AA7=\"\",AA7=0,AA7=\"B\"),\"\",Z7)","v":""},{"$f":"IF(OR(Z7=\"\",Z7=0,AA7=\"\",AA7=0,AA7=\"A\"),\"\",Z7)","v":""}]
[1,null,"","",2,{"$f":"HLOOKUP(E8,womens_handbook,C3,FALSE)","v":1},{"$f":"IF(ISERROR(HLOOKUP(F8,womens_declare,C4,FALSE))=TRUE,\"\",HLOOKUP(F8,womens_declare,C4,FALSE))","v":"-"},"Bedford & County AC",0,null,0,null,0,null,0,null,0,0,null,0,null,0,null,0,null,0,{"$f":"IF(OR(Z8=0,Z8=\"\"),\"\",IF(VLOOKUP(F8*11,$F$15:$Z$22,21,FALSE)=0,\"A\",IF(Z8>(VLOOKUP(F8*11,$F$15:$Z$22,21,FALSE)),\"B\",\"A\")))","v":""},"","",null,"",""]
[6,null,"","",3,{"$f":"HLOOKUP(E9,womens_handbook,C3,FALSE)","v":6},{"$f":"IF(ISERROR(HLOOKUP(F9,womens_declare,C4,FALSE))=TRUE,\"\",HLOOKUP(F9,womens_declare,C4,FALSE))","v":"-"},"Southampton AC",0,null,0,null,0,null,0,null,0,0,null,0,null,0,null,0,null,0,"","","",null,"",""]
[3,null,"","",4,{"$f":"HLOOKUP(E10,womens_handbook,C3,FALSE)","v":3},{"$f":"IF(ISERROR(HLOOKUP(F10,womens_declare,C4,FALSE))=TRUE,\"\",HLOOKUP(F10,womens_declare,C4,FALSE))","v":"-"},"Marshall Milton Keynes AC",0,null,0,null,0,null,0,null,0,0,null,0,null,0,null,0,null,0,"","","",null,"",""]
[2,null,"","",5,{"$f":"HLOOKUP(E11,womens_handbook,C3,FALSE)","v":2},{"$f":"IF(ISERROR(HLOOKUP(F11,womens_declare,C4,FALSE))=TRUE,\"\",HLOOKUP(F11,womens_declare,C4,FALSE))","v":"-"},"Blackheath & Bromley H",0,null,0,null,0,null,0,null,0,0,null,0,null,0,null,0,null,0,"","","",null,"",""]
[5,null,"","",6,{"$f":"HLOOKUP(E12,womens_handbook,C3,FALSE)","v":5},{"$f":"IF(ISERROR(HLOOKUP(F12,womens_declare,C4,FALSE))=TRUE,\"\",HLOOKUP(F12,womens_declare,C4,FALSE))","v":"-"},"Shaftesbury Barnet H",0,null,0,null,0,null,0,null,0,0,null,0,null,0,null,0,null,0,"","","",null,"",""]
[7,null,"","",7,{"$f":"HLOOKUP(E13,womens_handbook,C3,FALSE)","v":7},{"$f":"IF(ISERROR(HLOOKUP(F13,womens_declare,C4,FALSE))=TRUE,\"\",HLOOKUP(F13,womens_declare,C4,FALSE))","v":"-"},"Swansea H",0,null,0,null,0,null,0,null,0,0,null,0,null,0,null,0,null,0,"","","",null,"",""]
[8,null,"","",8,{"$f":"HLOOKUP(E14,womens_handbook,C3,FALSE)","v":8},{"$f":"IF(ISERROR(HLOOKUP(F14,womens_declare,C4,FALSE))=TRUE,\"\",HLOOKUP(F14,womens_declare,C4,FALSE))","v":"-"},"Thames Valley H",0,null,0,null,0,null,0,null,0,0,null,0,null,0,null,0,null,0,"","","",null,"",""]
[4,null,"","",9,{"$f":"HLOOKUP(E15,womens_handbook,C3,FALSE)","v":44},{"$f":"IF(ISERROR(HLOOKUP(F15,womens_declare,C4,FALSE))=TRUE,\"\",HLOOKUP(F15,womens_declare,C4,FALSE))","v":"-"},"Newham & Essex Beagles AC",0,null,0,null,0,null,0,null,0,0,null,0,null,0,null,0,null,0,{"$f":"IF(OR(Z15=0,Z15=\"\"),\"\",IF(VLOOKUP(F15/11,$F$7:$Z$14,21,FALSE)=0,\"A\",IF(Z15>VLOOKUP(F15/11,$F$7:$Z$14,21,FALSE),\"B\",\"A\")))","v":""},"","",null,"",""]
[1,null,"","",10,{"$f":"HLOOKUP(E16,womens_handbook,C3,FALSE)","v":11},{"$f":"IF(ISERROR(HLOOKUP(F16,womens_declare,C4,FALSE))=TRUE,\"\",HLOOKUP(F16,womens_declare,C4,FALSE))","v":"-"},"Bedford & County AC",0,null,0,null,0,null,0,null,0,0,null,0,null,0,null,0,null,0,{"$f":"IF(OR(Z16=0,Z16=\"\"),\"\",IF(VLOOKUP(F16/11,$F$7:$Z$14,21,FALSE)=0,\"A\",IF(Z16>VLOOKUP(F16/11,$F$7:$Z$14,21,FALSE),\"B\",\"A\")))","v":""},"","",null,"",""]
[6,null,"","",11,{"$f":"HLOOKUP(E17,womens_handbook,C3,FALSE)","v":66},{"$f":"IF(ISERROR(HLOOKUP(F17,womens_declare,C4,FALSE))=TRUE,\"\",HLOOKUP(F17,womens_declare,C4,FALSE))","v":"-"},"Southampton AC",0,null,0,null,0,null,0,null,0,0,null,0,null,0,null,0,null,0,"","","",null,"",""]
[3,null,"","",12,{"$f":"HLOOKUP(E18,womens_handbook,C3,FALSE)","v":33},{"$f":"IF(ISERROR(HLOOKUP(F18,womens_declare,C4,FALSE))=TRUE,\"\",HLOOKUP(F18,womens_declare,C4,FALSE))","v":"-"},"Marshall Milton Keynes AC",0,null,0,null,0,null,0,null,0,0,null,0,null,0,null,0,null,0,"","","",null,"",""]
[2,null,"","",13,{"$f":"HLOOKUP(E19,womens_handbook,C3,FALSE)","v":22},{"$f":"IF(ISERROR(HLOOKUP(F19,womens_declare,C4,FALSE))=TRUE,\"\",HLOOKUP(F19,womens_declare,C4,FALSE))","v":"-"},"Blackheath & Bromley H",0,null,0,null,0,null,0,null,0,0,null,0,null,0,null,0,null,0,"","","",null,"",""]
[5,null,"","",14,{"$f":"HLOOKUP(E20,womens_handbook,C3,FALSE)","v":55},{"$f":"IF(ISERROR(HLOOKUP(F20,womens_declare,C4,FALSE))=TRUE,\"\",HLOOKUP(F20,womens_declare,C4,FALSE))","v":"-"},"Shaftesbury Barnet H",0,null,0,null,0,null,0,null,0,0,null,0,null,0,null,0,null,0,"","","",null,"",""]
[7,null,"","",15,{"$f":"HLOOKUP(E21,womens_handbook,C3,FALSE)","v":77},{"$f":"IF(ISERROR(HLOOKUP(F21,womens_declare,C4,FALSE))=TRUE,\"\",HLOOKUP(F21,womens_declare,C4,FALSE))","v":"-"},"Swansea H",0,null,0,null,0,null,0,null,0,0,null,0,null,0,null,0,null,0,"","","",null,"",""]
[8,null,"","",16,{"$f":"HLOOKUP(E22,womens_handbook,C3,FALSE)","v":88},{"$f":"IF(ISERROR(HLOOKUP(F22,womens_declare,C4,FALSE))=TRUE,\"\",HLOOKUP(F22,womens_declare,C4,FALSE))","v":"-"},"Thames Valley H",0,null,0,null,0,null,0,null,0,0,null,0,null,0,null,0,null,0,"","","",null,"",""]
[]
[null,null,null,null,"\"A\" STRING RESULT",null,null,null,null,null,"\"B\" STRING RESULT",null,null,null,null,null,null,null,null,null,null,null,"JUDGES' SIGNATURES"]
[null,null,null,null,"Posn","No.","NAME","CLUB","DISTANCE",null,"Posn","No.","NAME",null,null,null,"CLUB",null,null,null,"DISTANCE"]
[null,null,1,null,1,{"$f":"IF(ISERROR(VLOOKUP(C26,$C$7:$Y$22,4,FALSE))=TRUE,0,IF(VLOOKUP(C26,$C$7:$Y$22,22,FALSE)=0,\"\",IF(VLOOKUP(C26,$C$7:$Y$22,22,FALSE)=99,99,IF(VLOOKUP(C26,$C$7:$Y$22,22,FALSE)=98,98,IF(VLOOKUP(C26,$C$7:$Y$22,22,FALSE)=96,96,VLOOKUP(C26,$C$7:$Y$22,4,FALSE))))))","v":0},{"$f":"IF(ISERROR(VLOOKUP(C26,$C$7:$Y$22,4,FALSE))=TRUE,0,VLOOKUP(C26,$C$7:$Y$22,5,FALSE))","v":0},{"$f":"IF(ISERROR(VLOOKUP(C26,$C$7:$Y$22,4,FALSE))=TRUE,0,VLOOKUP(C26,$C$7:$Y$22,6,FALSE))","v":0},{"$f":"IF(ISERROR(VLOOKUP(C26,$C$7:$Y$22,4,FALSE))=TRUE,0,IF(VLOOKUP(C26,$C$7:$Y$22,22,FALSE)=0,\"\",IF(VLOOKUP(C26,$C$7:$Y$22,22,FALSE)>95.99,\"\",VLOOKUP(C26,$C$7:$Y$22,22,FALSE))))","v":0},null,1,{"$f":"IF(ISERROR(VLOOKUP(C26,$D$7:$Y$22,4,FALSE))=TRUE,0,IF(VLOOKUP(C26,D$7:Y$22,21,FALSE)=0,\"\",VLOOKUP(C26,D$7:Y$22,3,FALSE)))","v":0},{"$f":"IF(ISERROR(VLOOKUP(C26,$D$7:$Y$22,4,FALSE))=TRUE,0,VLOOKUP(C26,D$7:Y$22,4,FALSE))","v":0},null,null,null,{"$f":"IF(ISERROR(VLOOKUP(C26,$D$7:$Y$22,4,FALSE))=TRUE,0,VLOOKUP(C26,$D$7:$Y$22,5,FALSE))","v":0},null,null,null,{"$f":"IF(ISERROR(VLOOKUP(C26,$D$7:$Y$22,3,FALSE))=TRUE,0,IF(VLOOKUP(C26,$D$7:$Y$22,21,FALSE)=0,\"\",VLOOKUP(C26,$D$7:$Y$22,21,FALSE)))","v":0}]
[null,null,2,null,2,0,0,0,0,null,2,0,0,null,null,null,0,null,null,null,0]
[null,null,3,null,3,0,0,0,0,null,3,0,0,null,null,null,0,null,null,null,0]
[null,null,4,null,4,0,0,0,0,null,4,0,0,null,null,null,0,null,null,null,0]
[null,null,5,null,5,0,0,0,0,null,5,0,0,null,null,null,0,null,null,null,0]
[null,null,6,null,6,0,0,0,0,null,6,0,0,null,null,null,0,null,null,null,0,null,"REFEREE'S SIGNATURE"]
[null,null,7,null,7,0,0,0,0,null,7,0,0,null,null,null,0,null,null,null,0]
[null,null,8,null,8,0,0,0,0,null,8,0,0,null,null,null,0,null,null,null,0]

{"sheet":"Womens HJ","index":18,"n_rows":33,"n_cols":72,"rows_kept":33,"cut":false,"hidden":true,"merged":[[30,28,30,40],[28,26,28,27],[26,14,26,19],[28,14,28,19],[24,14,24,19],[0,6,0,40],[24,10,24,11],[21,24,21,25],[20,24,20,25],[19,22,19,23],[29,12,29,13],[30,12,30,13],[29,14,29,19],[30,14,30,19],[6,30,6,31],[7,30,7,31],[8,30,8,31],[9,30,9,31],[11,30,11,31],[10,30,10,31],[6,28,6,29],[7,28,7,29],[21,30,21,31],[18,28,18,29],[19,28,19,29],[20,28,20,29],[21,28,21,29],[21,20,21,21],[18,20,18,21],[19,20,19,21],[20,20,20,21],[21,22,21,23],[13,30,13,31],[14,30,14,31],[18,26,18,27],[19,26,19,27],[17,24,17,25],[18,24,18,25],[19,24,19,25],[16,24,16,25],[20,22,20,23],[9,28,9,29],[15,28,15,29],[12,28,12,29],[13,28,13,29],[10,26,10,27],[11,26,11,27],[13,26,13,27],[12,26,12,27],[14,26,14,27],[10,28,10,29],[15,26,15,27],[11,28,11,29],[14,28,14,29],[6,24,6,25],[7,24,7,25],[8,24,8,25],[10,24,10,25],[9,24,9,25],[11,24,11,25],[13,24,13,25],[14,24,14,25],[15,24,15,25],[20,18,20,19],[14,18,14,19],[15,18,15,19],[12,22,12,23],[13,22,13,23],[14,22,14,23],[16,22,16,23],[17,22,17,23],[15,22,15,23],[18,22,18,23],[19,16,19,17],[6,18,6,19],[7,18,7,19],[8,18,8,19],[9,18,9,19],[10,18,10,19],[11,18,11,19],[12,18,12,19],[17,18,17,19],[18,18,18,19],[16,18,16,19],[13,16,13,17],[14,16,14,17],[15,16,15,17],[13,18,13,19],[6,16,6,17],[7,16,7,17],[8,16,8,17],[9,16,9,17],[10,16,10,17],[11,16,11,17],[18,16,18,17],[12,16,12,17],[19,18,19,19],[2,26,2,28],[4,34,5,34],[11,10,11,11],[12,10,12,11],[6,10,6,11],[7,10,7,11],[8,10,8,11],[9,10,9,11],[12,12,12,13],[10,14,10,15],[11,14,11,15],[12,14,12,15],[11,12,11,13],[6,14,6,15],[7,14,7,15],[8,14,8,15],[9,14,9,15],[9,12,9,13],[10,12,10,13],[6,22,6,23],[7,22,7,23],[8,22,8,23],[9,22,9,23],[12,30,12,31],[6,12,6,13],[8,12,8,13],[4,16,4,17],[12,32,12,33],[4,18,4,19],[4,24,4,25],[6,20,6,21],[7,20,7,21],[9,32,9,33],[7,32,7,33],[10,32,10,33],[5,22,5,23],[4,26,4,27],[4,30,4,31],[4,20,4,21],[4,22,4,23],[10,22,10,23],[11,22,11,23],[6,26,6,27],[7,26,7,27],[8,26,8,27],[9,26,9,27],[12,24,12,25],[8,28,8,29],[4,35,5,35],[4,36,5,36],[4,39,5,40],[4,37,5,37],[5,24,5,25],[5,26,5,27],[5,28,5,29],[27,26,27,27],[21,16,21,17],[26,26,26,27],[11,32,11,33],[25,26,25,27],[14,20,14,21],[15,20,15,21],[16,20,16,21],[17,20,17,21],[16,16,16,17],[17,16,17,17],[8,20,8,21],[9,20,9,21],[10,20,10,21],[11,20,11,21],[12,20,12,21],[8,32,8,33],[17,8,17,9],[18,8,18,9],[19,8,19,9],[20,8,20,9],[21,8,21,9],[15,10,15,11],[17,10,17,11],[18,10,18,11],[23,4,23,9],[10,8,10,9],[12,8,12,9],[13,8,13,9],[10,10,10,11],[13,14,13,15],[13,10,13,11],[14,8,14,9],[15,8,15,9],[16,8,16,9],[16,10,16,11],[15,14,15,15],[14,10,14,11],[2,8,2,10],[4,8,4,9],[4,10,4,11],[2,6,2,7],[3,6,3,7],[2,11,2,25],[4,12,4,13],[4,14,4,15],[3,8,3,10],[3,20,3,22],[6,8,6,9],[9,8,9,9],[11,8,11,9],[23,10,23,27],[17,26,17,27],[6,32,6,33],[13,32,13,33],[14,32,14,33],[3,23,3,40],[21,32,21,33],[19,32,19,33],[20,32,20,33],[16,14,16,15],[17,14,17,15],[18,14,18,15],[20,16,20,17],[13,20,13,21],[5,14,5,15],[5,16,5,17],[5,18,5,19],[5,20,5,21],[19,14,19,15],[20,14,20,15],[14,14,14,15],[2,29,2,40],[3,11,3,13],[3,14,3,19],[23,28,23,40],[24,26,24,27],[18,30,18,31],[20,30,20,31],[19,30,19,31],[17,32,17,33],[15,32,15,33],[16,32,16,33],[16,30,16,31],[17,30,17,31],[16,26,16,27],[15,30,15,31],[16,28,16,29],[17,28,17,29],[5,30,5,31],[4,32,4,33],[5,32,5,33],[4,28,4,29],[21,26,21,27],[20,26,20,27],[18,32,18,33],[28,8,28,9],[25,8,25,9],[26,8,26,9],[26,20,26,25],[25,12,25,13],[25,14,25,19],[25,20,25,25],[24,20,24,25],[21,18,21,19],[28,20,28,25],[27,12,27,13],[27,14,27,19],[27,8,27,9],[26,12,26,13],[24,8,24,9],[24,12,24,13],[25,10,25,11],[26,10,26,11],[21,14,21,15],[27,20,27,25],[32,8,32,9],[29,26,29,27],[30,26,30,27],[31,26,31,27],[32,26,32,27],[29,10,29,11],[32,10,32,11],[31,8,31,9],[29,8,29,9],[30,8,30,9],[31,10,31,11],[31,20,31,25],[30,10,30,11],[32,20,32,25],[29,20,29,25],[30,20,30,25],[32,14,32,19],[31,12,31,13],[32,12,32,13],[31,14,31,19],[0,4,0,5],[28,12,28,13],[28,10,28,11],[7,8,7,9],[8,8,8,9],[5,8,5,9],[5,10,5,11],[5,12,5,13],[2,4,2,5],[3,4,3,5],[27,10,27,11],[19,10,19,11],[20,10,20,11],[21,10,21,11],[13,12,13,13],[14,12,14,13],[15,12,15,13],[16,12,16,13],[17,12,17,13],[20,12,20,13],[7,12,7,13],[21,12,21,13],[19,12,19,13],[18,12,18,13]]}
[null,null,null,null,"Home",null,{"$f":"'Match Day'!I4","v":"UK Womens League"}]
[14,26,null,null,"UK ATHLETICS: HEIGHT CARD"]
[null,{"$f":"VLOOKUP(A2,womens_handbook,37,FALSE)","v":15},null,null,"MEETING ",null,{"$f":"CONCATENATE('Match Day'!$I$8,\" \",'Match Day'!$I$10)","v":"Division 1 Match 3"},null,"VENUE ",null,null,{"$f":"'Match Day'!$I$12","v":"Winchester"},null,null,null,null,null,null,null,null,null,null,null,null,null,null,"DATE ",null,null,{"$f":"'Match Day'!$I$6","v":"Saturday, 6th August"}]
[null,{"$f":"VLOOKUP(A2,womens_declare,20,FALSE)","v":15},null,null,"EVENT",null,{"$f":"VLOOKUP(A2,womens_handbook,3,FALSE)","v":"Women's High Jump"},null,"TIME",null,null,{"$f":"VLOOKUP(A2,womens_handbook,2,FALSE)","v":"13:30:00"},null,null,"League Record",null,null,null,null,null,{"$f":"VLOOKUP(A2,womens_handbook,29,FALSE)","v":"1991-05-12"},null,null,{"$f":"CONCATENATE(VLOOKUP($A2,womens_handbook,26,FALSE),\", \",VLOOKUP($A2,womens_handbook,27,FALSE),\", \",VLOOKUP($A2,womens_handbook,28,FALSE))","v":"Debbi Marti, Bromley, 1.91m"}]
[null,null,null,null,"Order","No","NAME","CLUB",{"$f":"VLOOKUP(A2,womens_handbook,20,FALSE)","v":1.25},null,null,null,null,null,null,null,null,null,null,null,null,null,null,null,null,null,null,null,null,null,null,null,"Best of All",null,"Trials at\nHt Cleared","Total \nFailures","Total\nTrials","Final\nPositionn",null,"A or B",null,"Tie"]
[null,null,null,null,null,null,null,null,"Metres",null,"Metres",null,"Metres",null,"Metres",null,"Metres",null,"Metres",null,"Metres",null,"Metres",null,"Metres",null,"Metres",null,"Metres",null,"Metres",null,"Metres",null,null,null,null,null,null,null,null,null,null,null,null,null,null,null,null,null,null,null,null,null,null,null,1,2,3,4,5,6,7,8,1,2,3,4,5,6,7,8]
[null,{"$f":"IF(F7=\"\",\"\",IF(F7>10,F7/11,F7))","v":1},{"$f":"IF(AL7=0,0,IF(AM7=\"B\",\"\",RANK(BB7,$BB$7:$BB$22,1)))","v":0},{"$f":"IF(AL7=0,0,IF(AM7=\"A\",\"\",RANK(BC7,$BC$7:$BC$22,1)))","v":0},1,{"$f":"HLOOKUP(E7,womens_handbook,B3,FALSE)","v":1},{"$f":"IF(ISERROR(HLOOKUP(F7,'Declarations (F)'!$D$3:$S$31,B4,FALSE))=TRUE,\"\",HLOOKUP(F7,'Declarations (F)'!$D$3:$S$31,B4,FALSE))","v":"-"},{"$f":"IF(ISERROR(VLOOKUP(B7,matchday,2,FALSE))=TRUE,\"\",VLOOKUP(B7,matchday,2,FALSE))","v":"Bedford & County AC"},null,null,null,null,null,null,null,null,null,null,null,null,null,null,null,null,null,null,null,null,null,null,null,null,0,null,null,null,null,0,{"$f":"IF(OR(AL7=0,AL7=\"\"),\"\",IF(VLOOKUP(F7*11,$F$15:$AL$22,33,FALSE)=0,\"A\",IF(AL7>(VLOOKUP(F7*11,$F$15:$AL$22,33,FALSE)),\"B\",\"A\")))","v":""},{"$f":"IF(AL7=0,0,IF(AM7=\"B\",\"\",RANK(AY7,$AY7:$AY22,1)))","v":0},{"$f":"IF(AL7=0,0,IF(AM7=\"A\",\"\",RANK(AZ7,$AZ7:$AZ22,1)))","v":0},0,null,{"$f":"IF(AS7=\"\",\"\",REPT(AT7,AS7-1))","v":""},{"$f":"IF(AT7=\"\",\"\",HLOOKUP(AN7,$BE$6:$BL$23,18,FALSE))","v":""},{"$f":"IF(OR(AN7=0,AN7=\"\"),\"\",IF(OR(AN7=AN8,AN7=AN9,AN7=AN10,AN7=AN11,AN7=AN12,AN7=AN13,AN7=AN14,AN7=AN15,AN7=AN16,AN7=AN17,AN7=AN18,AN7=AN19,AN7=AN20,AN7=AN21,AN7=AN22),\"=\",\"\"))","v":""},null,{"$f":"IF(AW7=\"\",\"\",REPT(AX7,AW7-1))","v":""},{"$f":"IF(AX7=\"\",\"\",HLOOKUP(AO7,$BM$6:$BT$23,18,FALSE))","v":""},{"$f":"IF(OR(AO7=0,AO7=\"\"),\"\",IF(OR(AO7=AO8,AO7=AO9,AO7=AO10,AO7=AO11,AO7=AO12,AO7=AO13,AO7=AO14,AO7=AO15,AO7=AO16,AO7=AO17,AO7=AO18,AO7=AO19,AO7=AO20,AO7=AO21,AO7=AO22),\"=\",\"\"))","v":""},{"$f":"IF(OR(AL7=0,AG7=0,AM7=\"B\"),\"\",AL7)","v":""},{"$f":"IF(OR(AL7=0,AG7=0,AM7=\"A\"),\"\",AL7)","v":""},null,{"$f":"IF(AY7=\"\",\"\",AY7+($AP7/10))","v":""},"",null,{"$f":"IF($AN7=\"\",\"\",IF($AN7=BE$6,$AN7,\"\"))","v":""},"","","","","","","",{"$f":"IF($AO7=\"\",\"\",IF($AO7=BM$6,$AO7,\"\"))","v":""},"","","","","","",""]
[null,3,{"$f":"IF(AL8=0,0,IF(AM8=\"B\",\"\",RANK(BB8,$BB$7:$BB$22,1)))","v":0},{"$f":"IF(AL8=0,0,IF(AM8=\"A\",\"\",RANK(BC8,$BC$7:$BC$22,1)))","v":0},2,{"$f":"HLOOKUP(E8,womens_handbook,B3,FALSE)","v":3},{"$f":"IF(ISERROR(HLOOKUP(F8,'Declarations (F)'!$D$3:$S$31,B4,FALSE))=TRUE,\"\",HLOOKUP(F8,'Declarations (F)'!$D$3:$S$31,B4,FALSE))","v":"-"},"Marshall Milton Keynes AC",null,null,null,null,null,null,null,null,null,null,null,null,null,null,null,null,null,null,null,null,null,null,null,null,0,null,null,null,null,0,{"$f":"IF(OR(AL8=0,AL8=\"\"),\"\",IF(VLOOKUP(F8*11,$F$15:$AL$22,33,FALSE)=0,\"A\",IF(AL8>(VLOOKUP(F8*11,$F$15:$AL$22,33,FALSE)),\"B\",\"A\")))","v":""},{"$f":"IF(AL8=0,0,IF(AM8=\"B\",\"\",RANK(AY8,$AY7:$AY22,1)))","v":0},{"$f":"IF(AL8=0,0,IF(AM8=\"A\",\"\",RANK(AZ8,$AZ7:$AZ22,1)))","v":0},0,null,"","",{"$f":"IF(OR(AN8=0,AN8=\"\"),\"\",IF(OR(AN8=AN9,AN8=AN10,AN8=AN11,AN8=AN12,AN8=AN13,AN8=AN14,AN8=AN15,AN8=AN16,AN8=AN17,AN8=AN18,AN8=AN19,AN8=AN20,AN8=AN21,AN8=AN22,AN8=AN7),\"=\",\"\"))","v":""},null,"","",{"$f":"IF(OR(AO8=0,AO8=\"\"),\"\",IF(OR(AO8=AO9,AO8=AO10,AO8=AO11,AO8=AO12,AO8=AO13,AO8=AO14,AO8=AO15,AO8=AO16,AO8=AO17,AO8=AO18,AO8=AO19,AO8=AO20,AO8=AO21,AO8=AO22,AO8=AO7),\"=\",\"\"))","v":""},{"$f":"IF(OR(AL8=0,AG8=0,AM8=\"B\"),\"\",AL8)","v":""},{"$f":"IF(OR(AL8=0,AG8=0,AM8=\"A\"),\"\",AL8)","v":""},null,"","",null,"","","","","","","","","","","","","","","",""]
[null,5,0,0,3,{"$f":"HLOOKUP(E9,womens_handbook,B3,FALSE)","v":5},{"$f":"IF(ISERROR(HLOOKUP(F9,'Declarations (F)'!$D$3:$S$31,B4,FALSE))=TRUE,\"\",HLOOKUP(F9,'Declarations (F)'!$D$3:$S$31,B4,FALSE))","v":"-"},"Shaftesbury Barnet H",null,null,null,null,null,null,null,null,null,null,null,null,null,null,null,null,null,null,null,null,null,null,null,null,0,null,null,null,null,0,"",{"$f":"IF(AL9=0,0,IF(AM9=\"B\",\"\",RANK(AY9,$AY7:$AY22,1)))","v":0},{"$f":"IF(AL9=0,0,IF(AM9=\"A\",\"\",RANK(AZ9,$AZ7:$AZ22,1)))","v":0},0,null,"",{"$f":"IF(AT9=\"\",\"\",HLOOKUP(AN9,$BE$6:$BL$23,18,FALSE))","v":""},{"$f":"IF(OR(AN9=0,AN9=\"\"),\"\",IF(OR(AN9=AN10,AN9=AN11,AN9=AN12,AN9=AN13,AN9=AN14,AN9=AN15,AN9=AN16,AN9=AN17,AN9=AN18,AN9=AN19,AN9=AN20,AN9=AN21,AN9=AN22,AN9=AN7,AN9=AN8),\"=\",\"\"))","v":""},null,"","",{"$f":"IF(OR(AO9=0,AO9=\"\"),\"\",IF(OR(AO9=AO10,AO9=AO11,AO9=AO12,AO9=AO13,AO9=AO14,AO9=AO15,AO9=AO16,AO9=AO17,AO9=AO18,AO9=AO19,AO9=AO20,AO9=AO21,AO9=AO22,AO9=AO7,AO9=AO8),\"=\",\"\"))","v":""},"","",null,"","",null,"","","","","","","","","","","","","","","",""]
[null,2,0,0,4,{"$f":"HLOOKUP(E10,womens_handbook,B3,FALSE)","v":2},{"$f":"IF(ISERROR(HLOOKUP(F10,'Declarations (F)'!$D$3:$S$31,B4,FALSE))=TRUE,\"\",HLOOKUP(F10,'Declarations (F)'!$D$3:$S$31,B4,FALSE))","v":"-"},"Blackheath & Bromley H",null,null,null,null,null,null,null,null,null,null,null,null,null,null,null,null,null,null,null,null,null,null,null,null,0,null,null,null,null,0,"",{"$f":"IF(AL10=0,0,IF(AM10=\"B\",\"\",RANK(AY10,$AY7:$AY22,1)))","v":0},{"$f":"IF(AL10=0,0,IF(AM10=\"A\",\"\",RANK(AZ10,$AZ7:$AZ22,1)))","v":0},0,null,"","",{"$f":"IF(OR(AN10=0,AN10=\"\"),\"\",IF(OR(AN10=AN11,AN10=AN12,AN10=AN13,AN10=AN14,AN10=AN15,AN10=AN16,AN10=AN17,AN10=AN18,AN10=AN19,AN10=AN20,AN10=AN21,AN10=AN22,AN10=AN7,AN10=AN8,AN10=AN9),\"=\",\"\"))","v":""},null,"","",{"$f":"IF(OR(AO10=0,AO10=\"\"),\"\",IF(OR(AO10=AO11,AO10=AO12,AO10=AO13,AO10=AO14,AO10=AO15,AO10=AO16,AO10=AO17,AO10=AO18,AO10=AO19,AO10=AO20,AO10=AO21,AO10=AO22,AO10=AO7,AO10=AO8,AO10=AO9),\"=\",\"\"))","v":""},"","",null,"","",null,"","","","","","","","","","","","","","","",""]
[null,4,0,0,5,{"$f":"HLOOKUP(E11,womens_handbook,B3,FALSE)","v":4},{"$f":"IF(ISERROR(HLOOKUP(F11,'Declarations (F)'!$D$3:$S$31,B4,FALSE))=TRUE,\"\",HLOOKUP(F11,'Declarations (F)'!$D$3:$S$31,B4,FALSE))","v":"-"},"Newham & Essex Beagles AC",null,null,null,null,null,null,null,null,null,null,null,null,null,null,null,null,null,null,null,null,null,null,null,null,0,null,null,null,null,0,"",{"$f":"IF(AL11=0,0,IF(AM11=\"B\",\"\",RANK(AY11,$AY7:$AY22,1)))","v":0},{"$f":"IF(AL11=0,0,IF(AM11=\"A\",\"\",RANK(AZ11,$AZ7:$AZ22,1)))","v":0},0,null,"","",{"$f":"IF(OR(AN11=0,AN11=\"\"),\"\",IF(OR(AN11=AN12,AN11=AN13,AN11=AN14,AN11=AN15,AN11=AN16,AN11=AN17,AN11=AN18,AN11=AN19,AN11=AN20,AN11=AN21,AN11=AN22,AN11=AN7,AN11=AN8,AN11=AN9,AN11=AN10),\"=\",\"\"))","v":""},null,"","",{"$f":"IF(OR(AO11=0,AO11=\"\"),\"\",IF(OR(AO11=AO12,AO11=AO13,AO11=AO14,AO11=AO15,AO11=AO16,AO11=AO17,AO11=AO18,AO11=AO19,AO11=AO20,AO11=AO21,AO11=AO22,AO11=AO7,AO11=AO8,AO11=AO9,AO11=AO10),\"=\",\"\"))","v":""},"","",null,"","",null,"","","","","","","","","","","","","","","",""]
[null,6,0,0,6,{"$f":"HLOOKUP(E12,womens_handbook,B3,FALSE)","v":6},{"$f":"IF(ISERROR(HLOOKUP(F12,'Declarations (F)'!$D$3:$S$31,B4,FALSE))=TRUE,\"\",HLOOKUP(F12,'Declarations (F)'!$D$3:$S$31,B4,FALSE))","v":"-"},"Southampton AC",null,null,null,null,null,null,null,null,null,null,null,null,null,null,null,null,null,null,null,null,null,null,null,null,0,null,null,null,null,0,"",{"$f":"IF(AL12=0,0,IF(AM12=\"B\",\"\",RANK(AY12,$AY7:$AY22,1)))","v":0},{"$f":"IF(AL12=0,0,IF(AM12=\"A\",\"\",RANK(AZ12,$AZ7:$AZ22,1)))","v":0},0,null,"","",{"$f":"IF(OR(AN12=0,AN12=\"\"),\"\",IF(OR(AN12=AN13,AN12=AN14,AN12=AN15,AN12=AN16,AN12=AN17,AN12=AN18,AN12=AN19,AN12=AN20,AN12=AN21,AN12=AN22,AN12=AN7,AN12=AN8,AN12=AN9,AN12=AN10,AN12=AN11),\"=\",\"\"))","v":""},null,"","",{"$f":"IF(OR(AO12=0,AO12=\"\"),\"\",IF(OR(AO12=AO13,AO12=AO14,AO12=AO15,AO12=AO16,AO12=AO17,AO12=AO18,AO12=AO19,AO12=AO20,AO12=AO21,AO12=AO22,AO12=AO7,AO12=AO8,AO12=AO9,AO12=AO10,AO12=AO11),\"=\",\"\"))","v":""},"","",null,"","",null,"","","","","","","","","","","","","","","",""]
[null,8,0,0,7,{"$f":"HLOOKUP(E13,womens_handbook,B3,FALSE)","v":8},{"$f":"IF(ISERROR(HLOOKUP(F13,'Declarations (F)'!$D$3:$S$31,B4,FALSE))=TRUE,\"\",HLOOKUP(F13,'Declarations (F)'!$D$3:$S$31,B4,FALSE))","v":"-"},"Thames Valley H",null,null,null,null,null,null,null,null,null,null,null,null,null,null,null,null,null,null,null,null,null,null,null,null,0,null,null,null,null,0,"",{"$f":"IF(AL13=0,0,IF(AM13=\"B\",\"\",RANK(AY13,$AY7:$AY22,1)))","v":0},{"$f":"IF(AL13=0,0,IF(AM13=\"A\",\"\",RANK(AZ13,$AZ7:$AZ22,1)))","v":0},0,null,"","",{"$f":"IF(OR(AN13=0,AN13=\"\"),\"\",IF(OR(AN13=AN14,AN13=AN15,AN13=AN16,AN13=AN17,AN13=AN18,AN13=AN19,AN13=AN20,AN13=AN21,AN13=AN22,AN13=AN7,AN13=AN8,AN13=AN9,AN13=AN10,AN13=AN11,AN13=AN12),\"=\",\"\"))","v":""},null,"","",{"$f":"IF(OR(AO13=0,AO13=\"\"),\"\",IF(OR(AO13=AO14,AO13=AO15,AO13=AO16,AO13=AO17,AO13=AO18,AO13=AO19,AO13=AO20,AO13=AO21,AO13=AO22,AO13=AO7,AO13=AO8,AO13=AO9,AO13=AO10,AO13=AO11,AO13=AO12),\"=\",\"\"))","v":""},"","",null,"","",null,"","","","","","","","","","","","","","","",""]
[null,7,0,0,8,{"$f":"HLOOKUP(E14,womens_handbook,B3,FALSE)","v":7},{"$f":"IF(ISERROR(HLOOKUP(F14,'Declarations (F)'!$D$3:$S$31,B4,FALSE))=TRUE,\"\",HLOOKUP(F14,'Declarations (F)'!$D$3:$S$31,B4,FALSE))","v":"-"},"Swansea H",null,null,null,null,null,null,null,null,null,null,null,null,null,null,null,null,null,null,null,null,null,null,null,null,0,null,null,null,null,0,"",{"$f":"IF(AL14=0,0,IF(AM14=\"B\",\"\",RANK(AY14,$AY7:$AY22,1)))","v":0},{"$f":"IF(AL14=0,0,IF(AM14=\"A\",\"\",RANK(AZ14,$AZ7:$AZ22,1)))","v":0},0,null,"","",{"$f":"IF(OR(AN14=0,AN14=\"\"),\"\",IF(OR(AN14=AN15,AN14=AN16,AN14=AN17,AN14=AN18,AN14=AN19,AN14=AN20,AN14=AN21,AN14=AN22,AN14=AN7,AN14=AN8,AN14=AN9,AN14=AN10,AN14=AN11,AN14=AN12,AN14=AN13),\"=\",\"\"))","v":""},null,"","",{"$f":"IF(OR(AO14=0,AO14=\"\"),\"\",IF(OR(AO14=AO15,AO14=AO16,AO14=AO17,AO14=AO18,AO14=AO19,AO14=AO20,AO14=AO21,AO14=AO22,AO14=AO7,AO14=AO8,AO14=AO9,AO14=AO10,AO14=AO11,AO14=AO12,AO14=AO13),\"=\",\"\"))","v":""},"","",null,"","",null,"","","","","","","","","","","","","","","",""]
[null,1,0,0,9,{"$f":"HLOOKUP(E15,womens_handbook,B3,FALSE)","v":11},{"$f":"IF(ISERROR(HLOOKUP(F15,'Declarations (F)'!$D$3:$S$31,B4,FALSE))=TRUE,\"\",HLOOKUP(F15,'Declarations (F)'!$D$3:$S$31,B4,FALSE))","v":"-"},"Bedford & County AC",null,null,null,null,null,null,null,null,null,null,null,null,null,null,null,null,null,null,null,null,null,null,null,null,0,null,null,null,null,0,{"$f":"IF(OR(AL15=0,AL15=\"\"),\"\",IF(VLOOKUP(F15/11,$F$7:$AL$14,33,FALSE)=0,\"A\",IF(AL15>=VLOOKUP(F15/11,$F$7:$AL$14,33,FALSE),\"B\",\"A\")))","v":""},{"$f":"IF(AL15=0,0,IF(AM15=\"B\",\"\",RANK(AY15,$AY7:$AY22,1)))","v":0},{"$f":"IF(AL15=0,0,IF(AM15=\"A\",\"\",RANK(AZ15,$AZ7:$AZ22,1)))","v":0},0,null,"","",{"$f":"IF(OR(AN15=0,AN15=\"\"),\"\",IF(OR(AN15=AN16,AN15=AN17,AN15=AN18,AN15=AN19,AN15=AN20,AN15=AN21,AN15=AN22,AN15=AN7,AN15=AN8,AN15=AN9,AN15=AN10,AN15=AN11,AN15=AN12,AN15=AN13,AN15=AN14),\"=\",\"\"))","v":""},null,"","",{"$f":"IF(OR(AO15=0,AO15=\"\"),\"\",IF(OR(AO15=AO16,AO15=AO17,AO15=AO18,AO15=AO19,AO15=AO20,AO15=AO21,AO15=AO22,AO15=AO7,AO15=AO8,AO15=AO9,AO15=AO10,AO15=AO11,AO15=AO12,AO15=AO13,AO15=AO14),\"=\",\"\"))","v":""},"","",null,"","",null,"","","","","","","","","","","","","","","",""]
[null,3,0,0,10,{"$f":"HLOOKUP(E16,womens_handbook,B3,FALSE)","v":33},{"$f":"IF(ISERROR(HLOOKUP(F16,'Declarations (F)'!$D$3:$S$31,B4,FALSE))=TRUE,\"\",HLOOKUP(F16,'Declarations (F)'!$D$3:$S$31,B4,FALSE))","v":"-"},"Marshall Milton Keynes AC",null,null,null,null,null,null,null,null,null,null,null,null,null,null,null,null,null,null,null,null,null,null,null,null,0,null,null,null,null,0,{"$f":"IF(OR(AL16=0,AL16=\"\"),\"\",IF(VLOOKUP(F16/11,$F$7:$AL$14,33,FALSE)=0,\"A\",IF(AL16>=VLOOKUP(F16/11,$F$7:$AL$14,33,FALSE),\"B\",\"A\")))","v":""},{"$f":"IF(AL16=0,0,IF(AM16=\"B\",\"\",RANK(AY16,$AY7:$AY22,1)))","v":0},{"$f":"IF(AL16=0,0,IF(AM16=\"A\",\"\",RANK(AZ16,$AZ7:$AZ22,1)))","v":0},0,null,"","",{"$f":"IF(OR(AN16=0,AN16=\"\"),\"\",IF(OR(AN16=AN17,AN16=AN18,AN16=AN19,AN16=AN20,AN16=AN21,AN16=AN22,AN16=AN7,AN16=AN8,AN16=AN9,AN16=AN10,AN16=AN11,AN16=AN12,AN16=AN13,AN16=AN14,AN16=AN15),\"=\",\"\"))","v":""},null,"","",{"$f":"IF(OR(AO16=0,AO16=\"\"),\"\",IF(OR(AO16=AO17,AO16=AO18,AO16=AO19,AO16=AO20,AO16=AO21,AO16=AO22,AO16=AO7,AO16=AO8,AO16=AO9,AO16=AO10,AO16=AO11,AO16=AO12,AO16=AO13,AO16=AO14,AO16=AO15),\"=\",\"\"))","v":""},"","",null,"","",null,"","","","","","","","","","","","","","","",""]
[null,5,0,0,11,{"$f":"HLOOKUP(E17,womens_handbook,B3,FALSE)","v":55},{"$f":"IF(ISERROR(HLOOKUP(F17,'Declarations (F)'!$D$3:$S$31,B4,FALSE))=TRUE,\"\",HLOOKUP(F17,'Declarations (F)'!$D$3:$S$31,B4,FALSE))","v":"-"},"Shaftesbury Barnet H",null,null,null,null,null,null,null,null,null,null,null,null,null,null,null,null,null,null,null,null,null,null,null,null,0,null,null,null,null,0,"",{"$f":"IF(AL17=0,0,IF(AM17=\"B\",\"\",RANK(AY17,$AY7:$AY22,1)))","v":0},{"$f":"IF(AL17=0,0,IF(AM17=\"A\",\"\",RANK(AZ17,$AZ7:$AZ22,1)))","v":0},0,null,"","",{"$f":"IF(OR(AN17=0,AN17=\"\"),\"\",IF(OR(AN17=AN18,AN17=AN19,AN17=AN20,AN17=AN21,AN17=AN22,AN17=AN7,AN17=AN8,AN17=AN9,AN17=AN10,AN17=AN11,AN17=AN12,AN17=AN13,AN17=AN14,AN17=AN15,AN17=AN16),\"=\",\"\"))","v":""},null,"","",{"$f":"IF(OR(AO17=0,AO17=\"\"),\"\",IF(OR(AO17=AO18,AO17=AO19,AO17=AO20,AO17=AO21,AO17=AO22,AO17=AO7,AO17=AO8,AO17=AO9,AO17=AO10,AO17=AO11,AO17=AO12,AO17=AO13,AO17=AO14,AO17=AO15,AO17=AO16),\"=\",\"\"))","v":""},"","",null,"","",null,"","","","","","","","","","","","","","","",""]
[null,2,0,0,12,{"$f":"HLOOKUP(E18,womens_handbook,B3,FALSE)","v":22},{"$f":"IF(ISERROR(HLOOKUP(F18,'Declarations (F)'!$D$3:$S$31,B4,FALSE))=TRUE,\"\",HLOOKUP(F18,'Declarations (F)'!$D$3:$S$31,B4,FALSE))","v":"-"},"Blackheath & Bromley H",null,null,null,null,null,null,null,null,null,null,null,null,null,null,null,null,null,null,null,null,null,null,null,null,0,null,null,null,null,0,"",{"$f":"IF(AL18=0,0,IF(AM18=\"B\",\"\",RANK(AY18,$AY7:$AY22,1)))","v":0},{"$f":"IF(AL18=0,0,IF(AM18=\"A\",\"\",RANK(AZ18,$AZ7:$AZ22,1)))","v":0},0,null,"","",{"$f":"IF(OR(AN18=0,AN18=\"\"),\"\",IF(OR(AN18=AN19,AN18=AN20,AN18=AN21,AN18=AN22,AN18=AN7,AN18=AN8,AN18=AN9,AN18=AN10,AN18=AN11,AN18=AN12,AN18=AN13,AN18=AN14,AN18=AN15,AN18=AN16,AN18=AN17),\"=\",\"\"))","v":""},null,"","",{"$f":"IF(OR(AO18=0,AO18=\"\"),\"\",IF(OR(AO18=AO19,AO18=AO20,AO18=AO21,AO18=AO22,AO18=AO7,AO18=AO8,AO18=AO9,AO18=AO10,AO18=AO11,AO18=AO12,AO18=AO13,AO18=AO14,AO18=AO15,AO18=AO16,AO18=AO17),\"=\",\"\"))","v":""},"","",null,"","",null,"","","","","","","","","","","","","","","",""]
[null,4,0,0,13,{"$f":"HLOOKUP(E19,womens_handbook,B3,FALSE)","v":44},{"$f":"IF(ISERROR(HLOOKUP(F19,'Declarations (F)'!$D$3:$S$31,B4,FALSE))=TRUE,\"\",HLOOKUP(F19,'Declarations (F)'!$D$3:$S$31,B4,FALSE))","v":"-"},"Newham & Essex Beagles AC",null,null,null,null,null,null,null,null,null,null,null,null,null,null,null,null,null,null,null,null,null,null,null,null,0,null,null,null,null,0,"",{"$f":"IF(AL19=0,0,IF(AM19=\"B\",\"\",RANK(AY19,$AY7:$AY22,1)))","v":0},{"$f":"IF(AL19=0,0,IF(AM19=\"A\",\"\",RANK(AZ19,$AZ7:$AZ22,1)))","v":0},0,null,"","",{"$f":"IF(OR(AN19=0,AN19=\"\"),\"\",IF(OR(AN19=AN20,AN19=AN21,AN19=AN22,AN19=AN7,AN19=AN8,AN19=AN9,AN19=AN10,AN19=AN11,AN19=AN12,AN19=AN13,AN19=AN14,AN19=AN15,AN19=AN16,AN19=AN17,AN19=AN18),\"=\",\"\"))","v":""},null,"","",{"$f":"IF(OR(AO19=0,AO19=\"\"),\"\",IF(OR(AO19=AO20,AO19=AO21,AO19=AO22,AO19=AO7,AO19=AO8,AO19=AO9,AO19=AO10,AO19=AO11,AO19=AO12,AO19=AO13,AO19=AO14,AO19=AO15,AO19=AO16,AO19=AO17,AO19=AO18),\"=\",\"\"))","v":""},"","",null,"","",null,"","","","","","","","","","","","","","","",""]
[null,6,0,0,14,{"$f":"HLOOKUP(E20,womens_handbook,B3,FALSE)","v":66},{"$f":"IF(ISERROR(HLOOKUP(F20,'Declarations (F)'!$D$3:$S$31,B4,FALSE))=TRUE,\"\",HLOOKUP(F20,'Declarations (F)'!$D$3:$S$31,B4,FALSE))","v":"-"},"Southampton AC",null,null,null,null,null,null,null,null,null,null,null,null,null,null,null,null,null,null,null,null,null,null,null,null,0,null,null,null,null,0,"",{"$f":"IF(AL20=0,0,IF(AM20=\"B\",\"\",RANK(AY20,$AY7:$AY22,1)))","v":0},{"$f":"IF(AL20=0,0,IF(AM20=\"A\",\"\",RANK(AZ20,$AZ7:$AZ22,1)))","v":0},0,null,"","",{"$f":"IF(OR(AN20=0,AN20=\"\"),\"\",IF(OR(AN20=AN21,AN20=AN22,AN20=AN7,AN20=AN8,AN20=AN9,AN20=AN10,AN20=AN11,AN20=AN12,AN20=AN13,AN20=AN14,AN20=AN15,AN20=AN16,AN20=AN17,AN20=AN18,AN20=AN19),\"=\",\"\"))","v":""},null,"","",{"$f":"IF(OR(AO20=0,AO20=\"\"),\"\",IF(OR(AO20=AO21,AO20=AO22,AO20=AO7,AO20=AO8,AO20=AO9,AO20=AO10,AO20=AO11,AO20=AO12,AO20=AO13,AO20=AO14,AO20=AO15,AO20=AO16,AO20=AO17,AO20=AO18,AO20=AO19),\"=\",\"\"))","v":""},"","",null,"","",null,"","","","","","","","","","","","","","","",""]
[null,8,0,0,15,{"$f":"HLOOKUP(E21,womens_handbook,B3,FALSE)","v":88},{"$f":"IF(ISERROR(HLOOKUP(F21,'Declarations (F)'!$D$3:$S$31,B4,FALSE))=TRUE,\"\",HLOOKUP(F21,'Declarations (F)'!$D$3:$S$31,B4,FALSE))","v":"-"},"Thames Valley H",null,null,null,null,null,null,null,null,null,null,null,null,null,null,null,null,null,null,null,null,null,null,null,null,0,null,null,null,null,0,"",{"$f":"IF(AL21=0,0,IF(AM21=\"B\",\"\",RANK(AY21,$AY7:$AY22,1)))","v":0},{"$f":"IF(AL21=0,0,IF(AM21=\"A\",\"\",RANK(AZ21,$AZ7:$AZ22,1)))","v":0},0,null,"","",{"$f":"IF(OR(AN21=0,AN21=\"\"),\"\",IF(OR(AN21=AN22,AN21=AN7,AN21=AN8,AN21=AN9,AN21=AN10,AN21=AN11,AN21=AN12,AN21=AN13,AN21=AN14,AN21=AN15,AN21=AN16,AN21=AN17,AN21=AN18,AN21=AN19,AN21=AN20),\"=\",\"\"))","v":""},null,"","",{"$f":"IF(OR(AO21=0,AO21=\"\"),\"\",IF(OR(AO21=AO22,AO21=AO7,AO21=AO8,AO21=AO9,AO21=AO10,AO21=AO11,AO21=AO12,AO21=AO13,AO21=AO14,AO21=AO15,AO21=AO16,AO21=AO17,AO21=AO18,AO21=AO19,AO21=AO20),\"=\",\"\"))","v":""},"","",null,"","",null,"","","","","","","","","","","","","","","",""]
[null,7,0,0,16,{"$f":"HLOOKUP(E22,womens_handbook,B3,FALSE)","v":77},{"$f":"IF(ISERROR(HLOOKUP(F22,'Declarations (F)'!$D$3:$S$31,B4,FALSE))=TRUE,\"\",HLOOKUP(F22,'Declarations (F)'!$D$3:$S$31,B4,FALSE))","v":"-"},"Swansea H",null,null,null,null,null,null,null,null,null,null,null,null,null,null,null,null,null,null,null,null,null,null,null,null,0,null,null,null,null,0,"",{"$f":"IF(AL22=0,0,IF(AM22=\"B\",\"\",RANK(AY22,$AY7:$AY22,1)))","v":0},{"$f":"IF(AL22=0,0,IF(AM22=\"A\",\"\",RANK(AZ22,$AZ7:$AZ22,1)))","v":0},0,null,"","",{"$f":"IF(OR(AN22=0,AN22=\"\"),\"\",IF(OR(AN22=AN7,AN22=AN8,AN22=AN9,AN22=AN10,AN22=AN11,AN22=AN12,AN22=AN13,AN22=AN14,AN22=AN15,AN22=AN16,AN22=AN17,AN22=AN18,AN22=AN19,AN22=AN20,AN22=AN21),\"=\",\"\"))","v":""},null,"","",{"$f":"IF(OR(AO22=0,AO22=\"\"),\"\",IF(OR(AO22=AO7,AO22=AO8,AO22=AO9,AO22=AO10,AO22=AO11,AO22=AO12,AO22=AO13,AO22=AO14,AO22=AO15,AO22=AO16,AO22=AO17,AO22=AO18,AO22=AO19,AO22=AO20,AO22=AO21),\"=\",\"\"))","v":""},"","",null,"","",null,"","","","","","","","","","","","","","","",""]
[null,null,null,null,null,null,null,null,null,null,null,null,null,null,null,null,null,null,null,null,null,null,null,null,null,null,null,null,null,null,null,null,null,null,null,null,null,null,null,null,null,null,null,null,null,null,null,null,null,null,null,null,null,null,null,null,{"$f":"COUNTIF(BE7:BE22,BE6)","v":0},0,0,0,0,0,0,0,0,0,0,0,0,0,0,0]
[null,null,null,null,"\"A\" STRING RESULT",null,null,null,null,null,"\"B\" STRING RESULT",null,null,null,null,null,null,null,null,null,null,null,null,null,null,null,null,null,"JUDGES' SIGNATURES"]
[null,null,null,null,"Posn","No.","NAME","CLUB","HEIGHT",null,"Posn",null,"No.",null,"NAME",null,null,null,null,null,"CLUB",null,null,null,null,null,"HEIGHT"]
[null,null,null,1,{"$f":"IF(ISERROR(VLOOKUP(D26,$C$7:$AR$22,31,FALSE))=TRUE,\"\",IF(VLOOKUP(D26,$C$7:$AR$22,42,FALSE)=\"\",VLOOKUP(D26,$C$7:$AR$22,38,FALSE),CONCATENATE(VLOOKUP(D26,$C$7:$AR$22,38,FALSE),VLOOKUP(D26,$C$7:$AR$22,42,FALSE))))","v":""},{"$f":"IF(ISERROR(VLOOKUP(D26,$C$7:$AH$22,31,FALSE))=TRUE,\"\",IF(VLOOKUP(D26,$C$7:$AH$22,31,FALSE)=0,\"\",IF(VLOOKUP(D26,$C$7:$AH$22,31,FALSE)=99,99,IF(VLOOKUP(D26,$C$7:$AH$22,31,FALSE)=97,97,IF(VLOOKUP(D26,$C$7:$AH$22,31,FALSE)=96,96,VLOOKUP(D26,$C$7:$AH$22,4,FALSE))))))","v":""},{"$f":"IF(ISERROR(VLOOKUP(D26,$C$7:$AH$22,31,FALSE))=TRUE,\"\",VLOOKUP(D26,$C$7:$AH$22,5,FALSE))","v":""},{"$f":"IF(ISERROR(VLOOKUP(D26,$C$7:$AH$22,31,FALSE))=TRUE,\"\",VLOOKUP(D26,$C$7:$AH$22,6,FALSE))","v":""},{"$f":"IF(ISERROR(VLOOKUP(D26,$C$7:$AH$22,31,FALSE))=TRUE,\"\",IF(VLOOKUP(D26,C$7:AH$22,31,FALSE)=0,0,IF(VLOOKUP(D26,C$7:AH$22,31,FALSE)>95.99,\"\",VLOOKUP(D26,C$7:AH$22,31,FALSE))))","v":""},null,{"$f":"IF(ISERROR(VLOOKUP(D26,$D$7:$AV$22,30,FALSE))=TRUE,\"\",IF(VLOOKUP(D26,$D$7:$AV$22,45,FALSE)=\"\",VLOOKUP(D26,$D$7:$AV$22,38,FALSE),CONCATENATE(VLOOKUP(D26,$D$7:$AV$22,38,FALSE),VLOOKUP(D26,$D$7:$AV$22,45,FALSE))))","v":""},{"$f":"IF(ISERROR(VLOOKUP(K26,$C$7:$AR$22,31,FALSE))=TRUE,\"\",CONCATENATE(VLOOKUP(K26,$C$7:$AR$22,38,FALSE),VLOOKUP(K26,$C$7:$AR$22,42,FALSE)))","v":""},{"$f":"IF(ISERROR(VLOOKUP(D26,$D$7:$AH$22,30,FALSE))=TRUE,\"\",IF(VLOOKUP(D26,$D$7:$AH$22,30,FALSE)=0,\"\",VLOOKUP(D26,$D$7:$AH$22,3,FALSE)))","v":""},null,{"$f":"IF(ISERROR(VLOOKUP(D26,$D$7:$AH$22,30,FALSE))=TRUE,\"\",VLOOKUP(D26,$D$7:$AH$22,4,FALSE))","v":""},null,null,null,null,null,{"$f":"IF(ISERROR(VLOOKUP(D26,$D$7:$AH$22,30,FALSE))=TRUE,\"\",VLOOKUP(D26,$D$7:$AH$22,5,FALSE))","v":""},null,null,null,null,null,{"$f":"IF(ISERROR(VLOOKUP(D26,$D$7:$AH$22,30,FALSE))=TRUE,\"\",IF(VLOOKUP(D26,$D$7:$AH$22,30,FALSE)=0,\"\",VLOOKUP(D26,$D$7:$AH$22,30,FALSE)))","v":""}]
[null,null,null,2,"","","","","",null,"","","",null,"",null,null,null,null,null,"",null,null,null,null,null,""]
[null,null,null,3,"","","","","",null,"","","",null,"",null,null,null,null,null,"",null,null,null,null,null,""]
[null,null,null,4,"","","","","",null,"","","",null,"",null,null,null,null,null,"",null,null,null,null,null,""]
[null,null,null,5,"","","","","",null,"","","",null,"",null,null,null,null,null,"",null,null,null,null,null,""]
[null,null,null,6,"","","","","",null,"","","",null,"",null,null,null,null,null,"",null,null,null,null,null,"",null,"REFEREE'S SIGNATURE"]
[null,null,null,7,"","","","","",null,"","","",null,"",null,null,null,null,null,"",null,null,null,null,null,""]
[null,null,null,8,"","","","","",null,"","","",null,"",null,null,null,null,null,"",null,null,null,null,null,""]

{"sheet":"Womens PV","index":19,"n_rows":33,"n_cols":72,"rows_kept":33,"cut":false,"hidden":true,"merged":[[0,4,0,5],[28,12,28,13],[28,10,28,11],[7,8,7,9],[8,8,8,9],[5,8,5,9],[5,10,5,11],[5,12,5,13],[2,4,2,5],[0,6,0,40],[27,20,27,25],[5,14,5,15],[5,16,5,17],[5,18,5,19],[5,20,5,21],[21,16,21,17],[24,20,24,25],[13,14,13,15],[14,14,14,15],[3,4,3,5],[21,18,21,19],[4,39,5,40],[4,37,5,37],[5,22,5,23],[32,8,32,9],[29,26,29,27],[30,26,30,27],[31,26,31,27],[32,26,32,27],[29,10,29,11],[32,10,32,11],[31,8,31,9],[29,8,29,9],[30,8,30,9],[31,10,31,11],[29,20,29,25],[30,20,30,25],[30,10,30,11],[5,24,5,25],[5,26,5,27],[5,28,5,29],[5,30,5,31],[4,32,4,33],[5,32,5,33],[19,32,19,33],[20,32,20,33],[23,28,23,40],[19,26,19,27],[20,26,20,27],[4,36,5,36],[6,24,6,25],[7,24,7,25],[8,24,8,25],[10,24,10,25],[9,24,9,25],[15,24,15,25],[16,24,16,25],[17,24,17,25],[18,24,18,25],[12,26,12,27],[14,26,14,27],[15,26,15,27],[24,26,24,27],[21,28,21,29],[28,8,28,9],[25,8,25,9],[26,8,26,9],[26,20,26,25],[25,12,25,13],[25,14,25,19],[25,20,25,25],[28,20,28,25],[27,12,27,13],[27,14,27,19],[27,26,27,27],[26,26,26,27],[28,26,28,27],[21,26,21,27],[27,8,27,9],[26,12,26,13],[24,8,24,9],[24,12,24,13],[23,4,23,9],[21,14,21,15],[21,20,21,21],[26,14,26,19],[2,8,2,10],[4,8,4,9],[4,10,4,11],[2,6,2,7],[3,6,3,7],[2,11,2,25],[4,12,4,13],[4,14,4,15],[3,20,3,22],[3,8,3,10],[3,23,3,40],[4,28,4,29],[4,18,4,19],[4,24,4,25],[2,29,2,40],[3,11,3,13],[3,14,3,19],[4,26,4,27],[4,30,4,31],[4,20,4,21],[4,22,4,23],[2,26,2,28],[4,34,5,34],[4,35,5,35],[6,8,6,9],[27,10,27,11],[9,8,9,9],[11,8,11,9],[23,10,23,27],[17,26,17,27],[25,26,25,27],[18,26,18,27],[12,32,12,33],[6,20,6,21],[7,20,7,21],[6,32,6,33],[13,32,13,33],[14,32,14,33],[18,10,18,11],[19,12,19,13],[20,12,20,13],[19,14,19,15],[20,14,20,15],[21,12,21,13],[6,14,6,15],[7,14,7,15],[8,14,8,15],[9,14,9,15],[30,28,30,40],[25,10,25,11],[26,10,26,11],[8,32,8,33],[14,10,14,11],[6,12,6,13],[9,32,9,33],[7,32,7,33],[17,32,17,33],[15,32,15,33],[16,32,16,33],[11,32,11,33],[10,32,10,33],[18,32,18,33],[21,32,21,33],[13,12,13,13],[14,12,14,13],[15,12,15,13],[16,12,16,13],[17,12,17,13],[18,12,18,13],[15,10,15,11],[16,10,16,11],[17,10,17,11],[4,16,4,17],[6,10,6,11],[7,10,7,11],[8,10,8,11],[9,10,9,11],[18,8,18,9],[19,8,19,9],[20,8,20,9],[21,8,21,9],[14,8,14,9],[15,8,15,9],[16,8,16,9],[17,8,17,9],[10,8,10,9],[12,8,12,9],[13,8,13,9],[10,10,10,11],[11,10,11,11],[12,10,12,11],[13,10,13,11],[19,10,19,11],[20,10,20,11],[21,10,21,11],[12,12,12,13],[10,14,10,15],[11,14,11,15],[12,14,12,15],[11,12,11,13],[7,12,7,13],[8,12,8,13],[9,12,9,13],[10,12,10,13],[6,18,6,19],[7,18,7,19],[8,18,8,19],[9,18,9,19],[10,18,10,19],[11,18,11,19],[6,16,6,17],[7,16,7,17],[8,16,8,17],[9,16,9,17],[10,16,10,17],[11,16,11,17],[12,16,12,17],[12,20,12,21],[14,18,14,19],[15,18,15,19],[16,18,16,19],[17,18,17,19],[12,18,12,19],[13,18,13,19],[16,20,16,21],[13,16,13,17],[14,16,14,17],[15,16,15,17],[16,16,16,17],[15,20,15,21],[13,22,13,23],[14,22,14,23],[19,16,19,17],[20,16,20,17],[15,14,15,15],[16,14,16,15],[17,14,17,15],[18,14,18,15],[17,16,17,17],[18,16,18,17],[18,18,18,19],[19,18,19,19],[20,18,20,19],[6,22,6,23],[7,22,7,23],[8,22,8,23],[9,22,9,23],[21,22,21,23],[19,22,19,23],[17,20,17,21],[18,20,18,21],[19,20,19,21],[20,20,20,21],[20,22,20,23],[15,22,15,23],[16,22,16,23],[17,22,17,23],[18,22,18,23],[10,22,10,23],[11,22,11,23],[12,22,12,23],[13,20,13,21],[8,20,8,21],[9,20,9,21],[10,20,10,21],[11,20,11,21],[14,20,14,21],[16,26,16,27],[21,24,21,25],[6,26,6,27],[7,26,7,27],[8,26,8,27],[9,26,9,27],[10,26,10,27],[11,26,11,27],[13,26,13,27],[13,24,13,25],[14,24,14,25],[11,24,11,25],[12,24,12,25],[10,30,10,31],[12,30,12,31],[13,30,13,31],[6,30,6,31],[7,30,7,31],[8,30,8,31],[9,30,9,31],[10,28,10,29],[11,28,11,29],[12,28,12,29],[13,28,13,29],[6,28,6,29],[7,28,7,29],[8,28,8,29],[9,28,9,29],[14,28,14,29],[15,28,15,29],[16,28,16,29],[17,28,17,29],[14,30,14,31],[15,30,15,31],[16,30,16,31],[17,30,17,31],[11,30,11,31],[18,30,18,31],[20,30,20,31],[19,30,19,31],[21,30,21,31],[18,28,18,29],[19,28,19,29],[20,28,20,29],[19,24,19,25],[20,24,20,25],[28,14,28,19],[30,14,30,19],[24,14,24,19],[31,20,31,25],[32,20,32,25],[24,10,24,11],[32,14,32,19],[29,12,29,13],[30,12,30,13],[31,12,31,13],[32,12,32,13],[29,14,29,19],[31,14,31,19]]}
[null,null,null,null,"Home",null,{"$f":"'Match Day'!I4","v":"UK Womens League"}]
[12,26,null,null,"UK ATHLETICS: HEIGHT CARD"]
[null,{"$f":"VLOOKUP(A2,womens_handbook,37,FALSE)","v":13},null,null,"MEETING ",null,{"$f":"CONCATENATE('Match Day'!$I$8,\" \",'Match Day'!$I$10)","v":"Division 1 Match 3"},null,"VENUE ",null,null,{"$f":"'Match Day'!$I$12","v":"Winchester"},null,null,null,null,null,null,null,null,null,null,null,null,null,null,"DATE ",null,null,{"$f":"'Match Day'!$I$6","v":"Saturday, 6th August"}]
[null,{"$f":"VLOOKUP(A2,womens_declare,20,FALSE)","v":13},null,null,"EVENT",null,{"$f":"VLOOKUP(A2,womens_handbook,3,FALSE)","v":"Women's Pole Vault"},null,"TIME",null,null,{"$f":"VLOOKUP(A2,womens_handbook,2,FALSE)","v":"12:00:00"},null,null,"League Record",null,null,null,null,null,{"$f":"VLOOKUP(A2,womens_handbook,29,FALSE)","v":"1999-07-31"},null,null,{"$f":"CONCATENATE(VLOOKUP($A2,womens_handbook,26,FALSE),\", \",VLOOKUP($A2,womens_handbook,27,FALSE),\", \",VLOOKUP($A2,womens_handbook,28,FALSE))","v":"Jannine Whitlock, Trafford, 4.20m"}]
[null,null,null,null,"Order","No","NAME","CLUB",{"$f":"VLOOKUP(A2,womens_handbook,20,FALSE)","v":2.1},null,null,null,null,null,null,null,null,null,null,null,null,null,null,null,null,null,null,null,null,null,null,null,"Best of All",null,"Trials at\nHt Cleared","Total \nFailures","Total\nTrials","Final\nPositionn",null,"A or B",null,"Tie"]
[null,null,null,null,null,null,null,null,"Metres",null,"Metres",null,"Metres",null,"Metres",null,"Metres",null,"Metres",null,"Metres",null,"Metres",null,"Metres",null,"Metres",null,"Metres",null,"Metres",null,"Metres",null,null,null,null,null,null,null,null,null,null,null,null,null,null,null,null,null,null,null,null,null,null,null,1,2,3,4,5,6,7,8,1,2,3,4,5,6,7,8]
[null,{"$f":"IF(F7=\"\",\"\",IF(F7>10,F7/11,F7))","v":2},{"$f":"IF(AL7=0,0,IF(AM7=\"B\",\"\",RANK(BB7,$BB$7:$BB$22,1)))","v":0},{"$f":"IF(AL7=0,0,IF(AM7=\"A\",\"\",RANK(BC7,$BC$7:$BC$22,1)))","v":0},1,{"$f":"HLOOKUP(E7,womens_handbook,B3,FALSE)","v":2},{"$f":"IF(ISERROR(HLOOKUP(F7,'Declarations (F)'!$D$3:$S$31,B4,FALSE))=TRUE,\"\",HLOOKUP(F7,'Declarations (F)'!$D$3:$S$31,B4,FALSE))","v":"-"},{"$f":"IF(ISERROR(VLOOKUP(B7,matchday,2,FALSE))=TRUE,\"\",VLOOKUP(B7,matchday,2,FALSE))","v":"Blackheath & Bromley H"},null,null,null,null,null,null,null,null,null,null,null,null,null,null,null,null,null,null,null,null,null,null,null,null,0,null,null,null,null,0,{"$f":"IF(OR(AL7=0,AL7=\"\"),\"\",IF(VLOOKUP(F7*11,$F$15:$AL$22,33,FALSE)=0,\"A\",IF(AL7>(VLOOKUP(F7*11,$F$15:$AL$22,33,FALSE)),\"B\",\"A\")))","v":""},{"$f":"IF(AL7=0,0,IF(AM7=\"B\",\"\",RANK(AY7,$AY7:$AY22,1)))","v":0},{"$f":"IF(AL7=0,0,IF(AM7=\"A\",\"\",RANK(AZ7,$AZ7:$AZ22,1)))","v":0},0,null,{"$f":"IF(AS7=\"\",\"\",REPT(AT7,AS7-1))","v":""},{"$f":"IF(AT7=\"\",\"\",HLOOKUP(AN7,$BE$6:$BL$23,18,FALSE))","v":""},{"$f":"IF(OR(AN7=0,AN7=\"\"),\"\",IF(OR(AN7=AN8,AN7=AN9,AN7=AN10,AN7=AN11,AN7=AN12,AN7=AN13,AN7=AN14,AN7=AN15,AN7=AN16,AN7=AN17,AN7=AN18,AN7=AN19,AN7=AN20,AN7=AN21,AN7=AN22),\"=\",\"\"))","v":""},null,{"$f":"IF(AW7=\"\",\"\",REPT(AX7,AW7-1))","v":""},{"$f":"IF(AX7=\"\",\"\",HLOOKUP(AO7,$BM$6:$BT$23,18,FALSE))","v":""},{"$f":"IF(OR(AO7=0,AO7=\"\"),\"\",IF(OR(AO7=AO8,AO7=AO9,AO7=AO10,AO7=AO11,AO7=AO12,AO7=AO13,AO7=AO14,AO7=AO15,AO7=AO16,AO7=AO17,AO7=AO18,AO7=AO19,AO7=AO20,AO7=AO21,AO7=AO22),\"=\",\"\"))","v":""},{"$f":"IF(OR(AL7=0,AG7=0,AM7=\"B\"),\"\",AL7)","v":""},{"$f":"IF(OR(AL7=0,AG7=0,AM7=\"A\"),\"\",AL7)","v":""},null,{"$f":"IF(AY7=\"\",\"\",AY7+($AP7/10))","v":""},"",null,{"$f":"IF($AN7=\"\",\"\",IF($AN7=BE$6,$AN7,\"\"))","v":""},"","","","","","","",{"$f":"IF($AO7=\"\",\"\",IF($AO7=BM$6,$AO7,\"\"))","v":""},"","","","","","",""]
[null,6,{"$f":"IF(AL8=0,0,IF(AM8=\"B\",\"\",RANK(BB8,$BB$7:$BB$22,1)))","v":0},{"$f":"IF(AL8=0,0,IF(AM8=\"A\",\"\",RANK(BC8,$BC$7:$BC$22,1)))","v":0},2,{"$f":"HLOOKUP(E8,womens_handbook,B3,FALSE)","v":6},{"$f":"IF(ISERROR(HLOOKUP(F8,'Declarations (F)'!$D$3:$S$31,B4,FALSE))=TRUE,\"\",HLOOKUP(F8,'Declarations (F)'!$D$3:$S$31,B4,FALSE))","v":"-"},"Southampton AC",null,null,null,null,null,null,null,null,null,null,null,null,null,null,null,null,null,null,null,null,null,null,null,null,0,null,null,null,null,0,{"$f":"IF(OR(AL8=0,AL8=\"\"),\"\",IF(VLOOKUP(F8*11,$F$15:$AL$22,33,FALSE)=0,\"A\",IF(AL8>(VLOOKUP(F8*11,$F$15:$AL$22,33,FALSE)),\"B\",\"A\")))","v":""},{"$f":"IF(AL8=0,0,IF(AM8=\"B\",\"\",RANK(AY8,$AY7:$AY22,1)))","v":0},{"$f":"IF(AL8=0,0,IF(AM8=\"A\",\"\",RANK(AZ8,$AZ7:$AZ22,1)))","v":0},0,null,"","",{"$f":"IF(OR(AN8=0,AN8=\"\"),\"\",IF(OR(AN8=AN9,AN8=AN10,AN8=AN11,AN8=AN12,AN8=AN13,AN8=AN14,AN8=AN15,AN8=AN16,AN8=AN17,AN8=AN18,AN8=AN19,AN8=AN20,AN8=AN21,AN8=AN22,AN8=AN7),\"=\",\"\"))","v":""},null,"","",{"$f":"IF(OR(AO8=0,AO8=\"\"),\"\",IF(OR(AO8=AO9,AO8=AO10,AO8=AO11,AO8=AO12,AO8=AO13,AO8=AO14,AO8=AO15,AO8=AO16,AO8=AO17,AO8=AO18,AO8=AO19,AO8=AO20,AO8=AO21,AO8=AO22,AO8=AO7),\"=\",\"\"))","v":""},{"$f":"IF(OR(AL8=0,AG8=0,AM8=\"B\"),\"\",AL8)","v":""},{"$f":"IF(OR(AL8=0,AG8=0,AM8=\"A\"),\"\",AL8)","v":""},null,"","",null,"","","","","","","","","","","","","","","",""]
[null,1,0,0,3,{"$f":"HLOOKUP(E9,womens_handbook,B3,FALSE)","v":1},{"$f":"IF(ISERROR(HLOOKUP(F9,'Declarations (F)'!$D$3:$S$31,B4,FALSE))=TRUE,\"\",HLOOKUP(F9,'Declarations (F)'!$D$3:$S$31,B4,FALSE))","v":"-"},"Bedford & County AC",null,null,null,null,null,null,null,null,null,null,null,null,null,null,null,null,null,null,null,null,null,null,null,null,0,null,null,null,null,0,"",{"$f":"IF(AL9=0,0,IF(AM9=\"B\",\"\",RANK(AY9,$AY7:$AY22,1)))","v":0},{"$f":"IF(AL9=0,0,IF(AM9=\"A\",\"\",RANK(AZ9,$AZ7:$AZ22,1)))","v":0},0,null,"",{"$f":"IF(AT9=\"\",\"\",HLOOKUP(AN9,$BE$6:$BL$23,18,FALSE))","v":""},{"$f":"IF(OR(AN9=0,AN9=\"\"),\"\",IF(OR(AN9=AN10,AN9=AN11,AN9=AN12,AN9=AN13,AN9=AN14,AN9=AN15,AN9=AN16,AN9=AN17,AN9=AN18,AN9=AN19,AN9=AN20,AN9=AN21,AN9=AN22,AN9=AN7,AN9=AN8),\"=\",\"\"))","v":""},null,"","",{"$f":"IF(OR(AO9=0,AO9=\"\"),\"\",IF(OR(AO9=AO10,AO9=AO11,AO9=AO12,AO9=AO13,AO9=AO14,AO9=AO15,AO9=AO16,AO9=AO17,AO9=AO18,AO9=AO19,AO9=AO20,AO9=AO21,AO9=AO22,AO9=AO7,AO9=AO8),\"=\",\"\"))","v":""},"","",null,"","",null,"","","","","","","","","","","","","","","",""]
[null,7,0,0,4,{"$f":"HLOOKUP(E10,womens_handbook,B3,FALSE)","v":7},{"$f":"IF(ISERROR(HLOOKUP(F10,'Declarations (F)'!$D$3:$S$31,B4,FALSE))=TRUE,\"\",HLOOKUP(F10,'Declarations (F)'!$D$3:$S$31,B4,FALSE))","v":"-"},"Swansea H",null,null,null,null,null,null,null,null,null,null,null,null,null,null,null,null,null,null,null,null,null,null,null,null,0,null,null,null,null,0,"",{"$f":"IF(AL10=0,0,IF(AM10=\"B\",\"\",RANK(AY10,$AY7:$AY22,1)))","v":0},{"$f":"IF(AL10=0,0,IF(AM10=\"A\",\"\",RANK(AZ10,$AZ7:$AZ22,1)))","v":0},0,null,"","",{"$f":"IF(OR(AN10=0,AN10=\"\"),\"\",IF(OR(AN10=AN11,AN10=AN12,AN10=AN13,AN10=AN14,AN10=AN15,AN10=AN16,AN10=AN17,AN10=AN18,AN10=AN19,AN10=AN20,AN10=AN21,AN10=AN22,AN10=AN7,AN10=AN8,AN10=AN9),\"=\",\"\"))","v":""},null,"","",{"$f":"IF(OR(AO10=0,AO10=\"\"),\"\",IF(OR(AO10=AO11,AO10=AO12,AO10=AO13,AO10=AO14,AO10=AO15,AO10=AO16,AO10=AO17,AO10=AO18,AO10=AO19,AO10=AO20,AO10=AO21,AO10=AO22,AO10=AO7,AO10=AO8,AO10=AO9),\"=\",\"\"))","v":""},"","",null,"","",null,"","","","","","","","","","","","","","","",""]
[null,8,0,0,5,{"$f":"HLOOKUP(E11,womens_handbook,B3,FALSE)","v":8},{"$f":"IF(ISERROR(HLOOKUP(F11,'Declarations (F)'!$D$3:$S$31,B4,FALSE))=TRUE,\"\",HLOOKUP(F11,'Declarations (F)'!$D$3:$S$31,B4,FALSE))","v":"-"},"Thames Valley H",null,null,null,null,null,null,null,null,null,null,null,null,null,null,null,null,null,null,null,null,null,null,null,null,0,null,null,null,null,0,"",{"$f":"IF(AL11=0,0,IF(AM11=\"B\",\"\",RANK(AY11,$AY7:$AY22,1)))","v":0},{"$f":"IF(AL11=0,0,IF(AM11=\"A\",\"\",RANK(AZ11,$AZ7:$AZ22,1)))","v":0},0,null,"","",{"$f":"IF(OR(AN11=0,AN11=\"\"),\"\",IF(OR(AN11=AN12,AN11=AN13,AN11=AN14,AN11=AN15,AN11=AN16,AN11=AN17,AN11=AN18,AN11=AN19,AN11=AN20,AN11=AN21,AN11=AN22,AN11=AN7,AN11=AN8,AN11=AN9,AN11=AN10),\"=\",\"\"))","v":""},null,"","",{"$f":"IF(OR(AO11=0,AO11=\"\"),\"\",IF(OR(AO11=AO12,AO11=AO13,AO11=AO14,AO11=AO15,AO11=AO16,AO11=AO17,AO11=AO18,AO11=AO19,AO11=AO20,AO11=AO21,AO11=AO22,AO11=AO7,AO11=AO8,AO11=AO9,AO11=AO10),\"=\",\"\"))","v":""},"","",null,"","",null,"","","","","","","","","","","","","","","",""]
[null,5,0,0,6,{"$f":"HLOOKUP(E12,womens_handbook,B3,FALSE)","v":5},{"$f":"IF(ISERROR(HLOOKUP(F12,'Declarations (F)'!$D$3:$S$31,B4,FALSE))=TRUE,\"\",HLOOKUP(F12,'Declarations (F)'!$D$3:$S$31,B4,FALSE))","v":"-"},"Shaftesbury Barnet H",null,null,null,null,null,null,null,null,null,null,null,null,null,null,null,null,null,null,null,null,null,null,null,null,0,null,null,null,null,0,"",{"$f":"IF(AL12=0,0,IF(AM12=\"B\",\"\",RANK(AY12,$AY7:$AY22,1)))","v":0},{"$f":"IF(AL12=0,0,IF(AM12=\"A\",\"\",RANK(AZ12,$AZ7:$AZ22,1)))","v":0},0,null,"","",{"$f":"IF(OR(AN12=0,AN12=\"\"),\"\",IF(OR(AN12=AN13,AN12=AN14,AN12=AN15,AN12=AN16,AN12=AN17,AN12=AN18,AN12=AN19,AN12=AN20,AN12=AN21,AN12=AN22,AN12=AN7,AN12=AN8,AN12=AN9,AN12=AN10,AN12=AN11),\"=\",\"\"))","v":""},null,"","",{"$f":"IF(OR(AO12=0,AO12=\"\"),\"\",IF(OR(AO12=AO13,AO12=AO14,AO12=AO15,AO12=AO16,AO12=AO17,AO12=AO18,AO12=AO19,AO12=AO20,AO12=AO21,AO12=AO22,AO12=AO7,AO12=AO8,AO12=AO9,AO12=AO10,AO12=AO11),\"=\",\"\"))","v":""},"","",null,"","",null,"","","","","","","","","","","","","","","",""]
[null,3,0,0,7,{"$f":"HLOOKUP(E13,womens_handbook,B3,FALSE)","v":3},{"$f":"IF(ISERROR(HLOOKUP(F13,'Declarations (F)'!$D$3:$S$31,B4,FALSE))=TRUE,\"\",HLOOKUP(F13,'Declarations (F)'!$D$3:$S$31,B4,FALSE))","v":"-"},"Marshall Milton Keynes AC",null,null,null,null,null,null,null,null,null,null,null,null,null,null,null,null,null,null,null,null,null,null,null,null,0,null,null,null,null,0,"",{"$f":"IF(AL13=0,0,IF(AM13=\"B\",\"\",RANK(AY13,$AY7:$AY22,1)))","v":0},{"$f":"IF(AL13=0,0,IF(AM13=\"A\",\"\",RANK(AZ13,$AZ7:$AZ22,1)))","v":0},0,null,"","",{"$f":"IF(OR(AN13=0,AN13=\"\"),\"\",IF(OR(AN13=AN14,AN13=AN15,AN13=AN16,AN13=AN17,AN13=AN18,AN13=AN19,AN13=AN20,AN13=AN21,AN13=AN22,AN13=AN7,AN13=AN8,AN13=AN9,AN13=AN10,AN13=AN11,AN13=AN12),\"=\",\"\"))","v":""},null,"","",{"$f":"IF(OR(AO13=0,AO13=\"\"),\"\",IF(OR(AO13=AO14,AO13=AO15,AO13=AO16,AO13=AO17,AO13=AO18,AO13=AO19,AO13=AO20,AO13=AO21,AO13=AO22,AO13=AO7,AO13=AO8,AO13=AO9,AO13=AO10,AO13=AO11,AO13=AO12),\"=\",\"\"))","v":""},"","",null,"","",null,"","","","","","","","","","","","","","","",""]
[null,4,0,0,8,{"$f":"HLOOKUP(E14,womens_handbook,B3,FALSE)","v":4},{"$f":"IF(ISERROR(HLOOKUP(F14,'Declarations (F)'!$D$3:$S$31,B4,FALSE))=TRUE,\"\",HLOOKUP(F14,'Declarations (F)'!$D$3:$S$31,B4,FALSE))","v":"-"},"Newham & Essex Beagles AC",null,null,null,null,null,null,null,null,null,null,null,null,null,null,null,null,null,null,null,null,null,null,null,null,0,null,null,null,null,0,"",{"$f":"IF(AL14=0,0,IF(AM14=\"B\",\"\",RANK(AY14,$AY7:$AY22,1)))","v":0},{"$f":"IF(AL14=0,0,IF(AM14=\"A\",\"\",RANK(AZ14,$AZ7:$AZ22,1)))","v":0},0,null,"","",{"$f":"IF(OR(AN14=0,AN14=\"\"),\"\",IF(OR(AN14=AN15,AN14=AN16,AN14=AN17,AN14=AN18,AN14=AN19,AN14=AN20,AN14=AN21,AN14=AN22,AN14=AN7,AN14=AN8,AN14=AN9,AN14=AN10,AN14=AN11,AN14=AN12,AN14=AN13),\"=\",\"\"))","v":""},null,"","",{"$f":"IF(OR(AO14=0,AO14=\"\"),\"\",IF(OR(AO14=AO15,AO14=AO16,AO14=AO17,AO14=AO18,AO14=AO19,AO14=AO20,AO14=AO21,AO14=AO22,AO14=AO7,AO14=AO8,AO14=AO9,AO14=AO10,AO14=AO11,AO14=AO12,AO14=AO13),\"=\",\"\"))","v":""},"","",null,"","",null,"","","","","","","","","","","","","","","",""]
[null,2,0,0,9,{"$f":"HLOOKUP(E15,womens_handbook,B3,FALSE)","v":22},{"$f":"IF(ISERROR(HLOOKUP(F15,'Declarations (F)'!$D$3:$S$31,B4,FALSE))=TRUE,\"\",HLOOKUP(F15,'Declarations (F)'!$D$3:$S$31,B4,FALSE))","v":"-"},"Blackheath & Bromley H",null,null,null,null,null,null,null,null,null,null,null,null,null,null,null,null,null,null,null,null,null,null,null,null,0,null,null,null,null,0,{"$f":"IF(OR(AL15=0,AL15=\"\"),\"\",IF(VLOOKUP(F15/11,$F$7:$AL$14,33,FALSE)=0,\"A\",IF(AL15>=VLOOKUP(F15/11,$F$7:$AL$14,33,FALSE),\"B\",\"A\")))","v":""},{"$f":"IF(AL15=0,0,IF(AM15=\"B\",\"\",RANK(AY15,$AY7:$AY22,1)))","v":0},{"$f":"IF(AL15=0,0,IF(AM15=\"A\",\"\",RANK(AZ15,$AZ7:$AZ22,1)))","v":0},0,null,"","",{"$f":"IF(OR(AN15=0,AN15=\"\"),\"\",IF(OR(AN15=AN16,AN15=AN17,AN15=AN18,AN15=AN19,AN15=AN20,AN15=AN21,AN15=AN22,AN15=AN7,AN15=AN8,AN15=AN9,AN15=AN10,AN15=AN11,AN15=AN12,AN15=AN13,AN15=AN14),\"=\",\"\"))","v":""},null,"","",{"$f":"IF(OR(AO15=0,AO15=\"\"),\"\",IF(OR(AO15=AO16,AO15=AO17,AO15=AO18,AO15=AO19,AO15=AO20,AO15=AO21,AO15=AO22,AO15=AO7,AO15=AO8,AO15=AO9,AO15=AO10,AO15=AO11,AO15=AO12,AO15=AO13,AO15=AO14),\"=\",\"\"))","v":""},"","",null,"","",null,"","","","","","","","","","","","","","","",""]
[null,6,0,0,10,{"$f":"HLOOKUP(E16,womens_handbook,B3,FALSE)","v":66},{"$f":"IF(ISERROR(HLOOKUP(F16,'Declarations (F)'!$D$3:$S$31,B4,FALSE))=TRUE,\"\",HLOOKUP(F16,'Declarations (F)'!$D$3:$S$31,B4,FALSE))","v":"-"},"Southampton AC",null,null,null,null,null,null,null,null,null,null,null,null,null,null,null,null,null,null,null,null,null,null,null,null,0,null,null,null,null,0,{"$f":"IF(OR(AL16=0,AL16=\"\"),\"\",IF(VLOOKUP(F16/11,$F$7:$AL$14,33,FALSE)=0,\"A\",IF(AL16>=VLOOKUP(F16/11,$F$7:$AL$14,33,FALSE),\"B\",\"A\")))","v":""},{"$f":"IF(AL16=0,0,IF(AM16=\"B\",\"\",RANK(AY16,$AY7:$AY22,1)))","v":0},{"$f":"IF(AL16=0,0,IF(AM16=\"A\",\"\",RANK(AZ16,$AZ7:$AZ22,1)))","v":0},0,null,"","",{"$f":"IF(OR(AN16=0,AN16=\"\"),\"\",IF(OR(AN16=AN17,AN16=AN18,AN16=AN19,AN16=AN20,AN16=AN21,AN16=AN22,AN16=AN7,AN16=AN8,AN16=AN9,AN16=AN10,AN16=AN11,AN16=AN12,AN16=AN13,AN16=AN14,AN16=AN15),\"=\",\"\"))","v":""},null,"","",{"$f":"IF(OR(AO16=0,AO16=\"\"),\"\",IF(OR(AO16=AO17,AO16=AO18,AO16=AO19,AO16=AO20,AO16=AO21,AO16=AO22,AO16=AO7,AO16=AO8,AO16=AO9,AO16=AO10,AO16=AO11,AO16=AO12,AO16=AO13,AO16=AO14,AO16=AO15),\"=\",\"\"))","v":""},"","",null,"","",null,"","","","","","","","","","","","","","","",""]
[null,1,0,0,11,{"$f":"HLOOKUP(E17,womens_handbook,B3,FALSE)","v":11},{"$f":"IF(ISERROR(HLOOKUP(F17,'Declarations (F)'!$D$3:$S$31,B4,FALSE))=TRUE,\"\",HLOOKUP(F17,'Declarations (F)'!$D$3:$S$31,B4,FALSE))","v":"-"},"Bedford & County AC",null,null,null,null,null,null,null,null,null,null,null,null,null,null,null,null,null,null,null,null,null,null,null,null,0,null,null,null,null,0,"",{"$f":"IF(AL17=0,0,IF(AM17=\"B\",\"\",RANK(AY17,$AY7:$AY22,1)))","v":0},{"$f":"IF(AL17=0,0,IF(AM17=\"A\",\"\",RANK(AZ17,$AZ7:$AZ22,1)))","v":0},0,null,"","",{"$f":"IF(OR(AN17=0,AN17=\"\"),\"\",IF(OR(AN17=AN18,AN17=AN19,AN17=AN20,AN17=AN21,AN17=AN22,AN17=AN7,AN17=AN8,AN17=AN9,AN17=AN10,AN17=AN11,AN17=AN12,AN17=AN13,AN17=AN14,AN17=AN15,AN17=AN16),\"=\",\"\"))","v":""},null,"","",{"$f":"IF(OR(AO17=0,AO17=\"\"),\"\",IF(OR(AO17=AO18,AO17=AO19,AO17=AO20,AO17=AO21,AO17=AO22,AO17=AO7,AO17=AO8,AO17=AO9,AO17=AO10,AO17=AO11,AO17=AO12,AO17=AO13,AO17=AO14,AO17=AO15,AO17=AO16),\"=\",\"\"))","v":""},"","",null,"","",null,"","","","","","","","","","","","","","","",""]
[null,7,0,0,12,{"$f":"HLOOKUP(E18,womens_handbook,B3,FALSE)","v":77},{"$f":"IF(ISERROR(HLOOKUP(F18,'Declarations (F)'!$D$3:$S$31,B4,FALSE))=TRUE,\"\",HLOOKUP(F18,'Declarations (F)'!$D$3:$S$31,B4,FALSE))","v":"-"},"Swansea H",null,null,null,null,null,null,null,null,null,null,null,null,null,null,null,null,null,null,null,null,null,null,null,null,0,null,null,null,null,0,"",{"$f":"IF(AL18=0,0,IF(AM18=\"B\",\"\",RANK(AY18,$AY7:$AY22,1)))","v":0},{"$f":"IF(AL18=0,0,IF(AM18=\"A\",\"\",RANK(AZ18,$AZ7:$AZ22,1)))","v":0},0,null,"","",{"$f":"IF(OR(AN18=0,AN18=\"\"),\"\",IF(OR(AN18=AN19,AN18=AN20,AN18=AN21,AN18=AN22,AN18=AN7,AN18=AN8,AN18=AN9,AN18=AN10,AN18=AN11,AN18=AN12,AN18=AN13,AN18=AN14,AN18=AN15,AN18=AN16,AN18=AN17),\"=\",\"\"))","v":""},null,"","",{"$f":"IF(OR(AO18=0,AO18=\"\"),\"\",IF(OR(AO18=AO19,AO18=AO20,AO18=AO21,AO18=AO22,AO18=AO7,AO18=AO8,AO18=AO9,AO18=AO10,AO18=AO11,AO18=AO12,AO18=AO13,AO18=AO14,AO18=AO15,AO18=AO16,AO18=AO17),\"=\",\"\"))","v":""},"","",null,"","",null,"","","","","","","","","","","","","","","",""]
[null,8,0,0,13,{"$f":"HLOOKUP(E19,womens_handbook,B3,FALSE)","v":88},{"$f":"IF(ISERROR(HLOOKUP(F19,'Declarations (F)'!$D$3:$S$31,B4,FALSE))=TRUE,\"\",HLOOKUP(F19,'Declarations (F)'!$D$3:$S$31,B4,FALSE))","v":"-"},"Thames Valley H",null,null,null,null,null,null,null,null,null,null,null,null,null,null,null,null,null,null,null,null,null,null,null,null,0,null,null,null,null,0,"",{"$f":"IF(AL19=0,0,IF(AM19=\"B\",\"\",RANK(AY19,$AY7:$AY22,1)))","v":0},{"$f":"IF(AL19=0,0,IF(AM19=\"A\",\"\",RANK(AZ19,$AZ7:$AZ22,1)))","v":0},0,null,"","",{"$f":"IF(OR(AN19=0,AN19=\"\"),\"\",IF(OR(AN19=AN20,AN19=AN21,AN19=AN22,AN19=AN7,AN19=AN8,AN19=AN9,AN19=AN10,AN19=AN11,AN19=AN12,AN19=AN13,AN19=AN14,AN19=AN15,AN19=AN16,AN19=AN17,AN19=AN18),\"=\",\"\"))","v":""},null,"","",{"$f":"IF(OR(AO19=0,AO19=\"\"),\"\",IF(OR(AO19=AO20,AO19=AO21,AO19=AO22,AO19=AO7,AO19=AO8,AO19=AO9,AO19=AO10,AO19=AO11,AO19=AO12,AO19=AO13,AO19=AO14,AO19=AO15,AO19=AO16,AO19=AO17,AO19=AO18),\"=\",\"\"))","v":""},"","",null,"","",null,"","","","","","","","","","","","","","","",""]
[null,5,0,0,14,{"$f":"HLOOKUP(E20,womens_handbook,B3,FALSE)","v":55},{"$f":"IF(ISERROR(HLOOKUP(F20,'Declarations (F)'!$D$3:$S$31,B4,FALSE))=TRUE,\"\",HLOOKUP(F20,'Declarations (F)'!$D$3:$S$31,B4,FALSE))","v":"-"},"Shaftesbury Barnet H",null,null,null,null,null,null,null,null,null,null,null,null,null,null,null,null,null,null,null,null,null,null,null,null,0,null,null,null,null,0,"",{"$f":"IF(AL20=0,0,IF(AM20=\"B\",\"\",RANK(AY20,$AY7:$AY22,1)))","v":0},{"$f":"IF(AL20=0,0,IF(AM20=\"A\",\"\",RANK(AZ20,$AZ7:$AZ22,1)))","v":0},0,null,"","",{"$f":"IF(OR(AN20=0,AN20=\"\"),\"\",IF(OR(AN20=AN21,AN20=AN22,AN20=AN7,AN20=AN8,AN20=AN9,AN20=AN10,AN20=AN11,AN20=AN12,AN20=AN13,AN20=AN14,AN20=AN15,AN20=AN16,AN20=AN17,AN20=AN18,AN20=AN19),\"=\",\"\"))","v":""},null,"","",{"$f":"IF(OR(AO20=0,AO20=\"\"),\"\",IF(OR(AO20=AO21,AO20=AO22,AO20=AO7,AO20=AO8,AO20=AO9,AO20=AO10,AO20=AO11,AO20=AO12,AO20=AO13,AO20=AO14,AO20=AO15,AO20=AO16,AO20=AO17,AO20=AO18,AO20=AO19),\"=\",\"\"))","v":""},"","",null,"","",null,"","","","","","","","","","","","","","","",""]
[null,3,0,0,15,{"$f":"HLOOKUP(E21,womens_handbook,B3,FALSE)","v":33},{"$f":"IF(ISERROR(HLOOKUP(F21,'Declarations (F)'!$D$3:$S$31,B4,FALSE))=TRUE,\"\",HLOOKUP(F21,'Declarations (F)'!$D$3:$S$31,B4,FALSE))","v":"-"},"Marshall Milton Keynes AC",null,null,null,null,null,null,null,null,null,null,null,null,null,null,null,null,null,null,null,null,null,null,null,null,0,null,null,null,null,0,"",{"$f":"IF(AL21=0,0,IF(AM21=\"B\",\"\",RANK(AY21,$AY7:$AY22,1)))","v":0},{"$f":"IF(AL21=0,0,IF(AM21=\"A\",\"\",RANK(AZ21,$AZ7:$AZ22,1)))","v":0},0,null,"","",{"$f":"IF(OR(AN21=0,AN21=\"\"),\"\",IF(OR(AN21=AN22,AN21=AN7,AN21=AN8,AN21=AN9,AN21=AN10,AN21=AN11,AN21=AN12,AN21=AN13,AN21=AN14,AN21=AN15,AN21=AN16,AN21=AN17,AN21=AN18,AN21=AN19,AN21=AN20),\"=\",\"\"))","v":""},null,"","",{"$f":"IF(OR(AO21=0,AO21=\"\"),\"\",IF(OR(AO21=AO22,AO21=AO7,AO21=AO8,AO21=AO9,AO21=AO10,AO21=AO11,AO21=AO12,AO21=AO13,AO21=AO14,AO21=AO15,AO21=AO16,AO21=AO17,AO21=AO18,AO21=AO19,AO21=AO20),\"=\",\"\"))","v":""},"","",null,"","",null,"","","","","","","","","","","","","","","",""]
[null,4,0,0,16,{"$f":"HLOOKUP(E22,womens_handbook,B3,FALSE)","v":44},{"$f":"IF(ISERROR(HLOOKUP(F22,'Declarations (F)'!$D$3:$S$31,B4,FALSE))=TRUE,\"\",HLOOKUP(F22,'Declarations (F)'!$D$3:$S$31,B4,FALSE))","v":"-"},"Newham & Essex Beagles AC",null,null,null,null,null,null,null,null,null,null,null,null,null,null,null,null,null,null,null,null,null,null,null,null,0,null,null,null,null,0,"",{"$f":"IF(AL22=0,0,IF(AM22=\"B\",\"\",RANK(AY22,$AY7:$AY22,1)))","v":0},{"$f":"IF(AL22=0,0,IF(AM22=\"A\",\"\",RANK(AZ22,$AZ7:$AZ22,1)))","v":0},0,null,"","",{"$f":"IF(OR(AN22=0,AN22=\"\"),\"\",IF(OR(AN22=AN7,AN22=AN8,AN22=AN9,AN22=AN10,AN22=AN11,AN22=AN12,AN22=AN13,AN22=AN14,AN22=AN15,AN22=AN16,AN22=AN17,AN22=AN18,AN22=AN19,AN22=AN20,AN22=AN21),\"=\",\"\"))","v":""},null,"","",{"$f":"IF(OR(AO22=0,AO22=\"\"),\"\",IF(OR(AO22=AO7,AO22=AO8,AO22=AO9,AO22=AO10,AO22=AO11,AO22=AO12,AO22=AO13,AO22=AO14,AO22=AO15,AO22=AO16,AO22=AO17,AO22=AO18,AO22=AO19,AO22=AO20,AO22=AO21),\"=\",\"\"))","v":""},"","",null,"","",null,"","","","","","","","","","","","","","","",""]
[null,null,null,null,null,null,null,null,null,null,null,null,null,null,null,null,null,null,null,null,null,null,null,null,null,null,null,null,null,null,null,null,null,null,null,null,null,null,null,null,null,null,null,null,null,null,null,null,null,null,null,null,null,null,null,null,{"$f":"COUNTIF(BE7:BE22,BE6)","v":0},0,0,0,0,0,0,0,0,0,0,0,0,0,0,0]
[null,null,null,null,"\"A\" STRING RESULT",null,null,null,null,null,"\"B\" STRING RESULT",null,null,null,null,null,null,null,null,null,null,null,null,null,null,null,null,null,"JUDGES' SIGNATURES"]
[null,null,null,null,"Posn","No.","NAME","CLUB","HEIGHT",null,"Posn",null,"No.",null,"NAME",null,null,null,null,null,"CLUB",null,null,null,null,null,"HEIGHT"]
[null,null,null,1,{"$f":"IF(ISERROR(VLOOKUP(D26,$C$7:$AR$22,31,FALSE))=TRUE,\"\",IF(VLOOKUP(D26,$C$7:$AR$22,42,FALSE)=\"\",VLOOKUP(D26,$C$7:$AR$22,38,FALSE),CONCATENATE(VLOOKUP(D26,$C$7:$AR$22,38,FALSE),VLOOKUP(D26,$C$7:$AR$22,42,FALSE))))","v":""},{"$f":"IF(ISERROR(VLOOKUP(D26,$C$7:$AH$22,31,FALSE))=TRUE,\"\",IF(VLOOKUP(D26,$C$7:$AH$22,31,FALSE)=0,\"\",IF(VLOOKUP(D26,$C$7:$AH$22,31,FALSE)=99,99,IF(VLOOKUP(D26,$C$7:$AH$22,31,FALSE)=97,97,IF(VLOOKUP(D26,$C$7:$AH$22,31,FALSE)=96,96,VLOOKUP(D26,$C$7:$AH$22,4,FALSE))))))","v":""},{"$f":"IF(ISERROR(VLOOKUP(D26,$C$7:$AH$22,31,FALSE))=TRUE,\"\",VLOOKUP(D26,$C$7:$AH$22,5,FALSE))","v":""},{"$f":"IF(ISERROR(VLOOKUP(D26,$C$7:$AH$22,31,FALSE))=TRUE,\"\",VLOOKUP(D26,$C$7:$AH$22,6,FALSE))","v":""},{"$f":"IF(ISERROR(VLOOKUP(D26,$C$7:$AH$22,31,FALSE))=TRUE,\"\",IF(VLOOKUP(D26,C$7:AH$22,31,FALSE)=0,0,IF(VLOOKUP(D26,C$7:AH$22,31,FALSE)>95.99,\"\",VLOOKUP(D26,C$7:AH$22,31,FALSE))))","v":""},null,{"$f":"IF(ISERROR(VLOOKUP(D26,$D$7:$AV$22,30,FALSE))=TRUE,\"\",IF(VLOOKUP(D26,$D$7:$AV$22,45,FALSE)=\"\",VLOOKUP(D26,$D$7:$AV$22,38,FALSE),CONCATENATE(VLOOKUP(D26,$D$7:$AV$22,38,FALSE),VLOOKUP(D26,$D$7:$AV$22,45,FALSE))))","v":""},{"$f":"IF(ISERROR(VLOOKUP(K26,$C$7:$AR$22,31,FALSE))=TRUE,\"\",CONCATENATE(VLOOKUP(K26,$C$7:$AR$22,38,FALSE),VLOOKUP(K26,$C$7:$AR$22,42,FALSE)))","v":""},{"$f":"IF(ISERROR(VLOOKUP(D26,$D$7:$AH$22,30,FALSE))=TRUE,\"\",IF(VLOOKUP(D26,$D$7:$AH$22,30,FALSE)=0,\"\",VLOOKUP(D26,$D$7:$AH$22,3,FALSE)))","v":""},null,{"$f":"IF(ISERROR(VLOOKUP(D26,$D$7:$AH$22,30,FALSE))=TRUE,\"\",VLOOKUP(D26,$D$7:$AH$22,4,FALSE))","v":""},null,null,null,null,null,{"$f":"IF(ISERROR(VLOOKUP(D26,$D$7:$AH$22,30,FALSE))=TRUE,\"\",VLOOKUP(D26,$D$7:$AH$22,5,FALSE))","v":""},null,null,null,null,null,{"$f":"IF(ISERROR(VLOOKUP(D26,$D$7:$AH$22,30,FALSE))=TRUE,\"\",IF(VLOOKUP(D26,$D$7:$AH$22,30,FALSE)=0,\"\",VLOOKUP(D26,$D$7:$AH$22,30,FALSE)))","v":""}]
[null,null,null,2,"","","","","",null,"","","",null,"",null,null,null,null,null,"",null,null,null,null,null,""]
[null,null,null,3,"","","","","",null,"","","",null,"",null,null,null,null,null,"",null,null,null,null,null,""]
[null,null,null,4,"","","","","",null,"","","",null,"",null,null,null,null,null,"",null,null,null,null,null,""]
[null,null,null,5,"","","","","",null,"","","",null,"",null,null,null,null,null,"",null,null,null,null,null,""]
[null,null,null,6,"","","","","",null,"","","",null,"",null,null,null,null,null,"",null,null,null,null,null,"",null,"REFEREE'S SIGNATURE"]
[null,null,null,7,"","","","","",null,"","","",null,"",null,null,null,null,null,"",null,null,null,null,null,""]
[null,null,null,8,"","","","","",null,"","","",null,"",null,null,null,null,null,"",null,null,null,null,null,""]

{"sheet":"Scores","index":20,"n_rows":16,"n_cols":6,"rows_kept":16,"cut":false,"hidden":false,"merged":[[1,0,1,1]]}
[{"$f":"CONCATENATE('Match Day'!I8,\" \",'Match Day'!I10,\" - \",'Match Day'!I12)","v":"Division 1 Match 3 - Winchester"},null,null,null,"Home"]
[{"$f":"'Match Day'!I6","v":"Saturday, 6th August"}]
[]
["Posn","Points after",{"$f":"Home!AG23","v":19},"event(s)"]
[]
[1,{"$f":"IF(OR(F6=\"\",F6=0,Points!$U$24=0),\"\",VLOOKUP(F6,'Match Day'!$F$4:$M$18,8,FALSE))","v":"Blackheath & Bromley H"},{"$f":"IF(OR(A6=0,A6=\"\",B6=0,B6=\"\"),\"\",HLOOKUP(A6,Points!$C$47:$R$53,3,FALSE))","v":204},null,null,{"$f":"IF(OR(A6=0,A6=\"\",Points!$U$24=0),\"\",HLOOKUP(A6,Points!$C$47:$R$53,2,FALSE))","v":"B&B"}]
[2,{"$f":"IF(OR(F7=\"\",F7=0,Points!$U$24=0),\"\",VLOOKUP(F7,'Match Day'!$F$4:$M$18,8,FALSE))","v":"Swansea H"},{"$f":"IF(OR(A7=0,A7=\"\",B7=0,B7=\"\"),\"\",HLOOKUP(A7,Points!$C$47:$R$53,3,FALSE))","v":185},null,null,{"$f":"IF(OR(A7=0,A7=\"\",Points!$U$24=0),\"\",HLOOKUP(A7,Points!$C$47:$R$53,2,FALSE))","v":"SWA"}]
[3,{"$f":"IF(OR(F8=\"\",F8=0,Points!$U$24=0),\"\",VLOOKUP(F8,'Match Day'!$F$4:$M$18,8,FALSE))","v":"Thames Valley H"},{"$f":"IF(OR(A8=0,A8=\"\",B8=0,B8=\"\"),\"\",HLOOKUP(A8,Points!$C$47:$R$53,3,FALSE))","v":168},null,null,{"$f":"IF(OR(A8=0,A8=\"\",Points!$U$24=0),\"\",HLOOKUP(A8,Points!$C$47:$R$53,2,FALSE))","v":"TVH"}]
[4,{"$f":"IF(OR(F9=\"\",F9=0,Points!$U$24=0),\"\",VLOOKUP(F9,'Match Day'!$F$4:$M$18,8,FALSE))","v":"Southampton AC"},{"$f":"IF(OR(A9=0,A9=\"\",B9=0,B9=\"\"),\"\",HLOOKUP(A9,Points!$C$47:$R$53,3,FALSE))","v":162},null,null,{"$f":"IF(OR(A9=0,A9=\"\",Points!$U$24=0),\"\",HLOOKUP(A9,Points!$C$47:$R$53,2,FALSE))","v":"STN"}]
[5,{"$f":"IF(OR(F10=\"\",F10=0,Points!$U$24=0),\"\",VLOOKUP(F10,'Match Day'!$F$4:$M$18,8,FALSE))","v":"Shaftesbury Barnet H"},{"$f":"IF(OR(A10=0,A10=\"\",B10=0,B10=\"\"),\"\",HLOOKUP(A10,Points!$C$47:$R$53,3,FALSE))","v":149},null,null,{"$f":"IF(OR(A10=0,A10=\"\",Points!$U$24=0),\"\",HLOOKUP(A10,Points!$C$47:$R$53,2,FALSE))","v":"SBH"}]
[6,{"$f":"IF(OR(F11=\"\",F11=0,Points!$U$24=0),\"\",VLOOKUP(F11,'Match Day'!$F$4:$M$18,8,FALSE))","v":"Marshall Milton Keynes AC"},{"$f":"IF(OR(A11=0,A11=\"\",B11=0,B11=\"\"),\"\",HLOOKUP(A11,Points!$C$47:$R$53,3,FALSE))","v":148},null,null,{"$f":"IF(OR(A11=0,A11=\"\",Points!$U$24=0),\"\",HLOOKUP(A11,Points!$C$47:$R$53,2,FALSE))","v":"MKN"}]
[7,{"$f":"IF(OR(F12=\"\",F12=0,Points!$U$24=0),\"\",VLOOKUP(F12,'Match Day'!$F$4:$M$18,8,FALSE))","v":"Bedford & County AC"},{"$f":"IF(OR(A12=0,A12=\"\",B12=0,B12=\"\"),\"\",HLOOKUP(A12,Points!$C$47:$R$53,3,FALSE))","v":106},null,null,{"$f":"IF(OR(A12=0,A12=\"\",Points!$U$24=0),\"\",HLOOKUP(A12,Points!$C$47:$R$53,2,FALSE))","v":"BFD"}]
[8,{"$f":"IF(OR(F13=\"\",F13=0,Points!$U$24=0),\"\",VLOOKUP(F13,'Match Day'!$F$4:$M$18,8,FALSE))","v":"Newham & Essex Beagles AC"},{"$f":"IF(OR(A13=0,A13=\"\",B13=0,B13=\"\"),\"\",HLOOKUP(A13,Points!$C$47:$R$53,3,FALSE))","v":110},null,null,{"$f":"IF(OR(A13=0,A13=\"\",Points!$U$24=0),\"\",HLOOKUP(A13,Points!$C$47:$R$53,2,FALSE))","v":"NEB"}]
[null,"Unused Team Points",{"$f":"Points!$S$49","v":174}]
[null,"Officials Points",{"$f":"Points!$S$50","v":0}]
[null,"Total",{"$f":"SUM(C6:C15)","v":1406}]

{"sheet":"Rounds","index":21,"n_rows":13,"n_cols":12,"rows_kept":13,"cut":false,"hidden":false,"merged":[[3,1,3,2],[3,10,3,11],[0,10,0,11],[3,4,3,5],[3,7,3,8],[1,0,1,1]]}
[{"$f":"CONCATENATE('Match Day'!I8,\" \",'Match Day'!I10,\" - \",'Match Day'!I12)","v":"Division 1 Match 3 - Winchester"},null,null,null,null,null,null,null,null,null,"Home"]
[{"$f":"'Match Day'!I6","v":"Saturday, 6th August"}]
[]
[null,"Match 1",null,null,"Match 2",null,null,"Match 3",null,null,"Overall"]
[null,"League","Match",null,"League","Match",null,"League","Match",null,"League","Match"]
[{"$f":"'Match Day'!$C$4","v":"Bedford & County AC"},2,119,null,2,133,null,null,null,null,{"$f":"B6+E6+H6","v":4},252]
[{"$f":"'Match Day'!$C$6","v":"Blackheath & Bromley H"},7,189.5,null,7,217.5,null,null,null,null,14,407]
[{"$f":"'Match Day'!$C$8","v":"Marshall Milton Keynes AC"},1,108,null,1,125.5,null,null,null,null,2,233.5]
[{"$f":"'Match Day'!$C$10","v":"Newham & Essex Beagles AC"},3,134,null,3,147,null,null,null,null,6,281]
[{"$f":"'Match Day'!$C$12","v":"Shaftesbury Barnet H"},5,166.5,null,6,215.5,null,null,null,null,11,382]
[{"$f":"'Match Day'!$C$14","v":"Southampton AC"},4,158,null,4,169.5,null,null,null,null,8,327.5]
[{"$f":"'Match Day'!$C$16","v":"Swansea H"},8,211,null,5,181,null,null,null,null,13,392]
[{"$f":"'Match Day'!$C$18","v":"Thames Valley H"},6,175,null,8,224,null,null,null,null,14,399]

{"sheet":"Declarations","index":22,"n_rows":48,"n_cols":20,"rows_kept":48,"cut":false,"hidden":false,"merged":[[1,17,1,18],[1,15,1,16],[1,11,1,12],[1,13,1,14],[1,3,1,4],[1,5,1,6],[1,7,1,8],[1,9,1,10]]}
[null,null,"Home"]
[null,null,"WOMEN'S",{"$f":"'Match Day'!C4","v":"Bedford & County AC"},null,{"$f":"'Match Day'!C6","v":"Blackheath & Bromley H"},null,{"$f":"'Match Day'!C8","v":"Marshall Milton Keynes AC"},null,{"$f":"'Match Day'!C10","v":"Newham & Essex Beagles AC"},null,{"$f":"'Match Day'!C12","v":"Shaftesbury Barnet H"},null,{"$f":"'Match Day'!C14","v":"Southampton AC"},null,{"$f":"'Match Day'!C16","v":"Swansea H"},null,{"$f":"'Match Day'!C18","v":"Thames Valley H"},null,"Row"]
["Event ",null,"DECLARATIONS",{"$f":"'Match Day'!B4","v":1},{"$f":"D3*11","v":11},{"$f":"'Match Day'!B6","v":2},{"$f":"F3*11","v":22},{"$f":"'Match Day'!B8","v":3},{"$f":"H3*11","v":33},{"$f":"'Match Day'!B10","v":4},{"$f":"J3*11","v":44},{"$f":"'Match Day'!B12","v":5},{"$f":"L3*11","v":55},{"$f":"'Match Day'!B14","v":6},{"$f":"N3*11","v":66},{"$f":"'Match Day'!B16","v":7},{"$f":"P3*11","v":77},{"$f":"'Match Day'!B18","v":8},{"$f":"R3*11","v":88},1]
[null,null,null,"A","B","A","B","A","B","A","B","A","B","A","B","A","B","A","B",2]
[3,null,{"$f":"VLOOKUP(A5,Handbook!$A$4:$C$24,3,FALSE)","v":"Women's 100m"},"Emma Bailey",null,"Serita Solomon","Amara Lalemi-Jacobs","Kadi-Ann Thomas","Joey Duck","Tope Faith-Nuqa","Susannah Banjo","Chisom Nwachukwu (U20)","Makeda Lewis (U20)","Emily Newton","Becca Carozzi","Rebecca Williams","Caryl Granville","Yvette Henry","Phyllis Agbo",3]
[7,null,{"$f":"VLOOKUP(A6,Handbook!$A$4:$C$24,3,FALSE)","v":"Women's 200m"},"Emma Bailey",null,"Yimika Adewakun","Emily Martin","Kadi-Ann Thomas","Joey Duck","Tope Faith-Nuqa","Susannah Banjo","Chisom Nwachukwu (U20)","Makeda Lewis (U20)","Becca Carozzi","Emily Newton","Rebecca Williams","Megan Rogers","Ambwene Simukonda","Yvette Henry",4]
[4,null,{"$f":"VLOOKUP(A7,Handbook!$A$4:$C$24,3,FALSE)","v":"Women's 400m"},"Lucy Spray",null,"Yimika Adewakun","Krystal Galley","Di Baldwin (V50)",null,"Mubarakat Akinshipo","Kate Laidlow","Gerda Vaitkaityte",null,"Millie Clifford","Emily Bonnett","Megan Rogers","Elin Leyshon","Ambwene Simukonda","Cleopatra Moulon",5]
[2,null,{"$f":"VLOOKUP(A8,Handbook!$A$4:$C$24,3,FALSE)","v":"Women's 800m"},"Emily Boast","Lucy Salter","Danielle  Critchley","Shavaun Henry","Di Baldwin (V50)",null,null,null,"Amy Campbell","Lucy Aukett","Jenny Beckingham","Rhianna Parker-Simpson","Amanda Jones","Holly Lawrence","Emma Grant","Katie Good",6]
[8,null,{"$f":"VLOOKUP(A9,Handbook!$A$4:$C$24,3,FALSE)","v":"Women's 1500m"},"Suzi Boast","Natasha Peters","Shavaun Henry","Danielle Critchley","Joey Duck","Kadi-Ann Thomas","Adele Stach-Kevitz","Deborah Oyelade","Amy Campbell","Lucy Aukett","Natalie Burke","Sophie Hall","Andrea Whitcombe","Ellen Butler","Katie Good","Lisa Da Silva",7]
[5,null,{"$f":"VLOOKUP(A10,Handbook!$A$4:$C$24,3,FALSE)","v":"Women's 2000 S/Chase"},"Leanne Buxton",null,"Sarah Abrams",null,"Di Baldwin (V50)","-","-","-","Victoria Walker (U20)",null,"Clemmie McAteer",null,"Holly Lawrence","-","Joanna Mobed","-",8]
[21,null,{"$f":"VLOOKUP(A11,Handbook!$A$4:$C$24,3,FALSE)","v":"Women's 3000m"},"Natasha Peters","Alice Burgin","Jane Bradshaw","Rachel Robinson","Ellie Roche (U20)",null,"Sandra Wilson","Adele Stach-Kevitz","Claire Miles ",null,"Nicci Blandford","Natalie Burke","Andrea Whitcombe","Alaw Benyon Thomas","Katie Good","Lisa Da Silva",9]
[1,null,{"$f":"VLOOKUP(A12,Handbook!$A$4:$C$24,3,FALSE)","v":"Women's 400 Hurdles"},"Lucy Spray",null,"Megan Southwart","Rachel Robinson","Chloe Walley",null,"Kate Laidlow","Mubarakat Akinshipo","Victoria Walker (U20)",null,"Emily Bonnett","Millie Clifford","Caryl Granville","Anwen Rees","Ambwene Simukonda","Joanna Mobed",10]
[6,null,{"$f":"VLOOKUP(A13,Handbook!$A$4:$C$24,3,FALSE)","v":"Women's 100 Hurdles"},null,null,"Serita Solomon","Megan Southwart","Chloe Walley",null,"Holly Thomas","Stephanie Ugbo",null,null,"Karla Drew","Megan Fry","Caryl Granville","Anwen Rees","Ugne Liuksaityte","Joanna Mobed",11]
[11,null,{"$f":"VLOOKUP(A14,Handbook!$A$4:$C$24,3,FALSE)","v":"Women's Hammer"},"Laura Duke","Rachael Bennett","Shaunagh  Brown","Sam Milner","Andrea Jenkins","Sadie Watts","Sue Lawrence","Adele Stach-Kevitz","Amy Clemens (U20)","Nneka Ofulue (U20)","Anna Stevens","Sarah Ellis","Toni Wells","Nina Prells","Ellisha Dee","Carla Letheby",12]
[12,null,{"$f":"VLOOKUP(A15,Handbook!$A$4:$C$24,3,FALSE)","v":"Women's Pole Vault"},"Jemma Eastwood","Hannah Frith","Liz Hughes","Rachel Arnheim","Rachel Gibbens","-","Kelly Montgomery","Melissa Strevens","Jade Ive (U20)",null,null,null,"Naomi James","Megan Jones","Ugne Liuksaityte",null,13]
[13,null,{"$f":"VLOOKUP(A16,Handbook!$A$4:$C$24,3,FALSE)","v":"Women's Long Jump"},"Emma Bailey",null,"Emily Martin","Lauren Blackie","Sophie Wilkins","Chloe Walley","Chioma Matthews","Rochelle Jones ","Lucy Boggis","Gaby Rowsell (U20)","Karla Drew","Megan Fry","Rebecca Williams","Donna Jones","Phyllis Agbo","Esther Aije",14]
[14,null,{"$f":"VLOOKUP(A17,Handbook!$A$4:$C$24,3,FALSE)","v":"Women's High Jump"},"Hannah Frith","Laura Duke","Sarah Abrams","Christine Lyston","Rachel Gibbens","Sophie Wilkins","Stephanie Ugbo",null,"Eloise Newman","Gaby Rowsell (U20)","Karla Drew","Joanne Bottell","Sian Swanson","Atlanta Williams","Esther Aije","Abigail Moronkeji",15]
[15,null,{"$f":"VLOOKUP(A18,Handbook!$A$4:$C$24,3,FALSE)","v":"Women's Discus"},"Rachael Bennett","Jemma Eastwood","Shaunagh  Brown","Sam Milner","Emma Beales (V35)","Andrea Jenkins","Sue Lawrence","Melissa Strevens","Trecia Smith","Nneka Ofulue (U20)","Debbie Callaway","Anna Stevens","Nina Prells","Toni Wells","Ellisha Dee","Carla Letheby",16]
[16,null,{"$f":"VLOOKUP(A19,Handbook!$A$4:$C$24,3,FALSE)","v":"Women's Triple Jump"},"Jemma Eastwood","Hannah Frith","Sandra Alaneme","Lauren Blackie","Rachel Gibbens","Sophie Wilkins","Chioma Matthews","Rochelle Jones ","Trecia Smith","Yamille Aldama","Vicki Vinter","Jenny Beckingham","Sian Swanson","Donna Jones","Esther Aije","Ugne Liuksaityte",17]
[17,null,{"$f":"VLOOKUP(A20,Handbook!$A$4:$C$24,3,FALSE)","v":"Women's Shot Putt"},"Leanne Buxton","Laura Duke","Shaunagh  Brown","Sam Milner","Emma Beales (vV35)","Sadie Watts","Sue Lawrence","Kate Laidlow","Lucy Boggis","Makeda Lewis (U20)","Freya Jones","Debbie Callaway","Toni Wells","Nina Prells","Phyllis Agbo","Abigail Moronkeji",18]
[18,null,{"$f":"VLOOKUP(A21,Handbook!$A$4:$C$24,3,FALSE)","v":"Women's Javelin"},"Leanne Buxton","Rachael Bennett","Liz Hughes","Sandra Alaneme","Sadie Watts","Andrea Jenkins","Susannah Banjo","Tope Faith-Nuqa","Trecia Smith","Makeda Lewis (U20)","Freya Jones","Sarah Ellis","Clair Williams","Megan Rogers","Carla Letheby","Juchinar Searles",19]
[19,null,{"$f":"VLOOKUP(A22,Handbook!$A$4:$C$24,3,FALSE)","v":"100m Non Scoring"},"-",null,"Maureen Miller","-","-","-","-","-",null,null,null,null,"-","-","-","-",20]
[20,null,{"$f":"VLOOKUP(A23,Handbook!$A$4:$C$24,3,FALSE)","v":"400m Non Scoring"},"-",null,"Christina Moore","-","-","-","-","-",null,null,null,null,"-","-","-","-",21]
[9,null,{"$f":"VLOOKUP(A24,Handbook!$A$4:$C$24,3,FALSE)","v":"Women's 4x100m Relay"},"Emma Bailey","-","Lauren Blackie","-","Chloe Walley","-","Rochelle Jones ","-","Gerda Vaitkaityte","-","Emily Bonnett","-","Sian Swanson","-","Cleopatra Moulon","-",22]
[9,null,{"$f":"VLOOKUP(A25,Handbook!$A$4:$C$24,3,FALSE)","v":"Women's 4x100m Relay"},"Hannah Frith","-","Serita Solomon","-","Joey Duck","-","Temi Erinoso","-","Gaby Rowsell (U20)","-","Becca Carozzi","-","Caryl Granville","-","Ambwene Simukonda","-",23]
[9,null,{"$f":"VLOOKUP(A26,Handbook!$A$4:$C$24,3,FALSE)","v":"Women's 4x100m Relay"},"Lucy Spray","-","Emily Martin","-","Sophie Wilkins","-","Susannah Banjo","-","Chisom Nwachukwu (U20)","-","Karla Drew","-","Megan Rogers","-","Phyllis Agbo","-",24]
[9,null,{"$f":"VLOOKUP(A27,Handbook!$A$4:$C$24,3,FALSE)","v":"Women's 4x100m Relay"},"Laura Duke","-","Amara Lalemi-Jacobs","-","Kadi-Ann Thomas","-","Tope Faith-Nuqa","-","Lucy Aukett","-","Emily Newton","-","Rebecca Williams","-","Yvette Henry","-",25]
[10,null,{"$f":"VLOOKUP(A28,Handbook!$A$4:$C$24,3,FALSE)","v":"Women's 4x400m Relay"},null,"-","Krystal Galley","-","Sophie Wilkins","-","Chioma Matthews","-","Gerda Vaitkaityte","-","Millie Clifford","-","Rebecca Williams","-","Phyllis Agbo","-",26]
[10,null,{"$f":"VLOOKUP(A29,Handbook!$A$4:$C$24,3,FALSE)","v":"Women's 4x400m Relay"},null,"-","Amara Lalemi-Jacobs","-","Ellie Roche (U20)","-","Kate Laidlow","-","Gaby Rowsell (U20)","-","Rhianna Parker-Simpson","-","Anwen Rees","-","Yvette Henry","-",27]
[10,null,{"$f":"VLOOKUP(A30,Handbook!$A$4:$C$24,3,FALSE)","v":"Women's 4x400m Relay"},null,"-","Megan Southwart","-","Joey Duck","-","Susannah Banjo","-","Lucy Aukett","-","Jenny Beckingham","-","Megan Rogers","-","Cleopatra Moulon","-",28]
[10,null,{"$f":"VLOOKUP(A31,Handbook!$A$4:$C$24,3,FALSE)","v":"Women's 4x400m Relay"},null,"-","Yimika Adewakun","-","Kadi-Ann Thomas","-","Tope Faith-Nuqa","-","Amy Campbell","-","Emily Bonnett","-","Caryl Granville","-","Ambwene Simukonda","-",29]
[null,null,null,{"$f":"E5","v":0},{"$f":"D5","v":"Emma Bailey"},{"$f":"G5","v":"Amara Lalemi-Jacobs"},{"$f":"F5","v":"Serita Solomon"},{"$f":"I5","v":"Joey Duck"},{"$f":"H5","v":"Kadi-Ann Thomas"},{"$f":"K5","v":"Susannah Banjo"},{"$f":"J5","v":"Tope Faith-Nuqa"},{"$f":"M5","v":"Makeda Lewis (U20)"},{"$f":"L5","v":"Chisom Nwachukwu (U20)"},{"$f":"O5","v":"Becca Carozzi"},{"$f":"N5","v":"Emily Newton"},{"$f":"Q5","v":"Caryl Granville"},{"$f":"P5","v":"Rebecca Williams"},{"$f":"S5","v":"Phyllis Agbo"},{"$f":"R5","v":"Yvette Henry"}]
[null,null,null,{"$f":"E6","v":0},{"$f":"D6","v":"Emma Bailey"},{"$f":"G6","v":"Emily Martin"},{"$f":"F6","v":"Yimika Adewakun"},{"$f":"I6","v":"Joey Duck"},{"$f":"H6","v":"Kadi-Ann Thomas"},{"$f":"K6","v":"Susannah Banjo"},{"$f":"J6","v":"Tope Faith-Nuqa"},{"$f":"M6","v":"Makeda Lewis (U20)"},{"$f":"L6","v":"Chisom Nwachukwu (U20)"},{"$f":"O6","v":"Emily Newton"},{"$f":"N6","v":"Becca Carozzi"},{"$f":"Q6","v":"Megan Rogers"},{"$f":"P6","v":"Rebecca Williams"},{"$f":"S6","v":"Yvette Henry"},{"$f":"R6","v":"Ambwene Simukonda"}]
[null,null,null,0,"Lucy Spray","Krystal Galley","Yimika Adewakun",0,"Di Baldwin (V50)","Kate Laidlow","Mubarakat Akinshipo",0,"Gerda Vaitkaityte","Emily Bonnett","Millie Clifford","Elin Leyshon","Megan Rogers","Cleopatra Moulon","Ambwene Simukonda"]
[null,null,null,"Lucy Salter","Emily Boast","Shavaun Henry","Danielle  Critchley",0,"Di Baldwin (V50)",0,0,"Lucy Aukett","Amy Campbell","Rhianna Parker-Simpson","Jenny Beckingham","Holly Lawrence","Amanda Jones","Katie Good","Emma Grant"]
[null,null,null,"Natasha Peters","Suzi Boast","Danielle Critchley","Shavaun Henry","Kadi-Ann Thomas","Joey Duck","Deborah Oyelade","Adele Stach-Kevitz","Lucy Aukett","Amy Campbell","Sophie Hall","Natalie Burke","Ellen Butler","Andrea Whitcombe","Lisa Da Silva","Katie Good"]
[null,null,null,0,"Leanne Buxton",0,"Sarah Abrams","-","Di Baldwin (V50)","-","-",0,"Victoria Walker (U20)",0,"Clemmie McAteer","-","Holly Lawrence","-","Joanna Mobed"]
[null,null,null,"Alice Burgin","Natasha Peters","Rachel Robinson","Jane Bradshaw",0,"Ellie Roche (U20)","Adele Stach-Kevitz","Sandra Wilson",0,"Claire Miles ","Natalie Burke","Nicci Blandford","Alaw Benyon Thomas","Andrea Whitcombe","Lisa Da Silva","Katie Good"]
[null,null,null,0,"Lucy Spray","Rachel Robinson","Megan Southwart",0,"Chloe Walley","Mubarakat Akinshipo","Kate Laidlow",0,"Victoria Walker (U20)","Millie Clifford","Emily Bonnett","Anwen Rees","Caryl Granville","Joanna Mobed","Ambwene Simukonda"]
[null,null,null,0,0,"Megan Southwart","Serita Solomon",0,"Chloe Walley","Stephanie Ugbo","Holly Thomas",0,0,"Megan Fry","Karla Drew","Anwen Rees","Caryl Granville","Joanna Mobed","Ugne Liuksaityte"]
[null,null,null,"Rachael Bennett","Laura Duke","Sam Milner","Shaunagh  Brown","Sadie Watts","Andrea Jenkins","Adele Stach-Kevitz","Sue Lawrence","Nneka Ofulue (U20)","Amy Clemens (U20)","Sarah Ellis","Anna Stevens","Nina Prells","Toni Wells","Carla Letheby","Ellisha Dee"]
[null,null,null,"Hannah Frith","Jemma Eastwood","Rachel Arnheim","Liz Hughes","-","Rachel Gibbens","Melissa Strevens","Kelly Montgomery",0,"Jade Ive (U20)",0,0,"Megan Jones","Naomi James",0,"Ugne Liuksaityte"]
[null,null,null,0,"Emma Bailey","Lauren Blackie","Emily Martin","Chloe Walley","Sophie Wilkins","Rochelle Jones ","Chioma Matthews","Gaby Rowsell (U20)","Lucy Boggis","Megan Fry","Karla Drew","Donna Jones","Rebecca Williams","Esther Aije","Phyllis Agbo"]
[null,null,null,"Laura Duke","Hannah Frith","Christine Lyston","Sarah Abrams","Sophie Wilkins","Rachel Gibbens",0,"Stephanie Ugbo","Gaby Rowsell (U20)","Eloise Newman","Joanne Bottell","Karla Drew","Atlanta Williams","Sian Swanson","Abigail Moronkeji","Esther Aije"]
[null,null,null,"Jemma Eastwood","Rachael Bennett","Sam Milner","Shaunagh  Brown","Andrea Jenkins","Emma Beales (V35)","Melissa Strevens","Sue Lawrence","Nneka Ofulue (U20)","Trecia Smith","Anna Stevens","Debbie Callaway","Toni Wells","Nina Prells","Carla Letheby","Ellisha Dee"]
[null,null,null,"Hannah Frith","Jemma Eastwood","Lauren Blackie","Sandra Alaneme","Sophie Wilkins","Rachel Gibbens","Rochelle Jones ","Chioma Matthews","Yamille Aldama","Trecia Smith","Jenny Beckingham","Vicki Vinter","Donna Jones","Sian Swanson","Ugne Liuksaityte","Esther Aije"]
[null,null,null,"Laura Duke","Leanne Buxton","Sam Milner","Shaunagh  Brown","Sadie Watts","Emma Beales (vV35)","Kate Laidlow","Sue Lawrence","Makeda Lewis (U20)","Lucy Boggis","Debbie Callaway","Freya Jones","Nina Prells","Toni Wells","Abigail Moronkeji","Phyllis Agbo"]
[null,null,null,"Rachael Bennett","Leanne Buxton","Sandra Alaneme","Liz Hughes","Andrea Jenkins","Sadie Watts","Tope Faith-Nuqa","Susannah Banjo","Makeda Lewis (U20)","Trecia Smith","Sarah Ellis","Freya Jones","Megan Rogers","Clair Williams","Juchinar Searles","Carla Letheby"]

{"sheet":"Declarations (F)","index":23,"n_rows":31,"n_cols":20,"rows_kept":31,"cut":false,"hidden":true,"merged":[[1,3,1,4],[1,5,1,6],[1,7,1,8],[1,9,1,10],[1,17,1,18],[1,15,1,16],[1,11,1,12],[1,13,1,14]]}
[null,null,"Home"]
[null,null,"WOMENS",{"$f":"'Match Day'!C4","v":"Bedford & County AC"},null,{"$f":"'Match Day'!C6","v":"Blackheath & Bromley H"},null,{"$f":"'Match Day'!C8","v":"Marshall Milton Keynes AC"},null,{"$f":"'Match Day'!C10","v":"Newham & Essex Beagles AC"},null,{"$f":"'Match Day'!C12","v":"Shaftesbury Barnet H"},null,{"$f":"'Match Day'!C14","v":"Southampton AC"},null,{"$f":"'Match Day'!C16","v":"Swansea H"},null,{"$f":"'Match Day'!C18","v":"Thames Valley H"},null,"Row"]
["Event ",null,"DECLARATIONS",{"$f":"'Match Day'!B4","v":1},{"$f":"D3*11","v":11},{"$f":"'Match Day'!B6","v":2},{"$f":"F3*11","v":22},{"$f":"'Match Day'!B8","v":3},{"$f":"H3*11","v":33},{"$f":"'Match Day'!B10","v":4},{"$f":"J3*11","v":44},{"$f":"'Match Day'!B12","v":5},{"$f":"L3*11","v":55},{"$f":"'Match Day'!B14","v":6},{"$f":"N3*11","v":66},{"$f":"'Match Day'!B16","v":7},{"$f":"P3*11","v":77},{"$f":"'Match Day'!B18","v":8},{"$f":"R3*11","v":88},1]
[null,null,null,"A","B","A","B","A","B","A","B","A","B","A","B","A","B","A","B",2]
[3,null,{"$f":"VLOOKUP(A5,Handbook!$A$26:$AK$46,3,FALSE)","v":"Women's 100m"},"-","-","-","-","-","-","-","-","-","-","-","-","-","-","-","-",3]
[7,null,{"$f":"VLOOKUP(A6,Handbook!$A$26:$AK$46,3,FALSE)","v":"Women's 200m"},"-","-","-","-","-","-","-","-","-","-","-","-","-","-","-","-",4]
[4,null,{"$f":"VLOOKUP(A7,Handbook!$A$26:$AK$46,3,FALSE)","v":"Women's 400m"},"-","-","-","-","-","-","-","-","-","-","-","-","-","-","-","-",5]
[2,null,{"$f":"VLOOKUP(A8,Handbook!$A$26:$AK$46,3,FALSE)","v":"Women's 800m"},"-","-","-","-","-","-","-","-","-","-","-","-","-","-","-","-",6]
[8,null,{"$f":"VLOOKUP(A9,Handbook!$A$26:$AK$46,3,FALSE)","v":"Women's 1500m"},"-","-","-","-","-","-","-","-","-","-","-","-","-","-","-","-",7]
[5,null,{"$f":"VLOOKUP(A10,Handbook!$A$26:$AK$46,3,FALSE)","v":"Women's 3000m S/Chase"},"-","-","-","-","-","-","-","-","-","-","-","-","-","-","-","-",8]
[21,null,{"$f":"VLOOKUP(A11,Handbook!$A$26:$AK$46,3,FALSE)","v":"Women's 3000m"},"-","-","-","-","-","-","-","-","-","-","-","-","-","-","-","-",9]
[1,null,{"$f":"VLOOKUP(A12,Handbook!$A$26:$AK$46,3,FALSE)","v":"Women's 400m Hurdles"},"-","-","-","-","-","-","-","-","-","-","-","-","-","-","-","-",10]
[6,null,{"$f":"VLOOKUP(A13,Handbook!$A$26:$AK$46,3,FALSE)","v":"Women's 100m Hurdles"},"-","-","-","-","-","-","-","-","-","-","-","-","-","-","-","-",11]
[11,null,{"$f":"VLOOKUP(A14,Handbook!$A$26:$AK$46,3,FALSE)","v":"Women's Hammer"},"-","-","-","-","-","-","-","-","-","-","-","-","-","-","-","-",12]
[12,null,{"$f":"VLOOKUP(A15,Handbook!$A$26:$AK$46,3,FALSE)","v":"Women's Pole Vault"},"-","-","-","-","-","-","-","-","-","-","-","-","-","-","-","-",13]
[13,null,{"$f":"VLOOKUP(A16,Handbook!$A$26:$AK$46,3,FALSE)","v":"Women's Long Jump"},"-","-","-","-","-","-","-","-","-","-","-","-","-","-","-","-",14]
[14,null,{"$f":"VLOOKUP(A17,Handbook!$A$26:$AK$46,3,FALSE)","v":"Women's High Jump"},"-","-","-","-","-","-","-","-","-","-","-","-","-","-","-","-",15]
[15,null,{"$f":"VLOOKUP(A18,Handbook!$A$26:$AK$46,3,FALSE)","v":"Women's Discus"},"-","-","-","-","-","-","-","-","-","-","-","-","-","-","-","-",16]
[16,null,{"$f":"VLOOKUP(A19,Handbook!$A$26:$AK$46,3,FALSE)","v":"Women's Triple Jump"},"-","-","-","-","-","-","-","-","-","-","-","-","-","-","-","-",17]
[17,null,{"$f":"VLOOKUP(A20,Handbook!$A$26:$AK$46,3,FALSE)","v":"Women's Shot Putt"},"-","-","-","-","-","-","-","-","-","-","-","-","-","-","-","-",18]
[18,null,{"$f":"VLOOKUP(A21,Handbook!$A$26:$AK$46,3,FALSE)","v":"Women's Javelin"},"-","-","-","-","-","-","-","-","-","-","-","-","-","-","-","-",19]
[19,null,{"$f":"VLOOKUP(A22,Handbook!$A$26:$AK$46,3,FALSE)","v":"Women's 100m Non Scoring"},"-","-","-","-","-","-","-","-","-","-","-","-","-","-","-","-",20]
[20,null,{"$f":"VLOOKUP(A23,Handbook!$A$26:$AK$46,3,FALSE)","v":"Women's 400m Non Scoring"},"-","-","-","-","-","-","-","-","-","-","-","-","-","-","-","-",21]
[9,null,{"$f":"VLOOKUP(A24,Handbook!$A$26:$AK$46,3,FALSE)","v":"Women's 4x100m Relay"},"-",null,"-",null,"-",null,"-",null,"-",null,"-",null,"-",null,"-",null,22]
[9,null,{"$f":"VLOOKUP(A25,Handbook!$A$26:$AK$46,3,FALSE)","v":"Women's 4x100m Relay"},"-",null,"-",null,"-",null,"-",null,"-",null,"-",null,"-",null,"-",null,23]
[9,null,{"$f":"VLOOKUP(A26,Handbook!$A$26:$AK$46,3,FALSE)","v":"Women's 4x100m Relay"},"-",null,"-",null,"-",null,"-",null,"-",null,"-",null,"-",null,"-",null,24]
[9,null,{"$f":"VLOOKUP(A27,Handbook!$A$26:$AK$46,3,FALSE)","v":"Women's 4x100m Relay"},"-",null,"-",null,"-",null,"-",null,"-",null,"-",null,"-",null,"-",null,25]
[10,null,{"$f":"VLOOKUP(A28,Handbook!$A$26:$AK$46,3,FALSE)","v":"Women's 4x400m Relay"},"-",null,"-",null,"-",null,"-",null,"-",null,"-",null,"-",null,"-",null,26]
[10,null,{"$f":"VLOOKUP(A29,Handbook!$A$26:$AK$46,3,FALSE)","v":"Women's 4x400m Relay"},"-",null,"-",null,"-",null,"-",null,"-",null,"-",null,"-",null,"-",null,27]
[10,null,{"$f":"VLOOKUP(A30,Handbook!$A$26:$AK$46,3,FALSE)","v":"Women's 4x400m Relay"},"-",null,"-",null,"-",null,"-",null,"-",null,"-",null,"-",null,"-",null,28]
[10,null,{"$f":"VLOOKUP(A31,Handbook!$A$26:$AK$46,3,FALSE)","v":"Women's 4x400m Relay"},"-",null,"-",null,"-",null,"-",null,"-",null,"-",null,"-",null,"-",null,29]

{"sheet":"Match Day","index":24,"n_rows":30,"n_cols":13,"rows_kept":30,"cut":false,"hidden":false,"merged":[[19,1,19,5],[20,2,20,3],[11,8,11,10],[1,2,1,4],[3,2,3,4],[5,2,5,4],[7,2,7,4],[3,8,3,10],[9,2,9,4],[5,8,5,10],[7,8,7,10],[9,8,9,10],[17,2,17,4],[11,2,11,4],[13,2,13,4],[15,2,15,4]]}
["Home"]
[null,"Number","Competing Clubs",null,null,"Abbr. Name"]
[]
[1,1,"Bedford & County AC",null,null,"BFD",null,"LEAGUE","UK Womens League",null,null,null,{"$f":"C4","v":"Bedford & County AC"}]
[]
[2,2,"Blackheath & Bromley H",null,null,"B&B",null,"DATE","Saturday, 6th August",null,null,null,{"$f":"C6","v":"Blackheath & Bromley H"}]
[]
[3,3,"Marshall Milton Keynes AC",null,null,"MKN",null,"DIVISION","Division 1",null,null,null,{"$f":"C8","v":"Marshall Milton Keynes AC"}]
[]
[4,4,"Newham & Essex Beagles AC",null,null,"NEB",null,"ROUND","Match 3",null,null,null,{"$f":"C10","v":"Newham & Essex Beagles AC"}]
[]
[5,5,"Shaftesbury Barnet H",null,null,"SBH",null,"VENUE","Winchester",null,null,null,{"$f":"C12","v":"Shaftesbury Barnet H"}]
[]
[6,6,"Southampton AC",null,null,"STN",null,null,null,null,null,null,{"$f":"C14","v":"Southampton AC"}]
[]
[7,7,"Swansea H",null,null,"SWA",null,null,null,null,null,null,{"$f":"C16","v":"Swansea H"}]
[]
[8,8,"Thames Valley H",null,null,"TVH",null,null,null,null,null,null,{"$f":"C18","v":"Thames Valley H"}]
[]
[null,"SCORING TABLES"]
[null,null,"Match Points",null,null,"League"]
[null,"Position","A String","B String"]
[null,"1st",9,9,null,8]
[null,"2nd",7,7,null,7]
[null,"3rd",6,6,null,6]
[null,"4th",5,5,null,5]
[null,"5th",4,4,null,4]
[null,"6th",3,3,null,3]
[null,"7th",2,2,null,2]
[null,"8th",1,1,null,1]

{"sheet":"Handbook","index":25,"n_rows":46,"n_cols":37,"rows_kept":46,"cut":false,"hidden":false,"merged":[[1,29,1,32],[1,11,1,18],[1,25,1,28],[0,0,0,2],[0,19,0,21],[0,12,0,14],[0,3,0,5],[1,3,1,10],[1,22,1,24]]}
["UK Women's Athletics League",null,null,"Home",null,null,null,null,null,null,null,null,"Home",null,null,null,null,null,null,"Home"]
["Event \nNo","Time","Event","Order of Competition A",null,null,null,null,null,null,null,"Order of Competition B",null,null,null,null,null,null,null,"Starting \nHeights","League\nRecords","Divisional\nRecords","AAA Grades",null,null,"League Record Holders",null,null,null,"Division Record Holders",null,null,null,"T/F","Wind\nReadings","D/H","Row"]
[null,null,null,1,2,3,4,5,6,7,8,9,10,11,12,13,14,15,16,"(metres)",null,null,"AW B",2,3,"Athlete","Club","Performance","Year","Athlete","Club","Performance","Year",null,null,null,1]
[1,"13:00:00","Women's 400 Hurdles",2,1,4,7,8,6,5,3,{"$f":"D4*11","v":22},{"$f":"E4*11","v":11},44,77,88,66,55,33,null,56.5,57.1,70,70,70,"G Retchekan","Thurrock","56.5s","1992-08-30","K Maddox","Sale Harriers","56.8s","1999-07-10","T",null,null,2]
[2,"13:20:00","Women's 800m",8,2,3,1,4,6,7,5,{"$f":"D5*11","v":88},22,33,11,44,66,77,55,null,"00:02:00.740","00:02:03.500","00:02:25","00:02:25","00:02:25","J Meadows","Wigan & District Harriers","00:02:00.740","2006-07-02","C McMeekin","City of Glasgow","00:02:01.300","1978-08-26","T",null,null,3]
[3,"13:35:00","Women's 100m",6,7,4,3,1,2,5,8,66,77,44,33,11,22,55,88,null,11.1,11.1,13,13,13,"B Kinch","Hounslow","11.1s","1987-05-09","S Colyer","Stretford","11.3s","1977-07-30","T","Y",null,4]
[4,"14:00:00","Women's 400m",5,6,8,1,3,2,4,7,55,66,88,11,33,22,44,77,null,51.7,52.8,62,62,62,"P Smith","Sale Harriers","51.7s","1994-06-18","P Smith","Sale Harriers","51.7s","1994-06-18","T",null,null,5]
[5,"15:20:00","Women's 2000 S/Chase",3,6,7,2,1,5,4,8,33,66,77,22,11,55,44,88,null,"-","-","00:10:00","00:10:00","00:10:00","-","-","-","-","-","-","-","-","T",null,null,6]
[6,"14:50:00","Women's 100 Hurdles",7,2,4,8,1,5,6,3,77,22,44,88,11,55,66,33,null,13.1,13.18,16.5,16.5,16.5,"Sally Gunnell","Essex Ladies","13.1s","1988-07-02","Sally Gunnell","Essex Ladies","13.1s","1988-07-02","T","Y",null,7]
[7,"15:20:00","Women's 200m",4,2,8,6,3,5,7,1,44,22,88,66,33,55,77,11,null,23,23,27,27,27,"Katherine Merry","Birchfield","23.0s","1994-05-08","Michelle Probert","Sale Harriers","23.1s","1980-08-30","T","Y",null,8]
[8,"15:40:00","Women's 1500m",8,6,2,4,1,7,5,3,88,66,22,44,11,77,55,33,null,"00:04:12.700","00:04:12.700","00:05:00","00:05:00","00:05:00","Christina Boxer","Aldershot","00:04:12.700","1984-05-13","R Smeeth","Aldershot","00:04:17","1983-06-25","T",null,null,9]
[9,"16:00:00","Women's 4x100m Relay",5,1,2,7,3,6,4,8,null,null,null,null,null,null,null,null,null,44.4,44.4,52,52,52,"-","Essex Ladies","44.4s","1998-06-07","-","Hounslow","44.60s","1982-06-26","T",null,null,10]
[10,"16:20:00","Women's 4x400m Relay",7,1,8,5,3,6,4,2,null,null,null,null,null,null,null,null,null,"00:03:34.560","00:03:40.930","00:04:15","00:04:15","00:04:15","-","Birchfield","00:03:34.560","2003-09-14","-","Birchfield","00:03:34.560","2003-06-14","T",null,null,11]
[11,"12:00:00","Women's Hammer",6,3,7,2,1,8,5,4,{"$f":"D14*11","v":66},{"$f":"E14*11","v":33},77,22,11,88,55,44,null,67.94,67.94,30,30,30,"Lorraine Shaw","Sale Harriers","67.94m","2001-09-02","Lorraine Shaw","Sale Harriers","67.94m","2001-06-02","F",null,"D",12]
[12,"12:00:00","Women's Pole Vault",8,5,3,4,2,6,1,7,{"$f":"D15*11","v":88},55,33,44,22,66,11,77,2.1,4.2,4,2.25,2.25,2.25,"Jannine Whitlock","Trafford","4.20m","1999-07-31","Jannine Whitlock","Trafford","4.20m","1999-07-31","F",null,"H",13]
[13,"12:00:00","Women's Long Jump",3,7,5,1,4,2,8,6,33,77,55,11,44,22,88,66,null,6.69,6.38,5,5,5,"Fiona May","Derby","6.69m","1989-05-14","Denise Lewis","Birchfield","6.56m","2000-07-08","F",null,"D",14]
[14,"13:30:00","Women's High Jump",4,6,8,7,1,3,5,2,44,66,88,77,11,33,55,22,1.25,1.91,1.9,1.55,1.55,1.55,"Debbi Marti","Bromley","1.91m","1991-05-12","G Evans","City of Hull","1.90m","1983-06-25","F",null,"H",15]
[15,"13:40:00","Women's Discus",4,2,5,8,6,7,3,1,44,22,55,88,66,77,33,11,null,62.18,56.26,30,30,30,"M Ritchie","Edinburgh","62.18m","1984-07-07","M Ritchie","Edinburgh","62.18m","1984-07-07","F",null,"D",16]
[16,"14:00:00","Women's Triple Jump",2,5,7,8,4,1,6,3,22,55,77,88,44,11,66,33,null,14.55,14.55,10,10,10,"Y Aldama","Shaftesbury Barnet H","14.55m","2005-05-26","Y Aldama","Shaftesbury Barbet H",14.55,"2005-06-26","F",null,"D",17]
[17,"15:00:00","Women's Shot Putt",8,3,6,2,4,7,1,5,88,33,66,22,44,77,11,55,null,18.88,17.96,10,10,10,"Judy Oakes","Croydon","18.88m","1988-07-03","Judy Oakes","Croydon","18.14m","1990-08-25","F",null,"D",18]
[18,"15:20:00","Women's Javelin",1,2,8,3,5,4,7,6,11,22,88,33,55,44,77,66,null,57.99,53.06,30,30,30,"K Morgan","Windsor","57.99m","2000-08-05","K Morgan","Windsor","57.99m","2000-08-05","F",null,"D",19]
[19,"13:35:00","100m Non Scoring",{"$f":"D6","v":6},{"$f":"E6","v":7},4,3,1,2,5,8,66,77,44,33,11,22,55,88,null,{"$f":"U6","v":11.1},{"$f":"V6","v":11.1},{"$f":"W6","v":13},13,13,"B Kinch","Hounslow","11.1s",{"$f":"AC6","v":"1987-05-09"},{"$f":"AD6","v":"S Colyer"},{"$f":"AE6","v":"Stretford"},{"$f":"AF6","v":"11.3s"},{"$f":"AG6","v":"1977-07-30"},"T","Y",null,20]
[20,"14:00:00","400m Non Scoring",{"$f":"D7","v":5},{"$f":"E7","v":6},8,1,3,2,4,7,55,66,88,11,33,22,44,77,null,{"$f":"U7","v":51.7},{"$f":"V7","v":52.8},62,62,62,"-","-","-","-","-","-","-","-","T",null,null,21]
[21,"14:20:00","Women's 3000m",8,7,6,5,4,3,2,1,88,77,66,55,44,33,22,11,null,"00:09:04.900","00:09:15.600","00:11:00","00:11:00","00:11:00","A Ford","Feltham","00:09:04.900","1978-05-27","A Ford","Feltham","00:09:04.900","1978-05-27","T",null,null,22]
[null,null,null,1,2,3,4,5,6,7,8,9,10,11,12,13,14,15,16,null,null,null,null,null,null,null,null,null,null,null,null,null,null,null,null,null,1]
[1,"13:00:00","Women's 400m Hurdles",7,4,1,2,3,5,6,8,{"$f":"D26*11","v":77},{"$f":"E26*11","v":44},11,22,33,55,66,88,null,56.5,56.8,70,70,70,"G Retchekan","Thurrock","56.5s","1992-08-30","K Maddox","Sale Harriers","56.8s","1999-07-10","T",null,null,2]
[2,"13:20:00","Women's 800m",1,3,2,8,5,7,6,4,{"$f":"D27*11","v":11},33,22,88,55,77,66,44,null,"00:02:01.300","00:02:01.300","00:02:25","00:02:25","00:02:25","C McMeekin","City of Glasgow AC","00:02:01.300","1978-08-26","C McMeekin","City of Glasgow","00:02:01.300","1978-08-26","T",null,null,3]
[3,"13:35:00","Women's 100m",3,4,7,6,8,5,2,1,33,44,77,66,88,55,22,11,null,11.1,11.3,13,13,13,"B Kinch","Hounslow","11.1s","1987-05-09","S Colyer","Stretford","11.3s","1977-07-30","T","Y",null,4]
[4,"14:00:00","Women's 400m",1,8,6,5,7,4,2,3,11,88,66,55,77,44,22,33,null,51.7,51.7,62,62,62,"P Smith","Sale Harriers","51.7s","1994-06-18","P Smith","Sale Harriers","51.7s","1994-06-18","T",null,null,5]
[5,"16:05:00","Women's 3000m S/Chase",5,6,4,2,3,8,7,1,55,66,44,22,33,88,77,11,null,"-","-","00:10:00","00:10:00","00:10:00","-","-","-","-","-","-","-","-","T",null,null,6]
[6,"14:50:00","Women's 100m Hurdles",8,4,2,7,3,6,5,1,88,44,22,77,33,66,55,11,null,13.1,13.1,16.5,16.5,16.5,"Sally Gunnell","Essex Ladies","13.1s","1988-07-02","Sally Gunnell","Essex Ladies","13.1s","1988-07-02","T","Y",null,7]
[7,"15:20:00","Women's 200m",6,8,2,4,1,7,5,3,66,88,22,44,11,77,55,33,null,23,23.1,27,27,27,"Katherine Merry","Birchfield","23.0s","1994-05-08","Michelle Probert","Sale Harriers","23.1s","1980-08-30","T","Y",null,8]
[8,"15:40:00","Women's 1500m",4,2,6,8,3,5,7,1,44,22,66,88,33,55,77,11,null,"00:04:12.700","00:04:17","00:05:00","00:05:00","00:05:00","Christina Boxer","Aldershot","00:04:12.700","1984-05-13","R Smeeth","Aldershot","00:04:17","1983-06-25","T",null,null,9]
[9,"16:00:00","Women's 4x100m Relay",7,2,1,5,8,4,6,3,null,null,null,null,null,null,null,null,null,44.4,44.6,52,52,52,"-","Essex Ladies","44.4s","1998-06-07","-","Hounslow","44.60s","1982-06-26","T",null,null,10]
[10,"16:20:00","Women's 4x400m Relay",5,8,1,7,2,4,6,3,null,null,null,null,null,null,null,null,null,"00:03:34.560","00:03:34.560","00:04:15","00:04:15","00:04:15","-","Birchfield","00:03:34.560","2003-09-14","-","Birchfield","00:03:34.560","2003-06-14","T",null,null,11]
[11,"12:00:00","Women's Hammer",1,8,5,4,6,3,7,2,11,88,55,44,66,33,77,22,null,67.94,67.94,30,30,30,"Lorraine Shaw","Sale Harriers","67.94m","2001-09-02","Lorraine Shaw","Sale Harriers","67.94m","2001-06-02","F",null,"D",12]
[12,"12:00:00","Women's Pole Vault",2,6,1,7,8,5,3,4,22,66,11,77,88,55,33,44,2.1,4.2,4.2,2.25,2.25,2.25,"Jannine Whitlock","Trafford","4.20m","1999-07-31","Jannine Whitlock","Trafford","4.20m","1999-07-31","F",null,"H",13]
[13,"12:00:00","Women's Long Jump",4,2,8,6,3,7,5,1,44,22,88,66,33,77,55,11,null,6.69,6.56,5,5,5,"Fiona May","Derby","6.69m","1989-05-14","Denise Lewis","Birchfield","6.56m","2000-07-08","F",null,"D",14]
[14,"13:30:00","Women's High Jump",1,3,5,2,4,6,8,7,11,33,55,22,44,66,88,77,1.25,1.91,1.9,1.55,1.55,1.55,"Debbi Marti","Bromley","1.91m","1991-05-12","G Evans","City of Hull","1.90m","1983-06-25","F",null,"H",15]
[15,"13:40:00","Women's Discus",6,7,3,1,4,2,5,8,66,77,33,11,44,22,55,88,null,62.18,62.18,30,30,30,"M Ritchie","Edinburgh","62.18m","1984-07-07","M Ritchie","Edinburgh","62.18m","1984-07-07","F",null,"D",16]
[16,"14:00:00","Women's Triple Jump",4,1,6,3,2,5,7,8,44,11,66,33,22,55,77,88,null,14.16,14.16,10,10,10,"Y Aldama","Shaftesbury Barnet H","14.16m","2002-07-06","Y Aldama","Shaftesbury Barbet H","14.16m","2002-07-06","F",null,"D",17]
[17,"15:00:00","Women's Shot Putt",4,7,1,5,8,3,6,2,44,{"$f":"E42*11","v":77},11,55,88,33,66,22,null,18.88,18.14,10,10,10,"Judy Oakes","Croydon","18.88m","1988-07-03","Judy Oakes","Croydon","18.14m","1990-08-25","F",null,"D",18]
[18,"15:20:00","Women's Javelin",5,4,7,6,1,2,8,3,55,44,77,66,11,22,88,33,null,57.99,57.99,30,30,30,"K Morgan","Windsor","57.99m","2000-08-05","K Morgan","Windsor","57.99m","2000-08-05","F",null,"D",19]
[19,"13:35:00","Women's 100m Non Scoring",null,null,null,null,null,null,null,null,0,0,0,0,0,0,0,0,null,{"$f":"U28","v":11.1},{"$f":"V28","v":11.3},13,13,13,"B Kinch","Hounslow","11.1s",{"$f":"AC28","v":"1987-05-09"},{"$f":"AD28","v":"S Colyer"},{"$f":"AE28","v":"Stretford"},{"$f":"AF28","v":"11.3s"},{"$f":"AG28","v":"1977-07-30"},"T","Y",null,20]
[20,"14:00:00","Women's 400m Non Scoring",null,null,null,null,null,null,null,null,0,0,0,0,0,0,0,0,null,{"$f":"U29","v":51.7},{"$f":"V29","v":51.7},62,62,62,"-","-","-","-","-","-","-","-","T",null,null,21]
[21,"14:20:00","Women's 3000m",5,6,7,8,1,2,3,4,55,66,77,88,11,22,33,44,null,"00:09:04.900","00:09:04.900","00:11:00","00:11:00","00:11:00","A Ford","Feltham","00:09:04.900","1978-05-27","A Ford","Feltham","00:09:04.900","1978-05-27","T",null,null,22]

{"sheet":"Track Lists","index":26,"n_rows":219,"n_cols":8,"rows_kept":219,"cut":false,"hidden":false,"merged":[[206,2,206,4],[0,2,0,4],[1,2,1,3]]}
[null,null,{"$f":"CONCATENATE('Match Day'!I8,\" \",'Match Day'!I10,\" - \",'Match Day'!I12)","v":"Division 1 Match 3 - Winchester"},null,null,null,null,"Home"]
[null,null,{"$f":"'Match Day'!I6","v":"Saturday, 6th August"}]
[1,null,{"$f":"CONCATENATE(VLOOKUP(A3,mens_handbook,3,FALSE),\" - A String\")","v":"Women's 400 Hurdles - A String"},null,null,"Time:",{"$f":"VLOOKUP(A3,Handbook!$A$4:$B$24,2,FALSE)","v":"13:00:00"}]
[{"$f":"VLOOKUP(A3,mens_handbook,37,FALSE)","v":2},null,"Lane","Number","Athlete","Club"]
[{"$f":"VLOOKUP(A3,declare,20,FALSE)","v":10},{"$f":"IF(D5=\"\",\"\",IF(D5>10,D5/11,D5))","v":2},1,{"$f":"HLOOKUP(C5,mens_handbook,A4,FALSE)","v":2},{"$f":"IF(ISERROR(HLOOKUP(D5,declare,A5,FALSE))=TRUE,\"\",HLOOKUP(D5,declare,A5,FALSE))","v":"Megan Southwart"},{"$f":"IF(ISERROR(VLOOKUP(B5,'Match Day'!$B$4:$C$18,2,FALSE))=TRUE,\"\",VLOOKUP(B5,'Match Day'!$B$4:$C$18,2,FALSE))","v":"Blackheath & Bromley H"}]
[null,{"$f":"IF(D6=\"\",\"\",IF(D6>10,D6/11,D6))","v":1},2,{"$f":"HLOOKUP(C6,mens_handbook,A4,FALSE)","v":1},{"$f":"IF(ISERROR(HLOOKUP(D6,declare,A5,FALSE))=TRUE,\"\",HLOOKUP(D6,declare,A5,FALSE))","v":"Lucy Spray"},{"$f":"IF(ISERROR(VLOOKUP(B6,matchday,2,FALSE))=TRUE,\"\",VLOOKUP(B6,matchday,2,FALSE))","v":"Bedford & County AC"}]
[null,4,3,{"$f":"HLOOKUP(C7,mens_handbook,A4,FALSE)","v":4},{"$f":"IF(ISERROR(HLOOKUP(D7,declare,A5,FALSE))=TRUE,\"\",HLOOKUP(D7,declare,A5,FALSE))","v":"Kate Laidlow"},"Newham & Essex Beagles AC"]
[null,7,4,{"$f":"HLOOKUP(C8,mens_handbook,A4,FALSE)","v":7},{"$f":"IF(ISERROR(HLOOKUP(D8,declare,A5,FALSE))=TRUE,\"\",HLOOKUP(D8,declare,A5,FALSE))","v":"Caryl Granville"},"Swansea H"]
[null,8,5,{"$f":"HLOOKUP(C9,mens_handbook,A4,FALSE)","v":8},{"$f":"IF(ISERROR(HLOOKUP(D9,declare,A5,FALSE))=TRUE,\"\",HLOOKUP(D9,declare,A5,FALSE))","v":"Ambwene Simukonda"},"Thames Valley H"]
[null,6,6,{"$f":"HLOOKUP(C10,mens_handbook,A4,FALSE)","v":6},{"$f":"IF(ISERROR(HLOOKUP(D10,declare,A5,FALSE))=TRUE,\"\",HLOOKUP(D10,declare,A5,FALSE))","v":"Emily Bonnett"},"Southampton AC"]
[null,5,7,{"$f":"HLOOKUP(C11,mens_handbook,A4,FALSE)","v":5},{"$f":"IF(ISERROR(HLOOKUP(D11,declare,A5,FALSE))=TRUE,\"\",HLOOKUP(D11,declare,A5,FALSE))","v":"Victoria Walker (U20)"},"Shaftesbury Barnet H"]
[null,3,8,{"$f":"HLOOKUP(C12,mens_handbook,A4,FALSE)","v":3},{"$f":"IF(ISERROR(HLOOKUP(D12,declare,A5,FALSE))=TRUE,\"\",HLOOKUP(D12,declare,A5,FALSE))","v":"Chloe Walley"},"Marshall Milton Keynes AC"]
[]
[]
[null,null,{"$f":"CONCATENATE(VLOOKUP(A3,mens_handbook,3,FALSE),\" - B String\")","v":"Women's 400 Hurdles - B String"},null,null,"Time:",{"$f":"VLOOKUP(A3,Handbook!$A$4:$B$24,2,FALSE)","v":"13:00:00"}]
[null,null,"Lane","Number","Athlete","Club"]
[9,{"$f":"IF(D17=\"\",\"\",IF(D17>10,D17/11,D17))","v":2},1,{"$f":"HLOOKUP(A17,mens_handbook,A4,FALSE)","v":22},{"$f":"IF(ISERROR(HLOOKUP(D17,declare,A5,FALSE))=TRUE,\"\",HLOOKUP(D17,declare,A5,FALSE))","v":"Rachel Robinson"},{"$f":"IF(ISERROR(VLOOKUP(B17,matchday,2,FALSE))=TRUE,\"\",VLOOKUP(B17,matchday,2,FALSE))","v":"Blackheath & Bromley H"}]
[10,{"$f":"IF(D18=\"\",\"\",IF(D18>10,D18/11,D18))","v":1},2,{"$f":"HLOOKUP(A18,mens_handbook,A4,FALSE)","v":11},{"$f":"IF(ISERROR(HLOOKUP(D18,declare,A5,FALSE))=TRUE,\"\",HLOOKUP(D18,declare,A5,FALSE))","v":0},"Bedford & County AC"]
[11,4,3,{"$f":"HLOOKUP(A19,mens_handbook,A4,FALSE)","v":44},{"$f":"IF(ISERROR(HLOOKUP(D19,declare,A5,FALSE))=TRUE,\"\",HLOOKUP(D19,declare,A5,FALSE))","v":"Mubarakat Akinshipo"},"Newham & Essex Beagles AC"]
[12,7,4,{"$f":"HLOOKUP(A20,mens_handbook,A4,FALSE)","v":77},{"$f":"IF(ISERROR(HLOOKUP(D20,declare,A5,FALSE))=TRUE,\"\",HLOOKUP(D20,declare,A5,FALSE))","v":"Anwen Rees"},"Swansea H"]
[13,8,5,{"$f":"HLOOKUP(A21,mens_handbook,A4,FALSE)","v":88},{"$f":"IF(ISERROR(HLOOKUP(D21,declare,A5,FALSE))=TRUE,\"\",HLOOKUP(D21,declare,A5,FALSE))","v":"Joanna Mobed"},"Thames Valley H"]
[14,6,6,{"$f":"HLOOKUP(A22,mens_handbook,A4,FALSE)","v":66},{"$f":"IF(ISERROR(HLOOKUP(D22,declare,A5,FALSE))=TRUE,\"\",HLOOKUP(D22,declare,A5,FALSE))","v":"Millie Clifford"},"Southampton AC"]
[15,5,7,{"$f":"HLOOKUP(A23,mens_handbook,A4,FALSE)","v":55},{"$f":"IF(ISERROR(HLOOKUP(D23,declare,A5,FALSE))=TRUE,\"\",HLOOKUP(D23,declare,A5,FALSE))","v":0},"Shaftesbury Barnet H"]
[16,3,8,{"$f":"HLOOKUP(A24,mens_handbook,A4,FALSE)","v":33},{"$f":"IF(ISERROR(HLOOKUP(D24,declare,A5,FALSE))=TRUE,\"\",HLOOKUP(D24,declare,A5,FALSE))","v":0},"Marshall Milton Keynes AC"]
[]
[null,null,"League",{"$f":"VLOOKUP(A3,mens_handbook,29,FALSE)","v":"1992-08-30"},{"$f":"VLOOKUP(A3,mens_handbook,26,FALSE)","v":"G Retchekan"},{"$f":"VLOOKUP(A3,mens_handbook,27,FALSE)","v":"Thurrock"},{"$f":"VLOOKUP(A3,mens_handbook,28,FALSE)","v":"56.5s"}]
[null,null,"Division",{"$f":"VLOOKUP(A3,mens_handbook,33,FALSE)","v":"1999-07-10"},{"$f":"VLOOKUP(A3,mens_handbook,30,FALSE)","v":"K Maddox"},{"$f":"VLOOKUP(A3,mens_handbook,31,FALSE)","v":"Sale Harriers"},{"$f":"VLOOKUP(A3,mens_handbook,32,FALSE)","v":"56.8s"}]
[2,null,{"$f":"CONCATENATE(VLOOKUP(A28,mens_handbook,3,FALSE),\" - A String\")","v":"Women's 800m - A String"},null,null,"Time:",{"$f":"VLOOKUP(A28,Handbook!$A$4:$B$24,2,FALSE)","v":"13:20:00"}]
[{"$f":"VLOOKUP(A28,mens_handbook,37,FALSE)","v":3},null,"Lane","Number","Athlete","Club"]
[{"$f":"VLOOKUP(A28,declare,20,FALSE)","v":6},{"$f":"IF(D30=\"\",\"\",IF(D30>10,D30/11,D30))","v":8},1,{"$f":"HLOOKUP(C30,mens_handbook,A29,FALSE)","v":8},{"$f":"IF(ISERROR(HLOOKUP(D30,declare,A30,FALSE))=TRUE,\"\",HLOOKUP(D30,declare,A30,FALSE))","v":"Emma Grant"},{"$f":"IF(ISERROR(VLOOKUP(B30,matchday,2,FALSE))=TRUE,\"\",VLOOKUP(B30,matchday,2,FALSE))","v":"Thames Valley H"}]
[null,{"$f":"IF(D31=\"\",\"\",IF(D31>10,D31/11,D31))","v":2},2,{"$f":"HLOOKUP(C31,mens_handbook,A29,FALSE)","v":2},{"$f":"IF(ISERROR(HLOOKUP(D31,declare,A30,FALSE))=TRUE,\"\",HLOOKUP(D31,declare,A30,FALSE))","v":"Danielle  Critchley"},"Blackheath & Bromley H"]
[null,3,3,{"$f":"HLOOKUP(C32,mens_handbook,A29,FALSE)","v":3},{"$f":"IF(ISERROR(HLOOKUP(D32,declare,A30,FALSE))=TRUE,\"\",HLOOKUP(D32,declare,A30,FALSE))","v":"Di Baldwin (V50)"},"Marshall Milton Keynes AC"]
[null,1,4,{"$f":"HLOOKUP(C33,mens_handbook,A29,FALSE)","v":1},{"$f":"IF(ISERROR(HLOOKUP(D33,declare,A30,FALSE))=TRUE,\"\",HLOOKUP(D33,declare,A30,FALSE))","v":"Emily Boast"},"Bedford & County AC"]
[null,4,5,{"$f":"HLOOKUP(C34,mens_handbook,A29,FALSE)","v":4},{"$f":"IF(ISERROR(HLOOKUP(D34,declare,A30,FALSE))=TRUE,\"\",HLOOKUP(D34,declare,A30,FALSE))","v":0},"Newham & Essex Beagles AC"]
[null,6,6,{"$f":"HLOOKUP(C35,mens_handbook,A29,FALSE)","v":6},{"$f":"IF(ISERROR(HLOOKUP(D35,declare,A30,FALSE))=TRUE,\"\",HLOOKUP(D35,declare,A30,FALSE))","v":"Jenny Beckingham"},"Southampton AC"]
[null,7,7,{"$f":"HLOOKUP(C36,mens_handbook,A29,FALSE)","v":7},{"$f":"IF(ISERROR(HLOOKUP(D36,declare,A30,FALSE))=TRUE,\"\",HLOOKUP(D36,declare,A30,FALSE))","v":"Amanda Jones"},"Swansea H"]
[null,5,8,{"$f":"HLOOKUP(C37,mens_handbook,A29,FALSE)","v":5},{"$f":"IF(ISERROR(HLOOKUP(D37,declare,A30,FALSE))=TRUE,\"\",HLOOKUP(D37,declare,A30,FALSE))","v":"Amy Campbell"},"Shaftesbury Barnet H"]
[]
[]
[null,null,{"$f":"CONCATENATE(VLOOKUP(A28,mens_handbook,3,FALSE),\" - B String\")","v":"Women's 800m - B String"},null,null,"Time:",{"$f":"VLOOKUP(A28,Handbook!$A$4:$B$24,2,FALSE)","v":"13:20:00"}]
[null,null,"Lane","Number","Athlete","Club"]
[9,{"$f":"IF(D42=\"\",\"\",IF(D42>10,D42/11,D42))","v":8},1,{"$f":"HLOOKUP(A42,mens_handbook,A29,FALSE)","v":88},{"$f":"IF(ISERROR(HLOOKUP(D42,declare,A30,FALSE))=TRUE,\"\",HLOOKUP(D42,declare,A30,FALSE))","v":"Katie Good"},{"$f":"IF(ISERROR(VLOOKUP(B42,matchday,2,FALSE))=TRUE,\"\",VLOOKUP(B42,matchday,2,FALSE))","v":"Thames Valley H"}]
[10,{"$f":"IF(D43=\"\",\"\",IF(D43>10,D43/11,D43))","v":2},2,{"$f":"HLOOKUP(A43,mens_handbook,A29,FALSE)","v":22},{"$f":"IF(ISERROR(HLOOKUP(D43,declare,A30,FALSE))=TRUE,\"\",HLOOKUP(D43,declare,A30,FALSE))","v":"Shavaun Henry"},"Blackheath & Bromley H"]
[11,3,3,{"$f":"HLOOKUP(A44,mens_handbook,A29,FALSE)","v":33},{"$f":"IF(ISERROR(HLOOKUP(D44,declare,A30,FALSE))=TRUE,\"\",HLOOKUP(D44,declare,A30,FALSE))","v":0},"Marshall Milton Keynes AC"]
[12,1,4,{"$f":"HLOOKUP(A45,mens_handbook,A29,FALSE)","v":11},{"$f":"IF(ISERROR(HLOOKUP(D45,declare,A30,FALSE))=TRUE,\"\",HLOOKUP(D45,declare,A30,FALSE))","v":"Lucy Salter"},"Bedford & County AC"]
[13,4,5,{"$f":"HLOOKUP(A46,mens_handbook,A29,FALSE)","v":44},{"$f":"IF(ISERROR(HLOOKUP(D46,declare,A30,FALSE))=TRUE,\"\",HLOOKUP(D46,declare,A30,FALSE))","v":0},"Newham & Essex Beagles AC"]
[14,6,6,{"$f":"HLOOKUP(A47,mens_handbook,A29,FALSE)","v":66},{"$f":"IF(ISERROR(HLOOKUP(D47,declare,A30,FALSE))=TRUE,\"\",HLOOKUP(D47,declare,A30,FALSE))","v":"Rhianna Parker-Simpson"},"Southampton AC"]
[15,7,7,{"$f":"HLOOKUP(A48,mens_handbook,A29,FALSE)","v":77},{"$f":"IF(ISERROR(HLOOKUP(D48,declare,A30,FALSE))=TRUE,\"\",HLOOKUP(D48,declare,A30,FALSE))","v":"Holly Lawrence"},"Swansea H"]
[16,5,8,{"$f":"HLOOKUP(A49,mens_handbook,A29,FALSE)","v":55},{"$f":"IF(ISERROR(HLOOKUP(D49,declare,A30,FALSE))=TRUE,\"\",HLOOKUP(D49,declare,A30,FALSE))","v":"Lucy Aukett"},"Shaftesbury Barnet H"]
[]
[null,null,"League",{"$f":"VLOOKUP(A28,mens_handbook,29,FALSE)","v":"2006-07-02"},{"$f":"VLOOKUP(A28,mens_handbook,26,FALSE)","v":"J Meadows"},{"$f":"VLOOKUP(A28,mens_handbook,27,FALSE)","v":"Wigan & District Harriers"},{"$f":"VLOOKUP(A28,mens_handbook,28,FALSE)","v":"00:02:00.740"}]
[null,null,"Division",{"$f":"VLOOKUP(A28,mens_handbook,33,FALSE)","v":"1978-08-26"},{"$f":"VLOOKUP(A28,mens_handbook,30,FALSE)","v":"C McMeekin"},{"$f":"VLOOKUP(A28,mens_handbook,31,FALSE)","v":"City of Glasgow"},{"$f":"VLOOKUP(A28,mens_handbook,32,FALSE)","v":"00:02:01.300"}]
[3,null,{"$f":"CONCATENATE(VLOOKUP(A53,mens_handbook,3,FALSE),\" - A String\")","v":"Women's 100m - A String"},null,null,"Time:",{"$f":"VLOOKUP(A53,Handbook!$A$4:$B$24,2,FALSE)","v":"13:35:00"}]
[{"$f":"VLOOKUP(A53,mens_handbook,37,FALSE)","v":4},null,"Lane","Number","Athlete","Club"]
[{"$f":"VLOOKUP(A53,declare,20,FALSE)","v":3},{"$f":"IF(D55=\"\",\"\",IF(D55>10,D55/11,D55))","v":6},1,{"$f":"HLOOKUP(C55,mens_handbook,A54,FALSE)","v":6},{"$f":"IF(ISERROR(HLOOKUP(D55,declare,A55,FALSE))=TRUE,\"\",HLOOKUP(D55,declare,A55,FALSE))","v":"Emily Newton"},{"$f":"IF(ISERROR(VLOOKUP(B55,matchday,2,FALSE))=TRUE,\"\",VLOOKUP(B55,matchday,2,FALSE))","v":"Southampton AC"}]
[null,{"$f":"IF(D56=\"\",\"\",IF(D56>10,D56/11,D56))","v":7},2,{"$f":"HLOOKUP(C56,mens_handbook,A54,FALSE)","v":7},{"$f":"IF(ISERROR(HLOOKUP(D56,declare,A55,FALSE))=TRUE,\"\",HLOOKUP(D56,declare,A55,FALSE))","v":"Rebecca Williams"},"Swansea H"]
[null,4,3,{"$f":"HLOOKUP(C57,mens_handbook,A54,FALSE)","v":4},{"$f":"IF(ISERROR(HLOOKUP(D57,declare,A55,FALSE))=TRUE,\"\",HLOOKUP(D57,declare,A55,FALSE))","v":"Tope Faith-Nuqa"},"Newham & Essex Beagles AC"]
[null,3,4,{"$f":"HLOOKUP(C58,mens_handbook,A54,FALSE)","v":3},{"$f":"IF(ISERROR(HLOOKUP(D58,declare,A55,FALSE))=TRUE,\"\",HLOOKUP(D58,declare,A55,FALSE))","v":"Kadi-Ann Thomas"},"Marshall Milton Keynes AC"]
[null,1,5,{"$f":"HLOOKUP(C59,mens_handbook,A54,FALSE)","v":1},{"$f":"IF(ISERROR(HLOOKUP(D59,declare,A55,FALSE))=TRUE,\"\",HLOOKUP(D59,declare,A55,FALSE))","v":"Emma Bailey"},"Bedford & County AC"]
[null,2,6,{"$f":"HLOOKUP(C60,mens_handbook,A54,FALSE)","v":2},{"$f":"IF(ISERROR(HLOOKUP(D60,declare,A55,FALSE))=TRUE,\"\",HLOOKUP(D60,declare,A55,FALSE))","v":"Serita Solomon"},"Blackheath & Bromley H"]
[null,5,7,{"$f":"HLOOKUP(C61,mens_handbook,A54,FALSE)","v":5},{"$f":"IF(ISERROR(HLOOKUP(D61,declare,A55,FALSE))=TRUE,\"\",HLOOKUP(D61,declare,A55,FALSE))","v":"Chisom Nwachukwu (U20)"},"Shaftesbury Barnet H"]
[null,8,8,{"$f":"HLOOKUP(C62,mens_handbook,A54,FALSE)","v":8},{"$f":"IF(ISERROR(HLOOKUP(D62,declare,A55,FALSE))=TRUE,\"\",HLOOKUP(D62,declare,A55,FALSE))","v":"Yvette Henry"},"Thames Valley H"]
[]
[]
[null,null,{"$f":"CONCATENATE(VLOOKUP(A53,mens_handbook,3,FALSE),\" - B String\")","v":"Women's 100m - B String"},null,null,"Time:",{"$f":"VLOOKUP(A53,Handbook!$A$4:$B$24,2,FALSE)","v":"13:35:00"}]
[null,null,"Lane","Number","Athlete","Club"]
[9,{"$f":"IF(D67=\"\",\"\",IF(D67>10,D67/11,D67))","v":6},1,{"$f":"HLOOKUP(A67,mens_handbook,A54,FALSE)","v":66},{"$f":"IF(ISERROR(HLOOKUP(D67,declare,A55,FALSE))=TRUE,\"\",HLOOKUP(D67,declare,A55,FALSE))","v":"Becca Carozzi"},{"$f":"IF(ISERROR(VLOOKUP(B67,matchday,2,FALSE))=TRUE,\"\",VLOOKUP(B67,matchday,2,FALSE))","v":"Southampton AC"}]
[10,{"$f":"IF(D68=\"\",\"\",IF(D68>10,D68/11,D68))","v":7},2,{"$f":"HLOOKUP(A68,mens_handbook,A54,FALSE)","v":77},{"$f":"IF(ISERROR(HLOOKUP(D68,declare,A55,FALSE))=TRUE,\"\",HLOOKUP(D68,declare,A55,FALSE))","v":"Caryl Granville"},"Swansea H"]
[11,4,3,{"$f":"HLOOKUP(A69,mens_handbook,A54,FALSE)","v":44},{"$f":"IF(ISERROR(HLOOKUP(D69,declare,A55,FALSE))=TRUE,\"\",HLOOKUP(D69,declare,A55,FALSE))","v":"Susannah Banjo"},"Newham & Essex Beagles AC"]
[12,3,4,{"$f":"HLOOKUP(A70,mens_handbook,A54,FALSE)","v":33},{"$f":"IF(ISERROR(HLOOKUP(D70,declare,A55,FALSE))=TRUE,\"\",HLOOKUP(D70,declare,A55,FALSE))","v":"Joey Duck"},"Marshall Milton Keynes AC"]
[13,1,5,{"$f":"HLOOKUP(A71,mens_handbook,A54,FALSE)","v":11},{"$f":"IF(ISERROR(HLOOKUP(D71,declare,A55,FALSE))=TRUE,\"\",HLOOKUP(D71,declare,A55,FALSE))","v":0},"Bedford & County AC"]
[14,2,6,{"$f":"HLOOKUP(A72,mens_handbook,A54,FALSE)","v":22},{"$f":"IF(ISERROR(HLOOKUP(D72,declare,A55,FALSE))=TRUE,\"\",HLOOKUP(D72,declare,A55,FALSE))","v":"Amara Lalemi-Jacobs"},"Blackheath & Bromley H"]
[15,5,7,{"$f":"HLOOKUP(A73,mens_handbook,A54,FALSE)","v":55},{"$f":"IF(ISERROR(HLOOKUP(D73,declare,A55,FALSE))=TRUE,\"\",HLOOKUP(D73,declare,A55,FALSE))","v":"Makeda Lewis (U20)"},"Shaftesbury Barnet H"]
[16,8,8,{"$f":"HLOOKUP(A74,mens_handbook,A54,FALSE)","v":88},{"$f":"IF(ISERROR(HLOOKUP(D74,declare,A55,FALSE))=TRUE,\"\",HLOOKUP(D74,declare,A55,FALSE))","v":"Phyllis Agbo"},"Thames Valley H"]
[]
[null,null,"League",{"$f":"VLOOKUP(A53,mens_handbook,29,FALSE)","v":"1987-05-09"},{"$f":"VLOOKUP(A53,mens_handbook,26,FALSE)","v":"B Kinch"},{"$f":"VLOOKUP(A53,mens_handbook,27,FALSE)","v":"Hounslow"},{"$f":"VLOOKUP(A53,mens_handbook,28,FALSE)","v":"11.1s"}]
[null,null,"Division",{"$f":"VLOOKUP(A53,mens_handbook,33,FALSE)","v":"1977-07-30"},{"$f":"VLOOKUP(A53,mens_handbook,30,FALSE)","v":"S Colyer"},{"$f":"VLOOKUP(A53,mens_handbook,31,FALSE)","v":"Stretford"},{"$f":"VLOOKUP(A53,mens_handbook,32,FALSE)","v":"11.3s"}]
[4,null,{"$f":"CONCATENATE(VLOOKUP(A78,mens_handbook,3,FALSE),\" - A String\")","v":"Women's 400m - A String"},null,null,"Time:",{"$f":"VLOOKUP(A78,Handbook!$A$4:$B$24,2,FALSE)","v":"14:00:00"}]
[{"$f":"VLOOKUP(A78,mens_handbook,37,FALSE)","v":5},null,"Lane","Number","Athlete","Club"]
[{"$f":"VLOOKUP(A78,declare,20,FALSE)","v":5},{"$f":"IF(D80=\"\",\"\",IF(D80>10,D80/11,D80))","v":5},1,{"$f":"HLOOKUP(C80,mens_handbook,A79,FALSE)","v":5},{"$f":"IF(ISERROR(HLOOKUP(D80,declare,A80,FALSE))=TRUE,\"\",HLOOKUP(D80,declare,A80,FALSE))","v":"Gerda Vaitkaityte"},{"$f":"IF(ISERROR(VLOOKUP(B80,matchday,2,FALSE))=TRUE,\"\",VLOOKUP(B80,matchday,2,FALSE))","v":"Shaftesbury Barnet H"}]
[null,{"$f":"IF(D81=\"\",\"\",IF(D81>10,D81/11,D81))","v":6},2,{"$f":"HLOOKUP(C81,mens_handbook,A79,FALSE)","v":6},{"$f":"IF(ISERROR(HLOOKUP(D81,declare,A80,FALSE))=TRUE,\"\",HLOOKUP(D81,declare,A80,FALSE))","v":"Millie Clifford"},"Southampton AC"]
[null,8,3,{"$f":"HLOOKUP(C82,mens_handbook,A79,FALSE)","v":8},{"$f":"IF(ISERROR(HLOOKUP(D82,declare,A80,FALSE))=TRUE,\"\",HLOOKUP(D82,declare,A80,FALSE))","v":"Ambwene Simukonda"},"Thames Valley H"]
[null,1,4,{"$f":"HLOOKUP(C83,mens_handbook,A79,FALSE)","v":1},{"$f":"IF(ISERROR(HLOOKUP(D83,declare,A80,FALSE))=TRUE,\"\",HLOOKUP(D83,declare,A80,FALSE))","v":"Lucy Spray"},"Bedford & County AC"]
[null,3,5,{"$f":"HLOOKUP(C84,mens_handbook,A79,FALSE)","v":3},{"$f":"IF(ISERROR(HLOOKUP(D84,declare,A80,FALSE))=TRUE,\"\",HLOOKUP(D84,declare,A80,FALSE))","v":"Di Baldwin (V50)"},"Marshall Milton Keynes AC"]
[null,2,6,{"$f":"HLOOKUP(C85,mens_handbook,A79,FALSE)","v":2},{"$f":"IF(ISERROR(HLOOKUP(D85,declare,A80,FALSE))=TRUE,\"\",HLOOKUP(D85,declare,A80,FALSE))","v":"Yimika Adewakun"},"Blackheath & Bromley H"]
[null,4,7,{"$f":"HLOOKUP(C86,mens_handbook,A79,FALSE)","v":4},{"$f":"IF(ISERROR(HLOOKUP(D86,declare,A80,FALSE))=TRUE,\"\",HLOOKUP(D86,declare,A80,FALSE))","v":"Mubarakat Akinshipo"},"Newham & Essex Beagles AC"]
[null,7,8,{"$f":"HLOOKUP(C87,mens_handbook,A79,FALSE)","v":7},{"$f":"IF(ISERROR(HLOOKUP(D87,declare,A80,FALSE))=TRUE,\"\",HLOOKUP(D87,declare,A80,FALSE))","v":"Megan Rogers"},"Swansea H"]
[]
[]
[null,null,{"$f":"CONCATENATE(VLOOKUP(A78,mens_handbook,3,FALSE),\" - B String\")","v":"Women's 400m - B String"},null,null,"Time:",{"$f":"VLOOKUP(A78,Handbook!$A$4:$B$24,2,FALSE)","v":"14:00:00"}]
[null,null,"Lane","Number","Athlete","Club"]
[9,{"$f":"IF(D92=\"\",\"\",IF(D92>10,D92/11,D92))","v":5},1,{"$f":"HLOOKUP(A92,mens_handbook,A79,FALSE)","v":55},{"$f":"IF(ISERROR(HLOOKUP(D92,declare,A80,FALSE))=TRUE,\"\",HLOOKUP(D92,declare,A80,FALSE))","v":0},{"$f":"IF(ISERROR(VLOOKUP(B92,matchday,2,FALSE))=TRUE,\"\",VLOOKUP(B92,matchday,2,FALSE))","v":"Shaftesbury Barnet H"}]
[10,{"$f":"IF(D93=\"\",\"\",IF(D93>10,D93/11,D93))","v":6},2,{"$f":"HLOOKUP(A93,mens_handbook,A79,FALSE)","v":66},{"$f":"IF(ISERROR(HLOOKUP(D93,declare,A80,FALSE))=TRUE,\"\",HLOOKUP(D93,declare,A80,FALSE))","v":"Emily Bonnett"},"Southampton AC"]
[11,8,3,{"$f":"HLOOKUP(A94,mens_handbook,A79,FALSE)","v":88},{"$f":"IF(ISERROR(HLOOKUP(D94,declare,A80,FALSE))=TRUE,\"\",HLOOKUP(D94,declare,A80,FALSE))","v":"Cleopatra Moulon"},"Thames Valley H"]
[12,1,4,{"$f":"HLOOKUP(A95,mens_handbook,A79,FALSE)","v":11},{"$f":"IF(ISERROR(HLOOKUP(D95,declare,A80,FALSE))=TRUE,\"\",HLOOKUP(D95,declare,A80,FALSE))","v":0},"Bedford & County AC"]
[13,3,5,{"$f":"HLOOKUP(A96,mens_handbook,A79,FALSE)","v":33},{"$f":"IF(ISERROR(HLOOKUP(D96,declare,A80,FALSE))=TRUE,\"\",HLOOKUP(D96,declare,A80,FALSE))","v":0},"Marshall Milton Keynes AC"]
[14,2,6,{"$f":"HLOOKUP(A97,mens_handbook,A79,FALSE)","v":22},{"$f":"IF(ISERROR(HLOOKUP(D97,declare,A80,FALSE))=TRUE,\"\",HLOOKUP(D97,declare,A80,FALSE))","v":"Krystal Galley"},"Blackheath & Bromley H"]
[15,4,7,{"$f":"HLOOKUP(A98,mens_handbook,A79,FALSE)","v":44},{"$f":"IF(ISERROR(HLOOKUP(D98,declare,A80,FALSE))=TRUE,\"\",HLOOKUP(D98,declare,A80,FALSE))","v":"Kate Laidlow"},"Newham & Essex Beagles AC"]
[16,7,8,{"$f":"HLOOKUP(A99,mens_handbook,A79,FALSE)","v":77},{"$f":"IF(ISERROR(HLOOKUP(D99,declare,A80,FALSE))=TRUE,\"\",HLOOKUP(D99,declare,A80,FALSE))","v":"Elin Leyshon"},"Swansea H"]
[]
[null,null,"League",{"$f":"VLOOKUP(A78,mens_handbook,29,FALSE)","v":"1994-06-18"},{"$f":"VLOOKUP(A78,mens_handbook,26,FALSE)","v":"P Smith"},{"$f":"VLOOKUP(A78,mens_handbook,27,FALSE)","v":"Sale Harriers"},{"$f":"VLOOKUP(A78,mens_handbook,28,FALSE)","v":"51.7s"}]
[null,null,"Division",{"$f":"VLOOKUP(A78,mens_handbook,33,FALSE)","v":"1994-06-18"},{"$f":"VLOOKUP(A78,mens_handbook,30,FALSE)","v":"P Smith"},{"$f":"VLOOKUP(A78,mens_handbook,31,FALSE)","v":"Sale Harriers"},{"$f":"VLOOKUP(A78,mens_handbook,32,FALSE)","v":"51.7s"}]
[5,null,{"$f":"CONCATENATE(VLOOKUP(A103,mens_handbook,3,FALSE),\"\")","v":"Women's 2000 S/Chase"},null,null,"Time:",{"$f":"VLOOKUP(A103,Handbook!$A$4:$B$24,2,FALSE)","v":"15:20:00"}]
[{"$f":"VLOOKUP(A103,mens_handbook,37,FALSE)","v":6},null,"Order","Number","Athlete","Club"]
[{"$f":"VLOOKUP(A103,declare,20,FALSE)","v":8},{"$f":"IF(D105=\"\",\"\",IF(D105>10,D105/11,D105))","v":3},1,{"$f":"HLOOKUP(C105,Handbook!$D$3:$S$24,A104,FALSE)","v":3},{"$f":"IF(ISERROR(HLOOKUP(D105,declare,A105,FALSE))=TRUE,\"\",HLOOKUP(D105,declare,A105,FALSE))","v":"Di Baldwin (V50)"},{"$f":"IF(ISERROR(VLOOKUP(B105,matchday,2,FALSE))=TRUE,\"\",VLOOKUP(B105,matchday,2,FALSE))","v":"Marshall Milton Keynes AC"}]
[null,{"$f":"IF(D106=\"\",\"\",IF(D106>10,D106/11,D106))","v":6},2,{"$f":"HLOOKUP(C106,Handbook!$D$3:$S$24,A104,FALSE)","v":6},{"$f":"IF(ISERROR(HLOOKUP(D106,declare,A105,FALSE))=TRUE,\"\",HLOOKUP(D106,declare,A105,FALSE))","v":"Clemmie McAteer"},"Southampton AC"]
[null,7,3,{"$f":"HLOOKUP(C107,Handbook!$D$3:$S$24,A104,FALSE)","v":7},{"$f":"IF(ISERROR(HLOOKUP(D107,declare,A105,FALSE))=TRUE,\"\",HLOOKUP(D107,declare,A105,FALSE))","v":"Holly Lawrence"},"Swansea H"]
[null,2,4,{"$f":"HLOOKUP(C108,Handbook!$D$3:$S$24,A104,FALSE)","v":2},{"$f":"IF(ISERROR(HLOOKUP(D108,declare,A105,FALSE))=TRUE,\"\",HLOOKUP(D108,declare,A105,FALSE))","v":"Sarah Abrams"},"Blackheath & Bromley H"]
[null,1,5,{"$f":"HLOOKUP(C109,Handbook!$D$3:$S$24,A104,FALSE)","v":1},{"$f":"IF(ISERROR(HLOOKUP(D109,declare,A105,FALSE))=TRUE,\"\",HLOOKUP(D109,declare,A105,FALSE))","v":"Leanne Buxton"},"Bedford & County AC"]
[null,5,6,{"$f":"HLOOKUP(C110,Handbook!$D$3:$S$24,A104,FALSE)","v":5},{"$f":"IF(ISERROR(HLOOKUP(D110,declare,A105,FALSE))=TRUE,\"\",HLOOKUP(D110,declare,A105,FALSE))","v":"Victoria Walker (U20)"},"Shaftesbury Barnet H"]
[null,4,7,{"$f":"HLOOKUP(C111,Handbook!$D$3:$S$24,A104,FALSE)","v":4},{"$f":"IF(ISERROR(HLOOKUP(D111,declare,A105,FALSE))=TRUE,\"\",HLOOKUP(D111,declare,A105,FALSE))","v":"-"},"Newham & Essex Beagles AC"]
[null,8,8,{"$f":"HLOOKUP(C112,Handbook!$D$3:$S$24,A104,FALSE)","v":8},{"$f":"IF(ISERROR(HLOOKUP(D112,declare,A105,FALSE))=TRUE,\"\",HLOOKUP(D112,declare,A105,FALSE))","v":"Joanna Mobed"},"Thames Valley H"]
[null,3,9,{"$f":"HLOOKUP(C113,Handbook!$D$3:$S$24,A104,FALSE)","v":33},{"$f":"IF(ISERROR(HLOOKUP(D113,declare,A105,FALSE))=TRUE,\"\",HLOOKUP(D113,declare,A105,FALSE))","v":"-"},"Marshall Milton Keynes AC"]
[null,6,10,{"$f":"HLOOKUP(C114,Handbook!$D$3:$S$24,A104,FALSE)","v":66},{"$f":"IF(ISERROR(HLOOKUP(D114,declare,A105,FALSE))=TRUE,\"\",HLOOKUP(D114,declare,A105,FALSE))","v":0},"Southampton AC"]
[null,7,11,{"$f":"HLOOKUP(C115,Handbook!$D$3:$S$24,A104,FALSE)","v":77},{"$f":"IF(ISERROR(HLOOKUP(D115,declare,A105,FALSE))=TRUE,\"\",HLOOKUP(D115,declare,A105,FALSE))","v":"-"},"Swansea H"]
[null,2,12,{"$f":"HLOOKUP(C116,Handbook!$D$3:$S$24,A104,FALSE)","v":22},{"$f":"IF(ISERROR(HLOOKUP(D116,declare,A105,FALSE))=TRUE,\"\",HLOOKUP(D116,declare,A105,FALSE))","v":0},"Blackheath & Bromley H"]
[null,1,13,{"$f":"HLOOKUP(C117,Handbook!$D$3:$S$24,A104,FALSE)","v":11},{"$f":"IF(ISERROR(HLOOKUP(D117,declare,A105,FALSE))=TRUE,\"\",HLOOKUP(D117,declare,A105,FALSE))","v":0},"Bedford & County AC"]
[null,5,14,{"$f":"HLOOKUP(C118,Handbook!$D$3:$S$24,A104,FALSE)","v":55},{"$f":"IF(ISERROR(HLOOKUP(D118,declare,A105,FALSE))=TRUE,\"\",HLOOKUP(D118,declare,A105,FALSE))","v":0},"Shaftesbury Barnet H"]
[null,4,15,{"$f":"HLOOKUP(C119,Handbook!$D$3:$S$24,A104,FALSE)","v":44},{"$f":"IF(ISERROR(HLOOKUP(D119,declare,A105,FALSE))=TRUE,\"\",HLOOKUP(D119,declare,A105,FALSE))","v":"-"},"Newham & Essex Beagles AC"]
[null,8,16,{"$f":"HLOOKUP(C120,Handbook!$D$3:$S$24,A104,FALSE)","v":88},{"$f":"IF(ISERROR(HLOOKUP(D120,declare,A105,FALSE))=TRUE,\"\",HLOOKUP(D120,declare,A105,FALSE))","v":"-"},"Thames Valley H"]
[]
[null,null,"League",{"$f":"VLOOKUP(A103,mens_handbook,29,FALSE)","v":"-"},{"$f":"VLOOKUP(A103,mens_handbook,26,FALSE)","v":"-"},{"$f":"VLOOKUP(A103,mens_handbook,27,FALSE)","v":"-"},{"$f":"VLOOKUP(A103,mens_handbook,28,FALSE)","v":"-"}]
[null,null,"Division",{"$f":"VLOOKUP(A103,mens_handbook,33,FALSE)","v":"-"},{"$f":"VLOOKUP(A103,mens_handbook,30,FALSE)","v":"-"},{"$f":"VLOOKUP(A103,mens_handbook,31,FALSE)","v":"-"},{"$f":"VLOOKUP(A103,mens_handbook,32,FALSE)","v":"-"}]
[21,null,{"$f":"CONCATENATE(VLOOKUP(A124,mens_handbook,3,FALSE),\"\")","v":"Women's 3000m"},null,null,"Time:",{"$f":"VLOOKUP(A124,Handbook!$A$4:$B$24,2,FALSE)","v":"14:20:00"}]
[{"$f":"VLOOKUP(A124,mens_handbook,37,FALSE)","v":22},null,"Order","Number","Athlete","Club"]
[{"$f":"VLOOKUP(A124,declare,20,FALSE)","v":9},{"$f":"IF(D126=\"\",\"\",IF(D126>10,D126/11,D126))","v":8},1,{"$f":"HLOOKUP(C126,Handbook!$D$3:$S$24,A125,FALSE)","v":8},{"$f":"IF(ISERROR(HLOOKUP(D126,declare,A126,FALSE))=TRUE,\"\",HLOOKUP(D126,declare,A126,FALSE))","v":"Katie Good"},{"$f":"IF(ISERROR(VLOOKUP(B126,matchday,2,FALSE))=TRUE,\"\",VLOOKUP(B126,matchday,2,FALSE))","v":"Thames Valley H"}]
[null,{"$f":"IF(D127=\"\",\"\",IF(D127>10,D127/11,D127))","v":7},2,{"$f":"HLOOKUP(C127,Handbook!$D$3:$S$24,A125,FALSE)","v":7},{"$f":"IF(ISERROR(HLOOKUP(D127,declare,A126,FALSE))=TRUE,\"\",HLOOKUP(D127,declare,A126,FALSE))","v":"Andrea Whitcombe"},"Swansea H"]
[null,6,3,{"$f":"HLOOKUP(C128,Handbook!$D$3:$S$24,A125,FALSE)","v":6},{"$f":"IF(ISERROR(HLOOKUP(D128,declare,A126,FALSE))=TRUE,\"\",HLOOKUP(D128,declare,A126,FALSE))","v":"Nicci Blandford"},"Southampton AC"]
[null,5,4,{"$f":"HLOOKUP(C129,Handbook!$D$3:$S$24,A125,FALSE)","v":5},{"$f":"IF(ISERROR(HLOOKUP(D129,declare,A126,FALSE))=TRUE,\"\",HLOOKUP(D129,declare,A126,FALSE))","v":"Claire Miles "},"Shaftesbury Barnet H"]
[null,4,5,{"$f":"HLOOKUP(C130,Handbook!$D$3:$S$24,A125,FALSE)","v":4},{"$f":"IF(ISERROR(HLOOKUP(D130,declare,A126,FALSE))=TRUE,\"\",HLOOKUP(D130,declare,A126,FALSE))","v":"Sandra Wilson"},"Newham & Essex Beagles AC"]
[null,3,6,{"$f":"HLOOKUP(C131,Handbook!$D$3:$S$24,A125,FALSE)","v":3},{"$f":"IF(ISERROR(HLOOKUP(D131,declare,A126,FALSE))=TRUE,\"\",HLOOKUP(D131,declare,A126,FALSE))","v":"Ellie Roche (U20)"},"Marshall Milton Keynes AC"]
[null,2,7,{"$f":"HLOOKUP(C132,Handbook!$D$3:$S$24,A125,FALSE)","v":2},{"$f":"IF(ISERROR(HLOOKUP(D132,declare,A126,FALSE))=TRUE,\"\",HLOOKUP(D132,declare,A126,FALSE))","v":"Jane Bradshaw"},"Blackheath & Bromley H"]
[null,1,8,{"$f":"HLOOKUP(C133,Handbook!$D$3:$S$24,A125,FALSE)","v":1},{"$f":"IF(ISERROR(HLOOKUP(D133,declare,A126,FALSE))=TRUE,\"\",HLOOKUP(D133,declare,A126,FALSE))","v":"Natasha Peters"},"Bedford & County AC"]
[null,8,9,{"$f":"HLOOKUP(C134,Handbook!$D$3:$S$24,A125,FALSE)","v":88},{"$f":"IF(ISERROR(HLOOKUP(D134,declare,A126,FALSE))=TRUE,\"\",HLOOKUP(D134,declare,A126,FALSE))","v":"Lisa Da Silva"},"Thames Valley H"]
[null,7,10,{"$f":"HLOOKUP(C135,Handbook!$D$3:$S$24,A125,FALSE)","v":77},{"$f":"IF(ISERROR(HLOOKUP(D135,declare,A126,FALSE))=TRUE,\"\",HLOOKUP(D135,declare,A126,FALSE))","v":"Alaw Benyon Thomas"},"Swansea H"]
[null,6,11,{"$f":"HLOOKUP(C136,Handbook!$D$3:$S$24,A125,FALSE)","v":66},{"$f":"IF(ISERROR(HLOOKUP(D136,declare,A126,FALSE))=TRUE,\"\",HLOOKUP(D136,declare,A126,FALSE))","v":"Natalie Burke"},"Southampton AC"]
[null,5,12,{"$f":"HLOOKUP(C137,Handbook!$D$3:$S$24,A125,FALSE)","v":55},{"$f":"IF(ISERROR(HLOOKUP(D137,declare,A126,FALSE))=TRUE,\"\",HLOOKUP(D137,declare,A126,FALSE))","v":0},"Shaftesbury Barnet H"]
[null,4,13,{"$f":"HLOOKUP(C138,Handbook!$D$3:$S$24,A125,FALSE)","v":44},{"$f":"IF(ISERROR(HLOOKUP(D138,declare,A126,FALSE))=TRUE,\"\",HLOOKUP(D138,declare,A126,FALSE))","v":"Adele Stach-Kevitz"},"Newham & Essex Beagles AC"]
[null,3,14,{"$f":"HLOOKUP(C139,Handbook!$D$3:$S$24,A125,FALSE)","v":33},{"$f":"IF(ISERROR(HLOOKUP(D139,declare,A126,FALSE))=TRUE,\"\",HLOOKUP(D139,declare,A126,FALSE))","v":0},"Marshall Milton Keynes AC"]
[null,2,15,{"$f":"HLOOKUP(C140,Handbook!$D$3:$S$24,A125,FALSE)","v":22},{"$f":"IF(ISERROR(HLOOKUP(D140,declare,A126,FALSE))=TRUE,\"\",HLOOKUP(D140,declare,A126,FALSE))","v":"Rachel Robinson"},"Blackheath & Bromley H"]
[null,1,16,{"$f":"HLOOKUP(C141,Handbook!$D$3:$S$24,A125,FALSE)","v":11},{"$f":"IF(ISERROR(HLOOKUP(D141,declare,A126,FALSE))=TRUE,\"\",HLOOKUP(D141,declare,A126,FALSE))","v":"Alice Burgin"},"Bedford & County AC"]
[]
[null,null,"League",{"$f":"VLOOKUP(A124,mens_handbook,29,FALSE)","v":"1978-05-27"},{"$f":"VLOOKUP(A124,mens_handbook,26,FALSE)","v":"A Ford"},{"$f":"VLOOKUP(A124,mens_handbook,27,FALSE)","v":"Feltham"},{"$f":"VLOOKUP(A124,mens_handbook,28,FALSE)","v":"00:09:04.900"}]
[null,null,"Division",{"$f":"VLOOKUP(A124,mens_handbook,33,FALSE)","v":"1978-05-27"},{"$f":"VLOOKUP(A124,mens_handbook,30,FALSE)","v":"A Ford"},{"$f":"VLOOKUP(A124,mens_handbook,31,FALSE)","v":"Feltham"},{"$f":"VLOOKUP(A124,mens_handbook,32,FALSE)","v":"00:09:04.900"}]
[6,null,{"$f":"CONCATENATE(VLOOKUP(A145,mens_handbook,3,FALSE),\" - A String\")","v":"Women's 100 Hurdles - A String"},null,null,"Time:",{"$f":"VLOOKUP(A145,Handbook!$A$4:$B$24,2,FALSE)","v":"14:50:00"}]
[{"$f":"VLOOKUP(A145,mens_handbook,37,FALSE)","v":7},null,"Lane","Number","Athlete","Club"]
[{"$f":"VLOOKUP(A145,declare,20,FALSE)","v":11},{"$f":"IF(D147=\"\",\"\",IF(D147>10,D147/11,D147))","v":7},1,{"$f":"HLOOKUP(C147,mens_handbook,A146,FALSE)","v":7},{"$f":"IF(ISERROR(HLOOKUP(D147,declare,A147,FALSE))=TRUE,\"\",HLOOKUP(D147,declare,A147,FALSE))","v":"Caryl Granville"},{"$f":"IF(ISERROR(VLOOKUP(B147,matchday,2,FALSE))=TRUE,\"\",VLOOKUP(B147,matchday,2,FALSE))","v":"Swansea H"}]
[null,{"$f":"IF(D148=\"\",\"\",IF(D148>10,D148/11,D148))","v":2},2,{"$f":"HLOOKUP(C148,mens_handbook,A146,FALSE)","v":2},{"$f":"IF(ISERROR(HLOOKUP(D148,declare,A147,FALSE))=TRUE,\"\",HLOOKUP(D148,declare,A147,FALSE))","v":"Serita Solomon"},"Blackheath & Bromley H"]
[null,4,3,{"$f":"HLOOKUP(C149,mens_handbook,A146,FALSE)","v":4},{"$f":"IF(ISERROR(HLOOKUP(D149,declare,A147,FALSE))=TRUE,\"\",HLOOKUP(D149,declare,A147,FALSE))","v":"Holly Thomas"},"Newham & Essex Beagles AC"]
[null,8,4,{"$f":"HLOOKUP(C150,mens_handbook,A146,FALSE)","v":8},{"$f":"IF(ISERROR(HLOOKUP(D150,declare,A147,FALSE))=TRUE,\"\",HLOOKUP(D150,declare,A147,FALSE))","v":"Ugne Liuksaityte"},"Thames Valley H"]
[null,1,5,{"$f":"HLOOKUP(C151,mens_handbook,A146,FALSE)","v":1},{"$f":"IF(ISERROR(HLOOKUP(D151,declare,A147,FALSE))=TRUE,\"\",HLOOKUP(D151,declare,A147,FALSE))","v":0},"Bedford & County AC"]
[null,5,6,{"$f":"HLOOKUP(C152,mens_handbook,A146,FALSE)","v":5},{"$f":"IF(ISERROR(HLOOKUP(D152,declare,A147,FALSE))=TRUE,\"\",HLOOKUP(D152,declare,A147,FALSE))","v":0},"Shaftesbury Barnet H"]
[null,6,7,{"$f":"HLOOKUP(C153,mens_handbook,A146,FALSE)","v":6},{"$f":"IF(ISERROR(HLOOKUP(D153,declare,A147,FALSE))=TRUE,\"\",HLOOKUP(D153,declare,A147,FALSE))","v":"Karla Drew"},"Southampton AC"]
[null,3,8,{"$f":"HLOOKUP(C154,mens_handbook,A146,FALSE)","v":3},{"$f":"IF(ISERROR(HLOOKUP(D154,declare,A147,FALSE))=TRUE,\"\",HLOOKUP(D154,declare,A147,FALSE))","v":"Chloe Walley"},"Marshall Milton Keynes AC"]
[]
[]
[null,null,{"$f":"CONCATENATE(VLOOKUP(A145,mens_handbook,3,FALSE),\" - B String\")","v":"Women's 100 Hurdles - B String"},null,null,"Time:",{"$f":"VLOOKUP(A145,Handbook!$A$4:$B$24,2,FALSE)","v":"14:50:00"}]
[null,null,"Lane","Number","Athlete","Club"]
[9,{"$f":"IF(D159=\"\",\"\",IF(D159>10,D159/11,D159))","v":7},1,{"$f":"HLOOKUP(A159,mens_handbook,A146,FALSE)","v":77},{"$f":"IF(ISERROR(HLOOKUP(D159,declare,A147,FALSE))=TRUE,\"\",HLOOKUP(D159,declare,A147,FALSE))","v":"Anwen Rees"},{"$f":"IF(ISERROR(VLOOKUP(B159,matchday,2,FALSE))=TRUE,\"\",VLOOKUP(B159,matchday,2,FALSE))","v":"Swansea H"}]
[10,{"$f":"IF(D160=\"\",\"\",IF(D160>10,D160/11,D160))","v":2},2,{"$f":"HLOOKUP(A160,mens_handbook,A146,FALSE)","v":22},{"$f":"IF(ISERROR(HLOOKUP(D160,declare,A147,FALSE))=TRUE,\"\",HLOOKUP(D160,declare,A147,FALSE))","v":"Megan Southwart"},"Blackheath & Bromley H"]
[11,4,3,{"$f":"HLOOKUP(A161,mens_handbook,A146,FALSE)","v":44},{"$f":"IF(ISERROR(HLOOKUP(D161,declare,A147,FALSE))=TRUE,\"\",HLOOKUP(D161,declare,A147,FALSE))","v":"Stephanie Ugbo"},"Newham & Essex Beagles AC"]
[12,8,4,{"$f":"HLOOKUP(A162,mens_handbook,A146,FALSE)","v":88},{"$f":"IF(ISERROR(HLOOKUP(D162,declare,A147,FALSE))=TRUE,\"\",HLOOKUP(D162,declare,A147,FALSE))","v":"Joanna Mobed"},"Thames Valley H"]
[13,1,5,{"$f":"HLOOKUP(A163,mens_handbook,A146,FALSE)","v":11},{"$f":"IF(ISERROR(HLOOKUP(D163,declare,A147,FALSE))=TRUE,\"\",HLOOKUP(D163,declare,A147,FALSE))","v":0},"Bedford & County AC"]
[14,5,6,{"$f":"HLOOKUP(A164,mens_handbook,A146,FALSE)","v":55},{"$f":"IF(ISERROR(HLOOKUP(D164,declare,A147,FALSE))=TRUE,\"\",HLOOKUP(D164,declare,A147,FALSE))","v":0},"Shaftesbury Barnet H"]
[15,6,7,{"$f":"HLOOKUP(A165,mens_handbook,A146,FALSE)","v":66},{"$f":"IF(ISERROR(HLOOKUP(D165,declare,A147,FALSE))=TRUE,\"\",HLOOKUP(D165,declare,A147,FALSE))","v":"Megan Fry"},"Southampton AC"]
[16,3,8,{"$f":"HLOOKUP(A166,mens_handbook,A146,FALSE)","v":33},{"$f":"IF(ISERROR(HLOOKUP(D166,declare,A147,FALSE))=TRUE,\"\",HLOOKUP(D166,declare,A147,FALSE))","v":0},"Marshall Milton Keynes AC"]
[]
[null,null,"League",{"$f":"VLOOKUP(A145,mens_handbook,29,FALSE)","v":"1988-07-02"},{"$f":"VLOOKUP(A145,mens_handbook,26,FALSE)","v":"Sally Gunnell"},{"$f":"VLOOKUP(A145,mens_handbook,27,FALSE)","v":"Essex Ladies"},{"$f":"VLOOKUP(A145,mens_handbook,28,FALSE)","v":"13.1s"}]
[null,null,"Division",{"$f":"VLOOKUP(A145,mens_handbook,33,FALSE)","v":"1988-07-02"},{"$f":"VLOOKUP(A145,mens_handbook,30,FALSE)","v":"Sally Gunnell"},{"$f":"VLOOKUP(A145,mens_handbook,31,FALSE)","v":"Essex Ladies"},{"$f":"VLOOKUP(A145,mens_handbook,32,FALSE)","v":"13.1s"}]
[7,null,{"$f":"CONCATENATE(VLOOKUP(A170,mens_handbook,3,FALSE),\" - A String\")","v":"Women's 200m - A String"},null,null,"Time:",{"$f":"VLOOKUP(A170,Handbook!$A$4:$B$24,2,FALSE)","v":"15:20:00"}]
[{"$f":"VLOOKUP(A170,mens_handbook,37,FALSE)","v":8},null,"Lane","Number","Athlete","Club"]
[{"$f":"VLOOKUP(A170,declare,20,FALSE)","v":4},{"$f":"IF(D172=\"\",\"\",IF(D172>10,D172/11,D172))","v":4},1,{"$f":"HLOOKUP(C172,mens_handbook,A171,FALSE)","v":4},{"$f":"IF(ISERROR(HLOOKUP(D172,declare,A172,FALSE))=TRUE,\"\",HLOOKUP(D172,declare,A172,FALSE))","v":"Tope Faith-Nuqa"},{"$f":"IF(ISERROR(VLOOKUP(B172,matchday,2,FALSE))=TRUE,\"\",VLOOKUP(B172,matchday,2,FALSE))","v":"Newham & Essex Beagles AC"}]
[null,{"$f":"IF(D173=\"\",\"\",IF(D173>10,D173/11,D173))","v":2},2,{"$f":"HLOOKUP(C173,mens_handbook,A171,FALSE)","v":2},{"$f":"IF(ISERROR(HLOOKUP(D173,declare,A172,FALSE))=TRUE,\"\",HLOOKUP(D173,declare,A172,FALSE))","v":"Yimika Adewakun"},"Blackheath & Bromley H"]
[null,8,3,{"$f":"HLOOKUP(C174,mens_handbook,A171,FALSE)","v":8},{"$f":"IF(ISERROR(HLOOKUP(D174,declare,A172,FALSE))=TRUE,\"\",HLOOKUP(D174,declare,A172,FALSE))","v":"Ambwene Simukonda"},"Thames Valley H"]
[null,6,4,{"$f":"HLOOKUP(C175,mens_handbook,A171,FALSE)","v":6},{"$f":"IF(ISERROR(HLOOKUP(D175,declare,A172,FALSE))=TRUE,\"\",HLOOKUP(D175,declare,A172,FALSE))","v":"Becca Carozzi"},"Southampton AC"]
[null,3,5,{"$f":"HLOOKUP(C176,mens_handbook,A171,FALSE)","v":3},{"$f":"IF(ISERROR(HLOOKUP(D176,declare,A172,FALSE))=TRUE,\"\",HLOOKUP(D176,declare,A172,FALSE))","v":"Kadi-Ann Thomas"},"Marshall Milton Keynes AC"]
[null,5,6,{"$f":"HLOOKUP(C177,mens_handbook,A171,FALSE)","v":5},{"$f":"IF(ISERROR(HLOOKUP(D177,declare,A172,FALSE))=TRUE,\"\",HLOOKUP(D177,declare,A172,FALSE))","v":"Chisom Nwachukwu (U20)"},"Shaftesbury Barnet H"]
[null,7,7,{"$f":"HLOOKUP(C178,mens_handbook,A171,FALSE)","v":7},{"$f":"IF(ISERROR(HLOOKUP(D178,declare,A172,FALSE))=TRUE,\"\",HLOOKUP(D178,declare,A172,FALSE))","v":"Rebecca Williams"},"Swansea H"]
[null,1,8,{"$f":"HLOOKUP(C179,mens_handbook,A171,FALSE)","v":1},{"$f":"IF(ISERROR(HLOOKUP(D179,declare,A172,FALSE))=TRUE,\"\",HLOOKUP(D179,declare,A172,FALSE))","v":"Emma Bailey"},"Bedford & County AC"]
[]
[]
[null,null,{"$f":"CONCATENATE(VLOOKUP(A170,mens_handbook,3,FALSE),\" - B String\")","v":"Women's 200m - B String"},null,null,"Time:",{"$f":"VLOOKUP(A170,Handbook!$A$4:$B$24,2,FALSE)","v":"15:20:00"}]
[null,null,"Lane","Number","Athlete","Club"]
[9,{"$f":"IF(D184=\"\",\"\",IF(D184>10,D184/11,D184))","v":4},1,{"$f":"HLOOKUP(A184,mens_handbook,A171,FALSE)","v":44},{"$f":"IF(ISERROR(HLOOKUP(D184,declare,A172,FALSE))=TRUE,\"\",HLOOKUP(D184,declare,A172,FALSE))","v":"Susannah Banjo"},{"$f":"IF(ISERROR(VLOOKUP(B184,matchday,2,FALSE))=TRUE,\"\",VLOOKUP(B184,matchday,2,FALSE))","v":"Newham & Essex Beagles AC"}]
[10,{"$f":"IF(D185=\"\",\"\",IF(D185>10,D185/11,D185))","v":2},2,{"$f":"HLOOKUP(A185,mens_handbook,A171,FALSE)","v":22},{"$f":"IF(ISERROR(HLOOKUP(D185,declare,A172,FALSE))=TRUE,\"\",HLOOKUP(D185,declare,A172,FALSE))","v":"Emily Martin"},"Blackheath & Bromley H"]
[11,8,3,{"$f":"HLOOKUP(A186,mens_handbook,A171,FALSE)","v":88},{"$f":"IF(ISERROR(HLOOKUP(D186,declare,A172,FALSE))=TRUE,\"\",HLOOKUP(D186,declare,A172,FALSE))","v":"Yvette Henry"},"Thames Valley H"]
[12,6,4,{"$f":"HLOOKUP(A187,mens_handbook,A171,FALSE)","v":66},{"$f":"IF(ISERROR(HLOOKUP(D187,declare,A172,FALSE))=TRUE,\"\",HLOOKUP(D187,declare,A172,FALSE))","v":"Emily Newton"},"Southampton AC"]
[13,3,5,{"$f":"HLOOKUP(A188,mens_handbook,A171,FALSE)","v":33},{"$f":"IF(ISERROR(HLOOKUP(D188,declare,A172,FALSE))=TRUE,\"\",HLOOKUP(D188,declare,A172,FALSE))","v":"Joey Duck"},"Marshall Milton Keynes AC"]
[14,5,6,{"$f":"HLOOKUP(A189,mens_handbook,A171,FALSE)","v":55},{"$f":"IF(ISERROR(HLOOKUP(D189,declare,A172,FALSE))=TRUE,\"\",HLOOKUP(D189,declare,A172,FALSE))","v":"Makeda Lewis (U20)"},"Shaftesbury Barnet H"]
[15,7,7,{"$f":"HLOOKUP(A190,mens_handbook,A171,FALSE)","v":77},{"$f":"IF(ISERROR(HLOOKUP(D190,declare,A172,FALSE))=TRUE,\"\",HLOOKUP(D190,declare,A172,FALSE))","v":"Megan Rogers"},"Swansea H"]
[16,1,8,{"$f":"HLOOKUP(A191,mens_handbook,A171,FALSE)","v":11},{"$f":"IF(ISERROR(HLOOKUP(D191,declare,A172,FALSE))=TRUE,\"\",HLOOKUP(D191,declare,A172,FALSE))","v":0},"Bedford & County AC"]
[]
[null,null,"League",{"$f":"VLOOKUP(A170,mens_handbook,29,FALSE)","v":"1994-05-08"},{"$f":"VLOOKUP(A170,mens_handbook,26,FALSE)","v":"Katherine Merry"},{"$f":"VLOOKUP(A170,mens_handbook,27,FALSE)","v":"Birchfield"},{"$f":"VLOOKUP(A170,mens_handbook,28,FALSE)","v":"23.0s"}]
[null,null,"Division",{"$f":"VLOOKUP(A170,mens_handbook,33,FALSE)","v":"1980-08-30"},{"$f":"VLOOKUP(A170,mens_handbook,30,FALSE)","v":"Michelle Probert"},{"$f":"VLOOKUP(A170,mens_handbook,31,FALSE)","v":"Sale Harriers"},{"$f":"VLOOKUP(A170,mens_handbook,32,FALSE)","v":"23.1s"}]
[8,null,{"$f":"CONCATENATE(VLOOKUP(A195,mens_handbook,3,FALSE),\" - A String\")","v":"Women's 1500m - A String"},null,null,"Time:",{"$f":"VLOOKUP(A195,Handbook!$A$4:$B$24,2,FALSE)","v":"15:40:00"}]
[{"$f":"VLOOKUP(A195,mens_handbook,37,FALSE)","v":9},null,"Lane","Number","Athlete","Club"]
[{"$f":"VLOOKUP(A195,declare,20,FALSE)","v":7},{"$f":"IF(D197=\"\",\"\",IF(D197>10,D197/11,D197))","v":8},1,{"$f":"HLOOKUP(C197,mens_handbook,A196,FALSE)","v":8},{"$f":"IF(ISERROR(HLOOKUP(D197,declare,A197,FALSE))=TRUE,\"\",HLOOKUP(D197,declare,A197,FALSE))","v":"Katie Good"},{"$f":"IF(ISERROR(VLOOKUP(B197,matchday,2,FALSE))=TRUE,\"\",VLOOKUP(B197,matchday,2,FALSE))","v":"Thames Valley H"}]
[null,{"$f":"IF(D198=\"\",\"\",IF(D198>10,D198/11,D198))","v":6},2,{"$f":"HLOOKUP(C198,mens_handbook,A196,FALSE)","v":6},{"$f":"IF(ISERROR(HLOOKUP(D198,declare,A197,FALSE))=TRUE,\"\",HLOOKUP(D198,declare,A197,FALSE))","v":"Natalie Burke"},"Southampton AC"]
[null,2,3,{"$f":"HLOOKUP(C199,mens_handbook,A196,FALSE)","v":2},{"$f":"IF(ISERROR(HLOOKUP(D199,declare,A197,FALSE))=TRUE,\"\",HLOOKUP(D199,declare,A197,FALSE))","v":"Shavaun Henry"},"Blackheath & Bromley H"]
[null,4,4,{"$f":"HLOOKUP(C200,mens_handbook,A196,FALSE)","v":4},{"$f":"IF(ISERROR(HLOOKUP(D200,declare,A197,FALSE))=TRUE,\"\",HLOOKUP(D200,declare,A197,FALSE))","v":"Adele Stach-Kevitz"},"Newham & Essex Beagles AC"]
[null,1,5,{"$f":"HLOOKUP(C201,mens_handbook,A196,FALSE)","v":1},{"$f":"IF(ISERROR(HLOOKUP(D201,declare,A197,FALSE))=TRUE,\"\",HLOOKUP(D201,declare,A197,FALSE))","v":"Suzi Boast"},"Bedford & County AC"]
[null,7,6,{"$f":"HLOOKUP(C202,mens_handbook,A196,FALSE)","v":7},{"$f":"IF(ISERROR(HLOOKUP(D202,declare,A197,FALSE))=TRUE,\"\",HLOOKUP(D202,declare,A197,FALSE))","v":"Andrea Whitcombe"},"Swansea H"]
[null,5,7,{"$f":"HLOOKUP(C203,mens_handbook,A196,FALSE)","v":5},{"$f":"IF(ISERROR(HLOOKUP(D203,declare,A197,FALSE))=TRUE,\"\",HLOOKUP(D203,declare,A197,FALSE))","v":"Amy Campbell"},"Shaftesbury Barnet H"]
[null,3,8,{"$f":"HLOOKUP(C204,mens_handbook,A196,FALSE)","v":3},{"$f":"IF(ISERROR(HLOOKUP(D204,declare,A197,FALSE))=TRUE,\"\",HLOOKUP(D204,declare,A197,FALSE))","v":"Joey Duck"},"Marshall Milton Keynes AC"]
[]
[]
[null,null,{"$f":"CONCATENATE(VLOOKUP(A195,mens_handbook,3,FALSE),\" - B String\")","v":"Women's 1500m - B String"},null,null,"Time:",{"$f":"VLOOKUP(A195,Handbook!$A$4:$B$24,2,FALSE)","v":"15:40:00"}]
[null,null,"Lane","Number","Athlete","Club"]
[9,{"$f":"IF(D209=\"\",\"\",IF(D209>10,D209/11,D209))","v":8},1,{"$f":"HLOOKUP(A209,mens_handbook,A196,FALSE)","v":88},{"$f":"IF(ISERROR(HLOOKUP(D209,declare,A197,FALSE))=TRUE,\"\",HLOOKUP(D209,declare,A197,FALSE))","v":"Lisa Da Silva"},{"$f":"IF(ISERROR(VLOOKUP(B209,matchday,2,FALSE))=TRUE,\"\",VLOOKUP(B209,matchday,2,FALSE))","v":"Thames Valley H"}]
[10,{"$f":"IF(D210=\"\",\"\",IF(D210>10,D210/11,D210))","v":6},2,{"$f":"HLOOKUP(A210,mens_handbook,A196,FALSE)","v":66},{"$f":"IF(ISERROR(HLOOKUP(D210,declare,A197,FALSE))=TRUE,\"\",HLOOKUP(D210,declare,A197,FALSE))","v":"Sophie Hall"},"Southampton AC"]
[11,2,3,{"$f":"HLOOKUP(A211,mens_handbook,A196,FALSE)","v":22},{"$f":"IF(ISERROR(HLOOKUP(D211,declare,A197,FALSE))=TRUE,\"\",HLOOKUP(D211,declare,A197,FALSE))","v":"Danielle Critchley"},"Blackheath & Bromley H"]
[12,4,4,{"$f":"HLOOKUP(A212,mens_handbook,A196,FALSE)","v":44},{"$f":"IF(ISERROR(HLOOKUP(D212,declare,A197,FALSE))=TRUE,\"\",HLOOKUP(D212,declare,A197,FALSE))","v":"Deborah Oyelade"},"Newham & Essex Beagles AC"]
[13,1,5,{"$f":"HLOOKUP(A213,mens_handbook,A196,FALSE)","v":11},{"$f":"IF(ISERROR(HLOOKUP(D213,declare,A197,FALSE))=TRUE,\"\",HLOOKUP(D213,declare,A197,FALSE))","v":"Natasha Peters"},"Bedford & County AC"]
[14,7,6,{"$f":"HLOOKUP(A214,mens_handbook,A196,FALSE)","v":77},{"$f":"IF(ISERROR(HLOOKUP(D214,declare,A197,FALSE))=TRUE,\"\",HLOOKUP(D214,declare,A197,FALSE))","v":"Ellen Butler"},"Swansea H"]
[15,5,7,{"$f":"HLOOKUP(A215,mens_handbook,A196,FALSE)","v":55},{"$f":"IF(ISERROR(HLOOKUP(D215,declare,A197,FALSE))=TRUE,\"\",HLOOKUP(D215,declare,A197,FALSE))","v":"Lucy Aukett"},"Shaftesbury Barnet H"]
[16,3,8,{"$f":"HLOOKUP(A216,mens_handbook,A196,FALSE)","v":33},{"$f":"IF(ISERROR(HLOOKUP(D216,declare,A197,FALSE))=TRUE,\"\",HLOOKUP(D216,declare,A197,FALSE))","v":"Kadi-Ann Thomas"},"Marshall Milton Keynes AC"]
[]
[null,null,"League",{"$f":"VLOOKUP(A195,mens_handbook,29,FALSE)","v":"1984-05-13"},{"$f":"VLOOKUP(A195,mens_handbook,26,FALSE)","v":"Christina Boxer"},{"$f":"VLOOKUP(A195,mens_handbook,27,FALSE)","v":"Aldershot"},{"$f":"VLOOKUP(A195,mens_handbook,28,FALSE)","v":"00:04:12.700"}]
[null,null,"Division",{"$f":"VLOOKUP(A195,mens_handbook,33,FALSE)","v":"1983-06-25"},{"$f":"VLOOKUP(A195,mens_handbook,30,FALSE)","v":"R Smeeth"},{"$f":"VLOOKUP(A195,mens_handbook,31,FALSE)","v":"Aldershot"},{"$f":"VLOOKUP(A195,mens_handbook,32,FALSE)","v":"00:04:17"}]

{"sheet":"Track Lists (F)","index":27,"n_rows":219,"n_cols":8,"rows_kept":219,"cut":false,"hidden":true,"merged":[[0,2,0,4],[1,2,1,3]]}
[null,null,{"$f":"CONCATENATE('Match Day'!I8,\" \",'Match Day'!I10,\" - \",'Match Day'!I12)","v":"Division 1 Match 3 - Winchester"},null,null,null,null,"Home"]
[null,null,{"$f":"'Match Day'!I6","v":"Saturday, 6th August"}]
[1,null,{"$f":"CONCATENATE(VLOOKUP(A3,womens_handbook,3,FALSE),\" - A String\")","v":"Women's 400m Hurdles - A String"},null,null,"Time:",{"$f":"VLOOKUP(A3,womens_handbook,2,FALSE)","v":"13:00:00"}]
[{"$f":"VLOOKUP(A3,womens_handbook,37,FALSE)","v":2},null,"Lane","Number","Athlete","Club"]
[{"$f":"VLOOKUP(A3,womens_declare,20,FALSE)","v":10},{"$f":"IF(D5=\"\",\"\",IF(D5>10,D5/11,D5))","v":7},1,{"$f":"HLOOKUP(C5,womens_handbook,A4,FALSE)","v":7},{"$f":"IF(ISERROR(HLOOKUP(D5,womens_declare,A5,FALSE))=TRUE,\"\",HLOOKUP(D5,womens_declare,A5,FALSE))","v":"-"},{"$f":"IF(ISERROR(VLOOKUP(B5,matchday,2,FALSE))=TRUE,\"\",VLOOKUP(B5,matchday,2,FALSE))","v":"Swansea H"}]
[null,4,2,{"$f":"HLOOKUP(C6,womens_handbook,A4,FALSE)","v":4},{"$f":"IF(ISERROR(HLOOKUP(D6,womens_declare,A5,FALSE))=TRUE,\"\",HLOOKUP(D6,womens_declare,A5,FALSE))","v":"-"},"Newham & Essex Beagles AC"]
[null,1,3,{"$f":"HLOOKUP(C7,womens_handbook,A4,FALSE)","v":1},{"$f":"IF(ISERROR(HLOOKUP(D7,womens_declare,A5,FALSE))=TRUE,\"\",HLOOKUP(D7,womens_declare,A5,FALSE))","v":"-"},"Bedford & County AC"]
[null,2,4,{"$f":"HLOOKUP(C8,womens_handbook,A4,FALSE)","v":2},{"$f":"IF(ISERROR(HLOOKUP(D8,womens_declare,A5,FALSE))=TRUE,\"\",HLOOKUP(D8,womens_declare,A5,FALSE))","v":"-"},"Blackheath & Bromley H"]
[null,3,5,{"$f":"HLOOKUP(C9,womens_handbook,A4,FALSE)","v":3},{"$f":"IF(ISERROR(HLOOKUP(D9,womens_declare,A5,FALSE))=TRUE,\"\",HLOOKUP(D9,womens_declare,A5,FALSE))","v":"-"},"Marshall Milton Keynes AC"]
[null,5,6,{"$f":"HLOOKUP(C10,womens_handbook,A4,FALSE)","v":5},{"$f":"IF(ISERROR(HLOOKUP(D10,womens_declare,A5,FALSE))=TRUE,\"\",HLOOKUP(D10,womens_declare,A5,FALSE))","v":"-"},"Shaftesbury Barnet H"]
[null,6,7,{"$f":"HLOOKUP(C11,womens_handbook,A4,FALSE)","v":6},{"$f":"IF(ISERROR(HLOOKUP(D11,womens_declare,A5,FALSE))=TRUE,\"\",HLOOKUP(D11,womens_declare,A5,FALSE))","v":"-"},"Southampton AC"]
[null,8,8,{"$f":"HLOOKUP(C12,womens_handbook,A4,FALSE)","v":8},{"$f":"IF(ISERROR(HLOOKUP(D12,womens_declare,A5,FALSE))=TRUE,\"\",HLOOKUP(D12,womens_declare,A5,FALSE))","v":"-"},"Thames Valley H"]
[]
[]
[null,null,{"$f":"CONCATENATE(VLOOKUP(A3,womens_handbook,3,FALSE),\" - B String\")","v":"Women's 400m Hurdles - B String"},null,null,"Time:",{"$f":"VLOOKUP(A3,womens_handbook,2,FALSE)","v":"13:00:00"}]
[null,null,"Lane","Number","Athlete","Club"]
[9,{"$f":"IF(D17=\"\",\"\",IF(D17>10,D17/11,D17))","v":7},1,{"$f":"HLOOKUP(A17,womens_handbook,A4,FALSE)","v":77},{"$f":"IF(ISERROR(HLOOKUP(D17,womens_declare,A5,FALSE))=TRUE,\"\",HLOOKUP(D17,womens_declare,A5,FALSE))","v":"-"},{"$f":"IF(ISERROR(VLOOKUP(B17,matchday,2,FALSE))=TRUE,\"\",VLOOKUP(B17,matchday,2,FALSE))","v":"Swansea H"}]
[10,4,2,{"$f":"HLOOKUP(A18,womens_handbook,A4,FALSE)","v":44},{"$f":"IF(ISERROR(HLOOKUP(D18,womens_declare,A5,FALSE))=TRUE,\"\",HLOOKUP(D18,womens_declare,A5,FALSE))","v":"-"},"Newham & Essex Beagles AC"]
[11,1,3,{"$f":"HLOOKUP(A19,womens_handbook,A4,FALSE)","v":11},{"$f":"IF(ISERROR(HLOOKUP(D19,womens_declare,A5,FALSE))=TRUE,\"\",HLOOKUP(D19,womens_declare,A5,FALSE))","v":"-"},"Bedford & County AC"]
[12,2,4,{"$f":"HLOOKUP(A20,womens_handbook,A4,FALSE)","v":22},{"$f":"IF(ISERROR(HLOOKUP(D20,womens_declare,A5,FALSE))=TRUE,\"\",HLOOKUP(D20,womens_declare,A5,FALSE))","v":"-"},"Blackheath & Bromley H"]
[13,3,5,{"$f":"HLOOKUP(A21,womens_handbook,A4,FALSE)","v":33},{"$f":"IF(ISERROR(HLOOKUP(D21,womens_declare,A5,FALSE))=TRUE,\"\",HLOOKUP(D21,womens_declare,A5,FALSE))","v":"-"},"Marshall Milton Keynes AC"]
[14,5,6,{"$f":"HLOOKUP(A22,womens_handbook,A4,FALSE)","v":55},{"$f":"IF(ISERROR(HLOOKUP(D22,womens_declare,A5,FALSE))=TRUE,\"\",HLOOKUP(D22,womens_declare,A5,FALSE))","v":"-"},"Shaftesbury Barnet H"]
[15,6,7,{"$f":"HLOOKUP(A23,womens_handbook,A4,FALSE)","v":66},{"$f":"IF(ISERROR(HLOOKUP(D23,womens_declare,A5,FALSE))=TRUE,\"\",HLOOKUP(D23,womens_declare,A5,FALSE))","v":"-"},"Southampton AC"]
[16,8,8,{"$f":"HLOOKUP(A24,womens_handbook,A4,FALSE)","v":88},{"$f":"IF(ISERROR(HLOOKUP(D24,womens_declare,A5,FALSE))=TRUE,\"\",HLOOKUP(D24,womens_declare,A5,FALSE))","v":"-"},"Thames Valley H"]
[]
[null,null,"League",{"$f":"VLOOKUP(A3,womens_handbook,29,FALSE)","v":33846},{"$f":"VLOOKUP(A3,womens_handbook,26,FALSE)","v":"G Retchekan"},{"$f":"VLOOKUP(A3,womens_handbook,27,FALSE)","v":"Thurrock"},{"$f":"VLOOKUP(A3,womens_handbook,28,FALSE)","v":"56.5s"}]
[null,null,"Division",{"$f":"VLOOKUP(A3,womens_handbook,33,FALSE)","v":36351},{"$f":"VLOOKUP(A3,womens_handbook,30,FALSE)","v":"K Maddox"},{"$f":"VLOOKUP(A3,womens_handbook,31,FALSE)","v":"Sale Harriers"},{"$f":"VLOOKUP(A3,womens_handbook,32,FALSE)","v":"56.8s"}]
[2,null,{"$f":"CONCATENATE(VLOOKUP(A28,womens_handbook,3,FALSE),\" - A String\")","v":"Women's 800m - A String"},null,null,"Time:",{"$f":"VLOOKUP(A28,womens_handbook,2,FALSE)","v":"13:20:00"}]
[{"$f":"VLOOKUP(A28,womens_handbook,37,FALSE)","v":3},null,"Lane","Number","Athlete","Club"]
[{"$f":"VLOOKUP(A28,womens_declare,20,FALSE)","v":6},{"$f":"IF(D30=\"\",\"\",IF(D30>10,D30/11,D30))","v":1},1,{"$f":"HLOOKUP(C30,womens_handbook,A29,FALSE)","v":1},{"$f":"IF(ISERROR(HLOOKUP(D30,womens_declare,A30,FALSE))=TRUE,\"\",HLOOKUP(D30,womens_declare,A30,FALSE))","v":"-"},{"$f":"IF(ISERROR(VLOOKUP(B30,matchday,2,FALSE))=TRUE,\"\",VLOOKUP(B30,matchday,2,FALSE))","v":"Bedford & County AC"}]
[null,3,2,{"$f":"HLOOKUP(C31,womens_handbook,A29,FALSE)","v":3},{"$f":"IF(ISERROR(HLOOKUP(D31,womens_declare,A30,FALSE))=TRUE,\"\",HLOOKUP(D31,womens_declare,A30,FALSE))","v":"-"},"Marshall Milton Keynes AC"]
[null,2,3,{"$f":"HLOOKUP(C32,womens_handbook,A29,FALSE)","v":2},{"$f":"IF(ISERROR(HLOOKUP(D32,womens_declare,A30,FALSE))=TRUE,\"\",HLOOKUP(D32,womens_declare,A30,FALSE))","v":"-"},"Blackheath & Bromley H"]
[null,8,4,{"$f":"HLOOKUP(C33,womens_handbook,A29,FALSE)","v":8},{"$f":"IF(ISERROR(HLOOKUP(D33,womens_declare,A30,FALSE))=TRUE,\"\",HLOOKUP(D33,womens_declare,A30,FALSE))","v":"-"},"Thames Valley H"]
[null,5,5,{"$f":"HLOOKUP(C34,womens_handbook,A29,FALSE)","v":5},{"$f":"IF(ISERROR(HLOOKUP(D34,womens_declare,A30,FALSE))=TRUE,\"\",HLOOKUP(D34,womens_declare,A30,FALSE))","v":"-"},"Shaftesbury Barnet H"]
[null,7,6,{"$f":"HLOOKUP(C35,womens_handbook,A29,FALSE)","v":7},{"$f":"IF(ISERROR(HLOOKUP(D35,womens_declare,A30,FALSE))=TRUE,\"\",HLOOKUP(D35,womens_declare,A30,FALSE))","v":"-"},"Swansea H"]
[null,6,7,{"$f":"HLOOKUP(C36,womens_handbook,A29,FALSE)","v":6},{"$f":"IF(ISERROR(HLOOKUP(D36,womens_declare,A30,FALSE))=TRUE,\"\",HLOOKUP(D36,womens_declare,A30,FALSE))","v":"-"},"Southampton AC"]
[null,4,8,{"$f":"HLOOKUP(C37,womens_handbook,A29,FALSE)","v":4},{"$f":"IF(ISERROR(HLOOKUP(D37,womens_declare,A30,FALSE))=TRUE,\"\",HLOOKUP(D37,womens_declare,A30,FALSE))","v":"-"},"Newham & Essex Beagles AC"]
[]
[]
[null,null,{"$f":"CONCATENATE(VLOOKUP(A28,womens_handbook,3,FALSE),\" - B String\")","v":"Women's 800m - B String"},null,null,"Time:",{"$f":"VLOOKUP(A28,womens_handbook,2,FALSE)","v":"13:20:00"}]
[null,null,"Lane","Number","Athlete","Club"]
[9,{"$f":"IF(D42=\"\",\"\",IF(D42>10,D42/11,D42))","v":1},1,{"$f":"HLOOKUP(A42,womens_handbook,A29,FALSE)","v":11},{"$f":"IF(ISERROR(HLOOKUP(D42,womens_declare,A30,FALSE))=TRUE,\"\",HLOOKUP(D42,womens_declare,A30,FALSE))","v":"-"},{"$f":"IF(ISERROR(VLOOKUP(B42,matchday,2,FALSE))=TRUE,\"\",VLOOKUP(B42,matchday,2,FALSE))","v":"Bedford & County AC"}]
[10,3,2,{"$f":"HLOOKUP(A43,womens_handbook,A29,FALSE)","v":33},{"$f":"IF(ISERROR(HLOOKUP(D43,womens_declare,A30,FALSE))=TRUE,\"\",HLOOKUP(D43,womens_declare,A30,FALSE))","v":"-"},"Marshall Milton Keynes AC"]
[11,2,3,{"$f":"HLOOKUP(A44,womens_handbook,A29,FALSE)","v":22},{"$f":"IF(ISERROR(HLOOKUP(D44,womens_declare,A30,FALSE))=TRUE,\"\",HLOOKUP(D44,womens_declare,A30,FALSE))","v":"-"},"Blackheath & Bromley H"]
[12,8,4,{"$f":"HLOOKUP(A45,womens_handbook,A29,FALSE)","v":88},{"$f":"IF(ISERROR(HLOOKUP(D45,womens_declare,A30,FALSE))=TRUE,\"\",HLOOKUP(D45,womens_declare,A30,FALSE))","v":"-"},"Thames Valley H"]
[13,5,5,{"$f":"HLOOKUP(A46,womens_handbook,A29,FALSE)","v":55},{"$f":"IF(ISERROR(HLOOKUP(D46,womens_declare,A30,FALSE))=TRUE,\"\",HLOOKUP(D46,womens_declare,A30,FALSE))","v":"-"},"Shaftesbury Barnet H"]
[14,7,6,{"$f":"HLOOKUP(A47,womens_handbook,A29,FALSE)","v":77},{"$f":"IF(ISERROR(HLOOKUP(D47,womens_declare,A30,FALSE))=TRUE,\"\",HLOOKUP(D47,womens_declare,A30,FALSE))","v":"-"},"Swansea H"]
[15,6,7,{"$f":"HLOOKUP(A48,womens_handbook,A29,FALSE)","v":66},{"$f":"IF(ISERROR(HLOOKUP(D48,womens_declare,A30,FALSE))=TRUE,\"\",HLOOKUP(D48,womens_declare,A30,FALSE))","v":"-"},"Southampton AC"]
[16,4,8,{"$f":"HLOOKUP(A49,womens_handbook,A29,FALSE)","v":44},{"$f":"IF(ISERROR(HLOOKUP(D49,womens_declare,A30,FALSE))=TRUE,\"\",HLOOKUP(D49,womens_declare,A30,FALSE))","v":"-"},"Newham & Essex Beagles AC"]
[]
[null,null,"League",{"$f":"VLOOKUP(A28,womens_handbook,29,FALSE)","v":28728},{"$f":"VLOOKUP(A28,womens_handbook,26,FALSE)","v":"C McMeekin"},{"$f":"VLOOKUP(A28,womens_handbook,27,FALSE)","v":"City of Glasgow AC"},{"$f":"VLOOKUP(A28,womens_handbook,28,FALSE)","v":"00:02:01.300"}]
[null,null,"Division",{"$f":"VLOOKUP(A28,womens_handbook,33,FALSE)","v":28728},{"$f":"VLOOKUP(A28,womens_handbook,30,FALSE)","v":"C McMeekin"},{"$f":"VLOOKUP(A28,womens_handbook,31,FALSE)","v":"City of Glasgow"},{"$f":"VLOOKUP(A28,womens_handbook,32,FALSE)","v":"00:02:01.300"}]
[3,null,{"$f":"CONCATENATE(VLOOKUP(A53,womens_handbook,3,FALSE),\" - A String\")","v":"Women's 100m - A String"},null,null,"Time:",{"$f":"VLOOKUP(A53,womens_handbook,2,FALSE)","v":"13:35:00"}]
[{"$f":"VLOOKUP(A53,womens_handbook,37,FALSE)","v":4},null,"Lane","Number","Athlete","Club"]
[{"$f":"VLOOKUP(A53,womens_declare,20,FALSE)","v":3},{"$f":"IF(D55=\"\",\"\",IF(D55>10,D55/11,D55))","v":3},1,{"$f":"HLOOKUP(C55,womens_handbook,A54,FALSE)","v":3},{"$f":"IF(ISERROR(HLOOKUP(D55,womens_declare,A55,FALSE))=TRUE,\"\",HLOOKUP(D55,womens_declare,A55,FALSE))","v":"-"},{"$f":"IF(ISERROR(VLOOKUP(B55,matchday,2,FALSE))=TRUE,\"\",VLOOKUP(B55,matchday,2,FALSE))","v":"Marshall Milton Keynes AC"}]
[null,4,2,{"$f":"HLOOKUP(C56,womens_handbook,A54,FALSE)","v":4},{"$f":"IF(ISERROR(HLOOKUP(D56,womens_declare,A55,FALSE))=TRUE,\"\",HLOOKUP(D56,womens_declare,A55,FALSE))","v":"-"},"Newham & Essex Beagles AC"]
[null,7,3,{"$f":"HLOOKUP(C57,womens_handbook,A54,FALSE)","v":7},{"$f":"IF(ISERROR(HLOOKUP(D57,womens_declare,A55,FALSE))=TRUE,\"\",HLOOKUP(D57,womens_declare,A55,FALSE))","v":"-"},"Swansea H"]
[null,6,4,{"$f":"HLOOKUP(C58,womens_handbook,A54,FALSE)","v":6},{"$f":"IF(ISERROR(HLOOKUP(D58,womens_declare,A55,FALSE))=TRUE,\"\",HLOOKUP(D58,womens_declare,A55,FALSE))","v":"-"},"Southampton AC"]
[null,8,5,{"$f":"HLOOKUP(C59,womens_handbook,A54,FALSE)","v":8},{"$f":"IF(ISERROR(HLOOKUP(D59,womens_declare,A55,FALSE))=TRUE,\"\",HLOOKUP(D59,womens_declare,A55,FALSE))","v":"-"},"Thames Valley H"]
[null,5,6,{"$f":"HLOOKUP(C60,womens_handbook,A54,FALSE)","v":5},{"$f":"IF(ISERROR(HLOOKUP(D60,womens_declare,A55,FALSE))=TRUE,\"\",HLOOKUP(D60,womens_declare,A55,FALSE))","v":"-"},"Shaftesbury Barnet H"]
[null,2,7,{"$f":"HLOOKUP(C61,womens_handbook,A54,FALSE)","v":2},{"$f":"IF(ISERROR(HLOOKUP(D61,womens_declare,A55,FALSE))=TRUE,\"\",HLOOKUP(D61,womens_declare,A55,FALSE))","v":"-"},"Blackheath & Bromley H"]
[null,1,8,{"$f":"HLOOKUP(C62,womens_handbook,A54,FALSE)","v":1},{"$f":"IF(ISERROR(HLOOKUP(D62,womens_declare,A55,FALSE))=TRUE,\"\",HLOOKUP(D62,womens_declare,A55,FALSE))","v":"-"},"Bedford & County AC"]
[]
[]
[null,null,{"$f":"CONCATENATE(VLOOKUP(A53,womens_handbook,3,FALSE),\" - B String\")","v":"Women's 100m - B String"},null,null,"Time:",{"$f":"VLOOKUP(A53,womens_handbook,2,FALSE)","v":"13:35:00"}]
[null,null,"Lane","Number","Athlete","Club"]
[9,{"$f":"IF(D67=\"\",\"\",IF(D67>10,D67/11,D67))","v":3},1,{"$f":"HLOOKUP(A67,womens_handbook,A54,FALSE)","v":33},{"$f":"IF(ISERROR(HLOOKUP(D67,womens_declare,A55,FALSE))=TRUE,\"\",HLOOKUP(D67,womens_declare,A55,FALSE))","v":"-"},{"$f":"IF(ISERROR(VLOOKUP(B67,matchday,2,FALSE))=TRUE,\"\",VLOOKUP(B67,matchday,2,FALSE))","v":"Marshall Milton Keynes AC"}]
[10,4,2,{"$f":"HLOOKUP(A68,womens_handbook,A54,FALSE)","v":44},{"$f":"IF(ISERROR(HLOOKUP(D68,womens_declare,A55,FALSE))=TRUE,\"\",HLOOKUP(D68,womens_declare,A55,FALSE))","v":"-"},"Newham & Essex Beagles AC"]
[11,7,3,{"$f":"HLOOKUP(A69,womens_handbook,A54,FALSE)","v":77},{"$f":"IF(ISERROR(HLOOKUP(D69,womens_declare,A55,FALSE))=TRUE,\"\",HLOOKUP(D69,womens_declare,A55,FALSE))","v":"-"},"Swansea H"]
[12,6,4,{"$f":"HLOOKUP(A70,womens_handbook,A54,FALSE)","v":66},{"$f":"IF(ISERROR(HLOOKUP(D70,womens_declare,A55,FALSE))=TRUE,\"\",HLOOKUP(D70,womens_declare,A55,FALSE))","v":"-"},"Southampton AC"]
[13,8,5,{"$f":"HLOOKUP(A71,womens_handbook,A54,FALSE)","v":88},{"$f":"IF(ISERROR(HLOOKUP(D71,womens_declare,A55,FALSE))=TRUE,\"\",HLOOKUP(D71,womens_declare,A55,FALSE))","v":"-"},"Thames Valley H"]
[14,5,6,{"$f":"HLOOKUP(A72,womens_handbook,A54,FALSE)","v":55},{"$f":"IF(ISERROR(HLOOKUP(D72,womens_declare,A55,FALSE))=TRUE,\"\",HLOOKUP(D72,womens_declare,A55,FALSE))","v":"-"},"Shaftesbury Barnet H"]
[15,2,7,{"$f":"HLOOKUP(A73,womens_handbook,A54,FALSE)","v":22},{"$f":"IF(ISERROR(HLOOKUP(D73,womens_declare,A55,FALSE))=TRUE,\"\",HLOOKUP(D73,womens_declare,A55,FALSE))","v":"-"},"Blackheath & Bromley H"]
[16,1,8,{"$f":"HLOOKUP(A74,womens_handbook,A54,FALSE)","v":11},{"$f":"IF(ISERROR(HLOOKUP(D74,womens_declare,A55,FALSE))=TRUE,\"\",HLOOKUP(D74,womens_declare,A55,FALSE))","v":"-"},"Bedford & County AC"]
[]
[null,null,"League",{"$f":"VLOOKUP(A53,womens_handbook,29,FALSE)","v":31906},{"$f":"VLOOKUP(A53,womens_handbook,26,FALSE)","v":"B Kinch"},{"$f":"VLOOKUP(A53,womens_handbook,27,FALSE)","v":"Hounslow"},{"$f":"VLOOKUP(A53,womens_handbook,28,FALSE)","v":"11.1s"}]
[null,null,"Division",{"$f":"VLOOKUP(A53,womens_handbook,33,FALSE)","v":28336},{"$f":"VLOOKUP(A53,womens_handbook,30,FALSE)","v":"S Colyer"},{"$f":"VLOOKUP(A53,womens_handbook,31,FALSE)","v":"Stretford"},{"$f":"VLOOKUP(A53,womens_handbook,32,FALSE)","v":"11.3s"}]
[4,null,{"$f":"CONCATENATE(VLOOKUP(A78,womens_handbook,3,FALSE),\" - A String\")","v":"Women's 400m - A String"},null,null,"Time:",{"$f":"VLOOKUP(A78,womens_handbook,2,FALSE)","v":"14:00:00"}]
[{"$f":"VLOOKUP(A78,womens_handbook,37,FALSE)","v":5},null,"Lane","Number","Athlete","Club"]
[{"$f":"VLOOKUP(A78,womens_declare,20,FALSE)","v":5},{"$f":"IF(D80=\"\",\"\",IF(D80>10,D80/11,D80))","v":1},1,{"$f":"HLOOKUP(C80,womens_handbook,A79,FALSE)","v":1},{"$f":"IF(ISERROR(HLOOKUP(D80,womens_declare,A80,FALSE))=TRUE,\"\",HLOOKUP(D80,womens_declare,A80,FALSE))","v":"-"},{"$f":"IF(ISERROR(VLOOKUP(B80,matchday,2,FALSE))=TRUE,\"\",VLOOKUP(B80,matchday,2,FALSE))","v":"Bedford & County AC"}]
[null,8,2,{"$f":"HLOOKUP(C81,womens_handbook,A79,FALSE)","v":8},{"$f":"IF(ISERROR(HLOOKUP(D81,womens_declare,A80,FALSE))=TRUE,\"\",HLOOKUP(D81,womens_declare,A80,FALSE))","v":"-"},"Thames Valley H"]
[null,6,3,{"$f":"HLOOKUP(C82,womens_handbook,A79,FALSE)","v":6},{"$f":"IF(ISERROR(HLOOKUP(D82,womens_declare,A80,FALSE))=TRUE,\"\",HLOOKUP(D82,womens_declare,A80,FALSE))","v":"-"},"Southampton AC"]
[null,5,4,{"$f":"HLOOKUP(C83,womens_handbook,A79,FALSE)","v":5},{"$f":"IF(ISERROR(HLOOKUP(D83,womens_declare,A80,FALSE))=TRUE,\"\",HLOOKUP(D83,womens_declare,A80,FALSE))","v":"-"},"Shaftesbury Barnet H"]
[null,7,5,{"$f":"HLOOKUP(C84,womens_handbook,A79,FALSE)","v":7},{"$f":"IF(ISERROR(HLOOKUP(D84,womens_declare,A80,FALSE))=TRUE,\"\",HLOOKUP(D84,womens_declare,A80,FALSE))","v":"-"},"Swansea H"]
[null,4,6,{"$f":"HLOOKUP(C85,womens_handbook,A79,FALSE)","v":4},{"$f":"IF(ISERROR(HLOOKUP(D85,womens_declare,A80,FALSE))=TRUE,\"\",HLOOKUP(D85,womens_declare,A80,FALSE))","v":"-"},"Newham & Essex Beagles AC"]
[null,2,7,{"$f":"HLOOKUP(C86,womens_handbook,A79,FALSE)","v":2},{"$f":"IF(ISERROR(HLOOKUP(D86,womens_declare,A80,FALSE))=TRUE,\"\",HLOOKUP(D86,womens_declare,A80,FALSE))","v":"-"},"Blackheath & Bromley H"]
[null,3,8,{"$f":"HLOOKUP(C87,womens_handbook,A79,FALSE)","v":3},{"$f":"IF(ISERROR(HLOOKUP(D87,womens_declare,A80,FALSE))=TRUE,\"\",HLOOKUP(D87,womens_declare,A80,FALSE))","v":"-"},"Marshall Milton Keynes AC"]
[]
[]
[null,null,{"$f":"CONCATENATE(VLOOKUP(A78,womens_handbook,3,FALSE),\" - B String\")","v":"Women's 400m - B String"},null,null,"Time:",{"$f":"VLOOKUP(A78,womens_handbook,2,FALSE)","v":"14:00:00"}]
[null,null,"Lane","Number","Athlete","Club"]
[9,{"$f":"IF(D92=\"\",\"\",IF(D92>10,D92/11,D92))","v":1},1,{"$f":"HLOOKUP(A92,womens_handbook,A79,FALSE)","v":11},{"$f":"IF(ISERROR(HLOOKUP(D92,womens_declare,A80,FALSE))=TRUE,\"\",HLOOKUP(D92,womens_declare,A80,FALSE))","v":"-"},{"$f":"IF(ISERROR(VLOOKUP(B92,matchday,2,FALSE))=TRUE,\"\",VLOOKUP(B92,matchday,2,FALSE))","v":"Bedford & County AC"}]
[10,8,2,{"$f":"HLOOKUP(A93,womens_handbook,A79,FALSE)","v":88},{"$f":"IF(ISERROR(HLOOKUP(D93,womens_declare,A80,FALSE))=TRUE,\"\",HLOOKUP(D93,womens_declare,A80,FALSE))","v":"-"},"Thames Valley H"]
[11,6,3,{"$f":"HLOOKUP(A94,womens_handbook,A79,FALSE)","v":66},{"$f":"IF(ISERROR(HLOOKUP(D94,womens_declare,A80,FALSE))=TRUE,\"\",HLOOKUP(D94,womens_declare,A80,FALSE))","v":"-"},"Southampton AC"]
[12,5,4,{"$f":"HLOOKUP(A95,womens_handbook,A79,FALSE)","v":55},{"$f":"IF(ISERROR(HLOOKUP(D95,womens_declare,A80,FALSE))=TRUE,\"\",HLOOKUP(D95,womens_declare,A80,FALSE))","v":"-"},"Shaftesbury Barnet H"]
[13,7,5,{"$f":"HLOOKUP(A96,womens_handbook,A79,FALSE)","v":77},{"$f":"IF(ISERROR(HLOOKUP(D96,womens_declare,A80,FALSE))=TRUE,\"\",HLOOKUP(D96,womens_declare,A80,FALSE))","v":"-"},"Swansea H"]
[14,4,6,{"$f":"HLOOKUP(A97,womens_handbook,A79,FALSE)","v":44},{"$f":"IF(ISERROR(HLOOKUP(D97,womens_declare,A80,FALSE))=TRUE,\"\",HLOOKUP(D97,womens_declare,A80,FALSE))","v":"-"},"Newham & Essex Beagles AC"]
[15,2,7,{"$f":"HLOOKUP(A98,womens_handbook,A79,FALSE)","v":22},{"$f":"IF(ISERROR(HLOOKUP(D98,womens_declare,A80,FALSE))=TRUE,\"\",HLOOKUP(D98,womens_declare,A80,FALSE))","v":"-"},"Blackheath & Bromley H"]
[16,3,8,{"$f":"HLOOKUP(A99,womens_handbook,A79,FALSE)","v":33},{"$f":"IF(ISERROR(HLOOKUP(D99,womens_declare,A80,FALSE))=TRUE,\"\",HLOOKUP(D99,womens_declare,A80,FALSE))","v":"-"},"Marshall Milton Keynes AC"]
[]
[null,null,"League",{"$f":"VLOOKUP(A78,womens_handbook,29,FALSE)","v":34503},{"$f":"VLOOKUP(A78,womens_handbook,26,FALSE)","v":"P Smith"},{"$f":"VLOOKUP(A78,womens_handbook,27,FALSE)","v":"Sale Harriers"},{"$f":"VLOOKUP(A78,womens_handbook,28,FALSE)","v":"51.7s"}]
[null,null,"Division",{"$f":"VLOOKUP(A78,womens_handbook,33,FALSE)","v":34503},{"$f":"VLOOKUP(A78,womens_handbook,30,FALSE)","v":"P Smith"},{"$f":"VLOOKUP(A78,womens_handbook,31,FALSE)","v":"Sale Harriers"},{"$f":"VLOOKUP(A78,womens_handbook,32,FALSE)","v":"51.7s"}]
[5,null,{"$f":"CONCATENATE(VLOOKUP(A103,womens_handbook,3,FALSE),\"\")","v":"Women's 3000m S/Chase"},null,null,"Time:",{"$f":"VLOOKUP(A103,womens_handbook,2,FALSE)","v":"16:05:00"}]
[{"$f":"VLOOKUP(A103,womens_handbook,37,FALSE)","v":6},null,"Order","Number","Athlete","Club"]
[{"$f":"VLOOKUP(A103,womens_declare,20,FALSE)","v":8},{"$f":"IF(D105=\"\",\"\",IF(D105>10,D105/11,D105))","v":3},1,{"$f":"HLOOKUP(C105,Handbook!$D$3:$S$24,A104,FALSE)","v":3},{"$f":"IF(ISERROR(HLOOKUP(D105,womens_declare,A105,FALSE))=TRUE,\"\",HLOOKUP(D105,womens_declare,A105,FALSE))","v":"-"},{"$f":"IF(ISERROR(VLOOKUP(B105,matchday,2,FALSE))=TRUE,\"\",VLOOKUP(B105,matchday,2,FALSE))","v":"Marshall Milton Keynes AC"}]
[null,6,2,{"$f":"HLOOKUP(C106,Handbook!$D$3:$S$24,A104,FALSE)","v":6},{"$f":"IF(ISERROR(HLOOKUP(D106,womens_declare,A105,FALSE))=TRUE,\"\",HLOOKUP(D106,womens_declare,A105,FALSE))","v":"-"},"Southampton AC"]
[null,7,3,{"$f":"HLOOKUP(C107,Handbook!$D$3:$S$24,A104,FALSE)","v":7},{"$f":"IF(ISERROR(HLOOKUP(D107,womens_declare,A105,FALSE))=TRUE,\"\",HLOOKUP(D107,womens_declare,A105,FALSE))","v":"-"},"Swansea H"]
[null,2,4,{"$f":"HLOOKUP(C108,Handbook!$D$3:$S$24,A104,FALSE)","v":2},{"$f":"IF(ISERROR(HLOOKUP(D108,womens_declare,A105,FALSE))=TRUE,\"\",HLOOKUP(D108,womens_declare,A105,FALSE))","v":"-"},"Blackheath & Bromley H"]
[null,1,5,{"$f":"HLOOKUP(C109,Handbook!$D$3:$S$24,A104,FALSE)","v":1},{"$f":"IF(ISERROR(HLOOKUP(D109,womens_declare,A105,FALSE))=TRUE,\"\",HLOOKUP(D109,womens_declare,A105,FALSE))","v":"-"},"Bedford & County AC"]
[null,5,6,{"$f":"HLOOKUP(C110,Handbook!$D$3:$S$24,A104,FALSE)","v":5},{"$f":"IF(ISERROR(HLOOKUP(D110,womens_declare,A105,FALSE))=TRUE,\"\",HLOOKUP(D110,womens_declare,A105,FALSE))","v":"-"},"Shaftesbury Barnet H"]
[null,4,7,{"$f":"HLOOKUP(C111,Handbook!$D$3:$S$24,A104,FALSE)","v":4},{"$f":"IF(ISERROR(HLOOKUP(D111,womens_declare,A105,FALSE))=TRUE,\"\",HLOOKUP(D111,womens_declare,A105,FALSE))","v":"-"},"Newham & Essex Beagles AC"]
[null,8,8,{"$f":"HLOOKUP(C112,Handbook!$D$3:$S$24,A104,FALSE)","v":8},{"$f":"IF(ISERROR(HLOOKUP(D112,womens_declare,A105,FALSE))=TRUE,\"\",HLOOKUP(D112,womens_declare,A105,FALSE))","v":"-"},"Thames Valley H"]
[null,3,9,{"$f":"HLOOKUP(C113,Handbook!$D$3:$S$24,A104,FALSE)","v":33},{"$f":"IF(ISERROR(HLOOKUP(D113,womens_declare,A105,FALSE))=TRUE,\"\",HLOOKUP(D113,womens_declare,A105,FALSE))","v":"-"},"Marshall Milton Keynes AC"]
[null,6,10,{"$f":"HLOOKUP(C114,Handbook!$D$3:$S$24,A104,FALSE)","v":66},{"$f":"IF(ISERROR(HLOOKUP(D114,womens_declare,A105,FALSE))=TRUE,\"\",HLOOKUP(D114,womens_declare,A105,FALSE))","v":"-"},"Southampton AC"]
[null,7,11,{"$f":"HLOOKUP(C115,Handbook!$D$3:$S$24,A104,FALSE)","v":77},{"$f":"IF(ISERROR(HLOOKUP(D115,womens_declare,A105,FALSE))=TRUE,\"\",HLOOKUP(D115,womens_declare,A105,FALSE))","v":"-"},"Swansea H"]
[null,2,12,{"$f":"HLOOKUP(C116,Handbook!$D$3:$S$24,A104,FALSE)","v":22},{"$f":"IF(ISERROR(HLOOKUP(D116,womens_declare,A105,FALSE))=TRUE,\"\",HLOOKUP(D116,womens_declare,A105,FALSE))","v":"-"},"Blackheath & Bromley H"]
[null,1,13,{"$f":"HLOOKUP(C117,Handbook!$D$3:$S$24,A104,FALSE)","v":11},{"$f":"IF(ISERROR(HLOOKUP(D117,womens_declare,A105,FALSE))=TRUE,\"\",HLOOKUP(D117,womens_declare,A105,FALSE))","v":"-"},"Bedford & County AC"]
[null,5,14,{"$f":"HLOOKUP(C118,Handbook!$D$3:$S$24,A104,FALSE)","v":55},{"$f":"IF(ISERROR(HLOOKUP(D118,womens_declare,A105,FALSE))=TRUE,\"\",HLOOKUP(D118,womens_declare,A105,FALSE))","v":"-"},"Shaftesbury Barnet H"]
[null,4,15,{"$f":"HLOOKUP(C119,Handbook!$D$3:$S$24,A104,FALSE)","v":44},{"$f":"IF(ISERROR(HLOOKUP(D119,womens_declare,A105,FALSE))=TRUE,\"\",HLOOKUP(D119,womens_declare,A105,FALSE))","v":"-"},"Newham & Essex Beagles AC"]
[null,8,16,{"$f":"HLOOKUP(C120,Handbook!$D$3:$S$24,A104,FALSE)","v":88},{"$f":"IF(ISERROR(HLOOKUP(D120,womens_declare,A105,FALSE))=TRUE,\"\",HLOOKUP(D120,womens_declare,A105,FALSE))","v":"-"},"Thames Valley H"]
[]
[null,null,"League",{"$f":"VLOOKUP(A103,womens_handbook,29,FALSE)","v":"-"},{"$f":"VLOOKUP(A103,womens_handbook,26,FALSE)","v":"-"},{"$f":"VLOOKUP(A103,womens_handbook,27,FALSE)","v":"-"},{"$f":"VLOOKUP(A103,womens_handbook,28,FALSE)","v":"-"}]
[null,null,"Division",{"$f":"VLOOKUP(A103,womens_handbook,33,FALSE)","v":"-"},{"$f":"VLOOKUP(A103,womens_handbook,30,FALSE)","v":"-"},{"$f":"VLOOKUP(A103,womens_handbook,31,FALSE)","v":"-"},{"$f":"VLOOKUP(A103,womens_handbook,32,FALSE)","v":"-"}]
[21,null,{"$f":"CONCATENATE(VLOOKUP(A124,womens_handbook,3,FALSE),\"\")","v":"Women's 3000m"},null,null,"Time:",{"$f":"VLOOKUP(A124,womens_handbook,2,FALSE)","v":"14:20:00"}]
[{"$f":"VLOOKUP(A124,womens_handbook,37,FALSE)","v":22},null,"Order","Number","Athlete","Club"]
[{"$f":"VLOOKUP(A124,womens_declare,20,FALSE)","v":9},{"$f":"IF(D126=\"\",\"\",IF(D126>10,D126/11,D126))","v":8},1,{"$f":"HLOOKUP(C126,Handbook!$D$3:$S$24,A125,FALSE)","v":8},{"$f":"IF(ISERROR(HLOOKUP(D126,womens_declare,A126,FALSE))=TRUE,\"\",HLOOKUP(D126,womens_declare,A126,FALSE))","v":"-"},{"$f":"IF(ISERROR(VLOOKUP(B126,matchday,2,FALSE))=TRUE,\"\",VLOOKUP(B126,matchday,2,FALSE))","v":"Thames Valley H"}]
[null,7,2,{"$f":"HLOOKUP(C127,Handbook!$D$3:$S$24,A125,FALSE)","v":7},{"$f":"IF(ISERROR(HLOOKUP(D127,womens_declare,A126,FALSE))=TRUE,\"\",HLOOKUP(D127,womens_declare,A126,FALSE))","v":"-"},"Swansea H"]
[null,6,3,{"$f":"HLOOKUP(C128,Handbook!$D$3:$S$24,A125,FALSE)","v":6},{"$f":"IF(ISERROR(HLOOKUP(D128,womens_declare,A126,FALSE))=TRUE,\"\",HLOOKUP(D128,womens_declare,A126,FALSE))","v":"-"},"Southampton AC"]
[null,5,4,{"$f":"HLOOKUP(C129,Handbook!$D$3:$S$24,A125,FALSE)","v":5},{"$f":"IF(ISERROR(HLOOKUP(D129,womens_declare,A126,FALSE))=TRUE,\"\",HLOOKUP(D129,womens_declare,A126,FALSE))","v":"-"},"Shaftesbury Barnet H"]
[null,4,5,{"$f":"HLOOKUP(C130,Handbook!$D$3:$S$24,A125,FALSE)","v":4},{"$f":"IF(ISERROR(HLOOKUP(D130,womens_declare,A126,FALSE))=TRUE,\"\",HLOOKUP(D130,womens_declare,A126,FALSE))","v":"-"},"Newham & Essex Beagles AC"]
[null,3,6,{"$f":"HLOOKUP(C131,Handbook!$D$3:$S$24,A125,FALSE)","v":3},{"$f":"IF(ISERROR(HLOOKUP(D131,womens_declare,A126,FALSE))=TRUE,\"\",HLOOKUP(D131,womens_declare,A126,FALSE))","v":"-"},"Marshall Milton Keynes AC"]
[null,2,7,{"$f":"HLOOKUP(C132,Handbook!$D$3:$S$24,A125,FALSE)","v":2},{"$f":"IF(ISERROR(HLOOKUP(D132,womens_declare,A126,FALSE))=TRUE,\"\",HLOOKUP(D132,womens_declare,A126,FALSE))","v":"-"},"Blackheath & Bromley H"]
[null,1,8,{"$f":"HLOOKUP(C133,Handbook!$D$3:$S$24,A125,FALSE)","v":1},{"$f":"IF(ISERROR(HLOOKUP(D133,womens_declare,A126,FALSE))=TRUE,\"\",HLOOKUP(D133,womens_declare,A126,FALSE))","v":"-"},"Bedford & County AC"]
[null,8,9,{"$f":"HLOOKUP(C134,Handbook!$D$3:$S$24,A125,FALSE)","v":88},{"$f":"IF(ISERROR(HLOOKUP(D134,womens_declare,A126,FALSE))=TRUE,\"\",HLOOKUP(D134,womens_declare,A126,FALSE))","v":"-"},"Thames Valley H"]
[null,7,10,{"$f":"HLOOKUP(C135,Handbook!$D$3:$S$24,A125,FALSE)","v":77},{"$f":"IF(ISERROR(HLOOKUP(D135,womens_declare,A126,FALSE))=TRUE,\"\",HLOOKUP(D135,womens_declare,A126,FALSE))","v":"-"},"Swansea H"]
[null,6,11,{"$f":"HLOOKUP(C136,Handbook!$D$3:$S$24,A125,FALSE)","v":66},{"$f":"IF(ISERROR(HLOOKUP(D136,womens_declare,A126,FALSE))=TRUE,\"\",HLOOKUP(D136,womens_declare,A126,FALSE))","v":"-"},"Southampton AC"]
[null,5,12,{"$f":"HLOOKUP(C137,Handbook!$D$3:$S$24,A125,FALSE)","v":55},{"$f":"IF(ISERROR(HLOOKUP(D137,womens_declare,A126,FALSE))=TRUE,\"\",HLOOKUP(D137,womens_declare,A126,FALSE))","v":"-"},"Shaftesbury Barnet H"]
[null,4,13,{"$f":"HLOOKUP(C138,Handbook!$D$3:$S$24,A125,FALSE)","v":44},{"$f":"IF(ISERROR(HLOOKUP(D138,womens_declare,A126,FALSE))=TRUE,\"\",HLOOKUP(D138,womens_declare,A126,FALSE))","v":"-"},"Newham & Essex Beagles AC"]
[null,3,14,{"$f":"HLOOKUP(C139,Handbook!$D$3:$S$24,A125,FALSE)","v":33},{"$f":"IF(ISERROR(HLOOKUP(D139,womens_declare,A126,FALSE))=TRUE,\"\",HLOOKUP(D139,womens_declare,A126,FALSE))","v":"-"},"Marshall Milton Keynes AC"]
[null,2,15,{"$f":"HLOOKUP(C140,Handbook!$D$3:$S$24,A125,FALSE)","v":22},{"$f":"IF(ISERROR(HLOOKUP(D140,womens_declare,A126,FALSE))=TRUE,\"\",HLOOKUP(D140,womens_declare,A126,FALSE))","v":"-"},"Blackheath & Bromley H"]
[null,1,16,{"$f":"HLOOKUP(C141,Handbook!$D$3:$S$24,A125,FALSE)","v":11},{"$f":"IF(ISERROR(HLOOKUP(D141,womens_declare,A126,FALSE))=TRUE,\"\",HLOOKUP(D141,womens_declare,A126,FALSE))","v":"-"},"Bedford & County AC"]
[]
[null,null,"League",{"$f":"VLOOKUP(A124,womens_handbook,29,FALSE)","v":28637},{"$f":"VLOOKUP(A124,womens_handbook,26,FALSE)","v":"A Ford"},{"$f":"VLOOKUP(A124,womens_handbook,27,FALSE)","v":"Feltham"},{"$f":"VLOOKUP(A124,womens_handbook,28,FALSE)","v":"00:09:04.900"}]
[null,null,"Division",{"$f":"VLOOKUP(A124,womens_handbook,33,FALSE)","v":28637},{"$f":"VLOOKUP(A124,womens_handbook,30,FALSE)","v":"A Ford"},{"$f":"VLOOKUP(A124,womens_handbook,31,FALSE)","v":"Feltham"},{"$f":"VLOOKUP(A124,womens_handbook,32,FALSE)","v":"00:09:04.900"}]
[6,null,{"$f":"CONCATENATE(VLOOKUP(A145,womens_handbook,3,FALSE),\" - A String\")","v":"Women's 100m Hurdles - A String"},null,null,"Time:",{"$f":"VLOOKUP(A145,womens_handbook,2,FALSE)","v":"14:50:00"}]
[{"$f":"VLOOKUP(A145,womens_handbook,37,FALSE)","v":7},null,"Lane","Number","Athlete","Club"]
[{"$f":"VLOOKUP(A145,womens_declare,20,FALSE)","v":11},{"$f":"IF(D147=\"\",\"\",IF(D147>10,D147/11,D147))","v":8},1,{"$f":"HLOOKUP(C147,womens_handbook,A146,FALSE)","v":8},{"$f":"IF(ISERROR(HLOOKUP(D147,womens_declare,A147,FALSE))=TRUE,\"\",HLOOKUP(D147,womens_declare,A147,FALSE))","v":"-"},{"$f":"IF(ISERROR(VLOOKUP(B147,matchday,2,FALSE))=TRUE,\"\",VLOOKUP(B147,matchday,2,FALSE))","v":"Thames Valley H"}]
[null,4,2,{"$f":"HLOOKUP(C148,womens_handbook,A146,FALSE)","v":4},{"$f":"IF(ISERROR(HLOOKUP(D148,womens_declare,A147,FALSE))=TRUE,\"\",HLOOKUP(D148,womens_declare,A147,FALSE))","v":"-"},"Newham & Essex Beagles AC"]
[null,2,3,{"$f":"HLOOKUP(C149,womens_handbook,A146,FALSE)","v":2},{"$f":"IF(ISERROR(HLOOKUP(D149,womens_declare,A147,FALSE))=TRUE,\"\",HLOOKUP(D149,womens_declare,A147,FALSE))","v":"-"},"Blackheath & Bromley H"]
[null,7,4,{"$f":"HLOOKUP(C150,womens_handbook,A146,FALSE)","v":7},{"$f":"IF(ISERROR(HLOOKUP(D150,womens_declare,A147,FALSE))=TRUE,\"\",HLOOKUP(D150,womens_declare,A147,FALSE))","v":"-"},"Swansea H"]
[null,3,5,{"$f":"HLOOKUP(C151,womens_handbook,A146,FALSE)","v":3},{"$f":"IF(ISERROR(HLOOKUP(D151,womens_declare,A147,FALSE))=TRUE,\"\",HLOOKUP(D151,womens_declare,A147,FALSE))","v":"-"},"Marshall Milton Keynes AC"]
[null,6,6,{"$f":"HLOOKUP(C152,womens_handbook,A146,FALSE)","v":6},{"$f":"IF(ISERROR(HLOOKUP(D152,womens_declare,A147,FALSE))=TRUE,\"\",HLOOKUP(D152,womens_declare,A147,FALSE))","v":"-"},"Southampton AC"]
[null,5,7,{"$f":"HLOOKUP(C153,womens_handbook,A146,FALSE)","v":5},{"$f":"IF(ISERROR(HLOOKUP(D153,womens_declare,A147,FALSE))=TRUE,\"\",HLOOKUP(D153,womens_declare,A147,FALSE))","v":"-"},"Shaftesbury Barnet H"]
[null,1,8,{"$f":"HLOOKUP(C154,womens_handbook,A146,FALSE)","v":1},{"$f":"IF(ISERROR(HLOOKUP(D154,womens_declare,A147,FALSE))=TRUE,\"\",HLOOKUP(D154,womens_declare,A147,FALSE))","v":"-"},"Bedford & County AC"]
[]
[]
[null,null,{"$f":"CONCATENATE(VLOOKUP(A145,womens_handbook,3,FALSE),\" - B String\")","v":"Women's 100m Hurdles - B String"},null,null,"Time:",{"$f":"VLOOKUP(A145,womens_handbook,2,FALSE)","v":"14:50:00"}]
[null,null,"Lane","Number","Athlete","Club"]
[9,{"$f":"IF(D159=\"\",\"\",IF(D159>10,D159/11,D159))","v":8},1,{"$f":"HLOOKUP(A159,womens_handbook,A146,FALSE)","v":88},{"$f":"IF(ISERROR(HLOOKUP(D159,womens_declare,A147,FALSE))=TRUE,\"\",HLOOKUP(D159,womens_declare,A147,FALSE))","v":"-"},{"$f":"IF(ISERROR(VLOOKUP(B159,matchday,2,FALSE))=TRUE,\"\",VLOOKUP(B159,matchday,2,FALSE))","v":"Thames Valley H"}]
[10,4,2,{"$f":"HLOOKUP(A160,womens_handbook,A146,FALSE)","v":44},{"$f":"IF(ISERROR(HLOOKUP(D160,womens_declare,A147,FALSE))=TRUE,\"\",HLOOKUP(D160,womens_declare,A147,FALSE))","v":"-"},"Newham & Essex Beagles AC"]
[11,2,3,{"$f":"HLOOKUP(A161,womens_handbook,A146,FALSE)","v":22},{"$f":"IF(ISERROR(HLOOKUP(D161,womens_declare,A147,FALSE))=TRUE,\"\",HLOOKUP(D161,womens_declare,A147,FALSE))","v":"-"},"Blackheath & Bromley H"]
[12,7,4,{"$f":"HLOOKUP(A162,womens_handbook,A146,FALSE)","v":77},{"$f":"IF(ISERROR(HLOOKUP(D162,womens_declare,A147,FALSE))=TRUE,\"\",HLOOKUP(D162,womens_declare,A147,FALSE))","v":"-"},"Swansea H"]
[13,3,5,{"$f":"HLOOKUP(A163,womens_handbook,A146,FALSE)","v":33},{"$f":"IF(ISERROR(HLOOKUP(D163,womens_declare,A147,FALSE))=TRUE,\"\",HLOOKUP(D163,womens_declare,A147,FALSE))","v":"-"},"Marshall Milton Keynes AC"]
[14,6,6,{"$f":"HLOOKUP(A164,womens_handbook,A146,FALSE)","v":66},{"$f":"IF(ISERROR(HLOOKUP(D164,womens_declare,A147,FALSE))=TRUE,\"\",HLOOKUP(D164,womens_declare,A147,FALSE))","v":"-"},"Southampton AC"]
[15,5,7,{"$f":"HLOOKUP(A165,womens_handbook,A146,FALSE)","v":55},{"$f":"IF(ISERROR(HLOOKUP(D165,womens_declare,A147,FALSE))=TRUE,\"\",HLOOKUP(D165,womens_declare,A147,FALSE))","v":"-"},"Shaftesbury Barnet H"]
[16,1,8,{"$f":"HLOOKUP(A166,womens_handbook,A146,FALSE)","v":11},{"$f":"IF(ISERROR(HLOOKUP(D166,womens_declare,A147,FALSE))=TRUE,\"\",HLOOKUP(D166,womens_declare,A147,FALSE))","v":"-"},"Bedford & County AC"]
[]
[null,null,"League",{"$f":"VLOOKUP(A145,womens_handbook,29,FALSE)","v":32326},{"$f":"VLOOKUP(A145,womens_handbook,26,FALSE)","v":"Sally Gunnell"},{"$f":"VLOOKUP(A145,womens_handbook,27,FALSE)","v":"Essex Ladies"},{"$f":"VLOOKUP(A145,womens_handbook,28,FALSE)","v":"13.1s"}]
[null,null,"Division",{"$f":"VLOOKUP(A145,womens_handbook,33,FALSE)","v":32326},{"$f":"VLOOKUP(A145,womens_handbook,30,FALSE)","v":"Sally Gunnell"},{"$f":"VLOOKUP(A145,womens_handbook,31,FALSE)","v":"Essex Ladies"},{"$f":"VLOOKUP(A145,womens_handbook,32,FALSE)","v":"13.1s"}]
[7,null,{"$f":"CONCATENATE(VLOOKUP(A170,womens_handbook,3,FALSE),\" - A String\")","v":"Women's 200m - A String"},null,null,"Time:",{"$f":"VLOOKUP(A170,womens_handbook,2,FALSE)","v":"15:20:00"}]
[{"$f":"VLOOKUP(A170,womens_handbook,37,FALSE)","v":8},null,"Lane","Number","Athlete","Club"]
[{"$f":"VLOOKUP(A170,womens_declare,20,FALSE)","v":4},{"$f":"IF(D172=\"\",\"\",IF(D172>10,D172/11,D172))","v":6},1,{"$f":"HLOOKUP(C172,womens_handbook,A171,FALSE)","v":6},{"$f":"IF(ISERROR(HLOOKUP(D172,womens_declare,A172,FALSE))=TRUE,\"\",HLOOKUP(D172,womens_declare,A172,FALSE))","v":"-"},{"$f":"IF(ISERROR(VLOOKUP(B172,matchday,2,FALSE))=TRUE,\"\",VLOOKUP(B172,matchday,2,FALSE))","v":"Southampton AC"}]
[null,8,2,{"$f":"HLOOKUP(C173,womens_handbook,A171,FALSE)","v":8},{"$f":"IF(ISERROR(HLOOKUP(D173,womens_declare,A172,FALSE))=TRUE,\"\",HLOOKUP(D173,womens_declare,A172,FALSE))","v":"-"},"Thames Valley H"]
[null,2,3,{"$f":"HLOOKUP(C174,womens_handbook,A171,FALSE)","v":2},{"$f":"IF(ISERROR(HLOOKUP(D174,womens_declare,A172,FALSE))=TRUE,\"\",HLOOKUP(D174,womens_declare,A172,FALSE))","v":"-"},"Blackheath & Bromley H"]
[null,4,4,{"$f":"HLOOKUP(C175,womens_handbook,A171,FALSE)","v":4},{"$f":"IF(ISERROR(HLOOKUP(D175,womens_declare,A172,FALSE))=TRUE,\"\",HLOOKUP(D175,womens_declare,A172,FALSE))","v":"-"},"Newham & Essex Beagles AC"]
[null,1,5,{"$f":"HLOOKUP(C176,womens_handbook,A171,FALSE)","v":1},{"$f":"IF(ISERROR(HLOOKUP(D176,womens_declare,A172,FALSE))=TRUE,\"\",HLOOKUP(D176,womens_declare,A172,FALSE))","v":"-"},"Bedford & County AC"]
[null,7,6,{"$f":"HLOOKUP(C177,womens_handbook,A171,FALSE)","v":7},{"$f":"IF(ISERROR(HLOOKUP(D177,womens_declare,A172,FALSE))=TRUE,\"\",HLOOKUP(D177,womens_declare,A172,FALSE))","v":"-"},"Swansea H"]
[null,5,7,{"$f":"HLOOKUP(C178,womens_handbook,A171,FALSE)","v":5},{"$f":"IF(ISERROR(HLOOKUP(D178,womens_declare,A172,FALSE))=TRUE,\"\",HLOOKUP(D178,womens_declare,A172,FALSE))","v":"-"},"Shaftesbury Barnet H"]
[null,3,8,{"$f":"HLOOKUP(C179,womens_handbook,A171,FALSE)","v":3},{"$f":"IF(ISERROR(HLOOKUP(D179,womens_declare,A172,FALSE))=TRUE,\"\",HLOOKUP(D179,womens_declare,A172,FALSE))","v":"-"},"Marshall Milton Keynes AC"]
[]
[]
[null,null,{"$f":"CONCATENATE(VLOOKUP(A170,womens_handbook,3,FALSE),\" - B String\")","v":"Women's 200m - B String"},null,null,"Time:",{"$f":"VLOOKUP(A170,womens_handbook,2,FALSE)","v":"15:20:00"}]
[null,null,"Lane","Number","Athlete","Club"]
[9,{"$f":"IF(D184=\"\",\"\",IF(D184>10,D184/11,D184))","v":6},1,{"$f":"HLOOKUP(A184,womens_handbook,A171,FALSE)","v":66},{"$f":"IF(ISERROR(HLOOKUP(D184,womens_declare,A172,FALSE))=TRUE,\"\",HLOOKUP(D184,womens_declare,A172,FALSE))","v":"-"},{"$f":"IF(ISERROR(VLOOKUP(B184,matchday,2,FALSE))=TRUE,\"\",VLOOKUP(B184,matchday,2,FALSE))","v":"Southampton AC"}]
[10,8,2,{"$f":"HLOOKUP(A185,womens_handbook,A171,FALSE)","v":88},{"$f":"IF(ISERROR(HLOOKUP(D185,womens_declare,A172,FALSE))=TRUE,\"\",HLOOKUP(D185,womens_declare,A172,FALSE))","v":"-"},"Thames Valley H"]
[11,2,3,{"$f":"HLOOKUP(A186,womens_handbook,A171,FALSE)","v":22},{"$f":"IF(ISERROR(HLOOKUP(D186,womens_declare,A172,FALSE))=TRUE,\"\",HLOOKUP(D186,womens_declare,A172,FALSE))","v":"-"},"Blackheath & Bromley H"]
[12,4,4,{"$f":"HLOOKUP(A187,womens_handbook,A171,FALSE)","v":44},{"$f":"IF(ISERROR(HLOOKUP(D187,womens_declare,A172,FALSE))=TRUE,\"\",HLOOKUP(D187,womens_declare,A172,FALSE))","v":"-"},"Newham & Essex Beagles AC"]
[13,1,5,{"$f":"HLOOKUP(A188,womens_handbook,A171,FALSE)","v":11},{"$f":"IF(ISERROR(HLOOKUP(D188,womens_declare,A172,FALSE))=TRUE,\"\",HLOOKUP(D188,womens_declare,A172,FALSE))","v":"-"},"Bedford & County AC"]
[14,7,6,{"$f":"HLOOKUP(A189,womens_handbook,A171,FALSE)","v":77},{"$f":"IF(ISERROR(HLOOKUP(D189,womens_declare,A172,FALSE))=TRUE,\"\",HLOOKUP(D189,womens_declare,A172,FALSE))","v":"-"},"Swansea H"]
[15,5,7,{"$f":"HLOOKUP(A190,womens_handbook,A171,FALSE)","v":55},{"$f":"IF(ISERROR(HLOOKUP(D190,womens_declare,A172,FALSE))=TRUE,\"\",HLOOKUP(D190,womens_declare,A172,FALSE))","v":"-"},"Shaftesbury Barnet H"]
[16,3,8,{"$f":"HLOOKUP(A191,womens_handbook,A171,FALSE)","v":33},{"$f":"IF(ISERROR(HLOOKUP(D191,womens_declare,A172,FALSE))=TRUE,\"\",HLOOKUP(D191,womens_declare,A172,FALSE))","v":"-"},"Marshall Milton Keynes AC"]
[]
[null,null,"League",{"$f":"VLOOKUP(A170,womens_handbook,29,FALSE)","v":34462},{"$f":"VLOOKUP(A170,womens_handbook,26,FALSE)","v":"Katherine Merry"},{"$f":"VLOOKUP(A170,womens_handbook,27,FALSE)","v":"Birchfield"},{"$f":"VLOOKUP(A170,womens_handbook,28,FALSE)","v":"23.0s"}]
[null,null,"Division",{"$f":"VLOOKUP(A170,womens_handbook,33,FALSE)","v":29463},{"$f":"VLOOKUP(A170,womens_handbook,30,FALSE)","v":"Michelle Probert"},{"$f":"VLOOKUP(A170,womens_handbook,31,FALSE)","v":"Sale Harriers"},{"$f":"VLOOKUP(A170,womens_handbook,32,FALSE)","v":"23.1s"}]
[8,null,{"$f":"CONCATENATE(VLOOKUP(A195,womens_handbook,3,FALSE),\" - A String\")","v":"Women's 1500m - A String"},null,null,"Time:",{"$f":"VLOOKUP(A195,womens_handbook,2,FALSE)","v":"15:40:00"}]
[{"$f":"VLOOKUP(A195,womens_handbook,37,FALSE)","v":9},null,"Lane","Number","Athlete","Club"]
[{"$f":"VLOOKUP(A195,womens_declare,20,FALSE)","v":7},{"$f":"IF(D197=\"\",\"\",IF(D197>10,D197/11,D197))","v":4},1,{"$f":"HLOOKUP(C197,womens_handbook,A196,FALSE)","v":4},{"$f":"IF(ISERROR(HLOOKUP(D197,womens_declare,A197,FALSE))=TRUE,\"\",HLOOKUP(D197,womens_declare,A197,FALSE))","v":"-"},{"$f":"IF(ISERROR(VLOOKUP(B197,matchday,2,FALSE))=TRUE,\"\",VLOOKUP(B197,matchday,2,FALSE))","v":"Newham & Essex Beagles AC"}]
[null,2,2,{"$f":"HLOOKUP(C198,womens_handbook,A196,FALSE)","v":2},{"$f":"IF(ISERROR(HLOOKUP(D198,womens_declare,A197,FALSE))=TRUE,\"\",HLOOKUP(D198,womens_declare,A197,FALSE))","v":"-"},"Blackheath & Bromley H"]
[null,6,3,{"$f":"HLOOKUP(C199,womens_handbook,A196,FALSE)","v":6},{"$f":"IF(ISERROR(HLOOKUP(D199,womens_declare,A197,FALSE))=TRUE,\"\",HLOOKUP(D199,womens_declare,A197,FALSE))","v":"-"},"Southampton AC"]
[null,8,4,{"$f":"HLOOKUP(C200,womens_handbook,A196,FALSE)","v":8},{"$f":"IF(ISERROR(HLOOKUP(D200,womens_declare,A197,FALSE))=TRUE,\"\",HLOOKUP(D200,womens_declare,A197,FALSE))","v":"-"},"Thames Valley H"]
[null,3,5,{"$f":"HLOOKUP(C201,womens_handbook,A196,FALSE)","v":3},{"$f":"IF(ISERROR(HLOOKUP(D201,womens_declare,A197,FALSE))=TRUE,\"\",HLOOKUP(D201,womens_declare,A197,FALSE))","v":"-"},"Marshall Milton Keynes AC"]
[null,5,6,{"$f":"HLOOKUP(C202,womens_handbook,A196,FALSE)","v":5},{"$f":"IF(ISERROR(HLOOKUP(D202,womens_declare,A197,FALSE))=TRUE,\"\",HLOOKUP(D202,womens_declare,A197,FALSE))","v":"-"},"Shaftesbury Barnet H"]
[null,7,7,{"$f":"HLOOKUP(C203,womens_handbook,A196,FALSE)","v":7},{"$f":"IF(ISERROR(HLOOKUP(D203,womens_declare,A197,FALSE))=TRUE,\"\",HLOOKUP(D203,womens_declare,A197,FALSE))","v":"-"},"Swansea H"]
[null,1,8,{"$f":"HLOOKUP(C204,womens_handbook,A196,FALSE)","v":1},{"$f":"IF(ISERROR(HLOOKUP(D204,womens_declare,A197,FALSE))=TRUE,\"\",HLOOKUP(D204,womens_declare,A197,FALSE))","v":"-"},"Bedford & County AC"]
[]
[]
[null,null,{"$f":"CONCATENATE(VLOOKUP(A195,womens_handbook,3,FALSE),\" - B String\")","v":"Women's 1500m - B String"},null,null,"Time:",{"$f":"VLOOKUP(A195,womens_handbook,2,FALSE)","v":"15:40:00"}]
[null,null,"Lane","Number","Athlete","Club"]
[9,{"$f":"IF(D209=\"\",\"\",IF(D209>10,D209/11,D209))","v":4},1,{"$f":"HLOOKUP(A209,womens_handbook,A196,FALSE)","v":44},{"$f":"IF(ISERROR(HLOOKUP(D209,womens_declare,A197,FALSE))=TRUE,\"\",HLOOKUP(D209,womens_declare,A197,FALSE))","v":"-"},{"$f":"IF(ISERROR(VLOOKUP(B209,matchday,2,FALSE))=TRUE,\"\",VLOOKUP(B209,matchday,2,FALSE))","v":"Newham & Essex Beagles AC"}]
[10,2,2,{"$f":"HLOOKUP(A210,womens_handbook,A196,FALSE)","v":22},{"$f":"IF(ISERROR(HLOOKUP(D210,womens_declare,A197,FALSE))=TRUE,\"\",HLOOKUP(D210,womens_declare,A197,FALSE))","v":"-"},"Blackheath & Bromley H"]
[11,6,3,{"$f":"HLOOKUP(A211,womens_handbook,A196,FALSE)","v":66},{"$f":"IF(ISERROR(HLOOKUP(D211,womens_declare,A197,FALSE))=TRUE,\"\",HLOOKUP(D211,womens_declare,A197,FALSE))","v":"-"},"Southampton AC"]
[12,8,4,{"$f":"HLOOKUP(A212,womens_handbook,A196,FALSE)","v":88},{"$f":"IF(ISERROR(HLOOKUP(D212,womens_declare,A197,FALSE))=TRUE,\"\",HLOOKUP(D212,womens_declare,A197,FALSE))","v":"-"},"Thames Valley H"]
[13,3,5,{"$f":"HLOOKUP(A213,womens_handbook,A196,FALSE)","v":33},{"$f":"IF(ISERROR(HLOOKUP(D213,womens_declare,A197,FALSE))=TRUE,\"\",HLOOKUP(D213,womens_declare,A197,FALSE))","v":"-"},"Marshall Milton Keynes AC"]
[14,5,6,{"$f":"HLOOKUP(A214,womens_handbook,A196,FALSE)","v":55},{"$f":"IF(ISERROR(HLOOKUP(D214,womens_declare,A197,FALSE))=TRUE,\"\",HLOOKUP(D214,womens_declare,A197,FALSE))","v":"-"},"Shaftesbury Barnet H"]
[15,7,7,{"$f":"HLOOKUP(A215,womens_handbook,A196,FALSE)","v":77},{"$f":"IF(ISERROR(HLOOKUP(D215,womens_declare,A197,FALSE))=TRUE,\"\",HLOOKUP(D215,womens_declare,A197,FALSE))","v":"-"},"Swansea H"]
[16,1,8,{"$f":"HLOOKUP(A216,womens_handbook,A196,FALSE)","v":11},{"$f":"IF(ISERROR(HLOOKUP(D216,womens_declare,A197,FALSE))=TRUE,\"\",HLOOKUP(D216,womens_declare,A197,FALSE))","v":"-"},"Bedford & County AC"]
[]
[null,null,"League",{"$f":"VLOOKUP(A195,womens_handbook,29,FALSE)","v":30815},{"$f":"VLOOKUP(A195,womens_handbook,26,FALSE)","v":"Christina Boxer"},{"$f":"VLOOKUP(A195,womens_handbook,27,FALSE)","v":"Aldershot"},{"$f":"VLOOKUP(A195,womens_handbook,28,FALSE)","v":"00:04:12.700"}]
[null,null,"Division",{"$f":"VLOOKUP(A195,womens_handbook,33,FALSE)","v":30492},{"$f":"VLOOKUP(A195,womens_handbook,30,FALSE)","v":"R Smeeth"},{"$f":"VLOOKUP(A195,womens_handbook,31,FALSE)","v":"Aldershot"},{"$f":"VLOOKUP(A195,womens_handbook,32,FALSE)","v":"00:04:17"}]

{"sheet":"Relay Lists","index":28,"n_rows":78,"n_cols":7,"rows_kept":78,"cut":false,"hidden":false,"merged":[[1,1,1,2]]}
[null,{"$f":"CONCATENATE('Match Day'!I8,\" \",'Match Day'!I10,\" - \",'Match Day'!I12)","v":"Division 1 Match 3 - Winchester"},null,null,null,null,"Home"]
[null,{"$f":"'Match Day'!I6","v":"Saturday, 6th August"}]
[9,{"$f":"VLOOKUP(A3,Handbook!$A$4:$C$24,3,FALSE)","v":"Women's 4x100m Relay"},null,null,"Time:",{"$f":"VLOOKUP(A3,Handbook!$A$4:$B$24,2,FALSE)","v":"16:00:00"}]
[{"$f":"VLOOKUP(A3,mens_handbook,37,FALSE)","v":10},"Lane","No.","Club","Athlete"]
[{"$f":"VLOOKUP(A3,declare,20,FALSE)","v":22}]
[null,1,{"$f":"HLOOKUP(B6,mens_handbook,A4,FALSE)","v":5},{"$f":"VLOOKUP(C6,matchday,2,FALSE)","v":"Shaftesbury Barnet H"},{"$f":"IF(ISERROR(HLOOKUP(C6,declare,A5,FALSE))=TRUE,\"\",HLOOKUP(C6,declare,A5,FALSE))","v":"Gerda Vaitkaityte"}]
[null,null,null,null,{"$f":"IF(ISERROR(HLOOKUP(C6,declare,A5+1,FALSE))=TRUE,\"\",HLOOKUP(C6,declare,A5+1,FALSE))","v":"Gaby Rowsell (U20)"}]
[null,null,null,null,{"$f":"IF(ISERROR(HLOOKUP(C6,declare,A5+2,FALSE))=TRUE,\"\",HLOOKUP(C6,declare,A5+2,FALSE))","v":"Chisom Nwachukwu (U20)"}]
[null,null,null,null,{"$f":"IF(ISERROR(HLOOKUP(C6,declare,A5+3,FALSE))=TRUE,\"\",HLOOKUP(C6,declare,A5+3,FALSE))","v":"Lucy Aukett"}]
[null,2,{"$f":"HLOOKUP(B10,mens_handbook,A4,FALSE)","v":1},{"$f":"IF(ISERROR(VLOOKUP(C10,matchday,2,FALSE))=TRUE,\"\",VLOOKUP(C10,matchday,2,FALSE))","v":"Bedford & County AC"},{"$f":"IF(ISERROR(HLOOKUP(C10,declare,A5,FALSE))=TRUE,\"\",HLOOKUP(C10,declare,A5,FALSE))","v":"Emma Bailey"}]
[null,null,null,null,{"$f":"IF(ISERROR(HLOOKUP(C10,declare,A5+1,FALSE))=TRUE,\"\",HLOOKUP(C10,declare,A5+1,FALSE))","v":"Hannah Frith"}]
[null,null,null,null,{"$f":"IF(ISERROR(HLOOKUP(C10,declare,A5+2,FALSE))=TRUE,\"\",HLOOKUP(C10,declare,A5+2,FALSE))","v":"Lucy Spray"}]
[null,null,null,null,{"$f":"IF(ISERROR(HLOOKUP(C10,declare,A5+3,FALSE))=TRUE,\"\",HLOOKUP(C10,declare,A5+3,FALSE))","v":"Laura Duke"}]
[null,3,{"$f":"HLOOKUP(B14,mens_handbook,A4,FALSE)","v":2},{"$f":"IF(ISERROR(VLOOKUP(C14,matchday,2,FALSE))=TRUE,\"\",VLOOKUP(C14,matchday,2,FALSE))","v":"Blackheath & Bromley H"},{"$f":"IF(ISERROR(HLOOKUP(C14,declare,A5,FALSE))=TRUE,\"\",HLOOKUP(C14,declare,A5,FALSE))","v":"Lauren Blackie"}]
[null,null,null,null,{"$f":"IF(ISERROR(HLOOKUP(C14,declare,A5+1,FALSE))=TRUE,\"\",HLOOKUP(C14,declare,A5+1,FALSE))","v":"Serita Solomon"}]
[null,null,null,null,{"$f":"IF(ISERROR(HLOOKUP(C14,declare,A5+2,FALSE))=TRUE,\"\",HLOOKUP(C14,declare,A5+2,FALSE))","v":"Emily Martin"}]
[null,null,null,null,{"$f":"IF(ISERROR(HLOOKUP(C14,declare,A5+3,FALSE))=TRUE,\"\",HLOOKUP(C14,declare,A5+3,FALSE))","v":"Amara Lalemi-Jacobs"}]
[null,4,{"$f":"HLOOKUP(B18,mens_handbook,A4,FALSE)","v":7},{"$f":"IF(ISERROR(VLOOKUP(C18,matchday,2,FALSE))=TRUE,\"\",VLOOKUP(C18,matchday,2,FALSE))","v":"Swansea H"},{"$f":"IF(ISERROR(HLOOKUP(C18,declare,A5,FALSE))=TRUE,\"\",HLOOKUP(C18,declare,A5,FALSE))","v":"Sian Swanson"}]
[null,null,null,null,{"$f":"IF(ISERROR(HLOOKUP(C18,declare,A5+1,FALSE))=TRUE,\"\",HLOOKUP(C18,declare,A5+1,FALSE))","v":"Caryl Granville"}]
[null,null,null,null,{"$f":"IF(ISERROR(HLOOKUP(C18,declare,A5+2,FALSE))=TRUE,\"\",HLOOKUP(C18,declare,A5+2,FALSE))","v":"Megan Rogers"}]
[null,null,null,null,{"$f":"IF(ISERROR(HLOOKUP(C18,declare,A5+3,FALSE))=TRUE,\"\",HLOOKUP(C18,declare,A5+3,FALSE))","v":"Rebecca Williams"}]
[null,5,{"$f":"HLOOKUP(B22,mens_handbook,A4,FALSE)","v":3},{"$f":"IF(ISERROR(VLOOKUP(C22,matchday,2,FALSE))=TRUE,\"\",VLOOKUP(C22,matchday,2,FALSE))","v":"Marshall Milton Keynes AC"},{"$f":"IF(ISERROR(HLOOKUP(C22,declare,A5,FALSE))=TRUE,\"\",HLOOKUP(C22,declare,A5,FALSE))","v":"Chloe Walley"}]
[null,null,null,null,{"$f":"IF(ISERROR(HLOOKUP(C22,declare,A5+1,FALSE))=TRUE,\"\",HLOOKUP(C22,declare,A5+1,FALSE))","v":"Joey Duck"}]
[null,null,null,null,{"$f":"IF(ISERROR(HLOOKUP(C22,declare,A5+2,FALSE))=TRUE,\"\",HLOOKUP(C22,declare,A5+2,FALSE))","v":"Sophie Wilkins"}]
[null,null,null,null,{"$f":"IF(ISERROR(HLOOKUP(C22,declare,A5+3,FALSE))=TRUE,\"\",HLOOKUP(C22,declare,A5+3,FALSE))","v":"Kadi-Ann Thomas"}]
[null,6,{"$f":"HLOOKUP(B26,mens_handbook,A4,FALSE)","v":6},{"$f":"IF(ISERROR(VLOOKUP(C26,matchday,2,FALSE))=TRUE,\"\",VLOOKUP(C26,matchday,2,FALSE))","v":"Southampton AC"},{"$f":"IF(ISERROR(HLOOKUP(C26,declare,A5,FALSE))=TRUE,\"\",HLOOKUP(C26,declare,A5,FALSE))","v":"Emily Bonnett"}]
[null,null,null,null,{"$f":"IF(ISERROR(HLOOKUP(C26,declare,A5+1,FALSE))=TRUE,\"\",HLOOKUP(C26,declare,A5+1,FALSE))","v":"Becca Carozzi"}]
[null,null,null,null,{"$f":"IF(ISERROR(HLOOKUP(C26,declare,A5+2,FALSE))=TRUE,\"\",HLOOKUP(C26,declare,A5+2,FALSE))","v":"Karla Drew"}]
[null,null,null,null,{"$f":"IF(ISERROR(HLOOKUP(C26,declare,A5+3,FALSE))=TRUE,\"\",HLOOKUP(C26,declare,A5+3,FALSE))","v":"Emily Newton"}]
[null,7,{"$f":"HLOOKUP(B30,mens_handbook,A4,FALSE)","v":4},{"$f":"IF(ISERROR(VLOOKUP(C30,matchday,2,FALSE))=TRUE,\"\",VLOOKUP(C30,matchday,2,FALSE))","v":"Newham & Essex Beagles AC"},{"$f":"IF(ISERROR(HLOOKUP(C30,declare,A5,FALSE))=TRUE,\"\",HLOOKUP(C30,declare,A5,FALSE))","v":"Rochelle Jones "}]
[null,null,null,null,{"$f":"IF(ISERROR(HLOOKUP(C30,declare,A5+1,FALSE))=TRUE,\"\",HLOOKUP(C30,declare,A5+1,FALSE))","v":"Temi Erinoso"}]
[null,null,null,null,{"$f":"IF(ISERROR(HLOOKUP(C30,declare,A5+2,FALSE))=TRUE,\"\",HLOOKUP(C30,declare,A5+2,FALSE))","v":"Susannah Banjo"}]
[null,null,null,null,{"$f":"IF(ISERROR(HLOOKUP(C30,declare,A5+3,FALSE))=TRUE,\"\",HLOOKUP(C30,declare,A5+3,FALSE))","v":"Tope Faith-Nuqa"}]
[null,8,{"$f":"HLOOKUP(B34,mens_handbook,A4,FALSE)","v":8},{"$f":"IF(ISERROR(VLOOKUP(C34,matchday,2,FALSE))=TRUE,\"\",VLOOKUP(C34,matchday,2,FALSE))","v":"Thames Valley H"},{"$f":"IF(ISERROR(HLOOKUP(C34,declare,A5,FALSE))=TRUE,\"\",HLOOKUP(C34,declare,A5,FALSE))","v":"Cleopatra Moulon"}]
[null,null,null,null,{"$f":"IF(ISERROR(HLOOKUP(C34,declare,A5+1,FALSE))=TRUE,\"\",HLOOKUP(C34,declare,A5+1,FALSE))","v":"Ambwene Simukonda"}]
[null,null,null,null,{"$f":"IF(ISERROR(HLOOKUP(C34,declare,A5+2,FALSE))=TRUE,\"\",HLOOKUP(C34,declare,A5+2,FALSE))","v":"Phyllis Agbo"}]
[null,null,null,null,{"$f":"IF(ISERROR(HLOOKUP(C34,declare,A5+3,FALSE))=TRUE,\"\",HLOOKUP(C34,declare,A5+3,FALSE))","v":"Yvette Henry"}]
[]
[null,"League",{"$f":"VLOOKUP(A3,mens_handbook,29,FALSE)","v":"1998-06-07"},{"$f":"IF(VLOOKUP(A3,mens_handbook,26,FALSE)=\"\",\"\",VLOOKUP(A3,mens_handbook,26,FALSE))","v":"-"},{"$f":"VLOOKUP(A3,mens_handbook,27,FALSE)","v":"Essex Ladies"},{"$f":"VLOOKUP(A3,mens_handbook,28,FALSE)","v":"44.4s"}]
[null,"Division",{"$f":"VLOOKUP(A3,mens_handbook,33,FALSE)","v":"1982-06-26"},{"$f":"IF(VLOOKUP(A3,mens_handbook,30,FALSE)=\"\",\"\",VLOOKUP(A3,mens_handbook,30,FALSE))","v":"-"},{"$f":"VLOOKUP(A3,mens_handbook,31,FALSE)","v":"Hounslow"},{"$f":"VLOOKUP(A3,mens_handbook,32,FALSE)","v":"44.60s"}]
[10,{"$f":"VLOOKUP(A41,Handbook!$A$4:$C$24,3,FALSE)","v":"Women's 4x400m Relay"},null,null,"Time:",{"$f":"VLOOKUP(A41,Handbook!$A$4:$B$24,2,FALSE)","v":"16:20:00"}]
[{"$f":"VLOOKUP(A41,mens_handbook,37,FALSE)","v":11},"Lane","No.","Club","Athlete"]
[{"$f":"VLOOKUP(A41,declare,20,FALSE)","v":26}]
[null,1,{"$f":"HLOOKUP(B44,mens_handbook,A42,FALSE)","v":7},{"$f":"VLOOKUP(C44,matchday,2,FALSE)","v":"Swansea H"},{"$f":"IF(ISERROR(HLOOKUP(C44,declare,A43,FALSE))=TRUE,\"\",HLOOKUP(C44,declare,A43,FALSE))","v":"Rebecca Williams"}]
[null,null,null,null,{"$f":"IF(ISERROR(HLOOKUP(C44,declare,A43+1,FALSE))=TRUE,\"\",HLOOKUP(C44,declare,A43+1,FALSE))","v":"Anwen Rees"}]
[null,null,null,null,{"$f":"IF(ISERROR(HLOOKUP(C44,declare,A43+2,FALSE))=TRUE,\"\",HLOOKUP(C44,declare,A43+2,FALSE))","v":"Megan Rogers"}]
[null,null,null,null,{"$f":"IF(ISERROR(HLOOKUP(C44,declare,A43+3,FALSE))=TRUE,\"\",HLOOKUP(C44,declare,A43+3,FALSE))","v":"Caryl Granville"}]
[null,2,{"$f":"HLOOKUP(B48,mens_handbook,A42,FALSE)","v":1},{"$f":"IF(ISERROR(VLOOKUP(C48,matchday,2,FALSE))=TRUE,\"\",VLOOKUP(C48,matchday,2,FALSE))","v":"Bedford & County AC"},{"$f":"IF(ISERROR(HLOOKUP(C48,declare,A43,FALSE))=TRUE,\"\",HLOOKUP(C48,declare,A43,FALSE))","v":0}]
[null,null,null,null,{"$f":"IF(ISERROR(HLOOKUP(C48,declare,A43+1,FALSE))=TRUE,\"\",HLOOKUP(C48,declare,A43+1,FALSE))","v":0}]
[null,null,null,null,{"$f":"IF(ISERROR(HLOOKUP(C48,declare,A43+2,FALSE))=TRUE,\"\",HLOOKUP(C48,declare,A43+2,FALSE))","v":0}]
[null,null,null,null,{"$f":"IF(ISERROR(HLOOKUP(C48,declare,A43+3,FALSE))=TRUE,\"\",HLOOKUP(C48,declare,A43+3,FALSE))","v":0}]
[null,3,{"$f":"HLOOKUP(B52,mens_handbook,A42,FALSE)","v":8},{"$f":"IF(ISERROR(VLOOKUP(C52,matchday,2,FALSE))=TRUE,\"\",VLOOKUP(C52,matchday,2,FALSE))","v":"Thames Valley H"},{"$f":"IF(ISERROR(HLOOKUP(C52,declare,A43,FALSE))=TRUE,\"\",HLOOKUP(C52,declare,A43,FALSE))","v":"Phyllis Agbo"}]
[null,null,null,null,{"$f":"IF(ISERROR(HLOOKUP(C52,declare,A43+1,FALSE))=TRUE,\"\",HLOOKUP(C52,declare,A43+1,FALSE))","v":"Yvette Henry"}]
[null,null,null,null,{"$f":"IF(ISERROR(HLOOKUP(C52,declare,A43+2,FALSE))=TRUE,\"\",HLOOKUP(C52,declare,A43+2,FALSE))","v":"Cleopatra Moulon"}]
[null,null,null,null,{"$f":"IF(ISERROR(HLOOKUP(C52,declare,A43+3,FALSE))=TRUE,\"\",HLOOKUP(C52,declare,A43+3,FALSE))","v":"Ambwene Simukonda"}]
[null,4,{"$f":"HLOOKUP(B56,mens_handbook,A42,FALSE)","v":5},{"$f":"IF(ISERROR(VLOOKUP(C56,matchday,2,FALSE))=TRUE,\"\",VLOOKUP(C56,matchday,2,FALSE))","v":"Shaftesbury Barnet H"},{"$f":"IF(ISERROR(HLOOKUP(C56,declare,A43,FALSE))=TRUE,\"\",HLOOKUP(C56,declare,A43,FALSE))","v":"Gerda Vaitkaityte"}]
[null,null,null,null,{"$f":"IF(ISERROR(HLOOKUP(C56,declare,A43+1,FALSE))=TRUE,\"\",HLOOKUP(C56,declare,A43+1,FALSE))","v":"Gaby Rowsell (U20)"}]
[null,null,null,null,{"$f":"IF(ISERROR(HLOOKUP(C56,declare,A43+2,FALSE))=TRUE,\"\",HLOOKUP(C56,declare,A43+2,FALSE))","v":"Lucy Aukett"}]
[null,null,null,null,{"$f":"IF(ISERROR(HLOOKUP(C56,declare,A43+3,FALSE))=TRUE,\"\",HLOOKUP(C56,declare,A43+3,FALSE))","v":"Amy Campbell"}]
[null,5,{"$f":"HLOOKUP(B60,mens_handbook,A42,FALSE)","v":3},{"$f":"IF(ISERROR(VLOOKUP(C60,matchday,2,FALSE))=TRUE,\"\",VLOOKUP(C60,matchday,2,FALSE))","v":"Marshall Milton Keynes AC"},{"$f":"IF(ISERROR(HLOOKUP(C60,declare,A43,FALSE))=TRUE,\"\",HLOOKUP(C60,declare,A43,FALSE))","v":"Sophie Wilkins"}]
[null,null,null,null,{"$f":"IF(ISERROR(HLOOKUP(C60,declare,A43+1,FALSE))=TRUE,\"\",HLOOKUP(C60,declare,A43+1,FALSE))","v":"Ellie Roche (U20)"}]
[null,null,null,null,{"$f":"IF(ISERROR(HLOOKUP(C60,declare,A43+2,FALSE))=TRUE,\"\",HLOOKUP(C60,declare,A43+2,FALSE))","v":"Joey Duck"}]
[null,null,null,null,{"$f":"IF(ISERROR(HLOOKUP(C60,declare,A43+3,FALSE))=TRUE,\"\",HLOOKUP(C60,declare,A43+3,FALSE))","v":"Kadi-Ann Thomas"}]
[null,6,{"$f":"HLOOKUP(B64,mens_handbook,A42,FALSE)","v":6},{"$f":"IF(ISERROR(VLOOKUP(C64,matchday,2,FALSE))=TRUE,\"\",VLOOKUP(C64,matchday,2,FALSE))","v":"Southampton AC"},{"$f":"IF(ISERROR(HLOOKUP(C64,declare,A43,FALSE))=TRUE,\"\",HLOOKUP(C64,declare,A43,FALSE))","v":"Millie Clifford"}]
[null,null,null,null,{"$f":"IF(ISERROR(HLOOKUP(C64,declare,A43+1,FALSE))=TRUE,\"\",HLOOKUP(C64,declare,A43+1,FALSE))","v":"Rhianna Parker-Simpson"}]
[null,null,null,null,{"$f":"IF(ISERROR(HLOOKUP(C64,declare,A43+2,FALSE))=TRUE,\"\",HLOOKUP(C64,declare,A43+2,FALSE))","v":"Jenny Beckingham"}]
[null,null,null,null,{"$f":"IF(ISERROR(HLOOKUP(C64,declare,A43+3,FALSE))=TRUE,\"\",HLOOKUP(C64,declare,A43+3,FALSE))","v":"Emily Bonnett"}]
[null,7,{"$f":"HLOOKUP(B68,mens_handbook,A42,FALSE)","v":4},{"$f":"IF(ISERROR(VLOOKUP(C68,matchday,2,FALSE))=TRUE,\"\",VLOOKUP(C68,matchday,2,FALSE))","v":"Newham & Essex Beagles AC"},{"$f":"IF(ISERROR(HLOOKUP(C68,declare,A43,FALSE))=TRUE,\"\",HLOOKUP(C68,declare,A43,FALSE))","v":"Chioma Matthews"}]
[null,null,null,null,{"$f":"IF(ISERROR(HLOOKUP(C68,declare,A43+1,FALSE))=TRUE,\"\",HLOOKUP(C68,declare,A43+1,FALSE))","v":"Kate Laidlow"}]
[null,null,null,null,{"$f":"IF(ISERROR(HLOOKUP(C68,declare,A43+2,FALSE))=TRUE,\"\",HLOOKUP(C68,declare,A43+2,FALSE))","v":"Susannah Banjo"}]
[null,null,null,null,{"$f":"IF(ISERROR(HLOOKUP(C68,declare,A43+3,FALSE))=TRUE,\"\",HLOOKUP(C68,declare,A43+3,FALSE))","v":"Tope Faith-Nuqa"}]
[null,8,{"$f":"HLOOKUP(B72,mens_handbook,A42,FALSE)","v":2},{"$f":"IF(ISERROR(VLOOKUP(C72,matchday,2,FALSE))=TRUE,\"\",VLOOKUP(C72,matchday,2,FALSE))","v":"Blackheath & Bromley H"},{"$f":"IF(ISERROR(HLOOKUP(C72,declare,A43,FALSE))=TRUE,\"\",HLOOKUP(C72,declare,A43,FALSE))","v":"Krystal Galley"}]
[null,null,null,null,{"$f":"IF(ISERROR(HLOOKUP(C72,declare,A43+1,FALSE))=TRUE,\"\",HLOOKUP(C72,declare,A43+1,FALSE))","v":"Amara Lalemi-Jacobs"}]
[null,null,null,null,{"$f":"IF(ISERROR(HLOOKUP(C72,declare,A43+2,FALSE))=TRUE,\"\",HLOOKUP(C72,declare,A43+2,FALSE))","v":"Megan Southwart"}]
[null,null,null,null,{"$f":"IF(ISERROR(HLOOKUP(C72,declare,A43+3,FALSE))=TRUE,\"\",HLOOKUP(C72,declare,A43+3,FALSE))","v":"Yimika Adewakun"}]
[]
[null,"League",{"$f":"VLOOKUP(A41,mens_handbook,29,FALSE)","v":"2003-09-14"},{"$f":"IF(VLOOKUP(A41,mens_handbook,26,FALSE)=\"\",\"\",VLOOKUP(A41,mens_handbook,26,FALSE))","v":"-"},{"$f":"VLOOKUP(A41,mens_handbook,27,FALSE)","v":"Birchfield"},{"$f":"VLOOKUP(A41,mens_handbook,28,FALSE)","v":"00:03:34.560"}]
[null,"Division",{"$f":"VLOOKUP(A41,mens_handbook,33,FALSE)","v":"2003-06-14"},{"$f":"IF(VLOOKUP(A41,mens_handbook,30,FALSE)=\"\",\"\",VLOOKUP(A41,mens_handbook,30,FALSE))","v":"-"},{"$f":"VLOOKUP(A41,mens_handbook,31,FALSE)","v":"Birchfield"},{"$f":"VLOOKUP(A41,mens_handbook,32,FALSE)","v":"00:03:34.560"}]

{"sheet":"1500m","index":29,"n_rows":36,"n_cols":20,"rows_kept":36,"cut":false,"hidden":false,"merged":[[0,0,0,3],[0,4,0,7],[1,4,1,6]]}
["Home",null,null,null,{"$f":"CONCATENATE('Match Day'!I4,\" \",'Match Day'!I8,\" \",'Match Day'!I10)","v":"UK Womens League Division 1 Match 3"}]
[null,null,null,null,{"$f":"VLOOKUP(A3,mens_handbook,3,FALSE)","v":"Women's 1500m"},null,null,"Perf"]
[8,{"$f":"IF(E3=\"\",\"\",IF(E3>10,E3/11,E3))","v":5},null,1,5,{"$f":"IF($E3=\"\",\"\",IF($E3>90,VLOOKUP(E3,eventcodes,2,FALSE),HLOOKUP(E3,declare,$A$5,FALSE)))","v":"Amy Campbell"},{"$f":"IF($E3=\"\",\"\",IF($E3>90,\"\",VLOOKUP(B3,matchday,2,FALSE)))","v":"Shaftesbury Barnet H"},"00:04:33.770",null,{"$f":"D3","v":1},1,{"$f":"VLOOKUP(K3,Results!$AN$4:$AO$11,2,FALSE)","v":1},{"$f":"IF(ISERROR(VLOOKUP(K3,$E$3:$J$18,6,FALSE)=TRUE),\"\",VLOOKUP(K3,$E$3:$J$18,6,FALSE))","v":3},{"$f":"IF(M3=0,0,IF(OR(VLOOKUP(L3*11,$L$11:$M$18,2,FALSE)=0,M3<=VLOOKUP(L3*11,$L$11:$M$18,2,FALSE)),\"A\",\"B\"))","v":"A"},{"$f":"IF(N3=0,0,IF(OR(R3=\"\",N3=\"B\"),\"\",RANK(R3,$R$3:$R$18,1)))","v":3},{"$f":"IF(N3=0,0,IF(OR(S3=\"\",N3=\"A\"),\"\",RANK(S3,$S$3:$S$18,1)))","v":""},{"$f":"K3","v":1},{"$f":"IF(OR(J3=0,M3=0,N3=\"B\"),\"\",M3)","v":3},{"$f":"IF(OR(J3=0,M3=0,N3=\"A\"),\"\",M3)","v":""},{"$f":"Results!AN4","v":1}]
[{"$f":"VLOOKUP(A3,Handbook!$A$4:$AK$24,37,FALSE)","v":9},7,null,2,7,"Andrea Whitcombe","Swansea H","00:04:34.790",{"$f":"IF(H4=\"\",\"\",IF(H4<H3,\"X\",\"\"))","v":""},2,2,{"$f":"VLOOKUP(K4,Results!$AN$4:$AO$11,2,FALSE)","v":2},11,"A",6,"",2,11,"",{"$f":"Results!AN5","v":2}]
[{"$f":"VLOOKUP(A3,declare,20,FALSE)","v":7},1,null,3,1,"Suzi Boast","Bedford & County AC","00:04:40.080",{"$f":"IF(H5=\"\",\"\",IF(H5<H4,\"X\",\"\"))","v":""},3,3,{"$f":"VLOOKUP(K5,Results!$AN$4:$AO$11,2,FALSE)","v":3},14,"A",8,"",3,14,"",{"$f":"Results!AN6","v":3}]
[null,8,null,4,8,"Katie Good","Thames Valley H","00:04:44.930","",4,4,{"$f":"VLOOKUP(K6,Results!$AN$4:$AO$11,2,FALSE)","v":4},13,"A",7,"",4,13,"",{"$f":"Results!AN7","v":4}]
[null,7,null,5,77,"Ellen Butler","Swansea H","00:04:50.720","",5,5,{"$f":"VLOOKUP(K7,Results!$AN$4:$AO$11,2,FALSE)","v":5},1,"A",1,"",5,1,"",{"$f":"Results!AN8","v":5}]
[null,8,null,6,88,"Lisa Da Silva","Thames Valley H","00:04:52.400","",6,6,{"$f":"VLOOKUP(K8,Results!$AN$4:$AO$11,2,FALSE)","v":6},10,"B","",5,6,"",10,{"$f":"Results!AN9","v":6}]
[null,1,null,7,11,"Natasha Peters","Bedford & County AC","00:04:53.360","",7,7,{"$f":"VLOOKUP(K9,Results!$AN$4:$AO$11,2,FALSE)","v":7},2,"A",2,"",7,2,"",{"$f":"Results!AN10","v":7}]
[null,5,null,8,55,"Lucy Aukett","Shaftesbury Barnet H","00:04:54.100","",8,8,{"$f":"VLOOKUP(K10,Results!$AN$4:$AO$11,2,FALSE)","v":8},4,"A",4,"",8,4,"",{"$f":"Results!AN11","v":8}]
[null,6,null,9,66,"Sophie Hall","Southampton AC","00:04:57.540","",9,{"$f":"K3*11","v":11},{"$f":"L3*11","v":11},7,{"$f":"IF(M11=0,0,IF(OR(VLOOKUP(L11/11,$L$3:$M$11,2,FALSE)=0,M11<=VLOOKUP(L11/11,$L$3:$M$10,2,FALSE)),\"A\",\"B\"))","v":"B"},"",3,11,"",7,{"$f":"Results!AN12","v":11}]
[null,6,null,10,6,"Natalie Burke","Southampton AC","00:04:58.980","",10,{"$f":"K4*11","v":22},22,12,"B","",6,22,"",12,{"$f":"Results!AN13","v":22}]
[null,2,null,11,2,"Shavaun Henry","Blackheath & Bromley H","00:05:01.680","",11,33,33,15,"B","",7,33,"",15,{"$f":"Results!AN14","v":33}]
[null,2,null,12,22,"Danielle Critchley","Blackheath & Bromley H","00:05:20.310","",12,44,44,16,"B","",8,44,"",16,{"$f":"Results!AN15","v":44}]
[null,4,null,13,4,"Adele Stach-Kevitz","Newham & Essex Beagles AC","00:06:18.220","",13,55,55,8,"B","",4,55,"",8,{"$f":"Results!AN16","v":55}]
[null,3,null,14,3,"Joey Duck","Marshall Milton Keynes AC","00:06:55.470","",14,66,66,9,"A",5,"",66,9,"",{"$f":"Results!AN17","v":66}]
[null,3,null,15,33,"Kadi-Ann Thomas","Marshall Milton Keynes AC","00:07:11.320","",15,77,77,5,"B","",1,77,"",5,{"$f":"Results!AN18","v":77}]
[null,4,null,16,44,"Deborah Oyelade","Newham & Essex Beagles AC","00:07:22.250","",16,88,88,6,"B","",2,88,"",6,{"$f":"Results!AN19","v":88}]
[null,null,null,null,null,null,null,null,null,null,null,null,null,null,null,null,null,null,null,{"$f":"Results!AN20","v":99}]
[null,{"$f":"IF(E20=\"\",\"\",IF(E20>10,E20/11,E20))","v":5},"A",1,{"$f":"IF(OR(E3=99,E3=98,E3=97,E3=96),E3,IF(ISERROR(VLOOKUP(D20,$O$3:$Q$18,3,FALSE))=TRUE,0,VLOOKUP(D20,$O$3:$Q$18,3,FALSE)))","v":5},{"$f":"IF(OR($E20=\"\",$E20=0,$E20=\" \"),\"\",IF($E20>90,VLOOKUP(E20,eventcodes,2,FALSE),HLOOKUP(E20,declare,$A$5,FALSE)))","v":"Amy Campbell"},{"$f":"IF(OR($E20=\"\",E20=0),\"\",IF($E20>90,\"\",VLOOKUP(B20,matchday,2,FALSE)))","v":"Shaftesbury Barnet H"},{"$f":"IF(ISERROR(VLOOKUP(E20,$E$3:$H$18,4,FALSE))=TRUE,0,VLOOKUP(E20,$E$3:$H$18,4,FALSE))","v":"00:04:33.770"},null,null,null,null,null,null,null,null,null,null,null,{"$f":"Results!AN21","v":97}]
[null,7,null,2,{"$f":"IF(ISERROR(VLOOKUP(D21,$O$3:$Q$18,3,FALSE))=TRUE,0,VLOOKUP(D21,$O$3:$Q$18,3,FALSE))","v":7},"Andrea Whitcombe","Swansea H","00:04:34.790",null,null,null,null,null,null,null,null,null,null,null,{"$f":"Results!AN22","v":98}]
[null,1,null,3,1,"Suzi Boast","Bedford & County AC","00:04:40.080",null,null,null,null,null,null,null,null,null,null,null,{"$f":"Results!AN23","v":96}]
[null,8,null,4,8,"Katie Good","Thames Valley H","00:04:44.930"]
[null,6,null,5,66,"Sophie Hall","Southampton AC","00:04:57.540"]
[null,2,null,6,2,"Shavaun Henry","Blackheath & Bromley H","00:05:01.680"]
[null,4,null,7,4,"Adele Stach-Kevitz","Newham & Essex Beagles AC","00:06:18.220"]
[null,3,null,8,3,"Joey Duck","Marshall Milton Keynes AC","00:06:55.470"]
[]
[null,7,"B",1,{"$f":"IF(ISERROR(VLOOKUP(D29,$P$3:$Q$18,2,FALSE))=TRUE,0,VLOOKUP(D29,$P$3:$Q$18,2,FALSE))","v":77},{"$f":"IF(OR($E29=\"\",$E29=0,$E29=\" \"),\"\",IF($E29>90,VLOOKUP(E29,eventcodes,2,FALSE),HLOOKUP(E29,declare,$A$5,FALSE)))","v":"Ellen Butler"},{"$f":"IF(OR($E29=\"\",E29=0),\"\",IF($E29>90,\"\",VLOOKUP(B29,matchday,2,FALSE)))","v":"Swansea H"},{"$f":"IF(ISERROR(VLOOKUP(E29,$E$3:$H$18,4,FALSE))=TRUE,0,VLOOKUP(E29,$E$3:$H$18,4,FALSE))","v":"00:04:50.720"}]
[null,8,null,2,88,"Lisa Da Silva","Thames Valley H","00:04:52.400"]
[null,1,null,3,11,"Natasha Peters","Bedford & County AC","00:04:53.360"]
[null,5,null,4,55,"Lucy Aukett","Shaftesbury Barnet H","00:04:54.100"]
[null,6,null,5,6,"Natalie Burke","Southampton AC","00:04:58.980"]
[null,2,null,6,22,"Danielle Critchley","Blackheath & Bromley H","00:05:20.310"]
[null,3,null,7,33,"Kadi-Ann Thomas","Marshall Milton Keynes AC","00:07:11.320"]
[null,4,null,8,44,"Deborah Oyelade","Newham & Essex Beagles AC","00:07:22.250"]

{"sheet":"3kSC","index":30,"n_rows":36,"n_cols":20,"rows_kept":36,"cut":false,"hidden":false,"merged":[[0,0,0,3],[0,4,0,7],[1,4,1,6]]}
["Home",null,null,null,{"$f":"CONCATENATE('Match Day'!I4,\" \",'Match Day'!I8,\" \",'Match Day'!I10)","v":"UK Womens League Division 1 Match 3"}]
[null,null,null,null,{"$f":"VLOOKUP(A3,mens_handbook,3,FALSE)","v":"Women's 2000 S/Chase"},null,null,"Perf"]
[5,{"$f":"IF(E3=\"\",\"\",IF(E3>10,E3/11,E3))","v":5},null,1,5,{"$f":"IF($E3=\"\",\"\",IF($E3>90,VLOOKUP(E3,eventcodes,2,FALSE),HLOOKUP(E3,declare,$A$5,FALSE)))","v":"Victoria Walker (U20)"},{"$f":"IF($E3=\"\",\"\",IF($E3>90,\"\",VLOOKUP(B3,matchday,2,FALSE)))","v":"Shaftesbury Barnet H"},"00:07:27.790",null,{"$f":"D3","v":1},1,{"$f":"VLOOKUP(K3,Results!$AN$4:$AO$11,2,FALSE)","v":1},{"$f":"IF(ISERROR(VLOOKUP(K3,$E$3:$J$18,6,FALSE)=TRUE),\"\",VLOOKUP(K3,$E$3:$J$18,6,FALSE))","v":5},{"$f":"IF(M3=0,0,IF(OR(VLOOKUP(L3*11,$L$11:$M$18,2,FALSE)=0,M3<=VLOOKUP(L3*11,$L$11:$M$18,2,FALSE)),\"A\",\"B\"))","v":"A"},{"$f":"IF(N3=0,0,IF(OR(R3=\"\",N3=\"B\"),\"\",RANK(R3,$R$3:$R$18,1)))","v":5},{"$f":"IF(N3=0,0,IF(OR(S3=\"\",N3=\"A\"),\"\",RANK(S3,$S$3:$S$18,1)))","v":""},{"$f":"K3","v":1},{"$f":"IF(OR(J3=0,M3=0,N3=\"B\"),\"\",M3)","v":5},{"$f":"IF(OR(J3=0,M3=0,N3=\"A\"),\"\",M3)","v":""},{"$f":"Results!AN4","v":1}]
[{"$f":"VLOOKUP(A3,Handbook!$A$4:$AK$24,37,FALSE)","v":6},7,null,2,7,"Holly Lawrence","Swansea H","00:07:49.440",{"$f":"IF(H4=\"\",\"\",IF(H4<H3,\"X\",\"\"))","v":""},2,2,{"$f":"VLOOKUP(K4,Results!$AN$4:$AO$11,2,FALSE)","v":2},6,"A",6,"",2,6,"",{"$f":"Results!AN5","v":2}]
[{"$f":"VLOOKUP(A3,declare,20,FALSE)","v":8},8,null,3,8,"Joanna Mobed","Thames Valley H","00:07:52.790","",3,3,{"$f":"VLOOKUP(K5,Results!$AN$4:$AO$11,2,FALSE)","v":3},7,"A",7,"",3,7,"",{"$f":"Results!AN6","v":3}]
[null,6,null,4,6,"Clemmie McAteer","Southampton AC","00:08:28.430","",4,4,{"$f":"VLOOKUP(K6,Results!$AN$4:$AO$11,2,FALSE)","v":4},"","A","","",4,"","",{"$f":"Results!AN7","v":4}]
[null,1,null,5,1,"Leanne Buxton","Bedford & County AC","00:08:59.780","",5,5,{"$f":"VLOOKUP(K7,Results!$AN$4:$AO$11,2,FALSE)","v":5},1,"A",1,"",5,1,"",{"$f":"Results!AN8","v":5}]
[null,2,null,6,2,"Sarah Abrams","Blackheath & Bromley H","00:09:50.660","",6,6,{"$f":"VLOOKUP(K8,Results!$AN$4:$AO$11,2,FALSE)","v":6},4,"A",4,"",6,4,"",{"$f":"Results!AN9","v":6}]
[null,3,null,7,3,"Di Baldwin (V50)","Marshall Milton Keynes AC","00:10:24.300","",7,7,{"$f":"VLOOKUP(K9,Results!$AN$4:$AO$11,2,FALSE)","v":7},2,"A",2,"",7,2,"",{"$f":"Results!AN10","v":7}]
[null,"",null,8,null,"","",null,"",8,8,{"$f":"VLOOKUP(K10,Results!$AN$4:$AO$11,2,FALSE)","v":8},3,"A",3,"",8,3,"",{"$f":"Results!AN11","v":8}]
[null,"",null,9,null,"","",null,"",9,{"$f":"K3*11","v":11},11,"",{"$f":"IF(M11=0,0,IF(OR(VLOOKUP(L11/11,$L$3:$M$11,2,FALSE)=0,M11<=VLOOKUP(L11/11,$L$3:$M$10,2,FALSE)),\"A\",\"B\"))","v":"B"},"","",11,"","",{"$f":"Results!AN12","v":11}]
[null,"",null,10,null,"","",null,"",10,22,22,"","B","","",22,"","",{"$f":"Results!AN13","v":22}]
[null,"",null,11,null,"","",null,"",11,33,33,"","B","","",33,"","",{"$f":"Results!AN14","v":33}]
[null,"",null,12,null,"","",null,"",12,44,44,"","A","","",44,"","",{"$f":"Results!AN15","v":44}]
[null,"",null,13,null,"","",null,"",13,55,55,"","B","","",55,"","",{"$f":"Results!AN16","v":55}]
[null,"",null,14,null,"","",null,"",14,66,66,"","B","","",66,"","",{"$f":"Results!AN17","v":66}]
[null,"",null,15,null,"","",null,"",15,77,77,"","B","","",77,"","",{"$f":"Results!AN18","v":77}]
[null,"",null,16,null,"","",null,"",16,88,88,"","B","","",88,"","",{"$f":"Results!AN19","v":88}]
[null,null,null,null,null,null,null,null,null,null,null,null,null,null,null,null,null,null,null,{"$f":"Results!AN20","v":99}]
[null,{"$f":"IF(E20=\"\",\"\",IF(E20>10,E20/11,E20))","v":5},"A",1,{"$f":"IF(OR(E3=99,E3=98,E3=97,E3=96),E3,IF(ISERROR(VLOOKUP(D20,$O$3:$Q$18,3,FALSE))=TRUE,0,VLOOKUP(D20,$O$3:$Q$18,3,FALSE)))","v":5},{"$f":"IF(OR($E20=\"\",$E20=0,$E20=\" \"),\"\",IF($E20>90,VLOOKUP(E20,eventcodes,2,FALSE),HLOOKUP(E20,declare,$A$5,FALSE)))","v":"Victoria Walker (U20)"},{"$f":"IF(OR($E20=\"\",E20=0),\"\",IF($E20>90,\"\",VLOOKUP(B20,matchday,2,FALSE)))","v":"Shaftesbury Barnet H"},{"$f":"IF(ISERROR(VLOOKUP(E20,$E$3:$H$18,4,FALSE))=TRUE,0,VLOOKUP(E20,$E$3:$H$18,4,FALSE))","v":"00:07:27.790"},null,null,null,null,null,null,null,null,null,null,null,{"$f":"Results!AN21","v":97}]
[null,7,null,2,{"$f":"IF(ISERROR(VLOOKUP(D21,$O$3:$Q$18,3,FALSE))=TRUE,0,VLOOKUP(D21,$O$3:$Q$18,3,FALSE))","v":7},"Holly Lawrence","Swansea H","00:07:49.440",null,null,null,null,null,null,null,null,null,null,null,{"$f":"Results!AN22","v":98}]
[null,8,null,3,8,"Joanna Mobed","Thames Valley H","00:07:52.790",null,null,null,null,null,null,null,null,null,null,null,{"$f":"Results!AN23","v":96}]
[null,6,null,4,6,"Clemmie McAteer","Southampton AC","00:08:28.430"]
[null,1,null,5,1,"Leanne Buxton","Bedford & County AC","00:08:59.780"]
[null,2,null,6,2,"Sarah Abrams","Blackheath & Bromley H","00:09:50.660"]
[null,3,null,7,3,"Di Baldwin (V50)","Marshall Milton Keynes AC","00:10:24.300"]
[null,0,null,8,0,"","","00:00:00"]
[]
[null,{"$f":"IF(E29=\"\",\"\",IF(E29>10,E29/11,E29))","v":0},"B",1,{"$f":"IF(ISERROR(VLOOKUP(D29,$P$3:$Q$18,2,FALSE))=TRUE,0,VLOOKUP(D29,$P$3:$Q$18,2,FALSE))","v":0},{"$f":"IF(OR($E29=\"\",$E29=0,$E29=\" \"),\"\",IF($E29>90,VLOOKUP(E29,eventcodes,2,FALSE),HLOOKUP(E29,declare,$A$5,FALSE)))","v":""},{"$f":"IF(OR($E29=\"\",E29=0),\"\",IF($E29>90,\"\",VLOOKUP(B29,matchday,2,FALSE)))","v":""},{"$f":"IF(ISERROR(VLOOKUP(E29,$E$3:$H$18,4,FALSE))=TRUE,0,VLOOKUP(E29,$E$3:$H$18,4,FALSE))","v":"00:00:00"}]
[null,0,null,2,0,"","","00:00:00"]
[null,0,null,3,0,"","","00:00:00"]
[null,0,null,4,0,"","","00:00:00"]
[null,0,null,5,0,"","","00:00:00"]
[null,0,null,6,0,"","","00:00:00"]
[null,0,null,7,0,"","","00:00:00"]
[null,0,null,8,0,"","","00:00:00"]

{"sheet":"5000m","index":31,"n_rows":36,"n_cols":20,"rows_kept":36,"cut":false,"hidden":false,"merged":[[0,0,0,3],[0,4,0,7],[1,4,1,6]]}
["Home",null,null,null,{"$f":"CONCATENATE('Match Day'!I4,\" \",'Match Day'!I8,\" \",'Match Day'!I10)","v":"UK Womens League Division 1 Match 3"}]
[null,null,null,null,{"$f":"VLOOKUP(A3,mens_handbook,3,FALSE)","v":"Women's 3000m"},null,null,"Perf"]
[21,{"$f":"IF(E3=\"\",\"\",IF(E3>10,E3/11,E3))","v":7},null,1,7,{"$f":"IF($E3=\"\",\"\",IF($E3>90,VLOOKUP(E3,eventcodes,2,FALSE),HLOOKUP(E3,declare,$A$5,FALSE)))","v":"Andrea Whitcombe"},{"$f":"IF($E3=\"\",\"\",IF($E3>90,\"\",VLOOKUP(B3,matchday,2,FALSE)))","v":"Swansea H"},"00:09:38.900",null,{"$f":"D3","v":1},1,{"$f":"VLOOKUP(K3,Results!$AN$4:$AO$11,2,FALSE)","v":1},{"$f":"IF(ISERROR(VLOOKUP(K3,$E$3:$J$18,6,FALSE)=TRUE),\"\",VLOOKUP(K3,$E$3:$J$18,6,FALSE))","v":7},{"$f":"IF(M3=0,0,IF(OR(VLOOKUP(L3*11,$L$11:$M$18,2,FALSE)=0,M3<=VLOOKUP(L3*11,$L$11:$M$18,2,FALSE)),\"A\",\"B\"))","v":"B"},{"$f":"IF(N3=0,0,IF(OR(R3=\"\",N3=\"B\"),\"\",RANK(R3,$R$3:$R$18,1)))","v":""},{"$f":"IF(N3=0,0,IF(OR(S3=\"\",N3=\"A\"),\"\",RANK(S3,$S$3:$S$18,1)))","v":3},{"$f":"K3","v":1},{"$f":"IF(OR(J3=0,M3=0,N3=\"B\"),\"\",M3)","v":""},{"$f":"IF(OR(J3=0,M3=0,N3=\"A\"),\"\",M3)","v":7},{"$f":"Results!AN4","v":1}]
[{"$f":"VLOOKUP(A3,Handbook!$A$4:$AK$24,37,FALSE)","v":22},8,null,2,8,"Katie Good","Thames Valley H","00:09:43.070",{"$f":"IF(H4=\"\",\"\",IF(H4<H3,\"X\",\"\"))","v":""},2,2,{"$f":"VLOOKUP(K4,Results!$AN$4:$AO$11,2,FALSE)","v":2},10,"A",7,"",2,10,"",{"$f":"Results!AN5","v":2}]
[{"$f":"VLOOKUP(A3,declare,20,FALSE)","v":9},1,null,3,11,"Alice Burgin","Bedford & County AC","00:10:06.790","",3,3,{"$f":"VLOOKUP(K5,Results!$AN$4:$AO$11,2,FALSE)","v":3},6,"A",4,"",3,6,"",{"$f":"Results!AN6","v":3}]
[null,7,null,4,77,"Alaw Benyon Thomas","Swansea H","00:10:07.030","",4,4,{"$f":"VLOOKUP(K6,Results!$AN$4:$AO$11,2,FALSE)","v":4},"","B","","",4,"","",{"$f":"Results!AN7","v":4}]
[null,8,null,5,88,"Lisa Da Silva","Thames Valley H","00:10:13.040","",5,5,{"$f":"VLOOKUP(K7,Results!$AN$4:$AO$11,2,FALSE)","v":5},9,"A",6,"",5,9,"",{"$f":"Results!AN8","v":5}]
[null,3,null,6,3,"Ellie Roche (U20)","Marshall Milton Keynes AC","00:10:20.700","",6,6,{"$f":"VLOOKUP(K8,Results!$AN$4:$AO$11,2,FALSE)","v":6},8,"A",5,"",6,8,"",{"$f":"Results!AN9","v":6}]
[null,1,null,7,1,"Natasha Peters","Bedford & County AC","00:10:21.310","",7,7,{"$f":"VLOOKUP(K9,Results!$AN$4:$AO$11,2,FALSE)","v":7},1,"A",1,"",7,1,"",{"$f":"Results!AN10","v":7}]
[null,6,null,8,6,"Nicci Blandford","Southampton AC","00:10:22.950","",8,8,{"$f":"VLOOKUP(K10,Results!$AN$4:$AO$11,2,FALSE)","v":8},2,"A",2,"",8,2,"",{"$f":"Results!AN11","v":8}]
[null,5,null,9,5,"Claire Miles ","Shaftesbury Barnet H","00:10:55.050","",9,{"$f":"K3*11","v":11},11,3,{"$f":"IF(M11=0,0,IF(OR(VLOOKUP(L11/11,$L$3:$M$11,2,FALSE)=0,M11<=VLOOKUP(L11/11,$L$3:$M$10,2,FALSE)),\"A\",\"B\"))","v":"A"},3,"",11,3,"",{"$f":"Results!AN12","v":11}]
[null,2,null,10,2,"Jane Bradshaw","Blackheath & Bromley H","00:11:01.030","",10,22,22,11,"B","",4,22,"",11,{"$f":"Results!AN13","v":22}]
[null,2,null,11,22,"Rachel Robinson","Blackheath & Bromley H","00:13:12.160","",11,33,33,"","B","","",33,"","",{"$f":"Results!AN14","v":33}]
[null,4,null,12,44,"Adele Stach-Kevitz","Newham & Essex Beagles AC","00:13:12.680","",12,44,44,12,"A",8,"",44,12,"",{"$f":"Results!AN15","v":44}]
[null,"",null,13,null,"","",null,"",13,55,55,"","B","","",55,"","",{"$f":"Results!AN16","v":55}]
[null,"",null,14,null,"","",null,"",14,66,66,"","B","","",66,"","",{"$f":"Results!AN17","v":66}]
[null,"",null,15,null,"","",null,"",15,77,77,4,"B","",1,77,"",4,{"$f":"Results!AN18","v":77}]
[null,"",null,16,null,"","",null,"",16,88,88,5,"B","",2,88,"",5,{"$f":"Results!AN19","v":88}]
[null,null,null,null,null,null,null,null,null,null,null,null,null,null,null,null,null,null,null,{"$f":"Results!AN20","v":99}]
[null,{"$f":"IF(E20=\"\",\"\",IF(E20>10,E20/11,E20))","v":7},"A",1,{"$f":"IF(OR(E3=99,E3=98,E3=97,E3=96),E3,IF(ISERROR(VLOOKUP(D20,$O$3:$Q$18,3,FALSE))=TRUE,0,VLOOKUP(D20,$O$3:$Q$18,3,FALSE)))","v":7},{"$f":"IF(OR($E20=\"\",$E20=0,$E20=\" \"),\"\",IF($E20>90,VLOOKUP(E20,eventcodes,2,FALSE),HLOOKUP(E20,declare,$A$5,FALSE)))","v":"Andrea Whitcombe"},{"$f":"IF(OR($E20=\"\",E20=0),\"\",IF($E20>90,\"\",VLOOKUP(B20,matchday,2,FALSE)))","v":"Swansea H"},{"$f":"IF(ISERROR(VLOOKUP(E20,$E$3:$H$18,4,FALSE))=TRUE,0,VLOOKUP(E20,$E$3:$H$18,4,FALSE))","v":"00:09:38.900"},null,null,null,null,null,null,null,null,null,null,null,{"$f":"Results!AN21","v":97}]
[null,8,null,2,{"$f":"IF(ISERROR(VLOOKUP(D21,$O$3:$Q$18,3,FALSE))=TRUE,0,VLOOKUP(D21,$O$3:$Q$18,3,FALSE))","v":8},"Katie Good","Thames Valley H","00:09:43.070",null,null,null,null,null,null,null,null,null,null,null,{"$f":"Results!AN22","v":98}]
[null,1,null,3,11,"Alice Burgin","Bedford & County AC","00:10:06.790",null,null,null,null,null,null,null,null,null,null,null,{"$f":"Results!AN23","v":96}]
[null,3,null,4,3,"Ellie Roche (U20)","Marshall Milton Keynes AC","00:10:20.700"]
[null,6,null,5,6,"Nicci Blandford","Southampton AC","00:10:22.950"]
[null,5,null,6,5,"Claire Miles ","Shaftesbury Barnet H","00:10:55.050"]
[null,2,null,7,2,"Jane Bradshaw","Blackheath & Bromley H","00:11:01.030"]
[null,4,null,8,44,"Adele Stach-Kevitz","Newham & Essex Beagles AC","00:13:12.680"]
[]
[null,{"$f":"IF(E29=\"\",\"\",IF(E29>10,E29/11,E29))","v":7},"B",1,{"$f":"IF(ISERROR(VLOOKUP(D29,$P$3:$Q$18,2,FALSE))=TRUE,0,VLOOKUP(D29,$P$3:$Q$18,2,FALSE))","v":77},{"$f":"IF(OR($E29=\"\",$E29=0,$E29=\" \"),\"\",IF($E29>90,VLOOKUP(E29,eventcodes,2,FALSE),HLOOKUP(E29,declare,$A$5,FALSE)))","v":"Alaw Benyon Thomas"},{"$f":"IF(OR($E29=\"\",E29=0),\"\",IF($E29>90,\"\",VLOOKUP(B29,matchday,2,FALSE)))","v":"Swansea H"},{"$f":"IF(ISERROR(VLOOKUP(E29,$E$3:$H$18,4,FALSE))=TRUE,0,VLOOKUP(E29,$E$3:$H$18,4,FALSE))","v":"00:10:07.030"}]
[null,8,null,2,88,"Lisa Da Silva","Thames Valley H","00:10:13.040"]
[null,1,null,3,1,"Natasha Peters","Bedford & County AC","00:10:21.310"]
[null,2,null,4,22,"Rachel Robinson","Blackheath & Bromley H","00:13:12.160"]
[null,0,null,5,0,"","","00:00:00"]
[null,0,null,6,0,"","","00:00:00"]
[null,0,null,7,0,"","","00:00:00"]
[null,0,null,8,0,"","","00:00:00"]

{"sheet":"Relay Lists (F)","index":32,"n_rows":78,"n_cols":7,"rows_kept":78,"cut":false,"hidden":true,"merged":[[1,1,1,2]]}
[null,{"$f":"CONCATENATE('Match Day'!I8,\" \",'Match Day'!I10,\" - \",'Match Day'!I12)","v":"Division 1 Match 3 - Winchester"},null,null,null,null,"Home"]
[null,{"$f":"'Match Day'!I6","v":"Saturday, 6th August"}]
[9,{"$f":"VLOOKUP(A3,womens_handbook,3,FALSE)","v":"Women's 4x100m Relay"},null,null,"Time:",{"$f":"VLOOKUP(A3,womens_handbook,2,FALSE)","v":"16:00:00"}]
[{"$f":"VLOOKUP(A3,womens_handbook,37,FALSE)","v":10},"Lane","No.","Club","Athlete"]
[{"$f":"VLOOKUP(A3,womens_declare,20,FALSE)","v":22}]
[null,1,{"$f":"HLOOKUP(B6,womens_handbook,A4,FALSE)","v":7},{"$f":"VLOOKUP(C6,matchday,2,FALSE)","v":"Swansea H"},{"$f":"IF(ISERROR(HLOOKUP(C6,womens_declare,A5,FALSE))=TRUE,\"\",HLOOKUP(C6,womens_declare,A5,FALSE))","v":"-"}]
[null,null,null,null,{"$f":"IF(ISERROR(HLOOKUP(C6,womens_declare,A5+1,FALSE))=TRUE,\"\",HLOOKUP(C6,womens_declare,A5+1,FALSE))","v":"-"}]
[null,null,null,null,{"$f":"IF(ISERROR(HLOOKUP(C6,womens_declare,A5+2,FALSE))=TRUE,\"\",HLOOKUP(C6,womens_declare,A5+2,FALSE))","v":"-"}]
[null,null,null,null,{"$f":"IF(ISERROR(HLOOKUP(C6,womens_declare,A5+3,FALSE))=TRUE,\"\",HLOOKUP(C6,womens_declare,A5+3,FALSE))","v":"-"}]
[null,2,{"$f":"HLOOKUP(B10,womens_handbook,A4,FALSE)","v":2},{"$f":"IF(ISERROR(VLOOKUP(C10,matchday,2,FALSE))=TRUE,\"\",VLOOKUP(C10,matchday,2,FALSE))","v":"Blackheath & Bromley H"},{"$f":"IF(ISERROR(HLOOKUP(C10,womens_declare,A5,FALSE))=TRUE,\"\",HLOOKUP(C10,womens_declare,A5,FALSE))","v":"-"}]
[null,null,null,null,{"$f":"IF(ISERROR(HLOOKUP(C10,womens_declare,A5+1,FALSE))=TRUE,\"\",HLOOKUP(C10,womens_declare,A5+1,FALSE))","v":"-"}]
[null,null,null,null,{"$f":"IF(ISERROR(HLOOKUP(C10,womens_declare,A5+2,FALSE))=TRUE,\"\",HLOOKUP(C10,womens_declare,A5+2,FALSE))","v":"-"}]
[null,null,null,null,{"$f":"IF(ISERROR(HLOOKUP(C10,womens_declare,A5+3,FALSE))=TRUE,\"\",HLOOKUP(C10,womens_declare,A5+3,FALSE))","v":"-"}]
[null,3,{"$f":"HLOOKUP(B14,womens_handbook,A4,FALSE)","v":1},{"$f":"IF(ISERROR(VLOOKUP(C14,matchday,2,FALSE))=TRUE,\"\",VLOOKUP(C14,matchday,2,FALSE))","v":"Bedford & County AC"},{"$f":"IF(ISERROR(HLOOKUP(C14,womens_declare,A5,FALSE))=TRUE,\"\",HLOOKUP(C14,womens_declare,A5,FALSE))","v":"-"}]
[null,null,null,null,{"$f":"IF(ISERROR(HLOOKUP(C14,womens_declare,A5+1,FALSE))=TRUE,\"\",HLOOKUP(C14,womens_declare,A5+1,FALSE))","v":"-"}]
[null,null,null,null,{"$f":"IF(ISERROR(HLOOKUP(C14,womens_declare,A5+2,FALSE))=TRUE,\"\",HLOOKUP(C14,womens_declare,A5+2,FALSE))","v":"-"}]
[null,null,null,null,{"$f":"IF(ISERROR(HLOOKUP(C14,womens_declare,A5+3,FALSE))=TRUE,\"\",HLOOKUP(C14,womens_declare,A5+3,FALSE))","v":"-"}]
[null,4,{"$f":"HLOOKUP(B18,womens_handbook,A4,FALSE)","v":5},{"$f":"IF(ISERROR(VLOOKUP(C18,matchday,2,FALSE))=TRUE,\"\",VLOOKUP(C18,matchday,2,FALSE))","v":"Shaftesbury Barnet H"},{"$f":"IF(ISERROR(HLOOKUP(C18,womens_declare,A5,FALSE))=TRUE,\"\",HLOOKUP(C18,womens_declare,A5,FALSE))","v":"-"}]
[null,null,null,null,{"$f":"IF(ISERROR(HLOOKUP(C18,womens_declare,A5+1,FALSE))=TRUE,\"\",HLOOKUP(C18,womens_declare,A5+1,FALSE))","v":"-"}]
[null,null,null,null,{"$f":"IF(ISERROR(HLOOKUP(C18,womens_declare,A5+2,FALSE))=TRUE,\"\",HLOOKUP(C18,womens_declare,A5+2,FALSE))","v":"-"}]
[null,null,null,null,{"$f":"IF(ISERROR(HLOOKUP(C18,womens_declare,A5+3,FALSE))=TRUE,\"\",HLOOKUP(C18,womens_declare,A5+3,FALSE))","v":"-"}]
[null,5,{"$f":"HLOOKUP(B22,womens_handbook,A4,FALSE)","v":8},{"$f":"IF(ISERROR(VLOOKUP(C22,matchday,2,FALSE))=TRUE,\"\",VLOOKUP(C22,matchday,2,FALSE))","v":"Thames Valley H"},{"$f":"IF(ISERROR(HLOOKUP(C22,womens_declare,A5,FALSE))=TRUE,\"\",HLOOKUP(C22,womens_declare,A5,FALSE))","v":"-"}]
[null,null,null,null,{"$f":"IF(ISERROR(HLOOKUP(C22,womens_declare,A5+1,FALSE))=TRUE,\"\",HLOOKUP(C22,womens_declare,A5+1,FALSE))","v":"-"}]
[null,null,null,null,{"$f":"IF(ISERROR(HLOOKUP(C22,womens_declare,A5+2,FALSE))=TRUE,\"\",HLOOKUP(C22,womens_declare,A5+2,FALSE))","v":"-"}]
[null,null,null,null,{"$f":"IF(ISERROR(HLOOKUP(C22,womens_declare,A5+3,FALSE))=TRUE,\"\",HLOOKUP(C22,womens_declare,A5+3,FALSE))","v":"-"}]
[null,6,{"$f":"HLOOKUP(B26,womens_handbook,A4,FALSE)","v":4},{"$f":"IF(ISERROR(VLOOKUP(C26,matchday,2,FALSE))=TRUE,\"\",VLOOKUP(C26,matchday,2,FALSE))","v":"Newham & Essex Beagles AC"},{"$f":"IF(ISERROR(HLOOKUP(C26,womens_declare,A5,FALSE))=TRUE,\"\",HLOOKUP(C26,womens_declare,A5,FALSE))","v":"-"}]
[null,null,null,null,{"$f":"IF(ISERROR(HLOOKUP(C26,womens_declare,A5+1,FALSE))=TRUE,\"\",HLOOKUP(C26,womens_declare,A5+1,FALSE))","v":"-"}]
[null,null,null,null,{"$f":"IF(ISERROR(HLOOKUP(C26,womens_declare,A5+2,FALSE))=TRUE,\"\",HLOOKUP(C26,womens_declare,A5+2,FALSE))","v":"-"}]
[null,null,null,null,{"$f":"IF(ISERROR(HLOOKUP(C26,womens_declare,A5+3,FALSE))=TRUE,\"\",HLOOKUP(C26,womens_declare,A5+3,FALSE))","v":"-"}]
[null,7,{"$f":"HLOOKUP(B30,womens_handbook,A4,FALSE)","v":6},{"$f":"IF(ISERROR(VLOOKUP(C30,matchday,2,FALSE))=TRUE,\"\",VLOOKUP(C30,matchday,2,FALSE))","v":"Southampton AC"},{"$f":"IF(ISERROR(HLOOKUP(C30,womens_declare,A5,FALSE))=TRUE,\"\",HLOOKUP(C30,womens_declare,A5,FALSE))","v":"-"}]
[null,null,null,null,{"$f":"IF(ISERROR(HLOOKUP(C30,womens_declare,A5+1,FALSE))=TRUE,\"\",HLOOKUP(C30,womens_declare,A5+1,FALSE))","v":"-"}]
[null,null,null,null,{"$f":"IF(ISERROR(HLOOKUP(C30,womens_declare,A5+2,FALSE))=TRUE,\"\",HLOOKUP(C30,womens_declare,A5+2,FALSE))","v":"-"}]
[null,null,null,null,{"$f":"IF(ISERROR(HLOOKUP(C30,womens_declare,A5+3,FALSE))=TRUE,\"\",HLOOKUP(C30,womens_declare,A5+3,FALSE))","v":"-"}]
[null,8,{"$f":"HLOOKUP(B34,womens_handbook,A4,FALSE)","v":3},{"$f":"IF(ISERROR(VLOOKUP(C34,matchday,2,FALSE))=TRUE,\"\",VLOOKUP(C34,matchday,2,FALSE))","v":"Marshall Milton Keynes AC"},{"$f":"IF(ISERROR(HLOOKUP(C34,womens_declare,A5,FALSE))=TRUE,\"\",HLOOKUP(C34,womens_declare,A5,FALSE))","v":"-"}]
[null,null,null,null,{"$f":"IF(ISERROR(HLOOKUP(C34,womens_declare,A5+1,FALSE))=TRUE,\"\",HLOOKUP(C34,womens_declare,A5+1,FALSE))","v":"-"}]
[null,null,null,null,{"$f":"IF(ISERROR(HLOOKUP(C34,womens_declare,A5+2,FALSE))=TRUE,\"\",HLOOKUP(C34,womens_declare,A5+2,FALSE))","v":"-"}]
[null,null,null,null,{"$f":"IF(ISERROR(HLOOKUP(C34,womens_declare,A5+3,FALSE))=TRUE,\"\",HLOOKUP(C34,womens_declare,A5+3,FALSE))","v":"-"}]
[]
[null,"League",{"$f":"VLOOKUP(A3,womens_handbook,29,FALSE)","v":35953},{"$f":"IF(VLOOKUP(A3,womens_handbook,26,FALSE)=\"\",\"\",VLOOKUP(A3,womens_handbook,26,FALSE))","v":"-"},{"$f":"VLOOKUP(A3,womens_handbook,27,FALSE)","v":"Essex Ladies"},{"$f":"VLOOKUP(A3,womens_handbook,28,FALSE)","v":"44.4s"}]
[null,"Division",{"$f":"VLOOKUP(A3,womens_handbook,33,FALSE)","v":30128},{"$f":"IF(VLOOKUP(A3,womens_handbook,30,FALSE)=\"\",\"\",VLOOKUP(A3,womens_handbook,30,FALSE))","v":"-"},{"$f":"VLOOKUP(A3,womens_handbook,31,FALSE)","v":"Hounslow"},{"$f":"VLOOKUP(A3,womens_handbook,32,FALSE)","v":"44.60s"}]
[10,{"$f":"VLOOKUP(A41,womens_handbook,3,FALSE)","v":"Women's 4x400m Relay"},null,null,"Time:",{"$f":"VLOOKUP(A41,womens_handbook,2,FALSE)","v":"16:20:00"}]
[{"$f":"VLOOKUP(A41,Handbook!$A$4:$AK$24,37,FALSE)","v":11},"Lane","No.","Club","Athlete"]
[{"$f":"VLOOKUP(A41,womens_declare,20,FALSE)","v":26}]
[null,1,{"$f":"HLOOKUP(B44,womens_handbook,A42,FALSE)","v":5},{"$f":"VLOOKUP(C44,matchday,2,FALSE)","v":"Shaftesbury Barnet H"},{"$f":"IF(ISERROR(HLOOKUP(C44,womens_declare,A43,FALSE))=TRUE,\"\",HLOOKUP(C44,womens_declare,A43,FALSE))","v":"-"}]
[null,null,null,null,{"$f":"IF(ISERROR(HLOOKUP(C44,womens_declare,A43+1,FALSE))=TRUE,\"\",HLOOKUP(C44,womens_declare,A43+1,FALSE))","v":"-"}]
[null,null,null,null,{"$f":"IF(ISERROR(HLOOKUP(C44,womens_declare,A43+2,FALSE))=TRUE,\"\",HLOOKUP(C44,womens_declare,A43+2,FALSE))","v":"-"}]
[null,null,null,null,{"$f":"IF(ISERROR(HLOOKUP(C44,womens_declare,A43+3,FALSE))=TRUE,\"\",HLOOKUP(C44,womens_declare,A43+3,FALSE))","v":"-"}]
[null,2,{"$f":"HLOOKUP(B48,womens_handbook,A42,FALSE)","v":8},{"$f":"IF(ISERROR(VLOOKUP(C48,matchday,2,FALSE))=TRUE,\"\",VLOOKUP(C48,matchday,2,FALSE))","v":"Thames Valley H"},{"$f":"IF(ISERROR(HLOOKUP(C48,womens_declare,A43,FALSE))=TRUE,\"\",HLOOKUP(C48,womens_declare,A43,FALSE))","v":"-"}]
[null,null,null,null,{"$f":"IF(ISERROR(HLOOKUP(C48,womens_declare,A43+1,FALSE))=TRUE,\"\",HLOOKUP(C48,womens_declare,A43+1,FALSE))","v":"-"}]
[null,null,null,null,{"$f":"IF(ISERROR(HLOOKUP(C48,womens_declare,A43+2,FALSE))=TRUE,\"\",HLOOKUP(C48,womens_declare,A43+2,FALSE))","v":"-"}]
[null,null,null,null,{"$f":"IF(ISERROR(HLOOKUP(C48,womens_declare,A43+3,FALSE))=TRUE,\"\",HLOOKUP(C48,womens_declare,A43+3,FALSE))","v":"-"}]
[null,3,{"$f":"HLOOKUP(B52,womens_handbook,A42,FALSE)","v":1},{"$f":"IF(ISERROR(VLOOKUP(C52,matchday,2,FALSE))=TRUE,\"\",VLOOKUP(C52,matchday,2,FALSE))","v":"Bedford & County AC"},{"$f":"IF(ISERROR(HLOOKUP(C52,womens_declare,A43,FALSE))=TRUE,\"\",HLOOKUP(C52,womens_declare,A43,FALSE))","v":"-"}]
[null,null,null,null,{"$f":"IF(ISERROR(HLOOKUP(C52,womens_declare,A43+1,FALSE))=TRUE,\"\",HLOOKUP(C52,womens_declare,A43+1,FALSE))","v":"-"}]
[null,null,null,null,{"$f":"IF(ISERROR(HLOOKUP(C52,womens_declare,A43+2,FALSE))=TRUE,\"\",HLOOKUP(C52,womens_declare,A43+2,FALSE))","v":"-"}]
[null,null,null,null,{"$f":"IF(ISERROR(HLOOKUP(C52,womens_declare,A43+3,FALSE))=TRUE,\"\",HLOOKUP(C52,womens_declare,A43+3,FALSE))","v":"-"}]
[null,4,{"$f":"HLOOKUP(B56,womens_handbook,A42,FALSE)","v":7},{"$f":"IF(ISERROR(VLOOKUP(C56,matchday,2,FALSE))=TRUE,\"\",VLOOKUP(C56,matchday,2,FALSE))","v":"Swansea H"},{"$f":"IF(ISERROR(HLOOKUP(C56,womens_declare,A43,FALSE))=TRUE,\"\",HLOOKUP(C56,womens_declare,A43,FALSE))","v":"-"}]
[null,null,null,null,{"$f":"IF(ISERROR(HLOOKUP(C56,womens_declare,A43+1,FALSE))=TRUE,\"\",HLOOKUP(C56,womens_declare,A43+1,FALSE))","v":"-"}]
[null,null,null,null,{"$f":"IF(ISERROR(HLOOKUP(C56,womens_declare,A43+2,FALSE))=TRUE,\"\",HLOOKUP(C56,womens_declare,A43+2,FALSE))","v":"-"}]
[null,null,null,null,{"$f":"IF(ISERROR(HLOOKUP(C56,womens_declare,A43+3,FALSE))=TRUE,\"\",HLOOKUP(C56,womens_declare,A43+3,FALSE))","v":"-"}]
[null,5,{"$f":"HLOOKUP(B60,womens_handbook,A42,FALSE)","v":2},{"$f":"IF(ISERROR(VLOOKUP(C60,matchday,2,FALSE))=TRUE,\"\",VLOOKUP(C60,matchday,2,FALSE))","v":"Blackheath & Bromley H"},{"$f":"IF(ISERROR(HLOOKUP(C60,womens_declare,A43,FALSE))=TRUE,\"\",HLOOKUP(C60,womens_declare,A43,FALSE))","v":"-"}]
[null,null,null,null,{"$f":"IF(ISERROR(HLOOKUP(C60,womens_declare,A43+1,FALSE))=TRUE,\"\",HLOOKUP(C60,womens_declare,A43+1,FALSE))","v":"-"}]
[null,null,null,null,{"$f":"IF(ISERROR(HLOOKUP(C60,womens_declare,A43+2,FALSE))=TRUE,\"\",HLOOKUP(C60,womens_declare,A43+2,FALSE))","v":"-"}]
[null,null,null,null,{"$f":"IF(ISERROR(HLOOKUP(C60,womens_declare,A43+3,FALSE))=TRUE,\"\",HLOOKUP(C60,womens_declare,A43+3,FALSE))","v":"-"}]
[null,6,{"$f":"HLOOKUP(B64,womens_handbook,A42,FALSE)","v":4},{"$f":"IF(ISERROR(VLOOKUP(C64,matchday,2,FALSE))=TRUE,\"\",VLOOKUP(C64,matchday,2,FALSE))","v":"Newham & Essex Beagles AC"},{"$f":"IF(ISERROR(HLOOKUP(C64,womens_declare,A43,FALSE))=TRUE,\"\",HLOOKUP(C64,womens_declare,A43,FALSE))","v":"-"}]
[null,null,null,null,{"$f":"IF(ISERROR(HLOOKUP(C64,womens_declare,A43+1,FALSE))=TRUE,\"\",HLOOKUP(C64,womens_declare,A43+1,FALSE))","v":"-"}]
[null,null,null,null,{"$f":"IF(ISERROR(HLOOKUP(C64,womens_declare,A43+2,FALSE))=TRUE,\"\",HLOOKUP(C64,womens_declare,A43+2,FALSE))","v":"-"}]
[null,null,null,null,{"$f":"IF(ISERROR(HLOOKUP(C64,womens_declare,A43+3,FALSE))=TRUE,\"\",HLOOKUP(C64,womens_declare,A43+3,FALSE))","v":"-"}]
[null,7,{"$f":"HLOOKUP(B68,womens_handbook,A42,FALSE)","v":6},{"$f":"IF(ISERROR(VLOOKUP(C68,matchday,2,FALSE))=TRUE,\"\",VLOOKUP(C68,matchday,2,FALSE))","v":"Southampton AC"},{"$f":"IF(ISERROR(HLOOKUP(C68,womens_declare,A43,FALSE))=TRUE,\"\",HLOOKUP(C68,womens_declare,A43,FALSE))","v":"-"}]
[null,null,null,null,{"$f":"IF(ISERROR(HLOOKUP(C68,womens_declare,A43+1,FALSE))=TRUE,\"\",HLOOKUP(C68,womens_declare,A43+1,FALSE))","v":"-"}]
[null,null,null,null,{"$f":"IF(ISERROR(HLOOKUP(C68,womens_declare,A43+2,FALSE))=TRUE,\"\",HLOOKUP(C68,womens_declare,A43+2,FALSE))","v":"-"}]
[null,null,null,null,{"$f":"IF(ISERROR(HLOOKUP(C68,womens_declare,A43+3,FALSE))=TRUE,\"\",HLOOKUP(C68,womens_declare,A43+3,FALSE))","v":"-"}]
[null,8,{"$f":"HLOOKUP(B72,womens_handbook,A42,FALSE)","v":3},{"$f":"IF(ISERROR(VLOOKUP(C72,matchday,2,FALSE))=TRUE,\"\",VLOOKUP(C72,matchday,2,FALSE))","v":"Marshall Milton Keynes AC"},{"$f":"IF(ISERROR(HLOOKUP(C72,womens_declare,A43,FALSE))=TRUE,\"\",HLOOKUP(C72,womens_declare,A43,FALSE))","v":"-"}]
[null,null,null,null,{"$f":"IF(ISERROR(HLOOKUP(C72,womens_declare,A43+1,FALSE))=TRUE,\"\",HLOOKUP(C72,womens_declare,A43+1,FALSE))","v":"-"}]
[null,null,null,null,{"$f":"IF(ISERROR(HLOOKUP(C72,womens_declare,A43+2,FALSE))=TRUE,\"\",HLOOKUP(C72,womens_declare,A43+2,FALSE))","v":"-"}]
[null,null,null,null,{"$f":"IF(ISERROR(HLOOKUP(C72,womens_declare,A43+3,FALSE))=TRUE,\"\",HLOOKUP(C72,womens_declare,A43+3,FALSE))","v":"-"}]
[]
[null,"League",{"$f":"VLOOKUP(A41,womens_handbook,29,FALSE)","v":37878},{"$f":"IF(VLOOKUP(A41,womens_handbook,26,FALSE)=\"\",\"\",VLOOKUP(A41,womens_handbook,26,FALSE))","v":"-"},{"$f":"VLOOKUP(A41,womens_handbook,27,FALSE)","v":"Birchfield"},{"$f":"VLOOKUP(A41,womens_handbook,28,FALSE)","v":"00:03:34.560"}]
[null,"Division",{"$f":"VLOOKUP(A41,womens_handbook,33,FALSE)","v":37786},{"$f":"IF(VLOOKUP(A41,womens_handbook,30,FALSE)=\"\",\"\",VLOOKUP(A41,womens_handbook,30,FALSE))","v":"-"},{"$f":"VLOOKUP(A41,womens_handbook,31,FALSE)","v":"Birchfield"},{"$f":"VLOOKUP(A41,womens_handbook,32,FALSE)","v":"00:03:34.560"}]

{"sheet":"Sheet1","index":33,"n_rows":0,"n_cols":0,"rows_kept":0,"cut":false,"hidden":false,"merged":[]}

{"sheet":"Sheet2","index":34,"n_rows":0,"n_cols":0,"rows_kept":0,"cut":false,"hidden":false,"merged":[]}